Workbook
Name ТОО__RUS_GAZ: #REF!
Name ТОО__RUS_GAZ: #REF!
Name ТОО__RUS_GAZ: [5]рус!#REF!
Name ТОО__RUS_GAZ: #REF!
Name ТОО__RUS_GAZ: #REF!
Name ТОО__RUS_GAZ: #REF!
Name ТОО__RUS_GAZ: #REF!
Name ТОО__RUS_GAZ: #REF!
Name ТОО__RUS_GAZ: #REF!
Name ТОО__RUS_GAZ: #REF!
Name ТОО__RUS_GAZ: #REF!
Name ТОО__RUS_GAZ: #REF!
Name ТОО__RUS_GAZ: #REF!
Name ТОО__RUS_GAZ: #REF!

Sheet Ұлытау облысы
A1: №п/п | B1: Заңды, жеке тұлғаның атауы | C1: БСН, ЖСН | D1: Заңды, жеке тұлғаның мекенжайы, басшының Т. А. Ә. | E1: Объектінің атауы | F1: Өнеркәсіптік саласы және қызмет түрі | G1: Қауіпті техникалық құрылғының атауы (жұмыс ортасы) | H1: Объектінің жобалық қуаты (ыдыс саны, есептік нөмірі, зауытық нөмірі, сұйытылған мұнай газын сақтау көлемі) | L1: Объектінің орналасқан жері (мекенжайы)
H2: ҚЖЫ-ның жалпы саны, дана | I2: есептік № | J2: зауыттық № | K2: ҚЖЫ-ның көлемі (қысыммен жұмыс істейтін ыдыс), м3
A3: 1 | B3: 2 | C3: 3 | D3: 4 | E3: 5 | F3: 6 | G3: 7 | H3: 8 | I3: 9 | J3: 10 | K3: 11 | L3: 12
A4: 1 | B4: "ГазОйл" ЖШС | C4: 990840004263 | D4: Карағанды обл., Актау кенті, Молодежная көшесі, 5 құрылыс. директор Бидайбаев Т.Н. | E4: АГТС 15 | F4: сұйытылған газды сату және сақтау | G4: қысыммен жұмыс істейтін жабдық пропан | H4: 3 | I4: тіркеу №523 | J4: зауыттық №4324 | K4: 5м3 | L4: Ұлытау облысы, Жаңаарқа, Жаңаарқа ауданы, Атасу кенті
I5: тіркеу №533 | J5: зауыттық №4325 | K5: 5м3
I6: тіркеу №528 | J6: зауыттық №4326 | K6: 5м3
E7: АГТС 26 | H7: 3 | I7: тіркеу №518 | J7: зауыттық №3435 | K7: 5м3 | L7: Ұлытау облысы, Жезқазған қ., Жезқазған-Қарағанды тас жолы
I8: тіркеу №530 | J8: зауыттық №3434 | K8: 5м3
I9: тіркеу №526 | J9: зауыттық №3411 | K9: 5м3
E10: АГТС 27 | H10: 3 | I10: тіркеу №527 | J10: зауыттық №4147 | K10: 5м3 | L10: Ұлытау облысы, Қаражал қ.,Жәйрем кенті, Металлургтер 24 көшесі
I11: тіркеу №520 | J11: зауыттық №4158 | K11: 5м3
I12: тіркеу №524 | J12: зауыттық №4136 | K12: 5м3
E13: АГТС 30 | H13: 2 | I13: тіркеу №525 | J13: зауыттық №4112 | K13: 5м3 | L13: Ұлытау облысы,Сәтпаев қ., Улытауская көшесі, өндірістік аймақ
I14: тіркеу №522 | J14: зауыттық №4160 | K14: 5м3
E16: АГТС 42 | H16: 1 | I16: тіркеу №532 | J16: зауыттық №4098 | K16: 5м3 | L16: Ұлытау облысы ,Жезқазған қаласы, Алашахан көшесі 39а
E19: АГТС 49 | H19: 3 | I19: тіркеу №531 | J19: зауыттық №2988 | K19: 5м3 | L19: Ұлытау облысы, Қаражал қаласы, Алиев 47 көшесі
I20: тіркеу №519 | J20: зауыттық №2987 | K20: 5м3
I21: тіркеу №521 | J21: зауыттық №2985 | K21: 5м3
E22: АГТС 52 | H22: 1 | I22: тіркеу №529 | J22: зав.№4145 | K22: 54м3 | L22: Область Ұлытау, г.Жезказган, ул.Сары-Арка 1А
A25: 2 | B25: "С-Мунай" ЖШС | C25: 1040003264 | D25: Ұлытау облысы, Сәтпаев қаласы, Улытауская-114 көшесі, Директор Сеилов Сакен Салимжанович | E25: АГТС | F25: сұйытылған газды сату және сақтау | G25: қысыммен жұмыс істейтін жабдық пропан | H25: 2 | I25: тіркеу №543 | J25: зауыттық № 659009 | K25: 4,970 м3 | L25: Ұлытау облысы,Сәтпаев қаласы, Улытауская-114 көшесі
I26: тіркеу №544 | J26: зауыттық № 690575. | K26: 4,970 м3
E28: АГТС | H28: 1 | I28: тіркеу №556 | J28: зауыттық № 630 | K28: 10 м3 | L28: Ұлытау облысы, Сәтпаев қаласы, Ердена – 22Б көшесі
E29: ГТС | G29: қысыммен жұмыс істейтін жабдық пропан | H29: 7 | I29: рег№540 | J29: зауыттық № 835 | K29: 100 м3 | L29: Ұлытау облысы, Жезқазған, оңтүстік өндірістік аймақ
I30: рег№536 | J30: зауыттық № 842 | K30: 100 м3
I31: рег№535 | J31: зауыттық № 836 | K31: 100 м3
I32: рег№534 | J32: зауыттық № 837 | K32: 100 м3
I33: рег№538 | J33: зауыттық № 841 | K33: 100 м3
I34: рег№537 | J34: зауыттық № 838: | K34: 100 м3
I35: тіркеу №539 | J35: зауыттық № 855 | K35: 50 м3
E37: АГТС | G37: қысыммен жұмыс істейтін жабдық пропан | H37: 1 | I37: тіркеу №555/1 | J37: зауыттық № 24541 | K37: 10 м3 | L37: Ұлытау облысы, Жезқазған, Улытауская көшесі мен Жанасов көшесі қыйылысы
E38: АГТС | H38: 1 | I38: тіркеу №541 | J38: зауыттық № 30493 | K38: 6,7 м3 | L38: Ұлытау облысы, Жезқазған қаласы, Улытауская көшесі
E39: АГТС | H39: 1 | I39: тіркеу №542 | J39: зауыттық № 1310 | K39: 5,0 м3 | L39: Ұлытау облысы, Жезқазған қаласы, Мира – 26Б көшесі
E40: АГТС | H40: 1 | I40: тіркеу №552 | J40: зауыттық № 24540 | K40: 12 м3 | L40: Ұлытау облысы, Ұлытау ауданы
E41: АГТС | G41: қысыммен жұмыс істейтін жабдық пропан | H41: 1 | I41: тіркеу № 577 | J41: зауыттық № 01287 | K41: 20м3 | L41: Ұлытау облысы, Жезқазған қаласы, Улытауская көшесі
E42: АГТС | H42: 1 | I42: тіркеу № 578 | J42: зауыттық № 02852 | K42: 10м3 | L42: Ұлытау облысы, Жезқазған қаласы, Улытауская көшесі
E43: АГТС | H43: 1 | I43: тіркеу № 579 | J43: зауыттық № 03950 | K43: 10м3 | L43: Ұлытау облысы, Жезқазған қаласы, Улытауская көшесі
A44: 3 | B44: "Беркут-Петрол" ЖШС | C44: 170640033922 | D44: Ұлытау облысы, Жезқазған қаласы, Иманжана көшесі 13/4 үй, директор Жилкайдаров Олжас Беркутович | E44: АГТС | F44: Реализация и хранение сжиженного нефтяного газа | G44: сосуд работающий под давлением | H44: 1 | I44: тіркеу №561 | J44: зауыттық № 938. | K44: 12 м3 | L44: Ұлытау облысы, Жезқазған, Темирязева 12А көшесі
E45: АГТС | H45: 1 | I45: тіркеу №559 | J45: зауыттық № 856, | K45: 10м3 | L45: Ұлытау облысы, Жезқазған қаласы, Холмецкого 50А көшесі
E46: АГТС | H46: 1 | I46: тіркеу №557 | J46: зауыттық № 721400 | K46: 10м3 | L46: Ұлытау облысы, Жезқазған, 622 участкесі
E47: АГТС | H47: 2 | I47: тіркеу №560 | J47: зауыттық № 7864 | K47: 4,970м3 | L47: Ұлытау облысы,Сәтпаев қаласы, Улытауская 1/8 көшесі
...

Sheet Павлодар облысы
A1: №п/п | B1: Заңды, жеке тұлғаның атауы | C1: БСН, ЖСН | D1: Заңды, жеке тұлғаның мекенжайы, басшының Т. А. Ә. | E1: Объектінің атауы | F1: Өнеркәсіптік саласы және қызмет түрі | G1: Қауіпті техникалық құрылғының атауы (жұмыс ортасы) | H1: Объектінің жобалық қуаты (ыдыс саны, есептік нөмірі, зауытық нөмірі, сұйытылған мұнай газын сақтау көлемі) | L1: Объектінің орналасқан жері (мекенжайы)
H2: ҚЖЫ-ның жалпы саны, дана | I2: есептік № | J2: зауыттық № | K2: ҚЖЫ-ның көлемі (қысыммен жұмыс істейтін ыдыс), м3
A3: 1 | B3: 2 | C3: 3 | D3: 4 | E3: 5 | F3: 6 | G3: 7 | H3: 8 | I3: 9 | J3: 10 | K3: 11 | L3: 12
A4: 1 | B4: "ГазИндустрия" жауапкершілігі шектеулі серіктестігі | C4: 80340006310 | D4: 140000, Қазақстан Республикасы, Павлодар облысы, Павлодар қ., , Химкомбинатовская к.. құрылыс 1/10. басшы- Килькеева Рената Рафаэльевна | E4: ГТС | F4: Сұйытылған мұнай газын сақтау және өткізу | G4: қысыммен жұмыс істейтін ыдыс, сұйытылған мұнай газ | H4: 1 | I4: 1503 | J4: 24515 | K4: 200 | L4: Павлодар облысы, Павлодар қ., , Химкомбинатовская к.. құрылыс 1/10.
B5: "ГазИндустрия" жауапкершілігі шектеулі серіктестігі | E5: ГТС | F5: Сұйытылған мұнай газын сақтау және өткізу | G5: қысыммен жұмыс істейтін ыдыс, сұйытылған мұнай газ | H5: 1 | I5: 1504 | J5: 10900 | K5: 200 | L5: Павлодар облысы, Павлодар қ., , Химкомбинатовская к.. құрылыс 1/10.
B6: "ГазИндустрия" жауапкершілігі шектеулі серіктестігі | E6: ГТС | F6: Сұйытылған мұнай газын сақтау және өткізу | G6: қысыммен жұмыс істейтін ыдыс, сұйытылған мұнай газ | H6: 1 | I6: 1496 | J6: 24425 | K6: 200 | L6: Павлодар облысы, Павлодар қ., , Химкомбинатовская к.. құрылыс 1/10.
B7: "ГазИндустрия" жауапкершілігі шектеулі серіктестігі | E7: ГТС | F7: Сұйытылған мұнай газын сақтау және өткізу | G7: қысыммен жұмыс істейтін ыдыс, сұйытылған мұнай газ | H7: 1 | I7: 1505 | J7: 10996 | K7: 200 | L7: Павлодар облысы, Павлодар қ., , Химкомбинатовская к.. құрылыс 1/10.
B8: "ГазИндустрия" жауапкершілігі шектеулі серіктестігі | E8: ГТС | F8: Сұйытылған мұнай газын сақтау және өткізу | G8: қысыммен жұмыс істейтін ыдыс, сұйытылған мұнай газ | H8: 1 | I8: 1499 | J8: 10908 | K8: 200 | L8: Павлодар облысы, Павлодар қ., , Химкомбинатовская к.. құрылыс 1/10.
B9: "ГазИндустрия" жауапкершілігі шектеулі серіктестігі | E9: ГТС | F9: Сұйытылған мұнай газын сақтау және өткізу | G9: қысыммен жұмыс істейтін ыдыс, сұйытылған мұнай газ | H9: 1 | I9: 1497 | J9: 10928 | K9: 200 | L9: Павлодар облысы, Павлодар қ., , Химкомбинатовская к.. құрылыс 1/10.
B10: "ГазИндустрия" жауапкершілігі шектеулі серіктестігі | E10: ГТС | F10: Сұйытылған мұнай газын сақтау және өткізу | G10: қысыммен жұмыс істейтін ыдыс, сұйытылған мұнай газ | H10: 1 | I10: 1500 | J10: 10970 | K10: 200 | L10: Павлодар облысы, Павлодар қ., , Химкомбинатовская к.. құрылыс 1/10.
B11: "ГазИндустрия" жауапкершілігі шектеулі серіктестігі | E11: ГТС | F11: Сұйытылған мұнай газын сақтау және өткізу | G11: қысыммен жұмыс істейтін ыдыс, сұйытылған мұнай газ | H11: 1 | I11: 1498 | J11: 10997 | K11: 200 | L11: Павлодар облысы, Павлодар қ., , Химкомбинатовская к.. құрылыс 1/10.
B12: "ГазИндустрия" жауапкершілігі шектеулі серіктестігі | E12: ГТС | F12: Сұйытылған мұнай газын сақтау және өткізу | G12: қысыммен жұмыс істейтін ыдыс, сұйытылған мұнай газ | H12: 1 | I12: 1502 | J12: 10998 | K12: 200 | L12: Павлодар облысы, Павлодар қ., , Химкомбинатовская к.. құрылыс 1/10.
B13: "ГазИндустрия" жауапкершілігі шектеулі серіктестігі | E13: ГТС | F13: Сұйытылған мұнай газын сақтау және өткізу | G13: қысыммен жұмыс істейтін ыдыс, сұйытылған мұнай газ | H13: 1 | I13: 1478 | J13: 10901 | K13: 200 | L13: Павлодар облысы, Павлодар қ., , Химкомбинатовская к.. құрылыс 1/10.
B14: "ГазИндустрия" жауапкершілігі шектеулі серіктестігі | E14: ГТС | F14: Сұйытылған мұнай газын сақтау және өткізу | G14: қысыммен жұмыс істейтін ыдыс, сұйытылған мұнай газ | H14: 1 | I14: 1480 | J14: 10967 | K14: 200 | L14: Павлодар облысы, Павлодар қ., , Химкомбинатовская к.. құрылыс 1/10.
B15: "ГазИндустрия" жауапкершілігі шектеулі серіктестігі | E15: ГТС | F15: Сұйытылған мұнай газын сақтау және өткізу | G15: қысыммен жұмыс істейтін ыдыс, сұйытылған мұнай газ | H15: 1 | I15: 1481 | J15: 10982 | K15: 200 | L15: Павлодар облысы, Павлодар қ., , Химкомбинатовская к.. құрылыс 1/10.
B16: "ГазИндустрия" жауапкершілігі шектеулі серіктестігі | E16: ГТС | F16: Сұйытылған мұнай газын сақтау және өткізу | G16: қысыммен жұмыс істейтін ыдыс, сұйытылған мұнай газ | H16: 1 | I16: 1482 | J16: 10902 | K16: 200 | L16: Павлодар облысы, Павлодар қ., , Химкомбинатовская к.. құрылыс 1/10.
... B34: "ГазИндустрия" жауапкершілігі шектеулі серіктестігі | E34: ГТС | F34: Сұйытылған мұнай газын сақтау және өткізу | G34: қысыммен жұмыс істейтін ыдыс, сұйытылған мұнай газ | H34: 1 | I34: 1494 | J34: 2707 | K34: 0.8 | L34: Павлодар облысы, Павлодар қ., , Химкомбинатовская к.. құрылыс 1/10.
B35: БАРЛЫҒЫ | E35: ГТС(1) | H35: 31 | K35: 5805.8
B36: "ГазИндустрия" жауапкершілігі шектеулі серіктестігі | E36: АГҚС-1б. | H36: 1 | I36: 1495 | J36: 2770 | K36: 5 | L36: Павлодар облысы, Павлодар қ., , Химкомбинатовская к.. құрылыс 1/10.
B37: "ГазИндустрия" жауапкершілігі шектеулі серіктестігі | E37: ГТП- 1б. | H37: 1 | I37: 1479 | J37: 24532 | K37: 200 | L37: Павлодар облысы, Павлодар қ., , Химкомбинатовская к.. құрылыс 1/10.
B38: ЖАЛПЫ | E38: ГТС (1), АГҚС(1), ГТП (1) | H38: 33 | K38: 6010.8
A39: 2 | B39: "Интерснаб Gas" жауапкершілігі шектеулі серіктестігі | C39: 100140010952 | D39: 140000, Қазақстан Республикасы, Павлодар облысы, Павлодар қ., Каирбаев к. 94, НП 6 басшы - Комаров Владимир Александрович | E39: ГТС | F39: Сұйытылған мұнай газын сақтау және өткізу | G39: қысыммен жұмыс істейтін ыдыс, сұйытылған мұнай газ | H39: 1 | I39: 66 | J39: 35 | K39: 100 | L39: Павлодар облысы, Павлодар қ, Космонавтов к. 133
B40: Интерснаб Gas жауапкершілігі шектеулі серіктестігі | E40: ГТС | F40: Сұйытылған мұнай газын сақтау және өткізу | G40: қысыммен жұмыс істейтін ыдыс, сұйытылған мұнай газ | H40: 1 | I40: 68 | J40: 10017 | K40: 100 | L40: Павлодар облысы, Павлодар қ, Космонавтов к. 133
B41: Интерснаб Gas жауапкершілігі шектеулі серіктестігі | E41: ГТС | F41: Сұйытылған мұнай газын сақтау және өткізу | G41: қысыммен жұмыс істейтін ыдыс, сұйытылған мұнай газ | H41: 1 | I41: 69 | J41: 317 | K41: 100 | L41: Павлодар облысы, Павлодар қ, Космонавтов к. 133
B42: Интерснаб Gas жауапкершілігі шектеулі серіктестігі | E42: ГТС | F42: Сұйытылған мұнай газын сақтау және өткізу | G42: қысыммен жұмыс істейтін ыдыс, сұйытылған мұнай газ | H42: 1 | I42: 70 | J42: 10026 | K42: 100 | L42: Павлодар облысы, Павлодар қ, Космонавтов к. 133
B43: Интерснаб Gas жауапкершілігі шектеулі серіктестігі | E43: ГТС | F43: Сұйытылған мұнай газын сақтау және өткізу | G43: қысыммен жұмыс істейтін ыдыс, сұйытылған мұнай газ | H43: 1 | I43: 71 | J43: 56 | K43: 100 | L43: Павлодар облысы, Павлодар қ, Космонавтов к. 133
B44: Интерснаб Gas жауапкершілігі шектеулі серіктестігі | E44: ГТС | F44: Сұйытылған мұнай газын сақтау және өткізу | G44: қысыммен жұмыс істейтін ыдыс, сұйытылған мұнай газ | H44: 1 | I44: 72 | J44: 49 | K44: 100 | L44: Павлодар облысы, Павлодар қ, Космонавтов к. 133
B45: Интерснаб Gas жауапкершілігі шектеулі серіктестігі | E45: ГТС | F45: Сұйытылған мұнай газын сақтау және өткізу | G45: қысыммен жұмыс істейтін ыдыс, сұйытылған мұнай газ | H45: 1 | I45: 73 | J45: 10016 | K45: 100 | L45: Павлодар облысы, Павлодар қ, Космонавтов к. 133
B46: Интерснаб Gas жауапкершілігі шектеулі серіктестігі | E46: ГТС | F46: Сұйытылған мұнай газын сақтау және өткізу | G46: қысыммен жұмыс істейтін ыдыс, сұйытылған мұнай газ | H46: 1 | I46: 74 | J46: 10102 | K46: 100 | L46: Павлодар облысы, Павлодар қ, Космонавтов к. 133
B47: Интерснаб Gas жауапкершілігі шектеулі серіктестігі | E47: ГТС | F47: Сұйытылған мұнай газын сақтау және өткізу | G47: қысыммен жұмыс істейтін ыдыс, сұйытылған мұнай газ | H47: 1 | I47: 75 | J47: 10018 | K47: 100 | L47: Павлодар облысы, Павлодар қ, Космонавтов к. 133
B48: Интерснаб Gas жауапкершілігі шектеулі серіктестігі | E48: ГТС | F48: Сұйытылған мұнай газын сақтау және өткізу | G48: қысыммен жұмыс істейтін ыдыс, сұйытылған мұнай газ | H48: 1 | I48: 76 | J48: 9986 | K48: 100 | L48: Павлодар облысы, Павлодар қ, Космонавтов к. 133
B49: Интерснаб Gas жауапкершілігі шектеулі серіктестігі | E49: ГТС | F49: Сұйытылған мұнай газын сақтау және өткізу | G49: қысыммен жұмыс істейтін ыдыс, сұйытылған мұнай газ | H49: 1 | I49: 77 | J49: 34 | K49: 100 | L49: Павлодар облысы, Павлодар қ, Космонавтов к. 133
B50: Интерснаб Gas жауапкершілігі шектеулі серіктестігі | E50: ГТС | F50: Сұйытылған мұнай газын сақтау және өткізу | G50: қысыммен жұмыс істейтін ыдыс, сұйытылған мұнай газ | H50: 1 | I50: 78 | J50: 10028 | K50: 100 | L50: Павлодар облысы, Павлодар қ, Космонавтов к. 133
B51: Интерснаб Gas жауапкершілігі шектеулі серіктестігі | E51: ГТС | F51: Сұйытылған мұнай газын сақтау және өткізу | G51: қысыммен жұмыс істейтін ыдыс, сұйытылған мұнай газ | H51: 1 | I51: 79 | J51: 9985 | K51: 100 | L51: Павлодар облысы, Павлодар қ, Космонавтов к. 133
... B55: Интерснаб Gas жауапкершілігі шектеулі серіктестігі | E55: ГТС | F55: Сұйытылған мұнай газын сақтау және өткізу | G55: қысыммен жұмыс істейтін ыдыс, сұйытылған мұнай газ | H55: 1 | I55: 2442 | J55: 2170 | K55: 48.81 | L55: Павлодар облысы, Павлодар қ, Космонавтов к. 133
B56: Интерснаб Gas жауапкершілігі шектеулі серіктестігі | E56: ГТС | F56: Сұйытылған мұнай газын сақтау және өткізу | G56: қысыммен жұмыс істейтін ыдыс, сұйытылған мұнай газ | H56: 1 | I56: 2548 | J56: 15734 | K56: 6 | L56: Павлодар облысы, Павлодар қ, Космонавтов к. 133
B57: Интерснаб Gas жауапкершілігі шектеулі серіктестігі | E57: ГТС | F57: Сұйытылған мұнай газын сақтау және өткізу | G57: қысыммен жұмыс істейтін ыдыс, сұйытылған мұнай газ | H57: 1 | I57: 2549 | J57: 16937 | K57: 6 | L57: Павлодар облысы, Павлодар қ, Космонавтов к. 133
B58: ЖАЛПЫ | E58: ГТС-1б | H58: 19 | K58: 1565.75
B59: Интерснаб Gas жауапкершілігі шектеулі серіктестігі | E59: ГТП | F59: Сұйытылған мұнай газын сақтау және өткізу | G59: қысыммен жұмыс істейтін ыдыс, сұйытылған мұнай газ | H59: 1 | I59: 2551 | J59: 13879 | K59: 10 | L59: Екібастұз қ., Кунаев к. 201/2
B60: Интерснаб Gas жауапкершілігі шектеулі серіктестігі | E60: ГТП | F60: Сұйытылған мұнай газын сақтау және өткізу | G60: қысыммен жұмыс істейтін ыдыс, сұйытылған мұнай газ | H60: 1 | I60: 2550 | J60: 13880 | K60: 10 | L60: Ақсу қ.,Вокзальная к. 11
...

Sheet Ақмола облысы
B1: Заңды, жеке тұлғаның атауы | C1: БСН, ЖСН | D1: Заңды, жеке тұлғаның мекенжайы, басшының Т. А. Ә. | E1: Объектінің атауы | F1: Өнеркәсіптік саласы және қызмет түрі | G1: Қауіпті техникалық құрылғының атауы (жұмыс ортасы) | H1: Объектінің жобалық қуаты (ыдыс саны, есептік нөмірі, зауытық нөмірі, сұйытылған мұнай газын сақтау көлемі) | L1: Объектінің орналасқан жері (мекенжайы)
H2: ҚЖЫ-ның жалпы саны, дана | I2: есептік № | J2: зауыттық № | K2: ҚЖЫ-ның көлемі (қысыммен жұмыс істейтін ыдыс), м3
B3: 2 | C3: 3 | D3: 4 | E3: 5 | F3: 6 | G3: 7 | H3: 8 | I3: 9 | J3: 10 | K3: 11 | L3: 12
A4: 1 | B4: "Адиль" ЖК | C4: 940618350993 | D4: Кокшетау қаласы, Л. Дроздовой көшесі, үй № 1Г; АУБАКИРОВ АДИЛЬХАН БАЗАРБАЕВИЧ | E4: АГҚС | F4: Сұйылтылған мұнай газын сату және сақтау | G4: Қысыммен жұмыс істейтін ыдыс, пропан-бутан қоспасы | H4: 1 | I4: С-3823 | J4: 16502 | K4: 10 | L4: Кокшетау қаласы, Ташенова көшесі, құрылыс 1/1
B5: "Адиль" ЖК | C5: 940618350993 | D5: Кокшетау қаласы, Л. Дроздовой көшесі, үй № 1Г; АУБАКИРОВ АДИЛЬХАН БАЗАРБАЕВИЧ | E5: АГҚС | F5: Сұйылтылған мұнай газын сату және сақтау | G5: Қысыммен жұмыс істейтін ыдыс, пропан-бутан қоспасы | H5: 1 | I5: С-3107 | J5: 1008 | K5: 10 | L5: Кокшетау қаласы, Зеренді тас жолына шыға беріс, " Эталон " АЖҚС кейін
A6: 2 | B6: "Аманжолава Ж.Д." ЖК | C6: 931007400318 | D6: Ақмола облысы, Зеренді ауданы, Ақкөл ауылы, ул./пр. с. Акколь, дом/корпус 0; АМАНЖОЛОВА ЖУЛДЫЗ ДАУРЕНОВНА | E6: АГҚС | F6: Сұйылтылған мұнай газын сату және сақтау | G6: Қысыммен жұмыс істейтін ыдыс, пропан-бутан қоспасы | H6: 1 | I6: С-3825 | J6: 10103 | K6: 10 | L6: Ақмола облысы, Зеренді ауданы, Ақкөл ауылы
A7: 3 | B7: ЖК "Әділ" | C7: 871031350642 | D7: Ақмола облысы, Көкшетау қаласы, Микрорайон Центральный, 55, 35; ЖУНУСОВ ДИЯЗ БЕЙБУТОВИЧ | E7: АГҚС | F7: Сұйылтылған мұнай газын сату және сақтау | G7: Қысыммен жұмыс істейтін ыдыс, пропан-бутан қоспасы | H7: 1 | I7: С-3679 | J7: 50290 | K7: 7 | L7: Көкшетау қаласы, көшесі Жунусова 43 Б
A8: 4 | B8: "AST-Gaz" ЖШС | C8: 161040021274 | D8: Астана қаласы, Алматы ауданы , Ақ-Бұлақ-3 тұрғын үй ауданы, Тасшоқы жолақы 1 31; КАЖАКАТ САГЫНДЫК ЕРЕЖЕПУЛЫ | E8: АГҚС | F8: Сұйылтылған мұнай газын сату және сақтау | G8: Қысыммен жұмыс істейтін ыдыс, пропан-бутан қоспасы | H8: 1 | I8: С-3807 | J8: АС-010 | K8: 10 | L8: Ақмола облысы, Аршалы ауданы, Жибек Жолы Конституция көшесі 1/2
A9: 5 | B9: "GAB SERVICE AGENCY" (ДЖИ ЭЙ БИ СЕРВИС ЭЙДЖЕНСИ)ЖШС | C9: .081240010833 | D9: Көкшетау қаласы, Солтүстік промзона, үй/корпус 55; ХАДЖИМУРАДОВ ШИХБУБА ШАХМУРАДОВИЧ | E9: АГҚС | F9: Сұйылтылған мұнай газын сату және сақтау | G9: Қысыммен жұмыс істейтін ыдыс, пропан-бутан қоспасы | H9: 1 | I9: С-3432 | J9: 12165 | K9: 10 | L9: Көкшетау қаласы, мкр Бірлік,Фабричная көшесі, Казанат, 14 көшесінің бұрышы
B10: "GAB SERVICE AGENCY" (ДЖИ ЭЙ БИ СЕРВИС ЭЙДЖЕНСИ)ЖШС | C10: .081240010833 | D10: Көкшетау қаласы, Солтүстік промзона, үй/корпус 55; ХАДЖИМУРАДОВ ШИХБУБА ШАХМУРАДОВИЧ | E10: АГҚС | F10: Сұйылтылған мұнай газын сату және сақтау | G10: Қысыммен жұмыс істейтін ыдыс, пропан-бутан қоспасы | H10: 1 | I10: С-3417 | J10: 16501 | K10: 10 | L10: Ақмола облысы, Зеренді ауданы, 281 км трассы "Астана-Петропавловск" "Бэст" АЖҚС аумағында
A11: 6 | B11: ЖК Уалиев | C11: 790915301431 | D11: Көкшетау қаласы, микрорайон Бирлик, көшесі Курайлы, 7 | E11: АГҚС | F11: Сұйылтылған мұнай газын сату және сақтау | G11: Қысыммен жұмыс істейтін ыдыс, пропан-бутан қоспасы | H11: 1 | I11: С-3827 | J11: 599 | K11: 7.25 | L11: Ақмола облысы, Зеренді ауданы, Зеренді ауылына кіре берісте АЖҚС "Есиль" аумағында
A12: 7 | B12: ЖК Сумбаев | C12: .021208551084 | D12: Көкшетау қаласы, көшесі Жамбыла Жабаева, 152, 9; СУМБАЕВ ДАНИИЛ ВИТАЛЬЕВИЧ | E12: АГҚС | F12: Сұйылтылған мұнай газын сату және сақтау | G12: Қысыммен жұмыс істейтін ыдыс, пропан-бутан қоспасы | H12: 1 | I12: С-3826 | J12: 12355 | K12: 10 | L12: Көкшетау қаласы, Ақан Сері көшесі үй, 206 Б
A13: 8 | B13: ЖШС "Регион-Газ" | C13: .000140006824 | D13: Көкшетау қаласы, Солтүстік промзона, үй/корпус 55; АМАНЖОЛОВА БАЛЖАН КЫДЫРБАЕВНА | E13: АГҚС | F13: Сұйылтылған мұнай газын сату және сақтау | G13: Қысыммен жұмыс істейтін ыдыс, пропан-бутан қоспасы | H13: 1 | I13: С-3235 | J13: 1611 | K13: 12.5 | L13: Ақмола облысы, Зеренді ауданы, 278 км трассы "Астана-Петропавловск"
A14: 9 | B14: «Аубакиров Б.Р.» ЖК | C14: 610203301099 | D14: Ақмола облысы, Кокшетау қаласы , . Л. Дроздова көшесі, 1Г; Аубакиров Базарбай Ризабекович | E14: АГҚС | F14: Сұйылтылған мұнай газын сату және сақтау | G14: Қысыммен жұмыс істейтін ыдыс, пропан-бутан қоспасы | H14: 1 | I14: С-2957 | J14: 549 | K14: 10 | L14: Ақмола облысы, Кокшетау қаласы , Шокан Уалиханов көшесі, 226А
A15: 10 | B15: "Кокшетау-Транс-Газ" ЖШС | C15: 121040011319 | D15: Көкшетау қаласы, Центральный ш/а, үй/корпус 44a, кв. офис 209, п. 1; ОМАРОВ НУРЛАН АСКАРОВИЧ | E15: АГҚС | F15: Сұйылтылған мұнай газын сату және сақтау | G15: Қысыммен жұмыс істейтін ыдыс, пропан-бутан қоспасы | H15: 1 | I15: С-3828 | J15: 7014 | K15: 10 | L15: Көкшетау қаласы, Көктем ш/а , АЖҚС "Dakar" аумағында
B16: "Кокшетау-Транс-Газ" ЖШС | C16: 121040011319 | D16: Көкшетау қаласы, Центральный ш/а, үй/корпус 44a, кв. офис 209, п. 1; ОМАРОВ НУРЛАН АСКАРОВИЧ | E16: АГҚС | F16: Сұйылтылған мұнай газын сату және сақтау | G16: Қысыммен жұмыс істейтін ыдыс, пропан-бутан қоспасы | H16: 1 | I16: C-2954 | J16: 6937 | K16: 10 | L16: Көкшетау қаласы, Кызыл Жар көшесі АЖҚС "Каскенов и Компания" ЖШС аумағында
B17: "Кокшетау-Транс-Газ" ЖШС | C17: 121040011319 | D17: Көкшетау қаласы, Центральный ш/а, үй/корпус 44a, кв. офис 209, п. 1; ОМАРОВ НУРЛАН АСКАРОВИЧ | E17: АГҚС | F17: Сұйылтылған мұнай газын сату және сақтау | G17: Қысыммен жұмыс істейтін ыдыс, пропан-бутан қоспасы | H17: 1 | I17: С-2956 | J17: 6939 | K17: 10 | L17: Ақмола облысы,Зеренді ауданы, Чаглинка станциясы, Нефтебаза
B18: "Кокшетау-Транс-Газ" ЖШС | C18: 121040011319 | D18: Көкшетау қаласы, Центральный ш/а, үй/корпус 44a, кв. офис 209, п. 1; ОМАРОВ НУРЛАН АСКАРОВИЧ | E18: АГҚС | F18: Сұйылтылған мұнай газын сату және сақтау | G18: Қысыммен жұмыс істейтін ыдыс, пропан-бутан қоспасы | H18: 1 | I18: С-3207 | J18: 6936 | K18: 10 | L18: Көкшетау қаласы, Строителей көшесі 5 А
B19: "Кокшетау-Транс-Газ" ЖШС | C19: 121040011319 | D19: Көкшетау қаласы, Центральный ш/а, үй/корпус 44a, кв. офис 209, п. 1; ОМАРОВ НУРЛАН АСКАРОВИЧ | E19: АГҚС | F19: Сұйылтылған мұнай газын сату және сақтау | G19: Қысыммен жұмыс істейтін ыдыс, пропан-бутан қоспасы | H19: 1 | I19: С-3792 | J19: 50149 | K19: 6.96 | L19: Көкшетау қаласы, Уалиханова көшесі 189
B20: "Кокшетау-Транс-Газ" ЖШС | C20: 121040011319 | D20: Көкшетау қаласы, Центральный ш/а, үй/корпус 44a, кв. офис 209, п. 1; ОМАРОВ НУРЛАН АСКАРОВИЧ | E20: АГҚС | F20: Сұйылтылған мұнай газын сату және сақтау | G20: Қысыммен жұмыс істейтін ыдыс, пропан-бутан қоспасы | H20: 1 | I20: С-2955 | J20: 6938 | K20: 10 | L20: Көкшетау қаласы, Уалиханова көшесі 234 Г, АЖҚС "Helios" аумағында
B21: "Кокшетау-Транс-Газ" ЖШС | C21: БИН 121040011319 | D21: Кокшетау қаласы, Центральный шағынауд., 44a үй, кв. офис 209, п. 1; ОМАРОВ НУРЛАН АСКАРОВИЧ | E21: ГТС | F21: Сұйытылған мұнай газын сату және сақтау | G21: Қысыммен жұмыс істейтін ыдыс | H21: 1 | I21: С--2781 | J21: 1366 | K21: 5 | L21: Кокшетау қаласы, Северная пром.зона 8, строение 13, 47У
B22: "Кокшетау-Транс-Газ" ЖШС | C22: БИН 121040011319 | D22: Кокшетау қаласы, Центральный шағынауд., 44a үй, кв. офис 209, п. 1; ОМАРОВ НУРЛАН АСКАРОВИЧ | E22: ГТС | F22: Сұйытылған мұнай газын сату және сақтау | G22: Қысыммен жұмыс істейтін ыдыс | H22: 1 | I22: С-2780 | J22: 1395 | K22: 5 | L22: Кокшетау қаласы, Северная пром.зона 8, строение 13, 47У
B23: "Кокшетау-Транс-Газ" ЖШС | C23: БИН 121040011319 | D23: Кокшетау қаласы, Центральный шағынауд., 44a үй, кв. офис 209, п. 1; ОМАРОВ НУРЛАН АСКАРОВИЧ | E23: ГТС | F23: Сұйытылған мұнай газын сату және сақтау | G23: Қысыммен жұмыс істейтін ыдыс | H23: 1 | I23: С-2782 | J23: 1421 | K23: 5 | L23: Кокшетау қаласы, Северная пром.зона 8, строение 13, 47У
B24: "Кокшетау-Транс-Газ" ЖШС | C24: БИН 121040011319 | D24: Кокшетау қаласы, Центральный шағынауд., 44a үй, кв. офис 209, п. 1; ОМАРОВ НУРЛАН АСКАРОВИЧ | E24: ГТС | F24: Сұйытылған мұнай газын сату және сақтау | G24: Қысыммен жұмыс істейтін ыдыс | H24: 1 | I24: С-2786 | J24: 1946 | K24: 2.5 | L24: Кокшетау қаласы, Северная пром.зона 8, строение 13, 47У
B25: "Кокшетау-Транс-Газ" ЖШС | C25: БИН 121040011319 | D25: Кокшетау қаласы, Центральный шағынауд., 44a үй, кв. офис 209, п. 1; ОМАРОВ НУРЛАН АСКАРОВИЧ | E25: ГТС | F25: Сұйытылған мұнай газын сату және сақтау | G25: Қысыммен жұмыс істейтін ыдыс | H25: 1 | I25: С-0180 | J25: 2704 | K25: 4.94 | L25: Кокшетау қаласы, Северная пром.зона 8, строение 13
B26: "Кокшетау-Транс-Газ" ЖШС | C26: БИН 121040011319 | D26: Кокшетау қаласы, Центральный шағынауд., 44a үй, кв. офис 209, п. 1; ОМАРОВ НУРЛАН АСКАРОВИЧ | E26: ГТС | F26: Сұйытылған мұнай газын сату және сақтау | G26: Қысыммен жұмыс істейтін ыдыс | H26: 1 | I26: С-2788 | J26: 3420 | K26: 2.5 | L26: Кокшетау қаласы, Северная пром.зона 8, строение 13, 47У
B27: "Кокшетау-Транс-Газ" ЖШС | C27: БИН 121040011319 | D27: Кокшетау қаласы, Центральный шағынауд., 44a үй, кв. офис 209, п. 1; ОМАРОВ НУРЛАН АСКАРОВИЧ | E27: ГТС | F27: Сұйытылған мұнай газын сату және сақтау | G27: Қысыммен жұмыс істейтін ыдыс | H27: 1 | I27: С-2784 | J27: 3832 | K27: 5 | L27: Кокшетау қаласы, Северная пром.зона 8, строение 13
B28: "Кокшетау-Транс-Газ" ЖШС | C28: БИН 121040011319 | D28: Кокшетау қаласы, Центральный шағынауд., 44a үй, кв. офис 209, п. 1; ОМАРОВ НУРЛАН АСКАРОВИЧ | E28: ГТС | F28: Сұйытылған мұнай газын сату және сақтау | G28: Қысыммен жұмыс істейтін ыдыс | H28: 1 | I28: С-2783 | J28: 3864 | K28: 5 | L28: Кокшетау қаласы, Северная пром.зона 8, строение 13, 47У
B29: "Кокшетау-Транс-Газ" ЖШС | C29: БИН 121040011319 | D29: Кокшетау қаласы, Центральный шағынауд., 44a үй, кв. офис 209, п. 1; ОМАРОВ НУРЛАН АСКАРОВИЧ | E29: ГТС | F29: Сұйытылған мұнай газын сату және сақтау | G29: Қысыммен жұмыс істейтін ыдыс | H29: 1 | I29: С-2779 | J29: 4646 | K29: 4.2 | L29: Кокшетау қаласы, Северная пром.зона 8, строение 13
B30: "Кокшетау-Транс-Газ" ЖШС | C30: БИН 121040011319 | D30: Кокшетау қаласы, Центральный шағынауд., 44a үй, кв. офис 209, п. 1; ОМАРОВ НУРЛАН АСКАРОВИЧ | E30: ГТС | F30: Сұйытылған мұнай газын сату және сақтау | G30: Қысыммен жұмыс істейтін ыдыс | H30: 1 | I30: С-2787 | J30: 7041 | K30: 4.2 | L30: Кокшетау қаласы, Северная пром.зона 8, строение 13, 47У
B31: "Кокшетау-Транс-Газ" ЖШС | C31: БИН 121040011319 | D31: Кокшетау қаласы, Центральный шағынауд., 44a үй, кв. офис 209, п. 1; ОМАРОВ НУРЛАН АСКАРОВИЧ | E31: ГТС | F31: Сұйытылған мұнай газын сату және сақтау | G31: Қысыммен жұмыс істейтін ыдыс | H31: 1 | I31: С-2785 | J31: 7595 | K31: 5 | L31: Кокшетау қаласы, Северная пром.зона 8, строение 13, 47У
B32: "Кокшетау-Транс-Газ" ЖШС | C32: БИН 121040011319 | D32: Кокшетау қаласы, Центральный шағынауд., 44a үй, кв. офис 209, п. 1; ОМАРОВ НУРЛАН АСКАРОВИЧ | E32: ГТС | F32: Сұйытылған мұнай газын сату және сақтау | G32: Қысыммен жұмыс істейтін ыдыс | H32: 1 | I32: С-0248 | J32: 10564 | K32: 2.5 | L32: Кокшетау қаласы, Северная пром.зона 8, строение 13
A33: 11 | B33: ТОО «BulandyGasTrade» | C33: .191140029625 | D33: Ақмола облысы, Бұланды ауданы, Макинск қаласы, Шоқан Уалиханов көшесі 37 | E33: ГТС | F33: Сұйылтылған мұнай газын сату және сақтау | G33: Қысыммен жұмыс істейтін ыдыс, пропан-бутан қоспасы | H33: 1 | I33: С-3952 | J33: 1119 | K33: 50 | L33: Ақмола облысы, Бұланды ауданы, Макинск қаласы, Шоқан Уалиханов көшесі 37
B34: ТОО «BulandyGasTrade» | C34: .191140029625 | D34: Ақмола облысы, Бұланды ауданы, Макинск қаласы, Шоқан Уалиханов көшесі 37 | E34: ГТС | F34: Сұйылтылған мұнай газын сату және сақтау | G34: Қысыммен жұмыс істейтін ыдыс, пропан-бутан қоспасы | H34: 1 | I34: С-3943 | J34: 1719 | K34: 50 | L34: Ақмола облысы, Бұланды ауданы, Макинск қаласы, Шоқан Уалиханов көшесі 37
B35: ТОО «BulandyGasTrade» | C35: .191140029625 | D35: Ақмола облысы, Бұланды ауданы, Макинск қаласы, Шоқан Уалиханов көшесі 37 | E35: ГТС | F35: Сұйылтылған мұнай газын сату және сақтау | G35: Қысыммен жұмыс істейтін ыдыс, пропан-бутан қоспасы | H35: 1 | I35: С-3945 | J35: 5158 | K35: 50 | L35: Ақмола облысы, Бұланды ауданы, Макинск қаласы, Шоқан Уалиханов көшесі 37
B36: ТОО «BulandyGasTrade» | C36: .191140029625 | D36: Ақмола облысы, Бұланды ауданы, Макинск қаласы, Шоқан Уалиханов көшесі 37 | E36: ГТС | F36: Сұйылтылған мұнай газын сату және сақтау | G36: Қысыммен жұмыс істейтін ыдыс, пропан-бутан қоспасы | H36: 1 | I36: С-3953 | J36: 5200 | K36: 50 | L36: Ақмола облысы, Бұланды ауданы, Макинск қаласы, Шоқан Уалиханов көшесі 37
B37: ТОО «BulandyGasTrade» | C37: .191140029625 | D37: Ақмола облысы, Бұланды ауданы, Макинск қаласы, Шоқан Уалиханов көшесі 37 | E37: ГТС | F37: Сұйылтылған мұнай газын сату және сақтау | G37: Қысыммен жұмыс істейтін ыдыс, пропан-бутан қоспасы | H37: 1 | I37: С-3947 | J37: 5251 | K37: 50 | L37: Ақмола облысы, Бұланды ауданы, Макинск қаласы, Шоқан Уалиханов көшесі 37
B38: ТОО «BulandyGasTrade» | C38: .191140029625 | D38: Ақмола облысы, Бұланды ауданы, Макинск қаласы, Шоқан Уалиханов көшесі 37 | E38: ГТС | F38: Сұйылтылған мұнай газын сату және сақтау | G38: Қысыммен жұмыс істейтін ыдыс, пропан-бутан қоспасы | H38: 1 | I38: С-3944 | J38: 8885 | K38: 50 | L38: Ақмола облысы, Бұланды ауданы, Макинск қаласы, Шоқан Уалиханов көшесі 37
B39: ТОО «BulandyGasTrade» | C39: .191140029625 | D39: Ақмола облысы, Бұланды ауданы, Макинск қаласы, Шоқан Уалиханов көшесі 37 | E39: ГТС | F39: Сұйылтылған мұнай газын сату және сақтау | G39: Қысыммен жұмыс істейтін ыдыс, пропан-бутан қоспасы | H39: 1 | I39: С-3950 | J39: 24854 | K39: 50 | L39: Ақмола облысы, Бұланды ауданы, Макинск қаласы, Шоқан Уалиханов көшесі 37
B40: ТОО «BulandyGasTrade» | C40: .191140029625 | D40: Ақмола облысы, Бұланды ауданы, Макинск қаласы, Шоқан Уалиханов көшесі 37 | E40: ГТС | F40: Сұйылтылған мұнай газын сату және сақтау | G40: Қысыммен жұмыс істейтін ыдыс, пропан-бутан қоспасы | H40: 1 | I40: С-3948 | J40: 24856 | K40: 50 | L40: Ақмола облысы, Бұланды ауданы, Макинск қаласы, Шоқан Уалиханов көшесі 37
...

Sheet Маңғыстау облысы
A1: №п/п | B1: Заңды, жеке тұлғаның атауы | C1: БСН, ЖСН | D1: Заңды, жеке тұлғаның мекенжайы, басшының Т. А. Ә. | E1: Объектінің атауы | F1: Өнеркәсіптік саласы және қызмет түрі | G1: Қауіпті техникалық құрылғының атауы (жұмыс ортасы) | H1: Объектінің жобалық қуаты (ыдыс саны, есептік нөмірі, зауытық нөмірі, сұйытылған мұнай газын сақтау көлемі) | L1: Объектінің орналасқан жері (мекенжайы)
H2: ҚЖЫ-ның жалпы саны, дана | I2: есептік № | J2: зауыттық № | K2: ҚЖЫ-ның көлемі (қысыммен жұмыс істейтін ыдыс), м3
A3: 1 | B3: 2 | C3: 3 | D3: 4 | E3: 5 | F3: 6 | G3: 7 | H3: 8 | I3: 9 | J3: 10 | K3: 11 | L3: 12
A4: 1 | B4: "Базарбаев А.М." ЖК | C4: 840913300226 | D4: Маңғыстау облысы, Ақтау қаласы, 15 ш/а, 66 үй, 6 пәтер. Базарбаев Асан Мухаметдыллаевич | E4: АГҚС | F4: АГҚС, сұйытылған газды бөлшек саудада өткізу | G4: СУГ резервуары-1600-1,57-Н1, сұйытылған көмірсутек газы, | H4: 1 | I4: С-4843М | J4: 1842 | K4: 6 м3 | L4: Маңғыстау облысы, Жаңаөзен қаласы, Жаңаөзен-Ақтау тас жолы бойында
G5: ППЦЗ-12885 резервуары | H5: 1 | I5: С-3055М | J5: 629 | K5: 12 м3
A6: 2 | B6: "Базарбаев М." ЖК | C6: 600312300319 | D6: Маңғыстау облысы, Жаңаөзен қаласы, Арай 1 ш/а, К. Шалабаева көшесі, 17 үй, Базарбаев Мухаметдылла | E6: АГҚС | F6: АГҚС, сұйытылған газды бөлшек саудада өткізу | G6: СУГ-10н.УХЛ резервуары, сұйытылған көмірсутекті газ | H6: 1 | I6: С-3509М | J6: 1362 | K6: 9,96 м3 | L6: Маңғыстау облысы, Жаңаөзен қаласы, Абай көшесі, № 87 құрылымы
A7: 3 | B7: "Байдуллаев М.Б." ЖК | C7: 830119301226 | D7: Маңғыстау облысы, Мұнайлы ауданы, Қызылтөбе ауылы, Абай көшесі, №59 үй . Байдуллаев Марат Багдаулетович | E7: АГҚС | F7: АГҚС, сұйытылған газды бөлшек саудада өткізу | G7: сұйытылған көмірсутек газы пропан-бутан DIN 51622 / EN 589 | H7: 1 | I7: C-3245М | J7: 564 | K7: 14,16 м3 | L7: Мангистауской области, Мунайлинский район, село Мангистау, пром зона №6, участок № 89
A8: 4 | B8: "ISKER-AI" ЖШС | C8: 211140012617 | D8: Маңғыстау облысы, Ақтау қаласы, 25 ш/а, №29 ғимарат Байдуллаев Марат Багдаулетович | E8: АГҚС | F8: АГҚС, сұйытылған газды бөлшек саудада өткізу | G8: СУГ-10н су қоймасы.УХЛ1, сұйытылған көмірсутек газы пропан-бутан | H8: 1 | I8: 22-06-05-06/С-4826М | J8: 1018 | K8: 9,95 м3 | L8: Маңғыстау облысы, Ақтау қаласы, 25 ш / а, №29 ғимарат
G9: жартылай тіркеме цистернасы ET GAS , сұйытылған көмірсутек газы пропан-бутан | H9: 1 | I9: 22-06-05-06/С-4836М | J9: ETT2019-ADR4523 | K9: 36 м3
A10: 5 | B10: "Жубаев А." ЖК | C10: 630406201135 | D10: Маңғыстау облысы, Ақтау қаласы, 29 ш / а, 8 үй, 134 пәтер Жубаев Абиш Шукирбаевич | E10: АГҚС | F10: АГҚС, сұйытылған газды бөлшек саудада өткізу | G10: Қысыммен жұмыс істейтін ыдыс СУГ үшін Резервуар | H10: 1 | I10: С-3218М | J10: №488 | K10: 9,96 м3 | L10: Маңғыстау облысы, Мұнайлы ауданы, Маңғыстау ауылы, бұрынғы күкірт қышқылы зауыты ауданындағы №2 учаске
G11: Қысыммен жұмыс істейтін ыдыс СУГ үшін Резервуар | H11: 1 | I11: С-4773М | J11: №5301 | K11: 30 м3
A12: 6 | B12: ЖК "Жиделі" | C12: 590806402055 | D12: Ақтау қаласы, 18 ш/а, №2 үй, 141 пәтер,, Мынбаева Изимше Кидиршаевна | E12: АГҚС "JIDELI" | F12: АГҚС, сұйытылған газды бөлшек саудада өткізу | G12: Резервуар СГ-20.Н.1-УХЛ1 | H12: 1 | I12: С-3770М | J12: 313 | K12: 19,81 м3 | L12: Маңғыстау облысы, Ақтау қаласы, 25 ш / а, № 18 учаске
G13: ППЦЗ ыдысы 31-80 00 000СБ | H13: 1 | I13: С-3966М | J13: 98 | K13: 31,9 м3
A14: 7 | B14: ЖК "Базарбаев Е.М" | C14: 920115300887 | D14: Жаңаөзен қаласы,ш / а.Арай, Шалабаев көшесі, 17, Базарбаев Есен Мұхаметділлаұлы | E14: АГҚС | F14: АГҚС, сұйытылған газды бөлшек саудада өткізу | G14: Цистерна Резервуар ППЦЗ-12-885 | H14: 1 | I14: C-2779M | J14: 763 | K14: 12 м3 | L14: Маңғыстау облысы, Жаңаөзен қаласы, өнеркәсіп аймағы,4-құрылыс, Жаңаөзен-Ақтау тас жолының бойында
A15: 8 | B15: ЖК "Базарбаев Д.М" | C15: 860828300763 | D15: Жаңаөзен қаласы,ш / а.Мұнайлы, Губайдуллин көшесі 4, Базарбаев Жасан Мұхаметділлаұлы | E15: АГҚС | F15: АГҚС, сұйытылған газды бөлшек саудада өткізуого газа | G15: жартылай тіркеме-цистерна | H15: 1 | I15: C-3543M | J15: INS-IST/11-135 | K15: 20 м3 | L15: Маңғыстау облысы, Жаңаөзен қаласы, Абай көшесі, 84 құрылыс, "West Gas"АГҚС
G16: Цистерна Резервуар ППЦЗ-12-885 | H16: 1 | I16: C-2804M | J16: 764 | K16: 12 м3
A17: 9 | B17: ЖК "Қалиев М.М" | C17: 960930350616 | D17: Маңғыстау облысы, Ақтау қаласы, Толқын тұрғын алабы, № 132 үй, Қалиев Мұхтар Майрамбайұлы | E17: АГҚС | F17: АГҚС, сұйытылған газды бөлшек саудада өткізу | G17: қысыммен жұмыс істейтін ыдыс Резервуар для СУГ | H17: 2 | I17: 22-06-05-06/C-4749M | J17: 34689 | K17: 25 м3 | L17: Маңғыстау облысы, Ақтау қаласы, №9 өнеркәсіптік аймақ, №8/2 учаске
I18: 22-06-05-06/С-5522М | J18: И654 | K18: 10 м3
A19: 10 | B19: ЖК"Туракова Э.А" | C19: 841101401645 | D19: Маңғыстау облысы, Жаңаөзен қаласы, ш / а.Шаңырақ, № 24 үй, Туракова Эльмира Аманкосова | E19: АГҚС | F19: АГҚС, сұйытылған газды бөлшек саудада өткізу | G19: Цистерна | H19: 1 | I19: 22-06-05-06/С-4676М | J19: 431 | K19: 10,8 м3 | L19: Маңғыстау облысы, Мұнайлы ауданы, Батыр ауылы, № 1 өнеркәсіптік аймақ,№14/1 уч.
A20: 11 | B20: ЖК"Жанбуршиев Аскар" | C20: 601214300636 | D20: Маңғыстау облысы, Маңғыстау ауданы, Шебир ауылы, Тәуелсіздік көшесі, 29 үй | E20: АГҚС | F20: АГҚС, сұйытылған газды бөлшек саудада өткізу | G20: СУГ-1200-1,6-5 | H20: 1 | I20: 22-06-05-06/С-4685М | J20: 491 | K20: 5 м3 | L20: Маңғыстау облысы, Маңғыстау ауданы, Шебир ауылы, №4/2 учаске
A21: 12 | B21: ЖШС «Ерекешов» | C21: 130240008983 | D21: Маңғыстау облысы,Мұнайлы ауданы, Атамекен ауылы өнеркәсіп аймағы 2, 5-уч. | E21: АГҚС | F21: АГҚС, сұйытылған газды бөлшек саудада өткізу | G21: Қысыммен жұмыс істейтін ыдыс СУГ үшін Резервуар | H21: 1 | I21: 22-06-05-06/С-4715М | J21: 6234 | K21: 10 м3 | L21: Мангистауская область, Тупкараганский район,массив Каражанбас,участок №60
A22: 13 | B22: ЖК «Елемесова Жанылай Баяновна» | C22: 751220400774 | D22: Ақтау қаласы, 12 ш / а., №56 үй, Елемесова Жаңылай Баянқызы | E22: АГҚС | F22: АГҚС, сұйытылған газды бөлшек саудада өткізу | G22: қысыммен жұмыс істейтін ыдыс | H22: 1 | I22: 25-20-13-1/С-3726М | J22: 4828 | K22: 20 м3 | L22: Маңғыстау облысы, Мұнайлы ауданы, Баянды ауылы, № 2 өндірістік аймақ, 3-учаске
A23: 14 | B23: «Жанамолденова»ЖК | C23: 591230400299 | D23: Ақтау қ., 27 ш / а, 16 үй, 10 пәтер, ЖАНАМОЛДЕНОВА АЛТЫН АЛКИСАЕВНА | E23: АГҚС | F23: АГҚС, сұйытылған газды бөлшек саудада өткізу | G23: қысыммен жұмыс істейтін ыдыс | H23: 1 | I23: C-4478M | J23: 201203 | K23: 54 м3 | L23: Маңғыстау облысы, Мұнайлы ауданы, Қызылтөбе ауылдық округі,Қызылтөбе-2 тұрғын алабына қарама-қарсы, Ақтау-карьер №4 автожолының бойында
G24: қысыммен жұмыс істейтін ыдыс | H24: 1 | I24: C-3240M | J24: 718 | K24: 9,96 м3
G25: қысыммен жұмыс істейтін ыдыс | H25: 1 | I25: 22-06-05-06/C-4935M | J25: 6 | K25: 13,17 м3
A26: 15 | B26: ЖК «Майша» | C26: 730724402794 | D26: ЖАНАОЗЕН, МИКРОРАЙОН Арай, УЛИЦА Шотан батыра, 29, Бактыбаева МАША | E26: АГҚС | F26: АГҚС, сұйытылған газды бөлшек саудада өткізу | G26: Резервуар СУГ | H26: 1 | I26: 22-06-05-06/С-4820М | J26: 355 | K26: 9,96 м3 | L26: Маңғыстау облысы, Жаңаөзен қаласы, Маңғыстау даңғылы, 2А құрылыс
G27: қысыммен жұмыс істейтін ыдыс (ППЦ) | H27: 1 | I27: 22-06-05-06/ С-4838М | J27: 04/0216 | K27: 48 м3
A28: 16 | B28: ЖК «Нурсултанова Камшат Даригуловна» | C28: 830217400732 | D28: Ақтау қаласы, 13 ш / а., 3 үй, 7 пәтер, Нұрсұлтанова Кәмшат Дариғұлқызы | E28: АГҚС | F28: АГҚС, сұйытылған газды бөлшек саудада өткізу | G28: қысыммен жұмыс істейтін ыдыс (ППЦЗ-12) | H28: 1 | I28: С-3522М | J28: 140 | K28: 13,17 м3 | L28: Маңғыстау облысы, Мұнайлы ауданы, Басқұдық ауылы, № 3 өндірістік база, №14/2 учаске
G29: қысыммен жұмыс істейтін ыдыс (сосуд СУГ) | H29: 1 | I29: С-3613М | J29: 224 | K29: 36 м3
A30: 17 | B30: ЖШС «КУС» | C30: 960740000816 | D30: Ақтау қ. 13 шағынауданы,36 үй, Құсайынов МЕЙРАМ Сүлейменұлы | E30: АГҚС | F30: АГҚС, сұйытылған газды бөлшек саудада өткізу | G30: қысыммен жұмыс істейтін ыдыс Резервуар СУГ | H30: 1 | I30: 22-06-05-06/C-4852M | J30: 904 | K30: 10 м3 | L30: Маңғыстау облысы, Ақтау қаласы, №8 өнеркәсіптік аймақ, №73/1 учаске
G31: қысыммен жұмыс істейтін ыдыс (резервуар) | H31: 1 | I31: 22-06-05-06/С-4784М | J31: 8292 | K31: 54 м3
E32: АГҚС | F32: АГҚС, сұйытылған газды бөлшек саудада өткізу | G32: қысыммен жұмыс істейтін ыдыс (Резервуар для СУГ) | H32: 1 | I32: 22-06-05-06/C-4778M | J32: 434 | K32: 10,8 м3 | L32: Маңғыстау облысы, Ақтау қаласы, №8 өнеркәсіптік аймақ, №73 учаске
G33: қысыммен жұмыс істейтін ыдыс (резервуар) | H33: 1 | I33: 22-06-05-06/С-4779М | J33: 8292 | K33: 38 м3
G34: қысыммен жұмыс істейтін ыдыс (емкость) | H34: 1 | I34: 22-06-05-06/С-4626М | J34: 8283 | K34: 54 м3
G35: қысыммен жұмыс істейтін ыдыс(резервуар) | H35: 1 | I35: С-3037М | J35: 665 | K35: 10,58 м3
A36: 18 | B36: ЖШС «Матаев Ж.У.» | C36: 211140022585 | D36: Ақтау қ., Өмірзақ ауылы Приозерный тұрғын алабы - 2 72/3 | E36: АГҚС | F36: АГҚС, сұйытылған газды бөлшек саудада өткізу | G36: қысыммен жұмыс істейтін ыдыс (резервуар) | H36: 1 | I36: С-3990М | J36: 1251 | K36: 49 м3 | L36: Маңғыстау облысы, Бейнеу ауданы, Ақжігіт ауылы, 2-аймақ, № 264 учаске
A37: 19 | B37: ЖШС «Матаев Ж.У.» | C37: 211140022585 | D37: Ақтау қ., Өмірзақ ауылы Приозерный тұрғын алабы - 2 72/3 | E37: АГҚС | F37: АГҚС, сұйытылған газды бөлшек саудада өткізу | G37: қысыммен жұмыс істейтін ыдыс(резервуар) | H37: 1 | I37: С-3989М | J37: 1252 | K37: 49 м3 | L37: Маңғыстау облысы, Бейнеу ауданы, Боранқұл ауылы, 8-аймақ, №14 учаске
A38: 20 | B38: ЖШС «TAU KEN Corporation» | C38: 130940007045 | D38: Ақтау Қ., 5 шағын аудан., 8 үй, 110 пәтер | E38: АГҚС | F38: АГҚС, сұйытылған газды бөлшек саудада өткізу | G38: қысыммен жұмыс істейтін ыдыс(резервуар наземный) | H38: 1 | I38: 25-20-14-1/С-4391М | J38: 2577 | K38: 20 м3 | L38: Маңғыстау облысы, Бейнеу ауданы,№1 аймақ, №250 учаске
A39: 21 | B39: ЖК «Турахов Бекес Джиенбаевич» | C39: 610212303054 | D39: Ақтау қаласы Жаңаөзен, Арай шағынауданы, Нұрмахан ЖАНТОРИН көшесі, 5 | E39: АГҚС | F39: АГҚС, сұйытылған газды бөлшек саудада өткізу | G39: қысыммен жұмыс істейтін ыдыс (резеруар) | H39: 1 | I39: 22-06-05-06/С-4745М | J39: 137 | K39: 17,46 м3 | L39: Маңғыстау облысы, Жаңаөзен қаласы, Солтүстік-Шығыс өнеркәсіп аймағы-2, №39 құрылыс
G40: қысыммен жұмыс істейтін ыдыс ППЦТ-38 | H40: 1 | I40: С-3284М | J40: 865 | K40: 9.96
...

Sheet  Жетісу облысы
A1: Владельцы газонаполнительных станций, газонаполнительных пунктов, автогазозаправочных станций и промышленных потребителей-владельцев сосудов, работающих под давлением использующих их для хранения сжиженного нефтяного газа.
A2: № п/п | B2: Наименование юридического, физического лица | C2: БИН, ИИН | D2: Адрес юридического, физического лица, Ф.И.О. руководителя | E2: Наименование объекта | F2: Отрасль промышленности и вид деятельности | G2: Наименование опасного технического устройства ( рабочая среда) | H2: Проектная мощность объекта (количество сосудов, учетный номер, заводской номер, объем хранения сжиженного нефтяного газа) | L2: Местонахождение объекта (адрес)
H3: общее количество СРД, шт | I3: учетный № | J3: заводской № | K3: объем СРД, м3
A4: 1 | B4: 2 | C4: 3 | D4: 4 | E4: 5 | F4: 6 | G4: 7 | H4: 8 | I4: 9 | J4: 10 | K4: 11 | L4: 12
A5: 1. | B5: Алматинский филиал ТОО "Гелиос" | C5: 80541005355 | D5: г. Алматы, Ауэзовский район, ул. Аскарова, д. 2; Шарапиев Казбек Конырбаевич | E5: АГЗС | F5: Реализация и хранение сжиженного нефтяного газа | G5: Сосуд работающий под давлением. Сжиженный газ (смесь пропан, бутан) | H5: 1 | I5: С-23-188 | J5: 6161 | K5: 5 | L5: область Жетісу, трасса Алматы-Талдыкорган 4 км., АЗС № 2.
B44: Алматинский филиал ТОО "Гелиос" | C44: 80541005355 | D44: г. Алматы, Ауэзовский район, ул. Аскарова, д. 2; Шарапиев Казбек Конырбаевич | E44: АГЗС | F44: Реализация и хранение сжиженного нефтяного газа | G44: Сосуд работающий под давлением. Сжиженный газ (смесь пропан, бутан) | H44: 1 | I44: С-23-189 | J44: 6000 | K44: 5 | L44: область Жетісу, трасса Алматы-Оскемен 170 км., АЗС № 12
A68: 2. | B68: ТОО "Альянс-Газ" | C68: 10340002187 | D68: г. Алматы, Жетысуский район, ул. Омарова, дом 12 В. Садырбакиев Адылжан | E68: АГЗС | F68: Реализация и хранение сжиженного нефтяного газа | G68: Сосуд работающий под давлением. Сжиженный газ (смесь пропан, бутан) | H68: 1 | I68: С-23-220 | J68: 55174 | K68: 4, 85 | L68: область Жетісу, Панфиловский р-н, с. Коктал, ул. Сулейменова б/н.
B76: ТОО "Альянс-Газ" | C76: 10340002187 | D76: г. Алматы, Жетысуский район, ул. Омарова, дом 12 В. Садырбакиев Адылжан | E76: АГЗС | F76: г. Алматы, Жетысуский район, ул. Омарова, дом 12 В. Садырбакиев Адылжан | G76: Сосуд работающий под давлением. Сжиженный газ (смесь пропан, бутан) | H76: 1 | I76: С-23-221 | J76: 683574 | K76: 4, 85 | L76: область Жетісу, Панфиловский р-н, с. Коктал, ул. Сулейменова б/н.
B83: ТОО "Альянс-Газ" | C83: 10340002187 | D83: г. Алматы, Жетысуский район, ул. Омарова, дом 12 В. Садырбакиев Адылжан | E83: АГЗС | F83: г. Алматы, Жетысуский район, ул. Омарова, дом 12 В. Садырбакиев Адылжан | G83: Сосуд работающий под давлением. Сжиженный газ (смесь пропан, бутан) | H83: 1 | I83: С-23-222 | J83: 0155Е | K83: 4, 85 | L83: область Жетісу, Панфиловский р-н, г. Жаркент, ул. Жибек жолы, угол ул. Кобикова
B94: ТОО "Альянс-Газ" | C94: 10340002187 | D94: г. Алматы, Жетысуский район, ул. Омарова, дом 12 В. Садырбакиев Адылжан | E94: АГЗС | F94: г. Алматы, Жетысуский район, ул. Омарова, дом 12 В. Садырбакиев Адылжан | G94: Сосуд работающий под давлением. Сжиженный газ (смесь пропан, бутан) | H94: 1 | I94: С-23-223 | J94: 669154 | K94: 4, 85 | L94: область Жетісу, Панфиловский р-н, г. Жаркент, ул. Жибек жолы, угол ул. Кобикова
A103: 3. | B103: ТОО "ЖаркентГазСервис" | C103: 121040012248 | D103: Алматинская область, Карасайский район, Ельтайский с.о., с. Жармухамбет, уч. кв. 034, стр. № 13. Рахиов Галым Абилхасымович | E103: АГЗС | F103: Реализация и хранение сжиженного нефтяного газа | G103: Сосуд работающий под давлением. Сжиженный газ (пропан, бутан и смесь пропан, бутан) | H103: 1 | I103: С-23-67 | J103: 424 | K103: 5 | L103: область Жетісу, Панфиловский р-н, с. Балым
B104: ТОО "ЖаркентГазСервис" | C104: 121040012248 | D104: Алматинская область, Карасайский район, Ельтайский с.о., с. Жармухамбет, уч. кв. 034, стр. № 13. Рахиов Галым Абилхасымович | E104: АГЗС | F104: Реализация и хранение сжиженного нефтяного газа | G104: Сосуд работающий под давлением. Сжиженный газ (пропан, бутан и смесь пропан, бутан) | H104: 1 | I104: С-23-65 | J104: 423 | K104: 5 | L104: область Жетісу, Панфиловский р-н, с. Балым
B105: ТОО "ЖаркентГазСервис" | C105: 121040012248 | D105: Алматинская область, Карасайский район, Ельтайский с.о., с. Жармухамбет, уч. кв. 034, стр. № 13. Рахиов Галым Абилхасымович | E105: АГЗС | F105: Реализация и хранение сжиженного нефтяного газа | G105: Сосуд работающий под давлением. Сжиженный газ (пропан, бутан и смесь пропан, бутан) | H105: 1 | I105: С-23-40 | J105: 14/В-163 | K105: 5 | L105: область Жетісу, Аксуский р-н, п. Энергетик, ул. Гарышкер, 65
B106: ТОО "ЖаркентГазСервис" | C106: 121040012248 | D106: Алматинская область, Карасайский район, Ельтайский с.о., с. Жармухамбет, уч. кв. 034, стр. № 13. Рахиов Галым Абилхасымович | E106: АГЗС | F106: Реализация и хранение сжиженного нефтяного газа | G106: Сосуд работающий под давлением. Сжиженный газ (пропан, бутан и смесь пропан, бутан) | H106: 1 | I106: С-23-69 | J106: 14/\В-165 | K106: 5 | L106: область Жетісу, Аксуский р-н, п. Энергетик, ул. Гарышкер, 65
B107: ТОО "ЖаркентГазСервис" | C107: 121040012248 | D107: Алматинская область, Карасайский район, Ельтайский с.о., с. Жармухамбет, уч. кв. 034, стр. № 13. Рахиов Галым Абилхасымович | E107: АГЗС | F107: Реализация и хранение сжиженного нефтяного газа | G107: Сосуд работающий под давлением. Сжиженный газ (пропан, бутан и смесь пропан, бутан) | H107: 1 | I107: С-23-37 | J107: 14/\В-186 | K107: 5 | L107: область Жетісу, Аксуский р-н, п. Энергетик, ул. Гарышкер, 65
B108: ТОО "ЖаркентГазСервис" | C108: 121040012248 | D108: Алматинская область, Карасайский район, Ельтайский с.о., с. Жармухамбет, уч. кв. 034, стр. № 13. Рахиов Галым Абилхасымович | E108: АГЗС | F108: Реализация и хранение сжиженного нефтяного газа | G108: Сосуд работающий под давлением. Сжиженный газ (пропан, бутан и смесь пропан, бутан) | H108: 1 | I108: С-23-63 | J108: 18/\В-121 | K108: 10 | L108: область Жетісу, Панфиловский р-н, п. Аккент
B109: ТОО "ЖаркентГазСервис" | C109: 121040012248 | D109: Алматинская область, Карасайский район, Ельтайский с.о., с. Жармухамбет, уч. кв. 034, стр. № 13. Рахиов Галым Абилхасымович | E109: АГЗС | F109: Реализация и хранение сжиженного нефтяного газа | G109: Сосуд работающий под давлением. Сжиженный газ (пропан, бутан и смесь пропан, бутан) | H109: 1 | I109: С-23-57 | J109: 15/\В-183 | K109: 4.7 | L109: область Жетісу, г. Талдыкорган, микрорайон Восточный, ул. Центральная, д.6
B110: ТОО "ЖаркентГазСервис" | C110: 121040012248 | D110: Алматинская область, Карасайский район, Ельтайский с.о., с. Жармухамбет, уч. кв. 034, стр. № 13. Рахиов Галым Абилхасымович | E110: АГЗС | F110: Реализация и хранение сжиженного нефтяного газа | G110: Сосуд работающий под давлением. Сжиженный газ (пропан, бутан и смесь пропан, бутан) | H110: 1 | I110: С-23-74 | J110: 172 | K110: 4.6 | L110: область Жетісу, г. Талдыкорган, микрорайон Восточный, ул. Центральная, д.6
B111: ТОО "ЖаркентГазСервис" | C111: 121040012248 | D111: Алматинская область, Карасайский район, Ельтайский с.о., с. Жармухамбет, уч. кв. 034, стр. № 13. Рахиов Галым Абилхасымович | E111: АГЗС | F111: Реализация и хранение сжиженного нефтяного газа | G111: Сосуд работающий под давлением. Сжиженный газ (пропан, бутан и смесь пропан, бутан) | H111: 1 | I111: С-23-39 | J111: 14/В-472 | K111: 5 | L111: область Жетісу, Ескельдинский р-н, п. Карбулак, ул. Алдабергенова, 63А
B112: ТОО "ЖаркентГазСервис" | C112: 121040012248 | D112: Алматинская область, Карасайский район, Ельтайский с.о., с. Жармухамбет, уч. кв. 034, стр. № 13. Рахиов Галым Абилхасымович | E112: АГЗС | F112: Реализация и хранение сжиженного нефтяного газа | G112: Сосуд работающий под давлением. Сжиженный газ (пропан, бутан и смесь пропан, бутан) | H112: 1 | I112: С-23-68 | J112: 14/В-473 | K112: 5 | L112: область Жетісу, Ескельдинский р-н, п. Карбулак, ул. Алдабергенова, 63А
B113: ТОО "ЖаркентГазСервис" | C113: 121040012248 | D113: Алматинская область, Карасайский район, Ельтайский с.о., с. Жармухамбет, уч. кв. 034, стр. № 13. Рахиов Галым Абилхасымович | E113: АГЗС | F113: Реализация и хранение сжиженного нефтяного газа | G113: Сосуд работающий под давлением. Сжиженный газ (пропан, бутан и смесь пропан, бутан) | H113: 1 | I113: С-23-38 | J113: 14/В-474 | K113: 4.7 | L113: область Жетісу, Кербулакский р-н, п. Сарыозек, ул. Манаса б/н
B114: ТОО "ЖаркентГазСервис" | C114: 121040012248 | D114: Алматинская область, Карасайский район, Ельтайский с.о., с. Жармухамбет, уч. кв. 034, стр. № 13. Рахиов Галым Абилхасымович | E114: АГЗС | F114: Реализация и хранение сжиженного нефтяного газа | G114: Сосуд работающий под давлением. Сжиженный газ (пропан, бутан и смесь пропан, бутан) | H114: 1 | I114: С-23-66 | J114: 14/В-658 | K114: 4.7 | L114: область Жетісу, Кербулакский р-н, п. Сарыозек, ул. Манаса б/н
B115: ТОО "ЖаркентГазСервис" | C115: 121040012248 | D115: Алматинская область, Карасайский район, Ельтайский с.о., с. Жармухамбет, уч. кв. 034, стр. № 13. Рахиов Галым Абилхасымович | E115: АГЗС | F115: Реализация и хранение сжиженного нефтяного газа | G115: Сосуд работающий под давлением. Сжиженный газ (пропан, бутан и смесь пропан, бутан) | H115: 1 | I115: С-23-46 | J115: 14/В-420 | K115: 5 | L115: область Жетісу, Панфиловский р-н, г. Жаркент, автодорга Жаркент-Коктал
B116: ТОО "ЖаркентГазСервис" | C116: 121040012248 | D116: Алматинская область, Карасайский район, Ельтайский с.о., с. Жармухамбет, уч. кв. 034, стр. № 13. Рахиов Галым Абилхасымович | E116: АГЗС | F116: Реализация и хранение сжиженного нефтяного газа | G116: Сосуд работающий под давлением. Сжиженный газ (пропан, бутан и смесь пропан, бутан) | H116: 1 | I116: С-23-41 | J116: 14/В-469 | K116: 4.7 | L116: область Жетісу, Панфиловский р-н, г. Жаркент, автодорга Жаркент-Коктал
B117: ТОО "ЖаркентГазСервис" | C117: 121040012248 | D117: Алматинская область, Карасайский район, Ельтайский с.о., с. Жармухамбет, уч. кв. 034, стр. № 13. Рахиов Галым Абилхасымович | E117: АГЗС | F117: Реализация и хранение сжиженного нефтяного газа | G117: Сосуд работающий под давлением. Сжиженный газ (пропан, бутан и смесь пропан, бутан) | H117: 1 | I117: С-23-70 | J117: 15/В-206 | K117: 5 | L117: область Жетісу, Панфиловский р-н, г. Жаркент, п..Малый Шаган, ул. Жибек Жолы
B118: ТОО "ЖаркентГазСервис" | C118: 121040012248 | D118: Алматинская область, Карасайский район, Ельтайский с.о., с. Жармухамбет, уч. кв. 034, стр. № 13. Рахиов Галым Абилхасымович | E118: АГЗС | F118: Реализация и хранение сжиженного нефтяного газа | G118: Сосуд работающий под давлением. Сжиженный газ (пропан, бутан и смесь пропан, бутан) | H118: 1 | I118: С-23-72 | J118: 14/В-703 | K118: 5 | L118: область Жетісу, Панфиловский р-н, г. Жаркент, п..Малый Шаган, ул. Жибек Жолы
B119: ТОО "ЖаркентГазСервис" | C119: 121040012248 | D119: Алматинская область, Карасайский район, Ельтайский с.о., с. Жармухамбет, уч. кв. 034, стр. № 13. Рахиов Галым Абилхасымович | E119: АГЗС | F119: Реализация и хранение сжиженного нефтяного газа | G119: Сосуд работающий под давлением. Сжиженный газ (пропан, бутан и смесь пропан, бутан) | H119: 1 | I119: С-23-52 | J119: 15/В-195 | K119: 5 | L119: область Жетісу, г. Талдыкорган, пр. Кадыргали Жалайыри, стр. 106А
B120: ТОО "ЖаркентГазСервис" | C120: 121040012248 | D120: Алматинская область, Карасайский район, Ельтайский с.о., с. Жармухамбет, уч. кв. 034, стр. № 13. Рахиов Галым Абилхасымович | E120: АГЗС | F120: Реализация и хранение сжиженного нефтяного газа | G120: Сосуд работающий под давлением. Сжиженный газ (пропан, бутан и смесь пропан, бутан) | H120: 1 | I120: С-23-51 | J120: 6 | K120: 5 | L120: область Жетісу, г. Талдыкорган, пр. Кадыргали Жалайыри, стр. 106А
B121: ТОО "ЖаркентГазСервис" | C121: 121040012248 | D121: Алматинская область, Карасайский район, Ельтайский с.о., с. Жармухамбет, уч. кв. 034, стр. № 13. Рахиов Галым Абилхасымович | E121: АГЗС | F121: Реализация и хранение сжиженного нефтяного газа | G121: Сосуд работающий под давлением. Сжиженный газ (пропан, бутан и смесь пропан, бутан) | H121: 1 | I121: С-23-73 | J121: 188114 | K121: 5 | L121: область Жетісу, Панфиловский р-н, г. Жаркент, ул. Головацкого, (уг.Тамынбаева), АЗС Айбек
B122: ТОО "ЖаркентГазСервис" | C122: 121040012248 | D122: Алматинская область, Карасайский район, Ельтайский с.о., с. Жармухамбет, уч. кв. 034, стр. № 13. Рахиов Галым Абилхасымович | E122: АГЗС | F122: Реализация и хранение сжиженного нефтяного газа | G122: Сосуд работающий под давлением. Сжиженный газ (пропан, бутан и смесь пропан, бутан) | H122: 1 | I122: С-23-48 | J122: 12 | K122: 5 | L122: область Жетісу, Панфиловский р-н, г. Жаркент, ул. Головацкого, (уг.Тамынбаева), АЗС Айбек
B123: ТОО "ЖаркентГазСервис" | C123: 121040012248 | D123: Алматинская область, Карасайский район, Ельтайский с.о., с. Жармухамбет, уч. кв. 034, стр. № 13. Рахиов Галым Абилхасымович | E123: АГЗС | F123: Реализация и хранение сжиженного нефтяного газа | G123: Сосуд работающий под давлением. Сжиженный газ (пропан, бутан и смесь пропан, бутан) | H123: 1 | I123: С-23-61 | J123: 10188122 | K123: 5 | L123: область Жетісу, Панфиловский р-н, с. Коктал, ул. Заречная, б/н
B124: ТОО "ЖаркентГазСервис" | C124: 121040012248 | D124: Алматинская область, Карасайский район, Ельтайский с.о., с. Жармухамбет, уч. кв. 034, стр. № 13. Рахиов Галым Абилхасымович | E124: АГЗС | F124: Реализация и хранение сжиженного нефтяного газа | G124: Сосуд работающий под давлением. Сжиженный газ (пропан, бутан и смесь пропан, бутан) | H124: 1 | I124: С-23-54 | J124: 19 | K124: 5 | L124: область Жетісу, Панфиловский р-н, с. Коктал, ул. Заречная, б/н
B125: ТОО "ЖаркентГазСервис" | C125: 121040012248 | D125: Алматинская область, Карасайский район, Ельтайский с.о., с. Жармухамбет, уч. кв. 034, стр. № 13. Рахиов Галым Абилхасымович | E125: АГЗС | F125: Реализация и хранение сжиженного нефтяного газа | G125: Сосуд работающий под давлением. Сжиженный газ (пропан, бутан и смесь пропан, бутан) | H125: 1 | I125: С-23-42 | J125: 430 | K125: 16 | L125: область Жетісу, Панфиловский р-н, с. Пенжим, ул. Ч. Уалиханов
B126: ТОО "ЖаркентГазСервис" | C126: 121040012248 | D126: Алматинская область, Карасайский район, Ельтайский с.о., с. Жармухамбет, уч. кв. 034, стр. № 13. Рахиов Галым Абилхасымович | E126: АГЗС | F126: Реализация и хранение сжиженного нефтяного газа | G126: Сосуд работающий под давлением. Сжиженный газ (пропан, бутан и смесь пропан, бутан) | H126: 1 | I126: С-23-60 | J126: 15/В-459 | K126: 5 | L126: область Жетісу, Панфиловский р-н, с. Пенжим, ул. Ч. Уалиханов
B127: ТОО "ЖаркентГазСервис" | C127: 121040012248 | D127: Алматинская область, Карасайский район, Ельтайский с.о., с. Жармухамбет, уч. кв. 034, стр. № 13. Рахиов Галым Абилхасымович | E127: АГЗС | F127: Реализация и хранение сжиженного нефтяного газа | G127: Сосуд работающий под давлением. Сжиженный газ (пропан, бутан и смесь пропан, бутан) | H127: 1 | I127: С-23-55 | J127: 15/В-632 | K127: 5 | L127: область Жетісу, Панфиловский р-н, г. Жаркент, развилка Енбекши-Лесновка
B128: ТОО "ЖаркентГазСервис" | C128: 121040012248 | D128: Алматинская область, Карасайский район, Ельтайский с.о., с. Жармухамбет, уч. кв. 034, стр. № 13. Рахиов Галым Абилхасымович | E128: АГЗС | F128: Реализация и хранение сжиженного нефтяного газа | G128: Сосуд работающий под давлением. Сжиженный газ (пропан, бутан и смесь пропан, бутан) | H128: 1 | I128: С-23-45 | J128: 21 | K128: 5 | L128: область Жетісу, Панфиловский р-н, г. Жаркент, развилка Енбекши-Лесновка
B129: ТОО "ЖаркентГазСервис" | C129: 121040012248 | D129: Алматинская область, Карасайский район, Ельтайский с.о., с. Жармухамбет, уч. кв. 034, стр. № 13. Рахиов Галым Абилхасымович | E129: АГЗС | F129: Реализация и хранение сжиженного нефтяного газа | G129: Сосуд работающий под давлением. Сжиженный газ (пропан, бутан и смесь пропан, бутан) | H129: 1 | I129: С-23-62 | J129: 268 | K129: 5 | L129: область Жетісу, Каратальский р-н, трасса Уштобе-Кальпе, стр. 1
B130: ТОО "ЖаркентГазСервис" | C130: 121040012248 | D130: Алматинская область, Карасайский район, Ельтайский с.о., с. Жармухамбет, уч. кв. 034, стр. № 13. Рахиов Галым Абилхасымович | E130: АГЗС | F130: Реализация и хранение сжиженного нефтяного газа | G130: Сосуд работающий под давлением. Сжиженный газ (пропан, бутан и смесь пропан, бутан) | H130: 1 | I130: С-23-53 | J130: 21 | K130: 5 | L130: область Жетісу, Каратальский р-н, трасса Уштобе-Кальпе, стр. 1
B131: ТОО "ЖаркентГазСервис" | C131: 121040012248 | D131: Алматинская область, Карасайский район, Ельтайский с.о., с. Жармухамбет, уч. кв. 034, стр. № 13. Рахиов Галым Абилхасымович | E131: АГЗС | F131: Реализация и хранение сжиженного нефтяного газа | G131: Сосуд работающий под давлением. Сжиженный газ (пропан, бутан и смесь пропан, бутан) | H131: 1 | I131: С-23-59 | J131: 1703 | K131: 4.6 | L131: область Жетісу, Панфиловский р-н, г. Жаркент, ул. Кобикова-уг.ул. Пашенок б/н
B132: ТОО "ЖаркентГазСервис" | C132: 121040012248 | D132: Алматинская область, Карасайский район, Ельтайский с.о., с. Жармухамбет, уч. кв. 034, стр. № 13. Рахиов Галым Абилхасымович | E132: АГЗС | F132: Реализация и хранение сжиженного нефтяного газа | G132: Сосуд работающий под давлением. Сжиженный газ (пропан, бутан и смесь пропан, бутан) | H132: 1 | I132: С-23-43 | J132: 16 | K132: 5 | L132: область Жетісу, Панфиловский р-н, г. Жаркент, ул. Кобикова-уг.ул. Пашенок б/н
...

Sheet Жамбыл облысы
A1: Газ толтыру станцияларының, газ толтыру пункттерінің, автогаз құю станцияларының және өнеркәсіптік тұтынушылардың - қысыммен жұмыс істейтін түтіктерді сұйытылған мұнай газын сақтау үшін пайдаланатын олардың иелерінің тізілімі Жамбыл облысы бойынша
A2: №п/п | B2: Заңды немесе жеке тұлғаның атауы | C2: БСН, ЖСН | D2: Заңды немесе жеке тұлғаның мекенжайы, басшының Т. А. Ә. (иесі) | E2: Объектінің атауы | F2: Өнеркәсіп саласы және қызмет түрі | G2: Қауіпті техникалық құрылғыны сәйкестендіру ерекшеліктері (қысыммен жұмыс істейтін ыдыс, жұмыс ортасы) | H2: Объектінің жалпы сипаттамасы (ыдыстардың саны және көлемі, зауытық нөмірі, аумақтық бөлімшедегі есептік нөмірі) | L2: Объектінің орналасқан жері ( нақты мекенжайы)
H3: ҚЖІЫ жалпы саны | I3: Есептік № | J3: зауыттық № | K3: ҚЖІЫ көлемі, м3
A4: 1 | B4: 2 | C4: 3 | D4: 4 | E4: 5 | F4: 6 | G4: 7 | H4: 8 | L4: 9
A5: 1 | B5: ТОО «Ниет ЛТД» | C5: 970640001071 | D5: Алматы қаласы, Алмалы ауданы, Бөгенбай батыр көшесі, көше, №303 үй Музыка Евгений Владимирович · | E5: АГЗС | F5: сұйытылған мұнай газын сату және сақтау | G5: қысыммен жұмыс істейтін ыдыс, сұйытылған мұнай газы | H5: 1 | I5: С-4700 | J5: 70 | K5: 4.2 | L5: Жамбылская область, Кордайский район, с. Беткайнар, вдоль автодороги Кордай-Шу 242 км
B6: ТОО «Ниет ЛТД» | C6: 970640001071 | D6: Алматы қаласы, Алмалы ауданы, Бөгенбай батыр көшесі, көше, №303 үй Музыка Евгений Владимирович · | E6: АГЗС | F6: сұйытылған мұнай газын сату және сақтау | G6: қысыммен жұмыс істейтін ыдыс, сұйытылған мұнай газы | H6: 1 | I6: С-4701 | J6: 1897 | K6: 4.2 | L6: Жамбылская область, Кордайский район, с. Беткайнар, вдоль автодороги Кордай-Шу 242 км
B7: ТОО «Ниет ЛТД» | C7: 970640001071 | D7: Алматы қаласы, Алмалы ауданы, Бөгенбай батыр көшесі, көше, №303 үй Музыка Евгений Владимирович · | E7: АГЗС | F7: сұйытылған мұнай газын сату және сақтау | G7: қысыммен жұмыс істейтін ыдыс, сұйытылған мұнай газы | H7: 1 | I7: С-4702 | J7: 427 | K7: 4.6 | L7: Жамбылская область, Мойынкумский район, с. Кенес, вдоль автодороги Шу-Бирлик
