Workbook
Name ТОО__RUS_GAZ: #REF!
Name ТОО__RUS_GAZ: #REF!
Name ТОО__RUS_GAZ: [5]рус!#REF!
Name ТОО__RUS_GAZ: #REF!
Name ТОО__RUS_GAZ: #REF!
Name ТОО__RUS_GAZ: #REF!
Name ТОО__RUS_GAZ: #REF!
Name ТОО__RUS_GAZ: #REF!
Name ТОО__RUS_GAZ: #REF!
Name ТОО__RUS_GAZ: #REF!
Name ТОО__RUS_GAZ: #REF!
Name ТОО__RUS_GAZ: #REF!
Name ТОО__RUS_GAZ: #REF!
Name ТОО__RUS_GAZ: #REF!

Sheet Ұлытау облысы
A1: №п/п | B1: Заңды, жеке тұлғаның атауы | C1: БСН, ЖСН | D1: Заңды, жеке тұлғаның мекенжайы, басшының Т. А. Ә. | E1: Объектінің атауы | F1: Өнеркәсіптік саласы және қызмет түрі | G1: Қауіпті техникалық құрылғының атауы (жұмыс ортасы) | H1: Объектінің жобалық қуаты (ыдыс саны, есептік нөмірі, зауытық нөмірі, сұйытылған мұнай газын сақтау көлемі) | L1: Объектінің орналасқан жері (мекенжайы)
H2: ҚЖЫ-ның жалпы саны, дана | I2: есептік № | J2: зауыттық № | K2: ҚЖЫ-ның көлемі (қысыммен жұмыс істейтін ыдыс), м3
A3: 1 | B3: 2 | C3: 3 | D3: 4 | E3: 5 | F3: 6 | G3: 7 | H3: 8 | I3: 9 | J3: 10 | K3: 11 | L3: 12
A4: 1 | B4: "ГазОйл" ЖШС | C4: 990840004263 | D4: Карағанды обл., Актау кенті, Молодежная көшесі, 5 құрылыс. директор Бидайбаев Т.Н. | E4: АГТС 15 | F4: сұйытылған газды сату және сақтау | G4: қысыммен жұмыс істейтін жабдық пропан | H4: 3 | I4: тіркеу №523 | J4: зауыттық №4324 | K4: 5м3 | L4: Ұлытау облысы, Жаңаарқа, Жаңаарқа ауданы, Атасу кенті
I5: тіркеу №533 | J5: зауыттық №4325 | K5: 5м3
I6: тіркеу №528 | J6: зауыттық №4326 | K6: 5м3
E7: АГТС 26 | H7: 3 | I7: тіркеу №518 | J7: зауыттық №3435 | K7: 5м3 | L7: Ұлытау облысы, Жезқазған қ., Жезқазған-Қарағанды тас жолы
I8: тіркеу №530 | J8: зауыттық №3434 | K8: 5м3
I9: тіркеу №526 | J9: зауыттық №3411 | K9: 5м3
E10: АГТС 27 | H10: 3 | I10: тіркеу №527 | J10: зауыттық №4147 | K10: 5м3 | L10: Ұлытау облысы, Қаражал қ.,Жәйрем кенті, Металлургтер 24 көшесі
I11: тіркеу №520 | J11: зауыттық №4158 | K11: 5м3
I12: тіркеу №524 | J12: зауыттық №4136 | K12: 5м3
E13: АГТС 30 | H13: 2 | I13: тіркеу №525 | J13: зауыттық №4112 | K13: 5м3 | L13: Ұлытау облысы,Сәтпаев қ., Улытауская көшесі, өндірістік аймақ
I14: тіркеу №522 | J14: зауыттық №4160 | K14: 5м3
E16: АГТС 42 | H16: 1 | I16: тіркеу №532 | J16: зауыттық №4098 | K16: 5м3 | L16: Ұлытау облысы ,Жезқазған қаласы, Алашахан көшесі 39а
E19: АГТС 49 | H19: 3 | I19: тіркеу №531 | J19: зауыттық №2988 | K19: 5м3 | L19: Ұлытау облысы, Қаражал қаласы, Алиев 47 көшесі
I20: тіркеу №519 | J20: зауыттық №2987 | K20: 5м3
I21: тіркеу №521 | J21: зауыттық №2985 | K21: 5м3
E22: АГТС 52 | H22: 1 | I22: тіркеу №529 | J22: зав.№4145 | K22: 54м3 | L22: Область Ұлытау, г.Жезказган, ул.Сары-Арка 1А
A25: 2 | B25: "С-Мунай" ЖШС | C25: 1040003264 | D25: Ұлытау облысы, Сәтпаев қаласы, Улытауская-114 көшесі, Директор Сеилов Сакен Салимжанович | E25: АГТС | F25: сұйытылған газды сату және сақтау | G25: қысыммен жұмыс істейтін жабдық пропан | H25: 2 | I25: тіркеу №543 | J25: зауыттық № 659009 | K25: 4,970 м3 | L25: Ұлытау облысы,Сәтпаев қаласы, Улытауская-114 көшесі
I26: тіркеу №544 | J26: зауыттық № 690575. | K26: 4,970 м3
E28: АГТС | H28: 1 | I28: тіркеу №556 | J28: зауыттық № 630 | K28: 10 м3 | L28: Ұлытау облысы, Сәтпаев қаласы, Ердена – 22Б көшесі
E29: ГТС | G29: қысыммен жұмыс істейтін жабдық пропан | H29: 7 | I29: рег№540 | J29: зауыттық № 835 | K29: 100 м3 | L29: Ұлытау облысы, Жезқазған, оңтүстік өндірістік аймақ
I30: рег№536 | J30: зауыттық № 842 | K30: 100 м3
I31: рег№535 | J31: зауыттық № 836 | K31: 100 м3
I32: рег№534 | J32: зауыттық № 837 | K32: 100 м3
I33: рег№538 | J33: зауыттық № 841 | K33: 100 м3
I34: рег№537 | J34: зауыттық № 838: | K34: 100 м3
I35: тіркеу №539 | J35: зауыттық № 855 | K35: 50 м3
E37: АГТС | G37: қысыммен жұмыс істейтін жабдық пропан | H37: 1 | I37: тіркеу №555/1 | J37: зауыттық № 24541 | K37: 10 м3 | L37: Ұлытау облысы, Жезқазған, Улытауская көшесі мен Жанасов көшесі қыйылысы
E38: АГТС | H38: 1 | I38: тіркеу №541 | J38: зауыттық № 30493 | K38: 6,7 м3 | L38: Ұлытау облысы, Жезқазған қаласы, Улытауская көшесі
E39: АГТС | H39: 1 | I39: тіркеу №542 | J39: зауыттық № 1310 | K39: 5,0 м3 | L39: Ұлытау облысы, Жезқазған қаласы, Мира – 26Б көшесі
E40: АГТС | H40: 1 | I40: тіркеу №552 | J40: зауыттық № 24540 | K40: 12 м3 | L40: Ұлытау облысы, Ұлытау ауданы
E41: АГТС | G41: қысыммен жұмыс істейтін жабдық пропан | H41: 1 | I41: тіркеу № 577 | J41: зауыттық № 01287 | K41: 20м3 | L41: Ұлытау облысы, Жезқазған қаласы, Улытауская көшесі
E42: АГТС | H42: 1 | I42: тіркеу № 578 | J42: зауыттық № 02852 | K42: 10м3 | L42: Ұлытау облысы, Жезқазған қаласы, Улытауская көшесі
E43: АГТС | H43: 1 | I43: тіркеу № 579 | J43: зауыттық № 03950 | K43: 10м3 | L43: Ұлытау облысы, Жезқазған қаласы, Улытауская көшесі
A44: 3 | B44: "Беркут-Петрол" ЖШС | C44: 170640033922 | D44: Ұлытау облысы, Жезқазған қаласы, Иманжана көшесі 13/4 үй, директор Жилкайдаров Олжас Беркутович | E44: АГТС | F44: Реализация и хранение сжиженного нефтяного газа | G44: сосуд работающий под давлением | H44: 1 | I44: тіркеу №561 | J44: зауыттық № 938. | K44: 12 м3 | L44: Ұлытау облысы, Жезқазған, Темирязева 12А көшесі
E45: АГТС | H45: 1 | I45: тіркеу №559 | J45: зауыттық № 856, | K45: 10м3 | L45: Ұлытау облысы, Жезқазған қаласы, Холмецкого 50А көшесі
E46: АГТС | H46: 1 | I46: тіркеу №557 | J46: зауыттық № 721400 | K46: 10м3 | L46: Ұлытау облысы, Жезқазған, 622 участкесі
E47: АГТС | H47: 2 | I47: тіркеу №560 | J47: зауыттық № 7864 | K47: 4,970м3 | L47: Ұлытау облысы,Сәтпаев қаласы, Улытауская 1/8 көшесі
I48: тіркеу №558 | J48: зауыттық №4250 | K48: 4,970м3
E49: ГТС | H49: 11 | I49: тіркеу № 456 | J49: зауыттық № 93-1733-1 | K49: ='[1] новая форма рус'!K49 -> 100 м3 | L49: Ұлытау облысы, Жезқазған қаласы, өндірістік аймақ, 312 учвсткесі
I50: тіркеу №458 | J50: зауыттық № 93-1733-4 | K50: ='[1] новая форма рус'!K50 -> 100 м3
I51: тіркеу №459 | J51: зауыттық № 93-1970-1 | K51: ='[1] новая форма рус'!K51 -> 5,0 м3
I52: тіркеу № 460 | J52: зауыттық № 93-1733-2 | K52: ='[1] новая форма рус'!K52 -> 100 м3
I53: тіркеу № 461 | J53: зауыттық № 93-1733-3 | K53: ='[1] новая форма рус'!K53 -> 100 м3
I54: тіркеу № 462 | J54: зауыттық № 93-1733-5 | K54: ='[1] новая форма рус'!K54 -> 100 м3
I55: тіркеу № 465 | J55: зауыттық № 93-1733-6 | K55: ='[1] новая форма рус'!K55 -> 100 м3
I56: тіркеу № 466 | J56: зауыттық № 93-1733-7 | K56: ='[1] новая форма рус'!K56 -> 100 м3
I57: тіркеу № 467 | J57: зауыттық № 93-1733-8 | K57: 100м3
I58: рег№568 | J58: зав. № 9194 | K58: 4,5 м³
I59: рег№569 | J59: зав. № 7765 | K59: 4,5 м³
B60: "Хантер Газ" ЖШС | C60: 41240008696 | D60: Қарағанды облысы, Қарағанды қаласы, Қазбек би атындағы аудан, Григорий Потанин көшесі , 127 құрылыс, директор Хафаров Руслан Хуатович | E60: АГТС | F60: Реализация и хранение сжиженного нефтяного газа | G60: сосуд работающий под давлением | H60: 1 | I60: тіркеу №564 | J60: зауыттық № 1204 | K60: 10м3 | L60: Ұлытау облысы, Жаңаарқа ауданы,Атасу кенті, Қызылорда- Павлодар тас жолы , 34 құрылыс
A62: 4
H64: 1 | I64: рег№621 | J64: зав. № 3 (заказ 405) | K64: 10 м³
H65: 51 | K65: 1748.58
A66: Барлығы | H66: 51 | K66: 1748.58

Sheet Павлодар облысы
A1: №п/п | B1: Заңды, жеке тұлғаның атауы | C1: БСН, ЖСН | D1: Заңды, жеке тұлғаның мекенжайы, басшының Т. А. Ә. | E1: Объектінің атауы | F1: Өнеркәсіптік саласы және қызмет түрі | G1: Қауіпті техникалық құрылғының атауы (жұмыс ортасы) | H1: Объектінің жобалық қуаты (ыдыс саны, есептік нөмірі, зауытық нөмірі, сұйытылған мұнай газын сақтау көлемі) | L1: Объектінің орналасқан жері (мекенжайы)
H2: ҚЖЫ-ның жалпы саны, дана | I2: есептік № | J2: зауыттық № | K2: ҚЖЫ-ның көлемі (қысыммен жұмыс істейтін ыдыс), м3
A3: 1 | B3: 2 | C3: 3 | D3: 4 | E3: 5 | F3: 6 | G3: 7 | H3: 8 | I3: 9 | J3: 10 | K3: 11 | L3: 12
A4: 1 | B4: "ГазИндустрия" жауапкершілігі шектеулі серіктестігі | C4: 80340006310 | D4: 140000, Қазақстан Республикасы, Павлодар облысы, Павлодар қ., , Химкомбинатовская к.. құрылыс 1/10. басшы- Килькеева Рената Рафаэльевна | E4: ГТС | F4: Сұйытылған мұнай газын сақтау және өткізу | G4: қысыммен жұмыс істейтін ыдыс, сұйытылған мұнай газ | H4: 1 | I4: 1503 | J4: 24515 | K4: 200 | L4: Павлодар облысы, Павлодар қ., , Химкомбинатовская к.. құрылыс 1/10.
B5: "ГазИндустрия" жауапкершілігі шектеулі серіктестігі | E5: ГТС | F5: Сұйытылған мұнай газын сақтау және өткізу | G5: қысыммен жұмыс істейтін ыдыс, сұйытылған мұнай газ | H5: 1 | I5: 1504 | J5: 10900 | K5: 200 | L5: Павлодар облысы, Павлодар қ., , Химкомбинатовская к.. құрылыс 1/10.
B6: "ГазИндустрия" жауапкершілігі шектеулі серіктестігі | E6: ГТС | F6: Сұйытылған мұнай газын сақтау және өткізу | G6: қысыммен жұмыс істейтін ыдыс, сұйытылған мұнай газ | H6: 1 | I6: 1496 | J6: 24425 | K6: 200 | L6: Павлодар облысы, Павлодар қ., , Химкомбинатовская к.. құрылыс 1/10.
B7: "ГазИндустрия" жауапкершілігі шектеулі серіктестігі | E7: ГТС | F7: Сұйытылған мұнай газын сақтау және өткізу | G7: қысыммен жұмыс істейтін ыдыс, сұйытылған мұнай газ | H7: 1 | I7: 1505 | J7: 10996 | K7: 200 | L7: Павлодар облысы, Павлодар қ., , Химкомбинатовская к.. құрылыс 1/10.
B8: "ГазИндустрия" жауапкершілігі шектеулі серіктестігі | E8: ГТС | F8: Сұйытылған мұнай газын сақтау және өткізу | G8: қысыммен жұмыс істейтін ыдыс, сұйытылған мұнай газ | H8: 1 | I8: 1499 | J8: 10908 | K8: 200 | L8: Павлодар облысы, Павлодар қ., , Химкомбинатовская к.. құрылыс 1/10.
B9: "ГазИндустрия" жауапкершілігі шектеулі серіктестігі | E9: ГТС | F9: Сұйытылған мұнай газын сақтау және өткізу | G9: қысыммен жұмыс істейтін ыдыс, сұйытылған мұнай газ | H9: 1 | I9: 1497 | J9: 10928 | K9: 200 | L9: Павлодар облысы, Павлодар қ., , Химкомбинатовская к.. құрылыс 1/10.
B10: "ГазИндустрия" жауапкершілігі шектеулі серіктестігі | E10: ГТС | F10: Сұйытылған мұнай газын сақтау және өткізу | G10: қысыммен жұмыс істейтін ыдыс, сұйытылған мұнай газ | H10: 1 | I10: 1500 | J10: 10970 | K10: 200 | L10: Павлодар облысы, Павлодар қ., , Химкомбинатовская к.. құрылыс 1/10.
B11: "ГазИндустрия" жауапкершілігі шектеулі серіктестігі | E11: ГТС | F11: Сұйытылған мұнай газын сақтау және өткізу | G11: қысыммен жұмыс істейтін ыдыс, сұйытылған мұнай газ | H11: 1 | I11: 1498 | J11: 10997 | K11: 200 | L11: Павлодар облысы, Павлодар қ., , Химкомбинатовская к.. құрылыс 1/10.
B12: "ГазИндустрия" жауапкершілігі шектеулі серіктестігі | E12: ГТС | F12: Сұйытылған мұнай газын сақтау және өткізу | G12: қысыммен жұмыс істейтін ыдыс, сұйытылған мұнай газ | H12: 1 | I12: 1502 | J12: 10998 | K12: 200 | L12: Павлодар облысы, Павлодар қ., , Химкомбинатовская к.. құрылыс 1/10.
B13: "ГазИндустрия" жауапкершілігі шектеулі серіктестігі | E13: ГТС | F13: Сұйытылған мұнай газын сақтау және өткізу | G13: қысыммен жұмыс істейтін ыдыс, сұйытылған мұнай газ | H13: 1 | I13: 1478 | J13: 10901 | K13: 200 | L13: Павлодар облысы, Павлодар қ., , Химкомбинатовская к.. құрылыс 1/10.
B14: "ГазИндустрия" жауапкершілігі шектеулі серіктестігі | E14: ГТС | F14: Сұйытылған мұнай газын сақтау және өткізу | G14: қысыммен жұмыс істейтін ыдыс, сұйытылған мұнай газ | H14: 1 | I14: 1480 | J14: 10967 | K14: 200 | L14: Павлодар облысы, Павлодар қ., , Химкомбинатовская к.. құрылыс 1/10.
B15: "ГазИндустрия" жауапкершілігі шектеулі серіктестігі | E15: ГТС | F15: Сұйытылған мұнай газын сақтау және өткізу | G15: қысыммен жұмыс істейтін ыдыс, сұйытылған мұнай газ | H15: 1 | I15: 1481 | J15: 10982 | K15: 200 | L15: Павлодар облысы, Павлодар қ., , Химкомбинатовская к.. құрылыс 1/10.
B16: "ГазИндустрия" жауапкершілігі шектеулі серіктестігі | E16: ГТС | F16: Сұйытылған мұнай газын сақтау және өткізу | G16: қысыммен жұмыс істейтін ыдыс, сұйытылған мұнай газ | H16: 1 | I16: 1482 | J16: 10902 | K16: 200 | L16: Павлодар облысы, Павлодар қ., , Химкомбинатовская к.. құрылыс 1/10.
... B34: "ГазИндустрия" жауапкершілігі шектеулі серіктестігі | E34: ГТС | F34: Сұйытылған мұнай газын сақтау және өткізу | G34: қысыммен жұмыс істейтін ыдыс, сұйытылған мұнай газ | H34: 1 | I34: 1494 | J34: 2707 | K34: 0.8 | L34: Павлодар облысы, Павлодар қ., , Химкомбинатовская к.. құрылыс 1/10.
B35: БАРЛЫҒЫ | E35: ГТС(1) | H35: 31 | K35: 5805.8
B36: "ГазИндустрия" жауапкершілігі шектеулі серіктестігі | E36: АГҚС-1б. | H36: 1 | I36: 1495 | J36: 2770 | K36: 5 | L36: Павлодар облысы, Павлодар қ., , Химкомбинатовская к.. құрылыс 1/10.
B37: "ГазИндустрия" жауапкершілігі шектеулі серіктестігі | E37: ГТП- 1б. | H37: 1 | I37: 1479 | J37: 24532 | K37: 200 | L37: Павлодар облысы, Павлодар қ., , Химкомбинатовская к.. құрылыс 1/10.
B38: ЖАЛПЫ | E38: ГТС (1), АГҚС(1), ГТП (1) | H38: 33 | K38: 6010.8
A39: 2 | B39: "Интерснаб Gas" жауапкершілігі шектеулі серіктестігі | C39: 100140010952 | D39: 140000, Қазақстан Республикасы, Павлодар облысы, Павлодар қ., Каирбаев к. 94, НП 6 басшы - Комаров Владимир Александрович | E39: ГТС | F39: Сұйытылған мұнай газын сақтау және өткізу | G39: қысыммен жұмыс істейтін ыдыс, сұйытылған мұнай газ | H39: 1 | I39: 66 | J39: 35 | K39: 100 | L39: Павлодар облысы, Павлодар қ, Космонавтов к. 133
B40: Интерснаб Gas жауапкершілігі шектеулі серіктестігі | E40: ГТС | F40: Сұйытылған мұнай газын сақтау және өткізу | G40: қысыммен жұмыс істейтін ыдыс, сұйытылған мұнай газ | H40: 1 | I40: 68 | J40: 10017 | K40: 100 | L40: Павлодар облысы, Павлодар қ, Космонавтов к. 133
B41: Интерснаб Gas жауапкершілігі шектеулі серіктестігі | E41: ГТС | F41: Сұйытылған мұнай газын сақтау және өткізу | G41: қысыммен жұмыс істейтін ыдыс, сұйытылған мұнай газ | H41: 1 | I41: 69 | J41: 317 | K41: 100 | L41: Павлодар облысы, Павлодар қ, Космонавтов к. 133
B42: Интерснаб Gas жауапкершілігі шектеулі серіктестігі | E42: ГТС | F42: Сұйытылған мұнай газын сақтау және өткізу | G42: қысыммен жұмыс істейтін ыдыс, сұйытылған мұнай газ | H42: 1 | I42: 70 | J42: 10026 | K42: 100 | L42: Павлодар облысы, Павлодар қ, Космонавтов к. 133
B43: Интерснаб Gas жауапкершілігі шектеулі серіктестігі | E43: ГТС | F43: Сұйытылған мұнай газын сақтау және өткізу | G43: қысыммен жұмыс істейтін ыдыс, сұйытылған мұнай газ | H43: 1 | I43: 71 | J43: 56 | K43: 100 | L43: Павлодар облысы, Павлодар қ, Космонавтов к. 133
B44: Интерснаб Gas жауапкершілігі шектеулі серіктестігі | E44: ГТС | F44: Сұйытылған мұнай газын сақтау және өткізу | G44: қысыммен жұмыс істейтін ыдыс, сұйытылған мұнай газ | H44: 1 | I44: 72 | J44: 49 | K44: 100 | L44: Павлодар облысы, Павлодар қ, Космонавтов к. 133
B45: Интерснаб Gas жауапкершілігі шектеулі серіктестігі | E45: ГТС | F45: Сұйытылған мұнай газын сақтау және өткізу | G45: қысыммен жұмыс істейтін ыдыс, сұйытылған мұнай газ | H45: 1 | I45: 73 | J45: 10016 | K45: 100 | L45: Павлодар облысы, Павлодар қ, Космонавтов к. 133
B46: Интерснаб Gas жауапкершілігі шектеулі серіктестігі | E46: ГТС | F46: Сұйытылған мұнай газын сақтау және өткізу | G46: қысыммен жұмыс істейтін ыдыс, сұйытылған мұнай газ | H46: 1 | I46: 74 | J46: 10102 | K46: 100 | L46: Павлодар облысы, Павлодар қ, Космонавтов к. 133
B47: Интерснаб Gas жауапкершілігі шектеулі серіктестігі | E47: ГТС | F47: Сұйытылған мұнай газын сақтау және өткізу | G47: қысыммен жұмыс істейтін ыдыс, сұйытылған мұнай газ | H47: 1 | I47: 75 | J47: 10018 | K47: 100 | L47: Павлодар облысы, Павлодар қ, Космонавтов к. 133
B48: Интерснаб Gas жауапкершілігі шектеулі серіктестігі | E48: ГТС | F48: Сұйытылған мұнай газын сақтау және өткізу | G48: қысыммен жұмыс істейтін ыдыс, сұйытылған мұнай газ | H48: 1 | I48: 76 | J48: 9986 | K48: 100 | L48: Павлодар облысы, Павлодар қ, Космонавтов к. 133
B49: Интерснаб Gas жауапкершілігі шектеулі серіктестігі | E49: ГТС | F49: Сұйытылған мұнай газын сақтау және өткізу | G49: қысыммен жұмыс істейтін ыдыс, сұйытылған мұнай газ | H49: 1 | I49: 77 | J49: 34 | K49: 100 | L49: Павлодар облысы, Павлодар қ, Космонавтов к. 133
B50: Интерснаб Gas жауапкершілігі шектеулі серіктестігі | E50: ГТС | F50: Сұйытылған мұнай газын сақтау және өткізу | G50: қысыммен жұмыс істейтін ыдыс, сұйытылған мұнай газ | H50: 1 | I50: 78 | J50: 10028 | K50: 100 | L50: Павлодар облысы, Павлодар қ, Космонавтов к. 133
B51: Интерснаб Gas жауапкершілігі шектеулі серіктестігі | E51: ГТС | F51: Сұйытылған мұнай газын сақтау және өткізу | G51: қысыммен жұмыс істейтін ыдыс, сұйытылған мұнай газ | H51: 1 | I51: 79 | J51: 9985 | K51: 100 | L51: Павлодар облысы, Павлодар қ, Космонавтов к. 133
... B55: Интерснаб Gas жауапкершілігі шектеулі серіктестігі | E55: ГТС | F55: Сұйытылған мұнай газын сақтау және өткізу | G55: қысыммен жұмыс істейтін ыдыс, сұйытылған мұнай газ | H55: 1 | I55: 2442 | J55: 2170 | K55: 48.81 | L55: Павлодар облысы, Павлодар қ, Космонавтов к. 133
B56: Интерснаб Gas жауапкершілігі шектеулі серіктестігі | E56: ГТС | F56: Сұйытылған мұнай газын сақтау және өткізу | G56: қысыммен жұмыс істейтін ыдыс, сұйытылған мұнай газ | H56: 1 | I56: 2548 | J56: 15734 | K56: 6 | L56: Павлодар облысы, Павлодар қ, Космонавтов к. 133
B57: Интерснаб Gas жауапкершілігі шектеулі серіктестігі | E57: ГТС | F57: Сұйытылған мұнай газын сақтау және өткізу | G57: қысыммен жұмыс істейтін ыдыс, сұйытылған мұнай газ | H57: 1 | I57: 2549 | J57: 16937 | K57: 6 | L57: Павлодар облысы, Павлодар қ, Космонавтов к. 133
B58: ЖАЛПЫ | E58: ГТС-1б | H58: 19 | K58: 1565.75
B59: Интерснаб Gas жауапкершілігі шектеулі серіктестігі | E59: ГТП | F59: Сұйытылған мұнай газын сақтау және өткізу | G59: қысыммен жұмыс істейтін ыдыс, сұйытылған мұнай газ | H59: 1 | I59: 2551 | J59: 13879 | K59: 10 | L59: Екібастұз қ., Кунаев к. 201/2
B60: Интерснаб Gas жауапкершілігі шектеулі серіктестігі | E60: ГТП | F60: Сұйытылған мұнай газын сақтау және өткізу | G60: қысыммен жұмыс істейтін ыдыс, сұйытылған мұнай газ | H60: 1 | I60: 2550 | J60: 13880 | K60: 10 | L60: Ақсу қ.,Вокзальная к. 11
B61: Интерснаб Gas жауапкершілігі шектеулі серіктестігі | E61: ГТП | F61: Сұйытылған мұнай газын сақтау және өткізу | G61: қысыммен жұмыс істейтін ыдыс, сұйытылған мұнай газ | H61: 1 | I61: 2552 | J61: 15348 | K61: 10 | L61: Ақсу қ.,Вокзальная к. 11
B62: ЖАЛПЫ | E62: ГТП-2б | H62: 3 | K62: 30
B63: Интерснаб Gas жауапкершілігі шектеулі серіктестігі | E63: АГҚС | F63: Сұйытылған мұнай газын сақтау және өткізу | G63: қысыммен жұмыс істейтін ыдыс, сұйытылған мұнай газ | H63: 1 | I63: 1537 | J63: 811 | K63: 17.5 | L63: Железенка с, трасса Омск-Павлодар стр.11
B64: Интерснаб Gas жауапкершілігі шектеулі серіктестігі | E64: АГҚС | F64: Сұйытылған мұнай газын сақтау және өткізу | G64: қысыммен жұмыс істейтін ыдыс, сұйытылған мұнай газ | H64: 1 | I64: 2555 | J64: 16272 | K64: 6 | L64: Аксу қ., Астана к. 3/2
B65: Интерснаб Gas жауапкершілігі шектеулі серіктестігі | E65: АГҚС | F65: Сұйытылған мұнай газын сақтау және өткізу | G65: қысыммен жұмыс істейтін ыдыс, сұйытылған мұнай газ | H65: 1 | I65: 2558 | J65: 01/0726 | K65: 10 | L65: Аккулы с., Идрисханова 51
B66: Интерснаб Gas жауапкершілігі шектеулі серіктестігі | E66: АГҚС | F66: Сұйытылған мұнай газын сақтау және өткізу | G66: қысыммен жұмыс істейтін ыдыс, сұйытылған мұнай газ | H66: 1 | I66: 2300 | J66: 1753 | K66: 5 | L66: Ақтоғай с., пер. Павла Дубового 18
B67: Интерснаб Gas жауапкершілігі шектеулі серіктестігі | E67: АГҚС | F67: Сұйытылған мұнай газын сақтау және өткізу | G67: қысыммен жұмыс істейтін ыдыс, сұйытылған мұнай газ | H67: 1 | I67: 2298 | J67: 1754 | K67: 5 | L67: Ақтоғай с., пер. Павла Дубового 18
B68: Интерснаб Gas жауапкершілігі шектеулі серіктестігі | E68: АГҚС | F68: Сұйытылған мұнай газын сақтау және өткізу | G68: қысыммен жұмыс істейтін ыдыс, сұйытылған мұнай газ | H68: 1 | I68: 2299 | J68: 1793 | K68: 5 | L68: Иртышск с., Муткенов к. 30
B69: Интерснаб Gas жауапкершілігі шектеулі серіктестігі | E69: АГҚС | F69: Сұйытылған мұнай газын сақтау және өткізу | G69: қысыммен жұмыс істейтін ыдыс, сұйытылған мұнай газ | H69: 1 | I69: 2296 | J69: 1794 | K69: 5 | L69: Иртышск с., Муткенов к. 30
B70: Интерснаб Gas жауапкершілігі шектеулі серіктестігі | E70: АГҚС | F70: Сұйытылған мұнай газын сақтау және өткізу | G70: қысыммен жұмыс істейтін ыдыс, сұйытылған мұнай газ | H70: 1 | I70: 2297 | J70: 1723 | K70: 5 | L70: Иртышск с., Муткенов к. 30
B71: Интерснаб Gas жауапкершілігі шектеулі серіктестігі | E71: АГҚС | F71: Сұйытылған мұнай газын сақтау және өткізу | G71: қысыммен жұмыс істейтін ыдыс, сұйытылған мұнай газ | H71: 1 | I71: 2443 | J71: 13996 | K71: 8 | L71: Екібастұз қ., проспект Кунаева 201/2
B72: Интерснаб Gas жауапкершілігі шектеулі серіктестігі | E72: АГҚС | F72: Сұйытылған мұнай газын сақтау және өткізу | G72: қысыммен жұмыс істейтін ыдыс, сұйытылған мұнай газ | H72: 1 | I72: 2553 | J72: 6289 | K72: 8 | L72: Успенка с.,Мир к. 24
B73: Интерснаб Gas жауапкершілігі шектеулі серіктестігі | E73: АГҚС | F73: Сұйытылған мұнай газын сақтау және өткізу | G73: қысыммен жұмыс істейтін ыдыс, сұйытылған мұнай газ | H73: 1 | I73: 2554 | J73: 4091 | K73: 8 | L73: Успенка с.,Наукенов к. 62
B74: Интерснаб Gas жауапкершілігі шектеулі серіктестігі | E74: АГҚС | F74: Сұйытылған мұнай газын сақтау және өткізу | G74: қысыммен жұмыс істейтін ыдыс, сұйытылған мұнай газ | H74: 1 | I74: 2556 | J74: 4292 | K74: 8 | L74: п.Тереңколь, сол.-батыс.въезд, трасса Павлодар
... B81: Интерснаб Gas жауапкершілігі шектеулі серіктестігі | E81: АГҚС | F81: Сұйытылған мұнай газын сақтау және өткізу | G81: қысыммен жұмыс істейтін ыдыс, сұйытылған мұнай газ | H81: 1 | I81: 2738 | J81: 2116 | K81: 20 | L81: Павлодар облысы, п.Шидерты, учетный квартал 153,стр.32
B82: ЖАЛПЫ | E82: АГТС(15 б) | H82: 19 | K82: 160.5
B83: БАРЛЫҒЫ | E83: ГТС-1б, ГТП-2б,АГҚС - 15 б | H83: 41 | K83: 1756.25
A84: 3 | B84: "Blue-Star.PV"жауапкершілігі шектеулігі серіктестігі | C84: 151140008586 | D84: ,140000, Қазақстан Республикасы, Павлодар облысы, Павлодар қ., Өнеркәсіптік аймақ Орталық, құрылым 523, басшы - Садыков Руслан Канатович | E84: ГТС | F84: Сұйытылған мұнай газын сақтау және өткізу | G84: қысыммен жұмыс істейтін ыдыс, сұйытылған мұнай газ | H84: 1 | I84: 1715 | J84: 560552 | K84: 150 | L84: Павлодар облысы, Павлодар қ. Өнеркәсіптік аймақ Орталық, құрылым 523
B85: "Blue-Star.PV"жауапкершілігі шектеулігі серіктестігі | E85: ГТС | F85: Сұйытылған мұнай газын сақтау және өткізу | G85: қысыммен жұмыс істейтін ыдыс, сұйытылған мұнай газ | H85: 1 | I85: 1716 | J85: 581277 | K85: 100 | L85: Павлодар облысы, Павлодар қ. Өнеркәсіптік аймақ Орталық, құрылым 523
B86: "Blue-Star.PV"жауапкершілігі шектеулігі серіктестігі | E86: ГТС | F86: Сұйытылған мұнай газын сақтау және өткізу | G86: қысыммен жұмыс істейтін ыдыс, сұйытылған мұнай газ | H86: 1 | I86: 1712 | J86: 804321 | K86: 100 | L86: Павлодар облысы, Павлодар қ. Өнеркәсіптік аймақ Орталық, құрылым 523
B87: "Blue-Star.PV"жауапкершілігі шектеулігі серіктестігі | E87: ГТС | F87: Сұйытылған мұнай газын сақтау және өткізу | G87: қысыммен жұмыс істейтін ыдыс, сұйытылған мұнай газ | H87: 1 | I87: 1710 | J87: 804370 | K87: 100 | L87: Павлодар облысы, Павлодар қ. Өнеркәсіптік аймақ Орталық, құрылым 523
B88: "Blue-Star.PV"жауапкершілігі шектеулігі серіктестігі | E88: ГТС | F88: Сұйытылған мұнай газын сақтау және өткізу | G88: қысыммен жұмыс істейтін ыдыс, сұйытылған мұнай газ | H88: 1 | I88: 2010 | J88: 3213 | K88: 100 | L88: Павлодар облысы, Павлодар қ. Өнеркәсіптік аймақ Орталық, құрылым 523
B89: "Blue-Star.PV"жауапкершілігі шектеулігі серіктестігі | E89: ГТС | F89: Сұйытылған мұнай газын сақтау және өткізу | G89: қысыммен жұмыс істейтін ыдыс, сұйытылған мұнай газ | H89: 1 | I89: 1996 | J89: 3222 | K89: 100 | L89: Павлодар облысы, Павлодар қ. Өнеркәсіптік аймақ Орталық, құрылым 523
B90: "Blue-Star.PV"жауапкершілігі шектеулігі серіктестігі | E90: ГТС | F90: Сұйытылған мұнай газын сақтау және өткізу | G90: қысыммен жұмыс істейтін ыдыс, сұйытылған мұнай газ | H90: 1 | I90: 2009 | J90: 3461 | K90: 100 | L90: Павлодар облысы, Павлодар қ. Өнеркәсіптік аймақ Орталық, құрылым 523
B91: "Blue-Star.PV"жауапкершілігі шектеулігі серіктестігі | E91: ГТС | F91: Сұйытылған мұнай газын сақтау және өткізу | G91: қысыммен жұмыс істейтін ыдыс, сұйытылған мұнай газ | H91: 1 | I91: 1998 | J91: 3274 | K91: 100 | L91: Павлодар облысы, Павлодар қ. Өнеркәсіптік аймақ Орталық, құрылым 523
B92: "Blue-Star.PV"жауапкершілігі шектеулігі серіктестігі | E92: ГТС | F92: Сұйытылған мұнай газын сақтау және өткізу | G92: қысыммен жұмыс істейтін ыдыс, сұйытылған мұнай газ | H92: 1 | I92: 2006 | J92: 3488 | K92: 100 | L92: Павлодар облысы, Павлодар қ. Өнеркәсіптік аймақ Орталық, құрылым 523
B93: "Blue-Star.PV"жауапкершілігі шектеулігі серіктестігі | E93: ГТС | F93: Сұйытылған мұнай газын сақтау және өткізу | G93: қысыммен жұмыс істейтін ыдыс, сұйытылған мұнай газ | H93: 1 | I93: 2004 | J93: 3219 | K93: 100 | L93: Павлодар облысы, Павлодар қ. Өнеркәсіптік аймақ Орталық, құрылым 523
B94: "Blue-Star.PV"жауапкершілігі шектеулігі серіктестігі | E94: ГТС | F94: Сұйытылған мұнай газын сақтау және өткізу | G94: қысыммен жұмыс істейтін ыдыс, сұйытылған мұнай газ | H94: 1 | I94: 2003 | J94: 3367 | K94: 100 | L94: Павлодар облысы, Павлодар қ. Өнеркәсіптік аймақ Орталық, құрылым 523
B95: "Blue-Star.PV"жауапкершілігі шектеулігі серіктестігі | E95: ГТС | F95: Сұйытылған мұнай газын сақтау және өткізу | G95: қысыммен жұмыс істейтін ыдыс, сұйытылған мұнай газ | H95: 1 | I95: 2008 | J95: 3317 | K95: 100 | L95: Павлодар облысы, Павлодар қ. Өнеркәсіптік аймақ Орталық, құрылым 523 | N95: =SUM(K84:K100) -> 1750
B96: "Blue-Star.PV"жауапкершілігі шектеулігі серіктестігі | E96: ГТС | F96: Сұйытылған мұнай газын сақтау және өткізу | G96: қысыммен жұмыс істейтін ыдыс, сұйытылған мұнай газ | H96: 1 | I96: 2001 | J96: 3324 | K96: 100 | L96: Павлодар облысы, Павлодар қ. Өнеркәсіптік аймақ Орталық, құрылым 523
B97: "Blue-Star.PV"жауапкершілігі шектеулігі серіктестігі | E97: ГТС | F97: Сұйытылған мұнай газын сақтау және өткізу | G97: қысыммен жұмыс істейтін ыдыс, сұйытылған мұнай газ | H97: 1 | I97: 2011 | J97: 3208 | K97: 100 | L97: Павлодар облысы, Павлодар қ. Өнеркәсіптік аймақ Орталық, құрылым 523
B98: "Blue-Star.PV"жауапкершілігі шектеулігі серіктестігі | E98: ГТС | F98: Сұйытылған мұнай газын сақтау және өткізу | G98: қысыммен жұмыс істейтін ыдыс, сұйытылған мұнай газ | H98: 1 | I98: 1717 | J98: 581364 | K98: 100 | L98: Павлодар облысы, Павлодар қ. Өнеркәсіптік аймақ Орталық, құрылым 523
B99: "Blue-Star.PV"жауапкершілігі шектеулігі серіктестігі | E99: ГТС | F99: Сұйытылған мұнай газын сақтау және өткізу | G99: қысыммен жұмыс істейтін ыдыс, сұйытылған мұнай газ | H99: 1 | I99: 1711 | J99: 824824 | K99: 100 | L99: Павлодар облысы, Павлодар қ. Өнеркәсіптік аймақ Орталық, құрылым 523
B100: "Blue-Star.PV"жауапкершілігі шектеулігі серіктестігі | E100: ГТС | F100: Сұйытылған мұнай газын сақтау және өткізу | G100: қысыммен жұмыс істейтін ыдыс, сұйытылған мұнай газ | H100: 1 | I100: 1997 | J100: 3271 | K100: 100 | L100: Павлодар облысы, Павлодар қ. Өнеркәсіптік аймақ Орталық, құрылым 523
B101: БАРЛЫҒЫ | E101: ГТС-1б | H101: 17 | K101: 1750
B102: "Blue-Star.PV"жауапкершілігі шектеулігі серіктестігі | E102: АГҚС | F102: Сұйытылған мұнай газын сақтау және өткізу | G102: қысыммен жұмыс істейтін ыдыс, сұйытылған мұнай газ | H102: 1 | I102: 1987 | J102: 01151 | K102: 5 | L102: Павлодар облысы, Павлодар қ. Торговая 5Б к.
B103: "Blue-Star.PV"жауапкершілігі шектеулігі серіктестігі | E103: АГҚС | F103: Сұйытылған мұнай газын сақтау және өткізу | G103: қысыммен жұмыс істейтін ыдыс, сұйытылған мұнай газ | H103: 1 | I103: 1753 | J103: 4 | K103: 5 | L103: Павлодар облысы, Павлодар қ. Кривенко 109а к.
B104: "Blue-Star.PV"жауапкершілігі шектеулігі серіктестігі | E104: АГҚС | F104: Сұйытылған мұнай газын сақтау және өткізу | G104: қысыммен жұмыс істейтін ыдыс, сұйытылған мұнай газ | H104: 1 | I104: 2131 | J104: 1 | K104: 10 | L104: Павлодарская облысы, Екібастұз қ. Астана к. 10
B105: "Blue-Star.PV"жауапкершілігі шектеулігі серіктестігі | E105: АГҚС | F105: Сұйытылған мұнай газын сақтау және өткізу | G105: қысыммен жұмыс істейтін ыдыс, сұйытылған мұнай газ | H105: 1 | I105: 1986 | J105: 01150 | K105: 5 | L105: Павлодарская облысы, Екібастұз қ. Астана к. 10
B106: "Blue-Star.PV"жауапкершілігі шектеулігі серіктестігі | E106: АГҚС | F106: Сұйытылған мұнай газын сақтау және өткізу | G106: қысыммен жұмыс істейтін ыдыс, сұйытылған мұнай газ | H106: 1 | I106: 1723 | J106: 8363 | K106: 5 | L106: Павлодар облысы, Баянаул ауданы, Баянауыл п.
B107: "Blue-Star.PV"жауапкершілігі шектеулігі серіктестігі | E107: АГҚС | F107: Сұйытылған мұнай газын сақтау және өткізу | G107: қысыммен жұмыс істейтін ыдыс, сұйытылған мұнай газ | H107: 1 | I107: 2506 | J107: б/н | K107: 5 | L107: Павлодар облысы, Баянаул ауданы, Баянауыл п.
B108: "Blue-Star.PV"жауапкершілігі шектеулігі серіктестігі | E108: АГҚС | F108: Сұйытылған мұнай газын сақтау және өткізу | G108: қысыммен жұмыс істейтін ыдыс, сұйытылған мұнай газ | H108: 1 | I108: 2509 | J108: б/н | K108: 5 | L108: Павлодар облысы, Баянаул ауданы, Баянауыл п.
B109: "Blue-Star.PV"жауапкершілігі шектеулігі серіктестігі | E109: АГҚС | F109: Сұйытылған мұнай газын сақтау және өткізу | G109: қысыммен жұмыс істейтін ыдыс, сұйытылған мұнай газ | H109: 1 | I109: 2508 | J109: б/н | K109: 5 | L109: Павлодар облысы, Баянаул ауданы, Баянауыл п.
B110: "Blue-Star.PV"жауапкершілігі шектеулігі серіктестігі | E110: АГҚС | F110: Сұйытылған мұнай газын сақтау және өткізу | G110: қысыммен жұмыс істейтін ыдыс, сұйытылған мұнай газ | H110: 1 | I110: 2074 | J110: 47003 | K110: 5 | L110: Павлодар облысы, Баянаул ауданы, Баянауыл п.
B111: "Blue-Star.PV"жауапкершілігі шектеулігі серіктестігі | E111: АГҚС | F111: Сұйытылған мұнай газын сақтау және өткізу | G111: қысыммен жұмыс істейтін ыдыс, сұйытылған мұнай газ | H111: 1 | I111: 2076 | J111: 45602 | K111: 10 | L111: Павлодарская облысы, Екібастұз ауданы, п.Шидерты (трасса Павлодар-.Кызылорда)
B112: "Blue-Star.PV"жауапкершілігі шектеулігі серіктестігі | E112: АГҚС | F112: Сұйытылған мұнай газын сақтау және өткізу | G112: қысыммен жұмыс істейтін ыдыс, сұйытылған мұнай газ | H112: 1 | I112: 1756 | J112: 02487.1 | K112: 5 | L112: Павлодарская облысы, Ақсу қ., Ленин к. 15/1
B113: "Blue-Star.PV"жауапкершілігі шектеулігі серіктестігі | E113: АГҚС | F113: Сұйытылған мұнай газын сақтау және өткізу | G113: қысыммен жұмыс істейтін ыдыс, сұйытылған мұнай газ | H113: 1 | I113: 1752 | J113: 3 | K113: 5 | L113: Павлодарская облысы, Ақсу қ., Ленин к. 15/1
B114: "Blue-Star.PV"жауапкершілігі шектеулігі серіктестігі | E114: АГҚС | F114: Сұйытылған мұнай газын сақтау және өткізу | G114: қысыммен жұмыс істейтін ыдыс, сұйытылған мұнай газ | H114: 1 | I114: 1909 | J114: 3758 | K114: 5 | L114: Павлодарская облысы, Ақсу қ., Ленин к. 15/1
B115: "Blue-Star.PV"жауапкершілігі шектеулігі серіктестігі | E115: АГҚС | F115: Сұйытылған мұнай газын сақтау және өткізу | G115: қысыммен жұмыс істейтін ыдыс, сұйытылған мұнай газ | H115: 1 | I115: 2692 | J115: 9274 | K115: 5 | L115: Павлодар облысы,Теренкөл ауылдық округ,село Теренкөл
B116: "Blue-Star.PV"жауапкершілігі шектеулігі серіктестігі | E116: АГҚС | F116: Сұйытылған мұнай газын сақтау және өткізу | G116: қысыммен жұмыс істейтін ыдыс, сұйытылған мұнай газ | H116: 1 | I116: 2693 | J116: 5149 | K116: 5 | L116: Павлодар облысы,Теренкөл ауылдық округ,село Теренкөл
B117: "Blue-Star.PV"жауапкершілігі шектеулігі серіктестігі | E117: АГҚС | F117: Сұйытылған мұнай газын сақтау және өткізу | G117: қысыммен жұмыс істейтін ыдыс, сұйытылған мұнай газ | H117: 1 | I117: 2694 | J117: 47002 | K117: 5 | L117: Павлодар облысы,Теренкөл ауылдық округ,село Теренкөл
B118: "Blue-Star.PV"жауапкершілігі шектеулігі серіктестігі | E118: АГҚС | F118: Сұйытылған мұнай газын сақтау және өткізу | G118: қысыммен жұмыс істейтін ыдыс, сұйытылған мұнай газ | H118: 1 | I118: 1989 | J118: 01770 | K118: 7 | L118: Павлодар облысы, Екібастұз, уч.кв 52, құрылым 10
B119: ЖАЛПЫ: | E119: АГҚС (8 б.) | H119: 17 | K119: 97
B120: БАРЛЫҒЫ | E120: ГТС-1, АГҚС-8 | H120: 34 | K120: 1847
A121: 4 | B121: "BIG Capital IST"жауапкершілігі шектеулі серіктестігі | C121: 110640004869 | D121: 140000, Қазақстан Республикасы, Павлодар облысы, Павлодар қ., Солтүстік индустриалды аймақ, № 22/1 басшы Абдулин Ельнур Шаймуратович | E121: ГТС | F121: Сұйытылған мұнай газын сақтау және өткізу | G121: қысыммен жұмыс істейтін ыдыс, сұйытылған мұнай газ | H121: 1 | I121: 2363 | J121: 13-42 | K121: 100 | L121: Павлодар облысы, Павлодар қ., Солтүстік индустриалды аймақ, № 22/1
B122: "BIG Capital IST"жауапкершілігі шектеулі серіктестігі | E122: ГТС | F122: Сұйытылған мұнай газын сақтау және өткізу | G122: қысыммен жұмыс істейтін ыдыс, сұйытылған мұнай газ | H122: 1 | I122: 2370 | J122: 13-42/4 | K122: 100 | L122: Павлодар облысы, Павлодар қ., Солтүстік индустриалды аймақ, № 22/1
B123: "BIG Capital IST"жауапкершілігі шектеулі серіктестігі | E123: ГТС | F123: Сұйытылған мұнай газын сақтау және өткізу | G123: қысыммен жұмыс істейтін ыдыс, сұйытылған мұнай газ | H123: 1 | I123: 2369 | J123: 13-42/3 | K123: 100 | L123: Павлодар облысы, Павлодар қ., Солтүстік индустриалды аймақ, № 22/1
B124: "BIG Capital IST"жауапкершілігі шектеулі серіктестігі | E124: ГТС | F124: Сұйытылған мұнай газын сақтау және өткізу | G124: қысыммен жұмыс істейтін ыдыс, сұйытылған мұнай газ | H124: 1 | I124: 2362 | J124: 13-42/2 | K124: 100 | L124: Павлодар облысы, Павлодар қ., Солтүстік индустриалды аймақ, № 22/1
B125: "BIG Capital IST"жауапкершілігі шектеулі серіктестігі | E125: ГТС | F125: Сұйытылған мұнай газын сақтау және өткізу | G125: қысыммен жұмыс істейтін ыдыс, сұйытылған мұнай газ | H125: 1 | I125: 2372 | J125: 13-42/1 | K125: 100 | L125: Павлодар облысы, Павлодар қ., Солтүстік индустриалды аймақ, № 22/1
B126: "BIG Capital IST"жауапкершілігі шектеулі серіктестігі | E126: ГТС | F126: Сұйытылған мұнай газын сақтау және өткізу | G126: қысыммен жұмыс істейтін ыдыс, сұйытылған мұнай газ | H126: 1 | I126: 2371 | J126: 13-42/5 | K126: 100 | L126: Павлодар облысы, Павлодар қ., Солтүстік индустриалды аймақ, № 22/1
...

Sheet Ақмола облысы
B1: Заңды, жеке тұлғаның атауы | C1: БСН, ЖСН | D1: Заңды, жеке тұлғаның мекенжайы, басшының Т. А. Ә. | E1: Объектінің атауы | F1: Өнеркәсіптік саласы және қызмет түрі | G1: Қауіпті техникалық құрылғының атауы (жұмыс ортасы) | H1: Объектінің жобалық қуаты (ыдыс саны, есептік нөмірі, зауытық нөмірі, сұйытылған мұнай газын сақтау көлемі) | L1: Объектінің орналасқан жері (мекенжайы)
H2: ҚЖЫ-ның жалпы саны, дана | I2: есептік № | J2: зауыттық № | K2: ҚЖЫ-ның көлемі (қысыммен жұмыс істейтін ыдыс), м3
B3: 2 | C3: 3 | D3: 4 | E3: 5 | F3: 6 | G3: 7 | H3: 8 | I3: 9 | J3: 10 | K3: 11 | L3: 12
A4: 1 | B4: "Адиль" ЖК | C4: 940618350993 | D4: Кокшетау қаласы, Л. Дроздовой көшесі, үй № 1Г; АУБАКИРОВ АДИЛЬХАН БАЗАРБАЕВИЧ | E4: АГҚС | F4: Сұйылтылған мұнай газын сату және сақтау | G4: Қысыммен жұмыс істейтін ыдыс, пропан-бутан қоспасы | H4: 1 | I4: С-3823 | J4: 16502 | K4: 10 | L4: Кокшетау қаласы, Ташенова көшесі, құрылыс 1/1
B5: "Адиль" ЖК | C5: 940618350993 | D5: Кокшетау қаласы, Л. Дроздовой көшесі, үй № 1Г; АУБАКИРОВ АДИЛЬХАН БАЗАРБАЕВИЧ | E5: АГҚС | F5: Сұйылтылған мұнай газын сату және сақтау | G5: Қысыммен жұмыс істейтін ыдыс, пропан-бутан қоспасы | H5: 1 | I5: С-3107 | J5: 1008 | K5: 10 | L5: Кокшетау қаласы, Зеренді тас жолына шыға беріс, " Эталон " АЖҚС кейін
A6: 2 | B6: "Аманжолава Ж.Д." ЖК | C6: 931007400318 | D6: Ақмола облысы, Зеренді ауданы, Ақкөл ауылы, ул./пр. с. Акколь, дом/корпус 0; АМАНЖОЛОВА ЖУЛДЫЗ ДАУРЕНОВНА | E6: АГҚС | F6: Сұйылтылған мұнай газын сату және сақтау | G6: Қысыммен жұмыс істейтін ыдыс, пропан-бутан қоспасы | H6: 1 | I6: С-3825 | J6: 10103 | K6: 10 | L6: Ақмола облысы, Зеренді ауданы, Ақкөл ауылы
A7: 3 | B7: ЖК "Әділ" | C7: 871031350642 | D7: Ақмола облысы, Көкшетау қаласы, Микрорайон Центральный, 55, 35; ЖУНУСОВ ДИЯЗ БЕЙБУТОВИЧ | E7: АГҚС | F7: Сұйылтылған мұнай газын сату және сақтау | G7: Қысыммен жұмыс істейтін ыдыс, пропан-бутан қоспасы | H7: 1 | I7: С-3679 | J7: 50290 | K7: 7 | L7: Көкшетау қаласы, көшесі Жунусова 43 Б
A8: 4 | B8: "AST-Gaz" ЖШС | C8: 161040021274 | D8: Астана қаласы, Алматы ауданы , Ақ-Бұлақ-3 тұрғын үй ауданы, Тасшоқы жолақы 1 31; КАЖАКАТ САГЫНДЫК ЕРЕЖЕПУЛЫ | E8: АГҚС | F8: Сұйылтылған мұнай газын сату және сақтау | G8: Қысыммен жұмыс істейтін ыдыс, пропан-бутан қоспасы | H8: 1 | I8: С-3807 | J8: АС-010 | K8: 10 | L8: Ақмола облысы, Аршалы ауданы, Жибек Жолы Конституция көшесі 1/2
A9: 5 | B9: "GAB SERVICE AGENCY" (ДЖИ ЭЙ БИ СЕРВИС ЭЙДЖЕНСИ)ЖШС | C9: .081240010833 | D9: Көкшетау қаласы, Солтүстік промзона, үй/корпус 55; ХАДЖИМУРАДОВ ШИХБУБА ШАХМУРАДОВИЧ | E9: АГҚС | F9: Сұйылтылған мұнай газын сату және сақтау | G9: Қысыммен жұмыс істейтін ыдыс, пропан-бутан қоспасы | H9: 1 | I9: С-3432 | J9: 12165 | K9: 10 | L9: Көкшетау қаласы, мкр Бірлік,Фабричная көшесі, Казанат, 14 көшесінің бұрышы
B10: "GAB SERVICE AGENCY" (ДЖИ ЭЙ БИ СЕРВИС ЭЙДЖЕНСИ)ЖШС | C10: .081240010833 | D10: Көкшетау қаласы, Солтүстік промзона, үй/корпус 55; ХАДЖИМУРАДОВ ШИХБУБА ШАХМУРАДОВИЧ | E10: АГҚС | F10: Сұйылтылған мұнай газын сату және сақтау | G10: Қысыммен жұмыс істейтін ыдыс, пропан-бутан қоспасы | H10: 1 | I10: С-3417 | J10: 16501 | K10: 10 | L10: Ақмола облысы, Зеренді ауданы, 281 км трассы "Астана-Петропавловск" "Бэст" АЖҚС аумағында
A11: 6 | B11: ЖК Уалиев | C11: 790915301431 | D11: Көкшетау қаласы, микрорайон Бирлик, көшесі Курайлы, 7 | E11: АГҚС | F11: Сұйылтылған мұнай газын сату және сақтау | G11: Қысыммен жұмыс істейтін ыдыс, пропан-бутан қоспасы | H11: 1 | I11: С-3827 | J11: 599 | K11: 7.25 | L11: Ақмола облысы, Зеренді ауданы, Зеренді ауылына кіре берісте АЖҚС "Есиль" аумағында
A12: 7 | B12: ЖК Сумбаев | C12: .021208551084 | D12: Көкшетау қаласы, көшесі Жамбыла Жабаева, 152, 9; СУМБАЕВ ДАНИИЛ ВИТАЛЬЕВИЧ | E12: АГҚС | F12: Сұйылтылған мұнай газын сату және сақтау | G12: Қысыммен жұмыс істейтін ыдыс, пропан-бутан қоспасы | H12: 1 | I12: С-3826 | J12: 12355 | K12: 10 | L12: Көкшетау қаласы, Ақан Сері көшесі үй, 206 Б
A13: 8 | B13: ЖШС "Регион-Газ" | C13: .000140006824 | D13: Көкшетау қаласы, Солтүстік промзона, үй/корпус 55; АМАНЖОЛОВА БАЛЖАН КЫДЫРБАЕВНА | E13: АГҚС | F13: Сұйылтылған мұнай газын сату және сақтау | G13: Қысыммен жұмыс істейтін ыдыс, пропан-бутан қоспасы | H13: 1 | I13: С-3235 | J13: 1611 | K13: 12.5 | L13: Ақмола облысы, Зеренді ауданы, 278 км трассы "Астана-Петропавловск"
A14: 9 | B14: «Аубакиров Б.Р.» ЖК | C14: 610203301099 | D14: Ақмола облысы, Кокшетау қаласы , . Л. Дроздова көшесі, 1Г; Аубакиров Базарбай Ризабекович | E14: АГҚС | F14: Сұйылтылған мұнай газын сату және сақтау | G14: Қысыммен жұмыс істейтін ыдыс, пропан-бутан қоспасы | H14: 1 | I14: С-2957 | J14: 549 | K14: 10 | L14: Ақмола облысы, Кокшетау қаласы , Шокан Уалиханов көшесі, 226А
A15: 10 | B15: "Кокшетау-Транс-Газ" ЖШС | C15: 121040011319 | D15: Көкшетау қаласы, Центральный ш/а, үй/корпус 44a, кв. офис 209, п. 1; ОМАРОВ НУРЛАН АСКАРОВИЧ | E15: АГҚС | F15: Сұйылтылған мұнай газын сату және сақтау | G15: Қысыммен жұмыс істейтін ыдыс, пропан-бутан қоспасы | H15: 1 | I15: С-3828 | J15: 7014 | K15: 10 | L15: Көкшетау қаласы, Көктем ш/а , АЖҚС "Dakar" аумағында
B16: "Кокшетау-Транс-Газ" ЖШС | C16: 121040011319 | D16: Көкшетау қаласы, Центральный ш/а, үй/корпус 44a, кв. офис 209, п. 1; ОМАРОВ НУРЛАН АСКАРОВИЧ | E16: АГҚС | F16: Сұйылтылған мұнай газын сату және сақтау | G16: Қысыммен жұмыс істейтін ыдыс, пропан-бутан қоспасы | H16: 1 | I16: C-2954 | J16: 6937 | K16: 10 | L16: Көкшетау қаласы, Кызыл Жар көшесі АЖҚС "Каскенов и Компания" ЖШС аумағында
B17: "Кокшетау-Транс-Газ" ЖШС | C17: 121040011319 | D17: Көкшетау қаласы, Центральный ш/а, үй/корпус 44a, кв. офис 209, п. 1; ОМАРОВ НУРЛАН АСКАРОВИЧ | E17: АГҚС | F17: Сұйылтылған мұнай газын сату және сақтау | G17: Қысыммен жұмыс істейтін ыдыс, пропан-бутан қоспасы | H17: 1 | I17: С-2956 | J17: 6939 | K17: 10 | L17: Ақмола облысы,Зеренді ауданы, Чаглинка станциясы, Нефтебаза
B18: "Кокшетау-Транс-Газ" ЖШС | C18: 121040011319 | D18: Көкшетау қаласы, Центральный ш/а, үй/корпус 44a, кв. офис 209, п. 1; ОМАРОВ НУРЛАН АСКАРОВИЧ | E18: АГҚС | F18: Сұйылтылған мұнай газын сату және сақтау | G18: Қысыммен жұмыс істейтін ыдыс, пропан-бутан қоспасы | H18: 1 | I18: С-3207 | J18: 6936 | K18: 10 | L18: Көкшетау қаласы, Строителей көшесі 5 А
B19: "Кокшетау-Транс-Газ" ЖШС | C19: 121040011319 | D19: Көкшетау қаласы, Центральный ш/а, үй/корпус 44a, кв. офис 209, п. 1; ОМАРОВ НУРЛАН АСКАРОВИЧ | E19: АГҚС | F19: Сұйылтылған мұнай газын сату және сақтау | G19: Қысыммен жұмыс істейтін ыдыс, пропан-бутан қоспасы | H19: 1 | I19: С-3792 | J19: 50149 | K19: 6.96 | L19: Көкшетау қаласы, Уалиханова көшесі 189
B20: "Кокшетау-Транс-Газ" ЖШС | C20: 121040011319 | D20: Көкшетау қаласы, Центральный ш/а, үй/корпус 44a, кв. офис 209, п. 1; ОМАРОВ НУРЛАН АСКАРОВИЧ | E20: АГҚС | F20: Сұйылтылған мұнай газын сату және сақтау | G20: Қысыммен жұмыс істейтін ыдыс, пропан-бутан қоспасы | H20: 1 | I20: С-2955 | J20: 6938 | K20: 10 | L20: Көкшетау қаласы, Уалиханова көшесі 234 Г, АЖҚС "Helios" аумағында
B21: "Кокшетау-Транс-Газ" ЖШС | C21: БИН 121040011319 | D21: Кокшетау қаласы, Центральный шағынауд., 44a үй, кв. офис 209, п. 1; ОМАРОВ НУРЛАН АСКАРОВИЧ | E21: ГТС | F21: Сұйытылған мұнай газын сату және сақтау | G21: Қысыммен жұмыс істейтін ыдыс | H21: 1 | I21: С--2781 | J21: 1366 | K21: 5 | L21: Кокшетау қаласы, Северная пром.зона 8, строение 13, 47У
B22: "Кокшетау-Транс-Газ" ЖШС | C22: БИН 121040011319 | D22: Кокшетау қаласы, Центральный шағынауд., 44a үй, кв. офис 209, п. 1; ОМАРОВ НУРЛАН АСКАРОВИЧ | E22: ГТС | F22: Сұйытылған мұнай газын сату және сақтау | G22: Қысыммен жұмыс істейтін ыдыс | H22: 1 | I22: С-2780 | J22: 1395 | K22: 5 | L22: Кокшетау қаласы, Северная пром.зона 8, строение 13, 47У
B23: "Кокшетау-Транс-Газ" ЖШС | C23: БИН 121040011319 | D23: Кокшетау қаласы, Центральный шағынауд., 44a үй, кв. офис 209, п. 1; ОМАРОВ НУРЛАН АСКАРОВИЧ | E23: ГТС | F23: Сұйытылған мұнай газын сату және сақтау | G23: Қысыммен жұмыс істейтін ыдыс | H23: 1 | I23: С-2782 | J23: 1421 | K23: 5 | L23: Кокшетау қаласы, Северная пром.зона 8, строение 13, 47У
B24: "Кокшетау-Транс-Газ" ЖШС | C24: БИН 121040011319 | D24: Кокшетау қаласы, Центральный шағынауд., 44a үй, кв. офис 209, п. 1; ОМАРОВ НУРЛАН АСКАРОВИЧ | E24: ГТС | F24: Сұйытылған мұнай газын сату және сақтау | G24: Қысыммен жұмыс істейтін ыдыс | H24: 1 | I24: С-2786 | J24: 1946 | K24: 2.5 | L24: Кокшетау қаласы, Северная пром.зона 8, строение 13, 47У
B25: "Кокшетау-Транс-Газ" ЖШС | C25: БИН 121040011319 | D25: Кокшетау қаласы, Центральный шағынауд., 44a үй, кв. офис 209, п. 1; ОМАРОВ НУРЛАН АСКАРОВИЧ | E25: ГТС | F25: Сұйытылған мұнай газын сату және сақтау | G25: Қысыммен жұмыс істейтін ыдыс | H25: 1 | I25: С-0180 | J25: 2704 | K25: 4.94 | L25: Кокшетау қаласы, Северная пром.зона 8, строение 13
B26: "Кокшетау-Транс-Газ" ЖШС | C26: БИН 121040011319 | D26: Кокшетау қаласы, Центральный шағынауд., 44a үй, кв. офис 209, п. 1; ОМАРОВ НУРЛАН АСКАРОВИЧ | E26: ГТС | F26: Сұйытылған мұнай газын сату және сақтау | G26: Қысыммен жұмыс істейтін ыдыс | H26: 1 | I26: С-2788 | J26: 3420 | K26: 2.5 | L26: Кокшетау қаласы, Северная пром.зона 8, строение 13, 47У
B27: "Кокшетау-Транс-Газ" ЖШС | C27: БИН 121040011319 | D27: Кокшетау қаласы, Центральный шағынауд., 44a үй, кв. офис 209, п. 1; ОМАРОВ НУРЛАН АСКАРОВИЧ | E27: ГТС | F27: Сұйытылған мұнай газын сату және сақтау | G27: Қысыммен жұмыс істейтін ыдыс | H27: 1 | I27: С-2784 | J27: 3832 | K27: 5 | L27: Кокшетау қаласы, Северная пром.зона 8, строение 13
B28: "Кокшетау-Транс-Газ" ЖШС | C28: БИН 121040011319 | D28: Кокшетау қаласы, Центральный шағынауд., 44a үй, кв. офис 209, п. 1; ОМАРОВ НУРЛАН АСКАРОВИЧ | E28: ГТС | F28: Сұйытылған мұнай газын сату және сақтау | G28: Қысыммен жұмыс істейтін ыдыс | H28: 1 | I28: С-2783 | J28: 3864 | K28: 5 | L28: Кокшетау қаласы, Северная пром.зона 8, строение 13, 47У
B29: "Кокшетау-Транс-Газ" ЖШС | C29: БИН 121040011319 | D29: Кокшетау қаласы, Центральный шағынауд., 44a үй, кв. офис 209, п. 1; ОМАРОВ НУРЛАН АСКАРОВИЧ | E29: ГТС | F29: Сұйытылған мұнай газын сату және сақтау | G29: Қысыммен жұмыс істейтін ыдыс | H29: 1 | I29: С-2779 | J29: 4646 | K29: 4.2 | L29: Кокшетау қаласы, Северная пром.зона 8, строение 13
B30: "Кокшетау-Транс-Газ" ЖШС | C30: БИН 121040011319 | D30: Кокшетау қаласы, Центральный шағынауд., 44a үй, кв. офис 209, п. 1; ОМАРОВ НУРЛАН АСКАРОВИЧ | E30: ГТС | F30: Сұйытылған мұнай газын сату және сақтау | G30: Қысыммен жұмыс істейтін ыдыс | H30: 1 | I30: С-2787 | J30: 7041 | K30: 4.2 | L30: Кокшетау қаласы, Северная пром.зона 8, строение 13, 47У
B31: "Кокшетау-Транс-Газ" ЖШС | C31: БИН 121040011319 | D31: Кокшетау қаласы, Центральный шағынауд., 44a үй, кв. офис 209, п. 1; ОМАРОВ НУРЛАН АСКАРОВИЧ | E31: ГТС | F31: Сұйытылған мұнай газын сату және сақтау | G31: Қысыммен жұмыс істейтін ыдыс | H31: 1 | I31: С-2785 | J31: 7595 | K31: 5 | L31: Кокшетау қаласы, Северная пром.зона 8, строение 13, 47У
B32: "Кокшетау-Транс-Газ" ЖШС | C32: БИН 121040011319 | D32: Кокшетау қаласы, Центральный шағынауд., 44a үй, кв. офис 209, п. 1; ОМАРОВ НУРЛАН АСКАРОВИЧ | E32: ГТС | F32: Сұйытылған мұнай газын сату және сақтау | G32: Қысыммен жұмыс істейтін ыдыс | H32: 1 | I32: С-0248 | J32: 10564 | K32: 2.5 | L32: Кокшетау қаласы, Северная пром.зона 8, строение 13
A33: 11 | B33: ТОО «BulandyGasTrade» | C33: .191140029625 | D33: Ақмола облысы, Бұланды ауданы, Макинск қаласы, Шоқан Уалиханов көшесі 37 | E33: ГТС | F33: Сұйылтылған мұнай газын сату және сақтау | G33: Қысыммен жұмыс істейтін ыдыс, пропан-бутан қоспасы | H33: 1 | I33: С-3952 | J33: 1119 | K33: 50 | L33: Ақмола облысы, Бұланды ауданы, Макинск қаласы, Шоқан Уалиханов көшесі 37
B34: ТОО «BulandyGasTrade» | C34: .191140029625 | D34: Ақмола облысы, Бұланды ауданы, Макинск қаласы, Шоқан Уалиханов көшесі 37 | E34: ГТС | F34: Сұйылтылған мұнай газын сату және сақтау | G34: Қысыммен жұмыс істейтін ыдыс, пропан-бутан қоспасы | H34: 1 | I34: С-3943 | J34: 1719 | K34: 50 | L34: Ақмола облысы, Бұланды ауданы, Макинск қаласы, Шоқан Уалиханов көшесі 37
B35: ТОО «BulandyGasTrade» | C35: .191140029625 | D35: Ақмола облысы, Бұланды ауданы, Макинск қаласы, Шоқан Уалиханов көшесі 37 | E35: ГТС | F35: Сұйылтылған мұнай газын сату және сақтау | G35: Қысыммен жұмыс істейтін ыдыс, пропан-бутан қоспасы | H35: 1 | I35: С-3945 | J35: 5158 | K35: 50 | L35: Ақмола облысы, Бұланды ауданы, Макинск қаласы, Шоқан Уалиханов көшесі 37
B36: ТОО «BulandyGasTrade» | C36: .191140029625 | D36: Ақмола облысы, Бұланды ауданы, Макинск қаласы, Шоқан Уалиханов көшесі 37 | E36: ГТС | F36: Сұйылтылған мұнай газын сату және сақтау | G36: Қысыммен жұмыс істейтін ыдыс, пропан-бутан қоспасы | H36: 1 | I36: С-3953 | J36: 5200 | K36: 50 | L36: Ақмола облысы, Бұланды ауданы, Макинск қаласы, Шоқан Уалиханов көшесі 37
B37: ТОО «BulandyGasTrade» | C37: .191140029625 | D37: Ақмола облысы, Бұланды ауданы, Макинск қаласы, Шоқан Уалиханов көшесі 37 | E37: ГТС | F37: Сұйылтылған мұнай газын сату және сақтау | G37: Қысыммен жұмыс істейтін ыдыс, пропан-бутан қоспасы | H37: 1 | I37: С-3947 | J37: 5251 | K37: 50 | L37: Ақмола облысы, Бұланды ауданы, Макинск қаласы, Шоқан Уалиханов көшесі 37
B38: ТОО «BulandyGasTrade» | C38: .191140029625 | D38: Ақмола облысы, Бұланды ауданы, Макинск қаласы, Шоқан Уалиханов көшесі 37 | E38: ГТС | F38: Сұйылтылған мұнай газын сату және сақтау | G38: Қысыммен жұмыс істейтін ыдыс, пропан-бутан қоспасы | H38: 1 | I38: С-3944 | J38: 8885 | K38: 50 | L38: Ақмола облысы, Бұланды ауданы, Макинск қаласы, Шоқан Уалиханов көшесі 37
B39: ТОО «BulandyGasTrade» | C39: .191140029625 | D39: Ақмола облысы, Бұланды ауданы, Макинск қаласы, Шоқан Уалиханов көшесі 37 | E39: ГТС | F39: Сұйылтылған мұнай газын сату және сақтау | G39: Қысыммен жұмыс істейтін ыдыс, пропан-бутан қоспасы | H39: 1 | I39: С-3950 | J39: 24854 | K39: 50 | L39: Ақмола облысы, Бұланды ауданы, Макинск қаласы, Шоқан Уалиханов көшесі 37
B40: ТОО «BulandyGasTrade» | C40: .191140029625 | D40: Ақмола облысы, Бұланды ауданы, Макинск қаласы, Шоқан Уалиханов көшесі 37 | E40: ГТС | F40: Сұйылтылған мұнай газын сату және сақтау | G40: Қысыммен жұмыс істейтін ыдыс, пропан-бутан қоспасы | H40: 1 | I40: С-3948 | J40: 24856 | K40: 50 | L40: Ақмола облысы, Бұланды ауданы, Макинск қаласы, Шоқан Уалиханов көшесі 37
B41: ТОО «BulandyGasTrade» | C41: .191140029625 | D41: Ақмола облысы, Бұланды ауданы, Макинск қаласы, Шоқан Уалиханов көшесі 37 | E41: ГТС | F41: Сұйылтылған мұнай газын сату және сақтау | G41: Қысыммен жұмыс істейтін ыдыс, пропан-бутан қоспасы | H41: 1 | I41: С-3946 | J41: 24857 | K41: 50 | L41: Ақмола облысы, Бұланды ауданы, Макинск қаласы, Шоқан Уалиханов көшесі 37
B42: ТОО «BulandyGasTrade» | C42: .191140029625 | D42: Ақмола облысы, Бұланды ауданы, Макинск қаласы, Шоқан Уалиханов көшесі 37 | E42: ГТС | F42: Сұйылтылған мұнай газын сату және сақтау | G42: Қысыммен жұмыс істейтін ыдыс, пропан-бутан қоспасы | H42: 1 | I42: С-3949 | J42: 24858 | K42: 50 | L42: Ақмола облысы, Бұланды ауданы, Макинск қаласы, Шоқан Уалиханов көшесі 37
B43: ТОО «BulandyGasTrade» | C43: .191140029625 | D43: Ақмола облысы, Бұланды ауданы, Макинск қаласы, Шоқан Уалиханов көшесі 37 | E43: ГТС | F43: Сұйылтылған мұнай газын сату және сақтау | G43: Қысыммен жұмыс істейтін ыдыс, пропан-бутан қоспасы | H43: 1 | I43: С-3951 | J43: 24859 | K43: 50 | L43: Ақмола облысы, Бұланды ауданы, Макинск қаласы, Шоқан Уалиханов көшесі 37
B44: ТОО «BulandyGasTrade» | C44: .191140029625 | D44: Ақмола облысы, Бұланды ауданы, Макинск қаласы, Шоқан Уалиханов көшесі 37 | E44: ГТС | F44: Сұйылтылған мұнай газын сату және сақтау | G44: Қысыммен жұмыс істейтін ыдыс, пропан-бутан қоспасы | H44: 1 | I44: С-3942 | J44: 25855 | K44: 50 | L44: Ақмола облысы, Бұланды ауданы, Макинск қаласы, Шоқан Уалиханов көшесі 37
A45: 12 | B45: "Жалтыр-Тас" ЖШС | C45: .040340011697 | D45: Ақмола облысы, Астрахан ауданы, Жалтыр ауылдық округі, Жалтыр ауылы, Промзона көшесі, 5Б ; КОЛОМОЕЦ СЕРГЕЙ НИКОЛАЕВИЧ | E45: ГТС | F45: Сұйылтылған мұнай газын сату және сақтау | G45: Қысыммен жұмыс істейтін ыдыс, пропан-бутан қоспасы | H45: 1 | I45: С-3438 | J45: 7256 | K45: 50 | L45: Ақмола облысы, Атбасар ауданы, Атбасар қаласы, Перевалочная көшесі, 1В.
B46: "Жалтыр-Тас" ЖШС | C46: .040340011697 | D46: Ақмола облысы, Астрахан ауданы, Жалтыр ауылдық округі, Жалтыр ауылы, Промзона көшесі, 5Б ; КОЛОМОЕЦ СЕРГЕЙ НИКОЛАЕВИЧ | E46: ГТС | F46: Сұйылтылған мұнай газын сату және сақтау | G46: Қысыммен жұмыс істейтін ыдыс, пропан-бутан қоспасы | H46: 1 | I46: С- 3448 | J46: 6719 | K46: 50 | L46: Ақмола облысы, Атбасар ауданы, Атбасар қаласы, Перевалочная көшесі, 1В.
B47: "Жалтыр-Тас" ЖШС | C47: .040340011697 | D47: Ақмола облысы, Астрахан ауданы, Жалтыр ауылдық округі, Жалтыр ауылы, Промзона көшесі, 5Б ; КОЛОМОЕЦ СЕРГЕЙ НИКОЛАЕВИЧ | E47: ГТС | F47: Сұйылтылған мұнай газын сату және сақтау | G47: Қысыммен жұмыс істейтін ыдыс, пропан-бутан қоспасы | H47: 1 | I47: С-3123 | J47: 6811 | K47: 50 | L47: Ақмола облысы, Атбасар ауданы, Атбасар қаласы, Перевалочная көшесі, 1В.
B48: "Жалтыр-Тас" ЖШС | C48: .040340011697 | D48: Ақмола облысы, Астрахан ауданы, Жалтыр ауылдық округі, Жалтыр ауылы, Промзона көшесі, 5Б ; КОЛОМОЕЦ СЕРГЕЙ НИКОЛАЕВИЧ | E48: ГТС | F48: Сұйылтылған мұнай газын сату және сақтау | G48: Қысыммен жұмыс істейтін ыдыс, пропан-бутан қоспасы | H48: 1 | I48: С-3439 | J48: 7238 | K48: 50 | L48: Ақмола облысы, Атбасар ауданы, Атбасар қаласы, Перевалочная көшесі, 1В.
B49: "Жалтыр-Тас" ЖШС | C49: .040340011697 | D49: Ақмола облысы, Астрахан ауданы, Жалтыр ауылдық округі, Жалтыр ауылы, Промзона көшесі, 5Б ; КОЛОМОЕЦ СЕРГЕЙ НИКОЛАЕВИЧ | E49: ГТС | F49: Сұйылтылған мұнай газын сату және сақтау | G49: Қысыммен жұмыс істейтін ыдыс, пропан-бутан қоспасы | H49: 1 | I49: С-3440 | J49: 6624 | K49: 50 | L49: Ақмола облысы, Атбасар ауданы, Атбасар қаласы, Перевалочная көшесі, 1В.
B50: "Жалтыр-Тас" ЖШС | C50: .040340011697 | D50: Ақмола облысы, Астрахан ауданы, Жалтыр ауылдық округі, Жалтыр ауылы, Промзона көшесі, 5Б ; КОЛОМОЕЦ СЕРГЕЙ НИКОЛАЕВИЧ | E50: ГТС | F50: Сұйылтылған мұнай газын сату және сақтау | G50: Қысыммен жұмыс істейтін ыдыс, пропан-бутан қоспасы | H50: 1 | I50: С-3441 | J50: 6618 | K50: 50 | L50: Ақмола облысы, Атбасар ауданы, Атбасар қаласы, Перевалочная көшесі, 1В.
B51: "Жалтыр-Тас" ЖШС | C51: .040340011697 | D51: Ақмола облысы, Астрахан ауданы, Жалтыр ауылдық округі, Жалтыр ауылы, Промзона көшесі, 5Б ; КОЛОМОЕЦ СЕРГЕЙ НИКОЛАЕВИЧ | E51: ГТС | F51: Сұйылтылған мұнай газын сату және сақтау | G51: Қысыммен жұмыс істейтін ыдыс, пропан-бутан қоспасы | H51: 1 | I51: С-3442 | J51: 6491 | K51: 50 | L51: Ақмола облысы, Атбасар ауданы, Атбасар қаласы, Перевалочная көшесі, 1В.
B52: "Жалтыр-Тас" ЖШС | C52: .040340011697 | D52: Ақмола облысы, Астрахан ауданы, Жалтыр ауылдық округі, Жалтыр ауылы, Промзона көшесі, 5Б ; КОЛОМОЕЦ СЕРГЕЙ НИКОЛАЕВИЧ | E52: ГТС | F52: Сұйылтылған мұнай газын сату және сақтау | G52: Қысыммен жұмыс істейтін ыдыс, пропан-бутан қоспасы | H52: 1 | I52: С-3443 | J52: 5719 | K52: 50 | L52: Ақмола облысы, Атбасар ауданы, Атбасар қаласы, Перевалочная көшесі, 1В.
B53: "Жалтыр-Тас" ЖШС | C53: .040340011697 | D53: Ақмола облысы, Астрахан ауданы, Жалтыр ауылдық округі, Жалтыр ауылы, Промзона көшесі, 5Б ; КОЛОМОЕЦ СЕРГЕЙ НИКОЛАЕВИЧ | E53: ГТС | F53: Сұйылтылған мұнай газын сату және сақтау | G53: Қысыммен жұмыс істейтін ыдыс, пропан-бутан қоспасы | H53: 1 | I53: С-3444 | J53: 6981 | K53: 50 | L53: Ақмола облысы, Атбасар ауданы, Атбасар қаласы, Перевалочная көшесі, 1В.
B54: "Жалтыр-Тас" ЖШС | C54: .040340011697 | D54: Ақмола облысы, Астрахан ауданы, Жалтыр ауылдық округі, Жалтыр ауылы, Промзона көшесі, 5Б ; КОЛОМОЕЦ СЕРГЕЙ НИКОЛАЕВИЧ | E54: ГТС | F54: Сұйылтылған мұнай газын сату және сақтау | G54: Қысыммен жұмыс істейтін ыдыс, пропан-бутан қоспасы | H54: 1 | I54: С-3445 | J54: 5411 | K54: 50 | L54: Ақмола облысы, Атбасар ауданы, Атбасар қаласы, Перевалочная көшесі, 1В.
B55: "Жалтыр-Тас" ЖШС | C55: .040340011697 | D55: Ақмола облысы, Астрахан ауданы, Жалтыр ауылдық округі, Жалтыр ауылы, Промзона көшесі, 5Б ; КОЛОМОЕЦ СЕРГЕЙ НИКОЛАЕВИЧ | E55: ГТС | F55: Сұйылтылған мұнай газын сату және сақтау | G55: Қысыммен жұмыс істейтін ыдыс, пропан-бутан қоспасы | H55: 1 | I55: С-3446 | J55: 6316 | K55: 50 | L55: Ақмола облысы, Атбасар ауданы, Атбасар қаласы, Перевалочная көшесі, 1В.
B56: "Жалтыр-Тас" ЖШС | C56: .040340011697 | D56: Ақмола облысы, Астрахан ауданы, Жалтыр ауылдық округі, Жалтыр ауылы, Промзона көшесі, 5Б ; КОЛОМОЕЦ СЕРГЕЙ НИКОЛАЕВИЧ | E56: ГТС | F56: Сұйылтылған мұнай газын сату және сақтау | G56: Қысыммен жұмыс істейтін ыдыс, пропан-бутан қоспасы | H56: 1 | I56: С-3447 | J56: 5814 | K56: 50 | L56: Ақмола облысы, Атбасар ауданы, Атбасар қаласы, Перевалочная көшесі, 1В.
B57: "Жалтыр-Тас" ЖШС | C57: .040340011697 | D57: Ақмола облысы, Астрахан ауданы, Жалтыр ауылдық округі, Жалтыр ауылы, Промзона көшесі, 5Б ; КОЛОМОЕЦ СЕРГЕЙ НИКОЛАЕВИЧ | E57: ГТС | F57: Сұйылтылған мұнай газын сату және сақтау | G57: Қысыммен жұмыс істейтін ыдыс, пропан-бутан қоспасы | H57: 1 | I57: С-3972 | J57: 1709 | K57: 50 | L57: Ақмола облысы, Бурабай ауданы, Щучинск қаласы, участок 5 В
... B65: "Жалтыр-Тас" ЖШС | C65: .040340011697 | D65: Ақмола облысы, Астрахан ауданы, Жалтыр ауылдық округі, Жалтыр ауылы, Промзона көшесі, 5Б ; КОЛОМОЕЦ СЕРГЕЙ НИКОЛАЕВИЧ | E65: ГТС | F65: Сұйылтылған мұнай газын сату және сақтау | G65: Қысыммен жұмыс істейтін ыдыс, пропан-бутан қоспасы | H65: 1 | I65: С-3394 | J65: 3 | K65: 10 | L65: Ақмола облысы, Бурабай ауданы , Урумкай ауылы, участок 20А
B66: "Жалтыр-Тас" ЖШС | C66: .040340011697 | D66: Ақмола облысы, Астрахан ауданы, Жалтыр ауылдық округі, Жалтыр ауылы, Промзона көшесі, 5Б ; КОЛОМОЕЦ СЕРГЕЙ НИКОЛАЕВИЧ | E66: ГТС | F66: Сұйылтылған мұнай газын сату және сақтау | G66: Қысыммен жұмыс істейтін ыдыс, пропан-бутан қоспасы | H66: 1 | I66: С-3276 | J66: 020/05 | K66: 10 | L66: Ақмола облысы, Бұланды ауданы, Капитоновка ауылы, Степная көшесі, 28Б
B67: "Жалтыр-Тас" ЖШС | C67: .040340011697 | D67: Ақмола облысы, Астрахан ауданы, Жалтыр ауылдық округі, Жалтыр ауылы, Промзона көшесі, 5Б ; КОЛОМОЕЦ СЕРГЕЙ НИКОЛАЕВИЧ | E67: ГТС | F67: Сұйылтылған мұнай газын сату және сақтау | G67: Қысыммен жұмыс істейтін ыдыс, пропан-бутан қоспасы | H67: 1 | I67: С-4039 | J67: №7326 | K67: 50 | L67: Ақмола облысы, Бурабай ауданы, Щучинск қаласы, 5В аумағы
B68: "Жалтыр-Тас" ЖШС | C68: .040340011697 | D68: Ақмола облысы, Астрахан ауданы, Жалтыр ауылдық округі, Жалтыр ауылы, Промзона көшесі, 5Б ; КОЛОМОЕЦ СЕРГЕЙ НИКОЛАЕВИЧ | E68: ГТС | F68: Сұйылтылған мұнай газын сату және сақтау | G68: Қысыммен жұмыс істейтін ыдыс, пропан-бутан қоспасы | H68: 1 | I68: С-4040 | J68: №7328 | K68: 50 | L68: Ақмола облысы, Бурабай ауданы, Щучинск қаласы, 5В аумағы
B69: "Жалтыр-Тас" ЖШС | C69: .040340011697 | D69: Ақмола облысы, Астрахан ауданы, Жалтыр ауылдық округі, Жалтыр ауылы, Промзона көшесі, 5Б ; КОЛОМОЕЦ СЕРГЕЙ НИКОЛАЕВИЧ | E69: ГТС | F69: Сұйылтылған мұнай газын сату және сақтау | G69: Қысыммен жұмыс істейтін ыдыс, пропан-бутан қоспасы | H69: 1 | I69: С-4041 | J69: №031305 | K69: 50 | L69: Ақмола облысы, Бурабай ауданы, Щучинск қаласы, 5В аумағы
B70: "Жалтыр-Тас" ЖШС | C70: .040340011697 | D70: Ақмола облысы, Астрахан ауданы, Жалтыр ауылдық округі, Жалтыр ауылы, Промзона көшесі, 5Б ; КОЛОМОЕЦ СЕРГЕЙ НИКОЛАЕВИЧ | E70: ГТС | F70: Сұйылтылған мұнай газын сату және сақтау | G70: Қысыммен жұмыс істейтін ыдыс, пропан-бутан қоспасы | H70: 1 | I70: С-4042 | J70: №46173 | K70: 50 | L70: Ақмола облысы, Бурабай ауданы, Щучинск қаласы, 5В аумағы
B71: "Жалтыр-Тас" ЖШС | C71: .040340011697 | D71: Ақмола облысы, Астрахан ауданы, Жалтыр ауылдық округі, Жалтыр ауылы, Промзона көшесі, 5Б ; КОЛОМОЕЦ СЕРГЕЙ НИКОЛАЕВИЧ | E71: ГТС | F71: Сұйылтылған мұнай газын сату және сақтау | G71: Қысыммен жұмыс істейтін ыдыс, пропан-бутан қоспасы | H71: 1 | I71: С-4043 | J71: №46174 | K71: 50 | L71: Ақмола облысы, Бурабай ауданы, Щучинск қаласы, 5В аумағы
B72: "Жалтыр-Тас" ЖШС | C72: .040340011697 | D72: Ақмола облысы, Астрахан ауданы, Жалтыр ауылдық округі, Жалтыр ауылы, Промзона көшесі, 5Б ; КОЛОМОЕЦ СЕРГЕЙ НИКОЛАЕВИЧ | E72: ГТС | F72: Сұйылтылған мұнай газын сату және сақтау | G72: Қысыммен жұмыс істейтін ыдыс, пропан-бутан қоспасы | H72: 1 | I72: С-4044 | J72: №814113 | K72: 50 | L72: Ақмола облысы, Бурабай ауданы, Щучинск қаласы, 5В аумағы
A73: 13 | B73: "Казспецрезерв" ЖШС | C73: .050140006388 | D73: Астана қаласы, Коктал ш/а, Көктал көшесі, ғимарат 23; АЛИБАЕВ АСКАР КОКАНОВИЧ | E73: ГНС | F73: Сұйылтылған мұнай газын сату және сақтау | G73: Қысыммен жұмыс істейтін ыдыс, пропан-бутан қоспасы | H73: 1 | I73: С-2287 | J73: 92820 | K73: 40.7 | L73: Ақмола облысы, Аршалы ауданы, Аршалы кенті
B74: "Казспецрезерв" ЖШС | C74: .050140006388 | D74: Астана қаласы, Коктал ш/а, Көктал көшесі, ғимарат 23; АЛИБАЕВ АСКАР КОКАНОВИЧ | E74: ГТС | F74: Сұйылтылған мұнай газын сату және сақтау | G74: Қысыммен жұмыс істейтін ыдыс, пропан-бутан қоспасы | H74: 1 | I74: С-258 | J74: 752 | K74: 41.4 | L74: Ақмола облысы, Аршалы ауданы, Аршалы кенті
B75: "Казспецрезерв" ЖШС | C75: .050140006388 | D75: Астана қаласы, Коктал ш/а, Көктал көшесі, ғимарат 23; АЛИБАЕВ АСКАР КОКАНОВИЧ | E75: ГТС | F75: Сұйылтылған мұнай газын сату және сақтау | G75: Қысыммен жұмыс істейтін ыдыс, пропан-бутан қоспасы | H75: 1 | I75: С-2293 | J75: 92818 | K75: 40.7 | L75: Ақмола облысы, Аршалы ауданы, Аршалы кенті
B76: "Казспецрезерв" ЖШС | C76: .050140006388 | D76: Астана қаласы, Коктал ш/а, Көктал көшесі, ғимарат 23; АЛИБАЕВ АСКАР КОКАНОВИЧ | E76: ГТС | F76: Сұйылтылған мұнай газын сату және сақтау | G76: Қысыммен жұмыс істейтін ыдыс, пропан-бутан қоспасы | H76: 1 | I76: С-2292 | J76: 92687 | K76: 40.6 | L76: Ақмола облысы, Аршалы ауданы, Аршалы кенті
B77: "Казспецрезерв" ЖШС | C77: .050140006388 | D77: Астана қаласы, Коктал ш/а, Көктал көшесі, ғимарат 23; АЛИБАЕВ АСКАР КОКАНОВИЧ | E77: ГТС | F77: Сұйылтылған мұнай газын сату және сақтау | G77: Қысыммен жұмыс істейтін ыдыс, пропан-бутан қоспасы | H77: 1 | I77: С-2285 | J77: 1032 | K77: 40.7 | L77: Ақмола облысы, Аршалы ауданы, Аршалы кенті
B78: "Казспецрезерв" ЖШС | C78: .050140006388 | D78: Астана қаласы, Коктал ш/а, Көктал көшесі, ғимарат 23; АЛИБАЕВ АСКАР КОКАНОВИЧ | E78: ГТС | F78: Сұйылтылған мұнай газын сату және сақтау | G78: Қысыммен жұмыс істейтін ыдыс, пропан-бутан қоспасы | H78: 1 | I78: С-2295 | J78: 92814 | K78: 41.1 | L78: Ақмола облысы, Аршалы ауданы, Аршалы кенті
B79: "Казспецрезерв" ЖШС | C79: .050140006388 | D79: Астана қаласы, Коктал ш/а, Көктал көшесі, ғимарат 23; АЛИБАЕВ АСКАР КОКАНОВИЧ | E79: ГТС | F79: Сұйылтылған мұнай газын сату және сақтау | G79: Қысыммен жұмыс істейтін ыдыс, пропан-бутан қоспасы | H79: 1 | I79: С-2915 | J79: 553 | K79: 6 | L79: Ақмола облысы, Аршалы ауданы, Аршалы кенті
B80: "Казспецрезерв" ЖШС | C80: .050140006388 | D80: Астана қаласы, Коктал ш/а, Көктал көшесі, ғимарат 23; АЛИБАЕВ АСКАР КОКАНОВИЧ | E80: ГТС | F80: Сұйылтылған мұнай газын сату және сақтау | G80: Қысыммен жұмыс істейтін ыдыс, пропан-бутан қоспасы | H80: 1 | I80: С-2290 | J80: 92815 | K80: 40.6 | L80: Ақмола облысы, Аршалы ауданы, Аршалы кенті
B81: "Казспецрезерв" ЖШС | C81: .050140006388 | D81: Астана қаласы, Коктал ш/а, Көктал көшесі, ғимарат 23; АЛИБАЕВ АСКАР КОКАНОВИЧ | E81: ГТС | F81: Сұйылтылған мұнай газын сату және сақтау | G81: Қысыммен жұмыс істейтін ыдыс, пропан-бутан қоспасы | H81: 1 | I81: С-264 | J81: 9634 | K81: 5 | L81: Ақмола облысы, Аршалы ауданы, Аршалы кенті
B82: "Казспецрезерв" ЖШС | C82: .050140006388 | D82: Астана қаласы, Коктал ш/а, Көктал көшесі, ғимарат 23; АЛИБАЕВ АСКАР КОКАНОВИЧ | E82: ГТС | F82: Сұйылтылған мұнай газын сату және сақтау | G82: Қысыммен жұмыс істейтін ыдыс, пропан-бутан қоспасы | H82: 1 | I82: С-2291 | J82: 92219 | K82: 41.1 | L82: Ақмола облысы, Аршалы ауданы, Аршалы кенті
B83: "Казспецрезерв" ЖШС | C83: .050140006388 | D83: Астана қаласы, Коктал ш/а, Көктал көшесі, ғимарат 23; АЛИБАЕВ АСКАР КОКАНОВИЧ | E83: ГТС | F83: Сұйылтылған мұнай газын сату және сақтау | G83: Қысыммен жұмыс істейтін ыдыс, пропан-бутан қоспасы | H83: 1 | I83: С-2288 | J83: 92806 | K83: 40.7 | L83: Ақмола облысы, Аршалы ауданы, Аршалы кенті
B84: "Казспецрезерв" ЖШС | C84: .050140006388 | D84: Астана қаласы, Коктал ш/а, Көктал көшесі, ғимарат 23; АЛИБАЕВ АСКАР КОКАНОВИЧ | E84: ГТС | F84: Сұйылтылған мұнай газын сату және сақтау | G84: Қысыммен жұмыс істейтін ыдыс, пропан-бутан қоспасы | H84: 1 | I84: С- 2284 | J84: 1037 | K84: 40.7 | L84: Ақмола облысы, Аршалы ауданы, Аршалы кенті
B85: "Казспецрезерв" ЖШС | C85: .050140006388 | D85: Астана қаласы, Коктал ш/а, Көктал көшесі, ғимарат 23; АЛИБАЕВ АСКАР КОКАНОВИЧ | E85: ГТС | F85: Сұйылтылған мұнай газын сату және сақтау | G85: Қысыммен жұмыс істейтін ыдыс, пропан-бутан қоспасы | H85: 1 | I85: С-2289 | J85: 92821 | K85: 41.7 | L85: Ақмола облысы, Аршалы ауданы, Аршалы кенті
... B94: "Казспецрезерв" ЖШС | C94: .050140006388 | D94: Астана қаласы, Коктал ш/а, Көктал көшесі, ғимарат 23; АЛИБАЕВ АСКАР КОКАНОВИЧ | E94: АГҚС | F94: Сұйылтылған мұнай газын сату және сақтау | G94: Қысыммен жұмыс істейтін ыдыс, пропан-бутан қоспасы | H94: 1 | I94: С-3205 | J94: 40 | K94: 10 | L94: Ақмола облысы, Аршалы кенті, көшесі 8 зем. уч 30
B95: "Казспецрезерв" ЖШС | C95: .050140006388 | D95: Астана қаласы, Коктал ш/а, Көктал көшесі, ғимарат 23; АЛИБАЕВ АСКАР КОКАНОВИЧ | E95: АГҚС | F95: Сұйылтылған мұнай газын сату және сақтау | G95: Қысыммен жұмыс істейтін ыдыс, пропан-бутан қоспасы | H95: 1 | I95: С-2916 | J95: 1/145 | K95: 10 | L95: Ақмола облысы, Аршалы ауданы, Аршалы кенті, район нефтебазы
B96: "Казспецрезерв" ЖШС | C96: .050140006388 | D96: Астана қаласы, Коктал ш/а, Көктал көшесі, ғимарат 23; АЛИБАЕВ АСКАР КОКАНОВИЧ | E96: ГТП | F96: Сұйылтылған мұнай газын сату және сақтау | G96: Қысыммен жұмыс істейтін ыдыс, пропан-бутан қоспасы | H96: 1 | I96: С-3114 | J96: 845 | K96: 10 | L96: Ақмола облысы, Ақкөл ауданы, қаласы Акколь, Бегильдинова көшесі 50
B97: "Казспецрезерв" ЖШС | C97: .050140006388 | D97: Астана қаласы, Коктал ш/а, Көктал көшесі, ғимарат 23; АЛИБАЕВ АСКАР КОКАНОВИЧ | E97: ГТП | F97: Сұйылтылған мұнай газын сату және сақтау | G97: Қысыммен жұмыс істейтін ыдыс, пропан-бутан қоспасы | H97: 1 | I97: С-3092 | J97: 821 | K97: 10 | L97: Ақмола облысы, қаласы Ерейментау, Абылай хана көшесі 18а
A98: 14 | B98: "Облгаз" ЖШС | C98: .060640002335 | D98: Ақмола облысы, Көкшетау қаласы, Стройдвор СМП-296; БАЯНОВ КАЙРАТ МАЛИКОВИЧ | E98: ГНС | F98: Сұйылтылған мұнай газын сату және сақтау | G98: Қысыммен жұмыс істейтін ыдыс, пропан-бутан қоспасы | H98: 1 | I98: C-2488 | J98: 9776 | K98: 100 | L98: Көкшетау қаласы, Стройдвор СМП-296;
B99: "Облгаз" ЖШС | C99: .060640002335 | D99: Ақмола облысы, Көкшетау қаласы, Стройдвор СМП-296; БАЯНОВ КАЙРАТ МАЛИКОВИЧ | E99: ГНС | F99: Сұйылтылған мұнай газын сату және сақтау | G99: Қысыммен жұмыс істейтін ыдыс, пропан-бутан қоспасы | H99: 1 | I99: С-2473 | J99: 9736 | K99: 100 | L99: Көкшетау қаласы, Стройдвор СМП-296;
B100: "Облгаз" ЖШС | C100: .060640002335 | D100: Ақмола облысы, Көкшетау қаласы, Стройдвор СМП-296; БАЯНОВ КАЙРАТ МАЛИКОВИЧ | E100: ГНС | F100: Сұйылтылған мұнай газын сату және сақтау | G100: Қысыммен жұмыс істейтін ыдыс, пропан-бутан қоспасы | H100: 1 | I100: С-2479 | J100: 15804 | K100: 6 | L100: Көкшетау қаласы, Стройдвор СМП-296;
B101: "Облгаз" ЖШС | C101: .060640002335 | D101: Ақмола облысы, Көкшетау қаласы, Стройдвор СМП-296; БАЯНОВ КАЙРАТ МАЛИКОВИЧ | E101: ГТП | F101: Сұйылтылған мұнай газын сату және сақтау | G101: Қысыммен жұмыс істейтін ыдыс, пропан-бутан қоспасы | H101: 1 | I101: С-3833 | J101: 1801 | K101: 16 | L101: Ақмола облысы,, Есиль ауданы, Есиль қаласы, Щорса көшесі б\н
B102: "Облгаз" ЖШС | C102: .060640002335 | D102: Ақмола облысы, Көкшетау қаласы, Стройдвор СМП-296; БАЯНОВ КАЙРАТ МАЛИКОВИЧ | E102: ГТП | F102: Сұйылтылған мұнай газын сату және сақтау | G102: Қысыммен жұмыс істейтін ыдыс, пропан-бутан қоспасы | H102: 1 | I102: С-2471 | J102: 93 | K102: 12.45 | L102: Ақмола облысы, Көкшетау қаласы, Стройдвор СМП-296;
B103: "Облгаз" ЖШС | C103: .060640002335 | D103: Ақмола облысы, Көкшетау қаласы, Стройдвор СМП-296; БАЯНОВ КАЙРАТ МАЛИКОВИЧ | E103: ГТП | F103: Сұйылтылған мұнай газын сату және сақтау | G103: Қысыммен жұмыс істейтін ыдыс, пропан-бутан қоспасы | H103: 1 | I103: С-2472 | J103: 90 | K103: 12.45 | L103: Ақмола облысы, Көкшетау қаласы, Стройдвор СМП-296;
B104: "Облгаз" ЖШС | C104: .060640002335 | D104: Ақмола облысы, Көкшетау қаласы, Стройдвор СМП-296; БАЯНОВ КАЙРАТ МАЛИКОВИЧ | E104: ГТП | F104: Сұйылтылған мұнай газын сату және сақтау | G104: Қысыммен жұмыс істейтін ыдыс, пропан-бутан қоспасы | H104: 1 | I104: С-2478 | J104: 20724 | K104: 4.8 | L104: Ақмола облысы, Көкшетау қаласы, Көкшетау - Щучинск тас жолы
B105: "Облгаз" ЖШС | C105: .060640002335 | D105: Ақмола облысы, Көкшетау қаласы, Стройдвор СМП-296; БАЯНОВ КАЙРАТ МАЛИКОВИЧ | E105: ГТП | F105: Сұйылтылған мұнай газын сату және сақтау | G105: Қысыммен жұмыс істейтін ыдыс, пропан-бутан қоспасы | H105: 1 | I105: С-2477 | J105: 20726 | K105: 4.8 | L105: Ақмола облысы, Көкшетау қаласы, Көкшетау - Щучинск тас жолы
B106: "Облгаз" ЖШС | C106: .060640002335 | D106: Ақмола облысы, Көкшетау қаласы, Стройдвор СМП-296; БАЯНОВ КАЙРАТ МАЛИКОВИЧ | E106: ГТП | F106: Сұйылтылған мұнай газын сату және сақтау | G106: Қысыммен жұмыс істейтін ыдыс, пропан-бутан қоспасы | H106: 1 | I106: С-2475 | J106: 20690 | K106: 4.8 | L106: Ақмола облысы, Көкшетау қаласы, Көкшетау - Щучинск тас жолы
B107: "Облгаз" ЖШС | C107: .060640002335 | D107: Ақмола облысы, Көкшетау қаласы, Стройдвор СМП-296; БАЯНОВ КАЙРАТ МАЛИКОВИЧ | E107: ГТП | F107: Сұйылтылған мұнай газын сату және сақтау | G107: Қысыммен жұмыс істейтін ыдыс, пропан-бутан қоспасы | H107: 1 | I107: С-2476 | J107: 18875 | K107: 4.8 | L107: Ақмола облысы, Көкшетау қаласы, Көкшетау - Щучинск тас жолы
B108: "Облгаз" ЖШС | C108: .060640002335 | D108: Ақмола облысы, Көкшетау қаласы, Стройдвор СМП-296; БАЯНОВ КАЙРАТ МАЛИКОВИЧ | E108: ГТП | F108: Сұйылтылған мұнай газын сату және сақтау | G108: Қысыммен жұмыс істейтін ыдыс, пропан-бутан қоспасы | H108: 1 | I108: С-3026 | J108: 832 | K108: 12 | L108: Ақмола облысы, Көкшетау қаласы, Көкшетау - Щучинск тас жолы
B109: "Облгаз" ЖШС | C109: .060640002335 | D109: Ақмола облысы, Көкшетау қаласы, Стройдвор СМП-296; БАЯНОВ КАЙРАТ МАЛИКОВИЧ | E109: ГТП | F109: Сұйылтылған мұнай газын сату және сақтау | G109: Қысыммен жұмыс істейтін ыдыс, пропан-бутан қоспасы | H109: 1 | L109: Ақмола облысы, Көкшетау қаласы, Көкшетау - Щучинск тас жолы
B110: "Облгаз" ЖШС | C110: .060640002335 | D110: Ақмола облысы, Көкшетау қаласы, Стройдвор СМП-296; БАЯНОВ КАЙРАТ МАЛИКОВИЧ | E110: ГТП | F110: Сұйылтылған мұнай газын сату және сақтау | G110: Қысыммен жұмыс істейтін ыдыс, пропан-бутан қоспасы | H110: 1 | I110: С-2401А | J110: 75 | K110: 12.45 | L110: Ақмола облысы, Көкшетау қаласы, Көкшетау - Қызыл Жар тас жолы
B111: "Облгаз" ЖШС | C111: .060640002335 | D111: Ақмола облысы, Көкшетау қаласы, Стройдвор СМП-296; БАЯНОВ КАЙРАТ МАЛИКОВИЧ | E111: ГТП | F111: Сұйылтылған мұнай газын сату және сақтау | G111: Қысыммен жұмыс істейтін ыдыс, пропан-бутан қоспасы | H111: 1 | I111: С-3008 | J111: 797 | K111: 12 | L111: Ақмола облысы, Көкшетау қаласы, Көкшетау - Қызыл Жар тас жолы
B112: "Облгаз" ЖШС | C112: .060640002335 | D112: Ақмола облысы, Көкшетау қаласы, Стройдвор СМП-296; БАЯНОВ КАЙРАТ МАЛИКОВИЧ | E112: ГТП | F112: Сұйылтылған мұнай газын сату және сақтау | G112: Қысыммен жұмыс істейтін ыдыс, пропан-бутан қоспасы | H112: 1 | I112: С-2483 | J112: 86 | K112: 12.45 | L112: Ақмола облысы, Көкшетау қаласы, Көкшетау - Зеренді тас жолы
B113: "Облгаз" ЖШС | C113: .060640002335 | D113: Ақмола облысы, Көкшетау қаласы, Стройдвор СМП-296; БАЯНОВ КАЙРАТ МАЛИКОВИЧ | E113: ГТП | F113: Сұйылтылған мұнай газын сату және сақтау | G113: Қысыммен жұмыс істейтін ыдыс, пропан-бутан қоспасы | H113: 1 | I113: С-3009 | J113: 796 | K113: 12.45 | L113: Ақмола облысы, Көкшетау қаласы, Көкшетау - Зеренді тас жолы
B114: "Облгаз" ЖШС | C114: .060640002335 | D114: Ақмола облысы, Көкшетау қаласы, Стройдвор СМП-296; БАЯНОВ КАЙРАТ МАЛИКОВИЧ | E114: ГТП | F114: Сұйылтылған мұнай газын сату және сақтау | G114: Қысыммен жұмыс істейтін ыдыс, пропан-бутан қоспасы | H114: 1 | L114: Ақмола облысы, Бурабай ауданы, Щучинск қаласы, Железнодорожная көшесі 107
B115: "Облгаз" ЖШС | C115: .060640002335 | D115: Ақмола облысы, Көкшетау қаласы, Стройдвор СМП-296; БАЯНОВ КАЙРАТ МАЛИКОВИЧ | E115: ГТП | F115: Сұйылтылған мұнай газын сату және сақтау | G115: Қысыммен жұмыс істейтін ыдыс, пропан-бутан қоспасы | H115: 1 | L115: Ақмола облысы, Бурабай ауданы, Щучинск қаласы, Железнодорожная көшесі 107
...

Sheet Маңғыстау облысы
A1: №п/п | B1: Заңды, жеке тұлғаның атауы | C1: БСН, ЖСН | D1: Заңды, жеке тұлғаның мекенжайы, басшының Т. А. Ә. | E1: Объектінің атауы | F1: Өнеркәсіптік саласы және қызмет түрі | G1: Қауіпті техникалық құрылғының атауы (жұмыс ортасы) | H1: Объектінің жобалық қуаты (ыдыс саны, есептік нөмірі, зауытық нөмірі, сұйытылған мұнай газын сақтау көлемі) | L1: Объектінің орналасқан жері (мекенжайы)
H2: ҚЖЫ-ның жалпы саны, дана | I2: есептік № | J2: зауыттық № | K2: ҚЖЫ-ның көлемі (қысыммен жұмыс істейтін ыдыс), м3
A3: 1 | B3: 2 | C3: 3 | D3: 4 | E3: 5 | F3: 6 | G3: 7 | H3: 8 | I3: 9 | J3: 10 | K3: 11 | L3: 12
A4: 1 | B4: "Базарбаев А.М." ЖК | C4: 840913300226 | D4: Маңғыстау облысы, Ақтау қаласы, 15 ш/а, 66 үй, 6 пәтер. Базарбаев Асан Мухаметдыллаевич | E4: АГҚС | F4: АГҚС, сұйытылған газды бөлшек саудада өткізу | G4: СУГ резервуары-1600-1,57-Н1, сұйытылған көмірсутек газы, | H4: 1 | I4: С-4843М | J4: 1842 | K4: 6 м3 | L4: Маңғыстау облысы, Жаңаөзен қаласы, Жаңаөзен-Ақтау тас жолы бойында
G5: ППЦЗ-12885 резервуары | H5: 1 | I5: С-3055М | J5: 629 | K5: 12 м3
A6: 2 | B6: "Базарбаев М." ЖК | C6: 600312300319 | D6: Маңғыстау облысы, Жаңаөзен қаласы, Арай 1 ш/а, К. Шалабаева көшесі, 17 үй, Базарбаев Мухаметдылла | E6: АГҚС | F6: АГҚС, сұйытылған газды бөлшек саудада өткізу | G6: СУГ-10н.УХЛ резервуары, сұйытылған көмірсутекті газ | H6: 1 | I6: С-3509М | J6: 1362 | K6: 9,96 м3 | L6: Маңғыстау облысы, Жаңаөзен қаласы, Абай көшесі, № 87 құрылымы
A7: 3 | B7: "Байдуллаев М.Б." ЖК | C7: 830119301226 | D7: Маңғыстау облысы, Мұнайлы ауданы, Қызылтөбе ауылы, Абай көшесі, №59 үй . Байдуллаев Марат Багдаулетович | E7: АГҚС | F7: АГҚС, сұйытылған газды бөлшек саудада өткізу | G7: сұйытылған көмірсутек газы пропан-бутан DIN 51622 / EN 589 | H7: 1 | I7: C-3245М | J7: 564 | K7: 14,16 м3 | L7: Мангистауской области, Мунайлинский район, село Мангистау, пром зона №6, участок № 89
A8: 4 | B8: "ISKER-AI" ЖШС | C8: 211140012617 | D8: Маңғыстау облысы, Ақтау қаласы, 25 ш/а, №29 ғимарат Байдуллаев Марат Багдаулетович | E8: АГҚС | F8: АГҚС, сұйытылған газды бөлшек саудада өткізу | G8: СУГ-10н су қоймасы.УХЛ1, сұйытылған көмірсутек газы пропан-бутан | H8: 1 | I8: 22-06-05-06/С-4826М | J8: 1018 | K8: 9,95 м3 | L8: Маңғыстау облысы, Ақтау қаласы, 25 ш / а, №29 ғимарат
G9: жартылай тіркеме цистернасы ET GAS , сұйытылған көмірсутек газы пропан-бутан | H9: 1 | I9: 22-06-05-06/С-4836М | J9: ETT2019-ADR4523 | K9: 36 м3
A10: 5 | B10: "Жубаев А." ЖК | C10: 630406201135 | D10: Маңғыстау облысы, Ақтау қаласы, 29 ш / а, 8 үй, 134 пәтер Жубаев Абиш Шукирбаевич | E10: АГҚС | F10: АГҚС, сұйытылған газды бөлшек саудада өткізу | G10: Қысыммен жұмыс істейтін ыдыс СУГ үшін Резервуар | H10: 1 | I10: С-3218М | J10: №488 | K10: 9,96 м3 | L10: Маңғыстау облысы, Мұнайлы ауданы, Маңғыстау ауылы, бұрынғы күкірт қышқылы зауыты ауданындағы №2 учаске
G11: Қысыммен жұмыс істейтін ыдыс СУГ үшін Резервуар | H11: 1 | I11: С-4773М | J11: №5301 | K11: 30 м3
A12: 6 | B12: ЖК "Жиделі" | C12: 590806402055 | D12: Ақтау қаласы, 18 ш/а, №2 үй, 141 пәтер,, Мынбаева Изимше Кидиршаевна | E12: АГҚС "JIDELI" | F12: АГҚС, сұйытылған газды бөлшек саудада өткізу | G12: Резервуар СГ-20.Н.1-УХЛ1 | H12: 1 | I12: С-3770М | J12: 313 | K12: 19,81 м3 | L12: Маңғыстау облысы, Ақтау қаласы, 25 ш / а, № 18 учаске
G13: ППЦЗ ыдысы 31-80 00 000СБ | H13: 1 | I13: С-3966М | J13: 98 | K13: 31,9 м3
A14: 7 | B14: ЖК "Базарбаев Е.М" | C14: 920115300887 | D14: Жаңаөзен қаласы,ш / а.Арай, Шалабаев көшесі, 17, Базарбаев Есен Мұхаметділлаұлы | E14: АГҚС | F14: АГҚС, сұйытылған газды бөлшек саудада өткізу | G14: Цистерна Резервуар ППЦЗ-12-885 | H14: 1 | I14: C-2779M | J14: 763 | K14: 12 м3 | L14: Маңғыстау облысы, Жаңаөзен қаласы, өнеркәсіп аймағы,4-құрылыс, Жаңаөзен-Ақтау тас жолының бойында
A15: 8 | B15: ЖК "Базарбаев Д.М" | C15: 860828300763 | D15: Жаңаөзен қаласы,ш / а.Мұнайлы, Губайдуллин көшесі 4, Базарбаев Жасан Мұхаметділлаұлы | E15: АГҚС | F15: АГҚС, сұйытылған газды бөлшек саудада өткізуого газа | G15: жартылай тіркеме-цистерна | H15: 1 | I15: C-3543M | J15: INS-IST/11-135 | K15: 20 м3 | L15: Маңғыстау облысы, Жаңаөзен қаласы, Абай көшесі, 84 құрылыс, "West Gas"АГҚС
G16: Цистерна Резервуар ППЦЗ-12-885 | H16: 1 | I16: C-2804M | J16: 764 | K16: 12 м3
A17: 9 | B17: ЖК "Қалиев М.М" | C17: 960930350616 | D17: Маңғыстау облысы, Ақтау қаласы, Толқын тұрғын алабы, № 132 үй, Қалиев Мұхтар Майрамбайұлы | E17: АГҚС | F17: АГҚС, сұйытылған газды бөлшек саудада өткізу | G17: қысыммен жұмыс істейтін ыдыс Резервуар для СУГ | H17: 2 | I17: 22-06-05-06/C-4749M | J17: 34689 | K17: 25 м3 | L17: Маңғыстау облысы, Ақтау қаласы, №9 өнеркәсіптік аймақ, №8/2 учаске
I18: 22-06-05-06/С-5522М | J18: И654 | K18: 10 м3
A19: 10 | B19: ЖК"Туракова Э.А" | C19: 841101401645 | D19: Маңғыстау облысы, Жаңаөзен қаласы, ш / а.Шаңырақ, № 24 үй, Туракова Эльмира Аманкосова | E19: АГҚС | F19: АГҚС, сұйытылған газды бөлшек саудада өткізу | G19: Цистерна | H19: 1 | I19: 22-06-05-06/С-4676М | J19: 431 | K19: 10,8 м3 | L19: Маңғыстау облысы, Мұнайлы ауданы, Батыр ауылы, № 1 өнеркәсіптік аймақ,№14/1 уч.
A20: 11 | B20: ЖК"Жанбуршиев Аскар" | C20: 601214300636 | D20: Маңғыстау облысы, Маңғыстау ауданы, Шебир ауылы, Тәуелсіздік көшесі, 29 үй | E20: АГҚС | F20: АГҚС, сұйытылған газды бөлшек саудада өткізу | G20: СУГ-1200-1,6-5 | H20: 1 | I20: 22-06-05-06/С-4685М | J20: 491 | K20: 5 м3 | L20: Маңғыстау облысы, Маңғыстау ауданы, Шебир ауылы, №4/2 учаске
A21: 12 | B21: ЖШС «Ерекешов» | C21: 130240008983 | D21: Маңғыстау облысы,Мұнайлы ауданы, Атамекен ауылы өнеркәсіп аймағы 2, 5-уч. | E21: АГҚС | F21: АГҚС, сұйытылған газды бөлшек саудада өткізу | G21: Қысыммен жұмыс істейтін ыдыс СУГ үшін Резервуар | H21: 1 | I21: 22-06-05-06/С-4715М | J21: 6234 | K21: 10 м3 | L21: Мангистауская область, Тупкараганский район,массив Каражанбас,участок №60
A22: 13 | B22: ЖК «Елемесова Жанылай Баяновна» | C22: 751220400774 | D22: Ақтау қаласы, 12 ш / а., №56 үй, Елемесова Жаңылай Баянқызы | E22: АГҚС | F22: АГҚС, сұйытылған газды бөлшек саудада өткізу | G22: қысыммен жұмыс істейтін ыдыс | H22: 1 | I22: 25-20-13-1/С-3726М | J22: 4828 | K22: 20 м3 | L22: Маңғыстау облысы, Мұнайлы ауданы, Баянды ауылы, № 2 өндірістік аймақ, 3-учаске
A23: 14 | B23: «Жанамолденова»ЖК | C23: 591230400299 | D23: Ақтау қ., 27 ш / а, 16 үй, 10 пәтер, ЖАНАМОЛДЕНОВА АЛТЫН АЛКИСАЕВНА | E23: АГҚС | F23: АГҚС, сұйытылған газды бөлшек саудада өткізу | G23: қысыммен жұмыс істейтін ыдыс | H23: 1 | I23: C-4478M | J23: 201203 | K23: 54 м3 | L23: Маңғыстау облысы, Мұнайлы ауданы, Қызылтөбе ауылдық округі,Қызылтөбе-2 тұрғын алабына қарама-қарсы, Ақтау-карьер №4 автожолының бойында
G24: қысыммен жұмыс істейтін ыдыс | H24: 1 | I24: C-3240M | J24: 718 | K24: 9,96 м3
G25: қысыммен жұмыс істейтін ыдыс | H25: 1 | I25: 22-06-05-06/C-4935M | J25: 6 | K25: 13,17 м3
A26: 15 | B26: ЖК «Майша» | C26: 730724402794 | D26: ЖАНАОЗЕН, МИКРОРАЙОН Арай, УЛИЦА Шотан батыра, 29, Бактыбаева МАША | E26: АГҚС | F26: АГҚС, сұйытылған газды бөлшек саудада өткізу | G26: Резервуар СУГ | H26: 1 | I26: 22-06-05-06/С-4820М | J26: 355 | K26: 9,96 м3 | L26: Маңғыстау облысы, Жаңаөзен қаласы, Маңғыстау даңғылы, 2А құрылыс
G27: қысыммен жұмыс істейтін ыдыс (ППЦ) | H27: 1 | I27: 22-06-05-06/ С-4838М | J27: 04/0216 | K27: 48 м3
A28: 16 | B28: ЖК «Нурсултанова Камшат Даригуловна» | C28: 830217400732 | D28: Ақтау қаласы, 13 ш / а., 3 үй, 7 пәтер, Нұрсұлтанова Кәмшат Дариғұлқызы | E28: АГҚС | F28: АГҚС, сұйытылған газды бөлшек саудада өткізу | G28: қысыммен жұмыс істейтін ыдыс (ППЦЗ-12) | H28: 1 | I28: С-3522М | J28: 140 | K28: 13,17 м3 | L28: Маңғыстау облысы, Мұнайлы ауданы, Басқұдық ауылы, № 3 өндірістік база, №14/2 учаске
G29: қысыммен жұмыс істейтін ыдыс (сосуд СУГ) | H29: 1 | I29: С-3613М | J29: 224 | K29: 36 м3
A30: 17 | B30: ЖШС «КУС» | C30: 960740000816 | D30: Ақтау қ. 13 шағынауданы,36 үй, Құсайынов МЕЙРАМ Сүлейменұлы | E30: АГҚС | F30: АГҚС, сұйытылған газды бөлшек саудада өткізу | G30: қысыммен жұмыс істейтін ыдыс Резервуар СУГ | H30: 1 | I30: 22-06-05-06/C-4852M | J30: 904 | K30: 10 м3 | L30: Маңғыстау облысы, Ақтау қаласы, №8 өнеркәсіптік аймақ, №73/1 учаске
G31: қысыммен жұмыс істейтін ыдыс (резервуар) | H31: 1 | I31: 22-06-05-06/С-4784М | J31: 8292 | K31: 54 м3
E32: АГҚС | F32: АГҚС, сұйытылған газды бөлшек саудада өткізу | G32: қысыммен жұмыс істейтін ыдыс (Резервуар для СУГ) | H32: 1 | I32: 22-06-05-06/C-4778M | J32: 434 | K32: 10,8 м3 | L32: Маңғыстау облысы, Ақтау қаласы, №8 өнеркәсіптік аймақ, №73 учаске
G33: қысыммен жұмыс істейтін ыдыс (резервуар) | H33: 1 | I33: 22-06-05-06/С-4779М | J33: 8292 | K33: 38 м3
G34: қысыммен жұмыс істейтін ыдыс (емкость) | H34: 1 | I34: 22-06-05-06/С-4626М | J34: 8283 | K34: 54 м3
G35: қысыммен жұмыс істейтін ыдыс(резервуар) | H35: 1 | I35: С-3037М | J35: 665 | K35: 10,58 м3
A36: 18 | B36: ЖШС «Матаев Ж.У.» | C36: 211140022585 | D36: Ақтау қ., Өмірзақ ауылы Приозерный тұрғын алабы - 2 72/3 | E36: АГҚС | F36: АГҚС, сұйытылған газды бөлшек саудада өткізу | G36: қысыммен жұмыс істейтін ыдыс (резервуар) | H36: 1 | I36: С-3990М | J36: 1251 | K36: 49 м3 | L36: Маңғыстау облысы, Бейнеу ауданы, Ақжігіт ауылы, 2-аймақ, № 264 учаске
A37: 19 | B37: ЖШС «Матаев Ж.У.» | C37: 211140022585 | D37: Ақтау қ., Өмірзақ ауылы Приозерный тұрғын алабы - 2 72/3 | E37: АГҚС | F37: АГҚС, сұйытылған газды бөлшек саудада өткізу | G37: қысыммен жұмыс істейтін ыдыс(резервуар) | H37: 1 | I37: С-3989М | J37: 1252 | K37: 49 м3 | L37: Маңғыстау облысы, Бейнеу ауданы, Боранқұл ауылы, 8-аймақ, №14 учаске
A38: 20 | B38: ЖШС «TAU KEN Corporation» | C38: 130940007045 | D38: Ақтау Қ., 5 шағын аудан., 8 үй, 110 пәтер | E38: АГҚС | F38: АГҚС, сұйытылған газды бөлшек саудада өткізу | G38: қысыммен жұмыс істейтін ыдыс(резервуар наземный) | H38: 1 | I38: 25-20-14-1/С-4391М | J38: 2577 | K38: 20 м3 | L38: Маңғыстау облысы, Бейнеу ауданы,№1 аймақ, №250 учаске
A39: 21 | B39: ЖК «Турахов Бекес Джиенбаевич» | C39: 610212303054 | D39: Ақтау қаласы Жаңаөзен, Арай шағынауданы, Нұрмахан ЖАНТОРИН көшесі, 5 | E39: АГҚС | F39: АГҚС, сұйытылған газды бөлшек саудада өткізу | G39: қысыммен жұмыс істейтін ыдыс (резеруар) | H39: 1 | I39: 22-06-05-06/С-4745М | J39: 137 | K39: 17,46 м3 | L39: Маңғыстау облысы, Жаңаөзен қаласы, Солтүстік-Шығыс өнеркәсіп аймағы-2, №39 құрылыс
G40: қысыммен жұмыс істейтін ыдыс ППЦТ-38 | H40: 1 | I40: С-3284М | J40: 865 | K40: 9.96
A41: 22 | B41: «Аминов Н.М.» ЖК | C41: 731205301700 | D41: Маңғыстау облысы, Ақтау қаласы, Өмірзақ ауылы, Ақжелкен тұрғын алабы, Балауса көшесі, 56. АМИНОВ НҰРЛАН МЕҢДІБАЙҰЛЫ | E41: АГҚС | F41: АГҚС, сұйытылған газды бөлшек саудада өткізу | G41: қысыммен жұмыс істейтін ыдыс (резеруар) | H41: 1 | I41: 22-06-05-06/С-4538М | J41: 1888 | K41: 5 м3 | L41: Маңғыстау облысы, Ақтау қаласы, Өмірзақ ауылы, Ж. М. Прозерный-3 212/1
G42: СМГ үшін автоцистерна | H42: 1 | I42: 25-20-13-1/С-3717М | J42: 447 | K42: 12,45 м3
G43: СМГ үшін автоцистерна | H43: 1 | I43: 25-20-13-1/С-3706М | J43: 001 | K43: 32 м3
A44: 23 | B44: «ТУРАКОВ САЯН АМАНХОСОВИЧ» ЖК | C44: 851107301613 | D44: Маңғыстау облысы, Жаңаөзен қаласы, ш/а. Арай, Жібек жолы көшесі, 38. ТУРАКОВ САЯН АМАНХОСОВИЧ | E44: АГҚС | F44: АГҚС, сұйытылған газды бөлшек саудада өткізу | G44: СМГ үшін автоцистерна | H44: 1 | I44: С-3571М | J44: 063 | K44: 30 м3 | L44: Маңғыстау облысы, Жаңаөзен қаласы, өндірістік аймақ-1, құрылыс-4А
G45: қысыммен жұмыс істейтін ыдыс | H45: 1 | I45: 22-06-05-06/С-4822М | J45: 249 | K45: 10 м3
A46: 24 | B46: «ТУРАКОВ АМАНХОС ДЖИЕНБАЕВИЧ» ЖК | C46: 580301300322 | D46: Маңғыстау облысы, Жаңаөзен қаласы, ш / а. Өркен, 34, 95. ТУРАКОВ АМАНХОС ДЖИЕНБАЕВИЧ | E46: АГҚС | F46: АГҚС, сұйытылған газды бөлшек саудада өткізу | G46: қысыммен жұмыс істейтін ыдыс | H46: 1 | I46: 22-06-05-06/C-5344 | J46: 1330 | K46: 20 м3 | L46: Маңғыстау облысы, Жаңаөзен қаласы, № 3 өнеркәсіп аймағы, құрылыс 27К
E47: АГҚС | F47: АГҚС, сұйытылған газды бөлшек саудада өткізу | G47: қысыммен жұмыс істейтін ыдыс (резеруар) | H47: 1 | I47: 22-06-05-06/С-4683М | J47: 259 | K47: 11,96 м3 | L47: Маңғыстау облысы, Жаңаөзен қаласы, № 3 өнеркәсіп аймағы, құрылыс 27Г
A48: 25 | B48: «ДЖОЛМАГАНБЕТОВ О. А.» ЖК | C48: 861114303194 | D48: Маңғыстау облысы, Жаңаөзен қаласы, ш / а. Өркен, 20, 42. ДЖОЛМАГАНБЕТОВ ОНДАСЫН АХМЕДОВИЧ | E48: АГҚС | F48: АГҚС, сұйытылған газды бөлшек саудада өткізу | G48: қысыммен жұмыс істейтін ыдыс (резеруар) | H48: 1 | I48: 22-06-05-06/С-4821М | J48: 1189 | K48: 9,96 м3 | L48: Маңғыстау облысы, Жаңаөзен қаласы, өнеркәсіп аймағы, Жаңаөзен-Ақтау автотрассасы бойында
A49: 26 | B49: «АДМ-ГАЗ» ЖШС | C49: 050840009134 | D49: Алматы облысы Іле ауданы Покровка ауылы Кенесары Хан көшесі 169В. ЖУМАНИЯЗОВ ДАНАБЕК АБАЕВИЧ | E49: АГҚС | F49: АГҚС, сұйытылған газды бөлшек саудада өткізу | G49: қысыммен жұмыс істейтін ыдыс (резеруар) | H49: 1 | I49: 25-20-13-1/С-3756М | J49: 256 | K49: 20 м3 | L49: Маңғыстау облысы, Ақтау қаласы, №03 ЖҚС "Гелиос" ЖШС Автодромға қарама-қарсы
G51: қысыммен жұмыс істейтін ыдыс (резеруар) | H51: 1 | I51: 25-20-13-1/С-3752М | J51: 18522 | K51: 4,8 м3 | L51: Мангистауская область, г. Актау, трасса в аэропорт, напротив ЖШС «Шегендеу», АЗС №05 ЖШС «Гелиос»
G52: қысыммен жұмыс істейтін ыдыс | H52: 1 | I52: 25-20-13-1/С-3754М | J52: 1016 | K52: 4,9 м3
G53: қысыммен жұмыс істейтін ыдыс (резеруар) | H53: 1 | I53: 25-20-13-1/С-3751М | J53: 1048 | K53: 12 м3 | L53: Маңғыстау облысы, Ақтау қ., ЖЭО-1 қарама-қарсы, №04 ЖҚС "Гелиос" ЖШС
G54: қысыммен жұмыс істейтін ыдыс (резеруар) | H54: 1 | I54: 25-20-13-1/С-3757М | J54: 257 | K54: 12 м3 | L54: Маңғыстау облысы, Ақтау қаласы, Маңғышлаққа тас жол, ХГМЗ қарсы, №02 ЖҚС "Гелиос" ЖШС
G55: қысыммен жұмыс істейтін ыдыс (резеруар) | H55: 1 | I55: 25-20-13-1/С-3755М | J55: 87529 | K55: 4,8 м3 | L55: Маңғыстау облысы, Ақтау қаласы, Бірлік кенті, №01 ЖҚС "Гелиос" ЖШС
G56: қысыммен жұмыс істейтін ыдыс | H56: 1 | I56: 25-20-13-1/С-3753М | J56: 28325 | K56: 4,8 м3
A57: 27 | B57: «Бердибекова А. С.» ЖК | C57: 810626401156 | D57: Маңғыстау облысы, Ақтау қаласы, 18 шағын ауданы, 4, 16 . БЕРДИБЕКОВА АКБАЯН САКЕНОВНА | E57: АГҚС | F57: АГҚС, сұйытылған газды бөлшек саудада өткізу | G57: қысыммен жұмыс істейтін ыдыс (резеруар) | H57: 1 | I57: 22-06-05-06/С-4426М | J57: 11222 | K57: 25 м3 | L57: Маңғыстау облысы, Мұнайлы ауданы, Баянды ауылы, № 3 Өнеркәсіптік аймақ, №200 учаске
A58: 28 | B58: «Каламбаева Алтынгул Беккалиевна» ЖК | C58: 850429400213 | D58: Маңғыстау облысы, Ақтау қаласы, 17 шағын ауданы, 6/1, 285 . КАЛАМБАЕВА АЛТЫНГУЛ БЕККАЛИЕВНА | E58: АГҚС | F58: АГҚС, сұйытылған газды бөлшек саудада өткізу | G58: қысыммен жұмыс істейтін ыдыс (резеруар) | H58: 1 | I58: С-3614М | J58: 633 | K58: 10 м3 | L58: Маңғыстау облысы, Ақтау қаласы, № 4 өнеркәсіптік аймақ, №77 учаске
A59: 29 | B59: «Жолбасаров Ержан Бостандыкович» ЖК | C59: 871229302430 | D59: Маңғыстау облысы, Ақтау қаласы, 19 шағын ауданы, 26, 51. ЖОЛБАСАРОВ ЕРЖАН БОСТАНДЫКОВИЧ | E59: АГҚС | F59: АГҚС, сұйытылған газды бөлшек саудада өткізу | G59: қысыммен жұмыс істейтін ыдыс (резеруар) | H59: 1 | I59: 22-06-05-06/С-4541М | J59: 223744 | K59: 54 м3 | L59: Маңғыстау облысы, Түпқараған ауданы, Таушық ауылы, "Таушық-Шетпе" автомобиль жолының бойында 7 км.
A60: 30 | B60: «Ильясов М.И.» ЖК | C60: 690410300685 | D60: Маңғыстау облысы, Ақтау қаласы, 17 шағын ауданы, 27, 42. ИЛЬЯСОВ МАХМУТ ИЛЬЯСОВИЧ | E60: АГҚС | F60: АГҚС, сұйытылған газды бөлшек саудада өткізу | G60: қысыммен жұмыс істейтін ыдыс (резеруар) | H60: 1 | I60: С-3213М | J60: 468 | K60: 9,96 м3 | L60: Маңғыстау облысы, Маңғыстау ауданы, Шетпе ауылы, Жаңа-орпа ауылы
G61: қысыммен жұмыс істейтін ыдыс | H61: 1 | I61: С-3214М | J61: 469 | K61: 9,96 м3
G62: ППЦЗ қысымымен жұмыс істейтін ыдыс | H62: 1 | I62: С-3612М | J62: 366 | K62: 30 м3
A63: 31 | B63: «Сағындықова Ж.Ы.» ЖК | C63: 700101404887 | D63: Маңғыстау облысы, Ақтау қаласы, 17 шағынауданы, 27, 42. САҒЫНДЫҚОВА ЖҰЛДЫЗ ЫСҚАҚҚЫЗЫ | E63: АГҚС | F63: АГҚС, сұйытылған газды бөлшек саудада өткізу | G63: қысыммен жұмыс істейтін ыдыс (резеруар) | H63: 1 | I63: С-4076М | J63: 1847 | K63: 30 м3 | L63: Маңғыстау облысы, Маңғыстау ауданы, Баянды ауылы, № 1 Өндірістік аймақ, №68/3 учаске
A64: 32 | B64: «Енсегенов Е.О.» ЖК | C64: 890212301847 | D64: Маңғыстау облысы, Ақтау қаласы, 4 А шағын ауданы, 28. ЕҢСЕГЕНОВ ЕРЖАН ОСПАНҰЛЫ | E64: АГҚС | F64: АГҚС, сұйытылған газды бөлшек саудада өткізу | G64: қысыммен жұмыс істейтін ыдыс (резеруар) | H64: 1 | I64: 22-06-05-06/С-4785М | J64: 1 | K64: 20 м3 | L64: Маңғыстау облысы, Мұнайлы ауданы, Батыр ауылы, № 1 Өндірістік аймақ, №20 учаске
A65: 33 | B65: «Таласбаев М.И.» ЖК | C65: 840731302263 | D65: Маңғыстау облысы, Жаңаөзен қаласы, Астана шағынауданы, қара Жүсіп көшесі, 3. ТАЛАСБАЕВ МУНАЛБЕК ИСКАКОВИЧ | E65: АГҚС | F65: АГҚС, сұйытылған газды бөлшек саудада өткізу | G65: қысыммен жұмыс істейтін ыдыс (резеруар) | H65: 1 | I65: 25-20-13-1/С-3737М | J65: 04ТКМ23 | K65: 54 м3 | L65: Маңғыстау облысы, Жаңаөзен қаласы, "Өзенинвест" МКК жолының бойында
A66: 34 | B66: "Сатыбалдиева М.Т. " ЖК | C66: 831102400492 | D66: Манғыстау облысы, Ақтау қаласы, 12 ш/а, №72 үй, №18 пәтер, Сатыбалдиева Махаббат Тойлыбаевна | E66: АГҚС | F66: АГҚС, сұйытылған газды бөлшек саудада өткізу | G66: Қысыммен жұмыс істейтін ыдыс жер үсті моноблок | H66: 1 | I66: 22-06-05-06/С-4877М | J66: 40491 | K66: 10 м3 | L66: Маңғыстау облысы, Жаңаөзен қаласы, № 1 Өндірістік аймақ, №8Д учаскесі
A67: 35 | B67: "Сатыбалды Т.Т." ЖК | C67: 880727300143 | D67: Манғыстау облысы, Ақтау қаласы, Шыгыс-3 ш/а ,№33 үй, Сатыбалды Талғат Тойлыбайұлы | E67: АГҚС | F67: АГҚС, сұйытылған газды бөлшек саудада өткізу | G67: Қысыммен жұмыс істейтін ыдыс жер үсті моноблок | H67: 1 | I67: 22-06-05-06/С-4878М | J67: 2013 | K67: 30 м3 | L67: Маңғыстау облысы, Ақтау қаласы, № 4 өнеркәсіптік аймақ, №84/8 құрылыс
A68: 36 | B68: "Тасымова А.Ж." ЖК | C68: 901213400779 | D68: Манғыстау облысы, Ақтау қаласы, 27 ш/а, №32 үй, № 136 пәтер, Тасымова Арайлым Жолдасқызы | E68: АГҚС | F68: АГҚС, сұйытылған газды бөлшек саудада өткізу | G68: қысыммен жұмыс істейтін ыдыс СУГ үшін Резервуар | H68: 1 | I68: 22-06-05-06/С-4872М | J68: 161YE | K68: 45 м3 | L68: Маңғыстау облысы, Мұнайлы ауданы, Батыр ауылы, № 3 Өнеркәсіптік аймақ, №11/5 учаске
A69: 37 | B69: "Базарбаев Д.М." ЖК | C69: 860828300763 | D69: Маңғыстау облысы, Жаңаөзен қаласы, Мұнайшы ш/а, Губайдулина көшесі №4, Базарбаев Джасан Мухаметдыллаевич | E69: АГҚС | F69: АГҚС, сұйытылған газды бөлшек саудада өткізу | G69: Цистернасы СУГ | H69: 1 | I69: С-3543М | J69: INS-IST/11-135 | K69: 20 м3 | L69: Маңғыстау облысы, Жаңаөзен қаласы, Абай көшесі №84
E70: АГҚС | F70: АГҚС, сұйытылған газды бөлшек саудада өткізу | G70: Резервуары ППЦЗ-12-885 | H70: 1 | I70: С-2804М | J70: 764 | K70: 12 м3
A71: 38 | B71: "Беков К.Б." ЖК | C71: 620204301096 | D71: Маңғыстау облысы, Мұнайлы ауданы, Қызылтөбе ауылы, Уәлиханов көшесі, №5, Беков Қаржау Бердигужаевич | E71: АГҚС | F71: АГҚС, сұйытылған газды бөлшек саудада өткізу | G71: Резервуар СУГ | H71: 1 | I71: С-3301М | J71: 847 | K71: 9,96 м3 | L71: Маңғыстау облысы, Мұнайлы ауданы, Маңғыстау ауылы, Ақтау қаласындағы №17 АГҚС ГАЙ бекеті арқылы өтетін автожол арқылы
E72: АГҚС | F72: АГҚС, сұйытылған газды бөлшек саудада өткізу | G72: Резервуар СУГ | H72: 1 | I72: С-4090М | J72: 4 | K72: 41 м3
A73: 39 | B73: "Тлеубергенова К" ЖК | C73: 660607400290 | D73: Маңғыстау облысы, Жаңаөзен қаласы, Өркен көшесі, №75 үй, кв №34, Тлеубергенова Канслу | E73: АГҚС | F73: АГҚС, сұйытылған газды бөлшек саудада өткізу | G73: Резервуар СУГ | H73: 1 | I73: С-3352М | J73: 902 | K73: 9,96 м3 | L73: Маңғыстау облысы, Жаңаөзен қаласы, өнеркәсіп аймағы
A74: 40 | B74: "Бекова Г.К." ЖК | C74: 850620400628 | D74: Маңғыстау облысы, Ақтау қаласы, 17 ш / а, 41/6, Бекова Гулнар Каржауовна | E74: АГҚС | F74: АГҚС, сұйытылған газды бөлшек саудада өткізу | G74: Стационарлық СУГ цистернасы | H74: 1 | I74: С-3300М | J74: 846 | K74: 9,96 м3 | L74: Маңғыстау облысы, Мұнайлы ауданы, Қызылтөбе ауылдық округі, "Дәулет"АГҚС Қызылтөбе елді мекеніне шығатын жол қиылысында
A75: 41 | B75: "Тютебеков О.Т." ЖК | C75: 570806300801 | D75: Маңғыстау облысы, Ақтау қаласы, 13 ш / а, 24 үй, 251 пәтер Тютебеков Омирхан Толепбергенович | E75: АГҚС | F75: АГҚС, сұйытылған газды бөлшек саудада өткізу | G75: көлік цистернасы ППЦЗ-12-885М | H75: 1 | I75: С-4835М | J75: 45 | K75: 12,45 м3 | L75: Маңғыстау облысы, Мұнайлы ауданы, Қызылтөбе ауылдық округі, Ақтау-4 карьері асфальт жолының бойында
A76: 42 | B76: "Атбұлақ" ЖК | C76: 870921300582 | D76: Маңғыстау облысы, Мұнайлы ауданы, Шеркала т/м, №735 үй, Избанов Фархад Маратович | E76: АГҚС | F76: АГҚС, сұйытылған газды бөлшек саудада өткізу | G76: Резервуар СУГ | H76: 1 | I76: 22-06-05-06/С-4717М | J76: 1 | K76: 10 | L76: Маңғыстау облысы, Мұнайлы ауданы, Маңғыстау ауылы, № 2 өндірістік аймақ, №7 учаске
A77: 43 | B77: "Кумисбаев Б.К." ЖК | C77: 751104301051 | D77: Маңғыстау облысы, Маңғыстау ауданы, Жыңғылды ауылы, Құлыш көшесі, №32, Кумисбаев Бердигали Кумисбаевич | E77: АГҚС | F77: АГҚС, сұйытылған газды бөлшек саудада өткізу | G77: Резервуар СУГ | H77: 1 | I77: 25-20-13-4-1/С-3864М | J77: 1 | K77: 9,96 м3 | L77: Маңғыстау облысы, Маңғыстау ауданы, Шетпе-1 ауылы, №195/5 учаскесі
A78: 44 | B78: «НУРСУЛТАНОВА ГУЛШАТ ДАРИГУЛОВНА» ЖК | C78: 720705400752 | D78: Маңғыстау облысы, Жаңаөзен қаласы, Ақбұлақ шағынауданы, Төреғали Қадыров көшесі, 12 НУРСУЛТАНОВА ГУЛШАТ ДАРИГУЛОВНА | E78: АГҚС | F78: АГҚС, сұйытылған газды бөлшек саудада өткізу | G78: қысыммен жұмыс істейтін ыдыс (резеруар) | H78: 1 | I78: 25-23-14-1/С-4379М | J78: 2020 | K78: 54 м3 | L78: Маңғыстау облысы, Жаңаөзен қаласы, промзона 2, "Бекарыс"АГҚС 9/1 учаскесі
G79: қысыммен жұмыс істейтін ыдыс | H79: 1 | I79: С-3598М | J79: 223 | K79: 36 м3
G80: қысыммен жұмыс істейтін ыдыс | H80: 1 | I80: С-3323М | J80: 189 | K80: 10 м3
A81: 45 | B81: «Джанибекова М» ЖК | C81: 770713401466 | D81: Маңғыстау облысы, Жаңаөзен қаласы, ш / а. Арай, Құсайын Шалабаев көшесі, 10Б ДЖАНБЕКОВА МАРАЛ САРСЕНБЕЕВНА | E81: АГҚС | F81: АГҚС, сұйытылған газды бөлшек саудада өткізу | G81: қысыммен жұмыс істейтін ыдыс (резеруар) | H81: 1 | I81: 22-06-05-06/С-4650М | J81: 14004 | K81: 10 м3 | L81: Маңғыстау облысы, Жаңаөзен қаласы, № 2 өнеркәсіп аймағы, №58 құрылыс
A82: 46 | B82: «ОРУНБАСАР ҚУАНЫШ БЕРДИБАЙҰЛЫ» ЖК | C82: 040301550865 | D82: Маңғыстау облысы, Жаңаөзен қаласы, ш / а. Ақбұлақ, Төреғали Қадыров көшесі, 12 ОРУНБАСАР ҚУАНЫШ БЕРДИБАЙҰЛЫ | E82: АГҚС | F82: АГҚС, сұйытылған газды бөлшек саудада өткізу | G82: қысыммен жұмыс істейтін ыдыс (резеруар) | H82: 1 | I82: 22-06-05-06/С-4703М | J82: 009 | K82: 50 м3 | L82: Маңғыстау облысы, Ақтау қаласы, №4 өнеркәсіптік аймақ, № 84/12 ғимарат "Қуаныш"АГҚС
A83: 47 | B83: «Нурлыбаева Б.Т.» ЖК | C83: 730724400956 | D83: Маңғыстау облысы, Ақтау қаласы, 17 шағын ауданы, 26, 29 НУРЛЫБАЕВА БАКТЫГУЛ ТУРАРБЕКОВНА | E83: АГҚС | F83: АГҚС, сұйытылған газды бөлшек саудада өткізу | G83: қысыммен жұмыс істейтін ыдыс (резеруар) | H83: 1 | I83: С-3196М | J83: 464 | K83: 9,96 м3 | L83: Маңғыстау облысы, Мұнайлы ауданы, Қызылтөбе ауылдық округі, № 1 Өндірістік аймақ, №31 учаске
A84: 48 | B84: «Дефкон» ЖШС | C84: 970840001067 | D84: Маңғыстау облысы Жаңаөзен қаласы өнеркәсіп аймағы 2 8 АҚМАҒАНБЕТ ЖҰБАН ӘМІРҰЛЫ | E84: АГҚС | F84: АГҚС, сұйытылған газды бөлшек саудада өткізу | G84: қысыммен жұмыс істейтін ыдыс (резеруар) | H84: 1 | I84: С-3487М | J84: 992 | K84: 9,96 м3 | L84: Маңғыстау облысы, Жаңаөзен қаласы, солтүстік-шығыс өнеркәсіп аймағы
G85: қысыммен жұмыс істейтін ыдыс (резеруар) | H85: 1 | I85: С-3486М | J85: 993 | K85: 9,96 м3
G86: қысыммен жұмыс істейтін ыдыс (ППЦЗ) | H86: 1 | I86: С-3277М | J86: 081 | K86: 13,17 м3
A87: 49 | B87: «Калиева Б.О.» ЖК | C87: 660408401306 | D87: Маңғыстау облысы, Ақтау қаласы, 29 шағын ауданы, 8, 134 КАЛИЕВА БАКТЫГУЛЬ ОРАХОВНА | E87: АГҚС | F87: АГҚС, сұйытылған газды бөлшек саудада өткізу | G87: қысыммен жұмыс істейтін ыдыс | H87: 1 | I87: 22-06-05-06/С-4782М | J87: 133 | K87: 12 м3 | L87: Маңғыстау облысы, Мұнайлы ауданы, Қызылтөбе ауылы, Ынтымақ кенті, №5 құрылыс
G88: қысыммен жұмыс істейтін ыдыс | H88: 1 | I88: 22-06-05-06/С-4769М | J88: 6040 | K88: 10 м3
A89: 50 | B89: «Салыкова Л.Т» ЖК | C89: 801014400657 | D89: Маңғыстау облысы, Жаңаөзен қаласы, Өркен шағынауданы, 67, 97 САЛЫКОВА ЛАУРА ТУРДЫБАЕВНА | E89: АГҚС | F89: АГҚС, сұйытылған газды бөлшек саудада өткізу | G89: қысыммен жұмыс істейтін ыдыс (резеруар) | H89: 1 | I89: 25-23-14-1/С-4347М | J89: 485 | K89: 10 м3 | L89: Маңғыстау облысы, Бейнеу ауданы, Сарга ауылы, өнеркәсіптік аймақ 1, 184
A90: 51 | B90: «Изенов К.Т» ЖК | C90: 830901301465 | D90: Маңғыстау облысы, Жаңаөзен қаласы, Рахат, Ақсу шағынауданы, А. П. Еремин көшесі, 8 ИЗЕНОВ КЫДЫРБАЙ ТОЙЛИКОВИЧ | E90: АГҚС | F90: АГҚС, сұйытылған газды бөлшек саудада өткізу | G90: қысыммен жұмыс істейтін ыдыс | H90: 1 | I90: 22-06-05-06/С-5243М | J90: ART-P-23 | K90: 45м3 | L90: Маңғыстау облысы, Жаңаөзен қаласы, оңтүстік-шығыс өнеркәсіп аймағы-3, №59 құрылыс
G91: қысыммен жұмыс істейтін ыдыс (резеруар) | H91: 1 | I91: 22-06-05-06/С-4689М | J91: 2041 | K91: 25 м3
A92: 52 | B92: «Избанова» ЖК | C92: 801109401710 | D92: Маңғыстау облысы, Ақтау қаласы, 19А шағынауданы, 22, 68 ИЗБАНОВА ДАРЬЯ МАРАТОВНА | E92: АГҚС | F92: АГҚС, сұйытылған газды бөлшек саудада өткізу | G92: қысыммен жұмыс істейтін ыдыс (резеруар) | H92: 1 | I92: 25-20-13-1/С-3841М | J92: 1222 | K92: 9,96 м3 | L92: Маңғыстау облысы, Жаңаөзен қаласы, № 3 Өнеркәсіптік аймақ, №28 құрылыс
A93: 53 | B93: «АЙТБАЕВ ЖАКСЫЛЫК МЕРГЕНБАЕВИЧ» ЖК | C93: 780522303271 | D93: Маңғыстау облысы, Жаңаөзен қаласы, Өркен шағынауданы, 75, 36 АЙТБАЕВ ЖАКСЫЛЫК МЕРГЕНБАЕВИЧ | E93: АГҚС | F93: АГҚС, сұйытылған газды бөлшек саудада өткізу | G93: қысыммен жұмыс істейтін ыдыс (АЦ) | H93: 1 | I93: 22-06-05-06/С-4746М | J93: 061004 | K93: 45 м3 | L93: Маңғыстау облысы, Жаңаөзен қаласы, № 2 өнеркәсіптік аймақ, №37 құрылыс
E94: АГҚС | F94: АГҚС, сұйытылған газды бөлшек саудада өткізу | G94: қысыммен жұмыс істейтін ыдыс (резервуар) | H94: 1 | I94: 25-23-14-1/С-4329М | J94: 06081 | K94: 54 м3 | L94: Маңғыстау облысы, Мұнайлы ауданы, Атамекен ауылы, № 2 өнеркәсіптік аймақ, №82/3 учаске
A95: 54 | B95: «БИНУР-2020» ЖШС | C95: 201240024721 | D95: Маңғыстау облысы, Жаңаөзен қаласы Өркен шағын ауданы 75 36 АЙТБАЕВ ЖАКСЫЛЫК МЕРГЕНБАЕВИЧ | E95: АГҚС | F95: АГҚС, сұйытылған газды бөлшек саудада өткізу | G95: қысыммен жұмыс істейтін ыдыс (резервуар) | H95: 1 | I95: 22-06-05-06/С-4886М | J95: 9187630289 | K95: 12 м3 | L95: Маңғыстау облысы, Ақтау қаласы, 29акамауданы., №128 құс фабрикасы ауданында
A96: 55 | B96: «АТБҰЛАҚ» ЖК | C96: 870921300582 | D96: Маңғыстау облысы, Мұнайлы ауданы, Маңғыстау, Шерқала тұрғын алабы, 735 ИЗБАНОВ ФАРХАД МАРАТОВИЧ | E96: АГҚС | F96: АГҚС, сұйытылған газды бөлшек саудада өткізу | G96: қысыммен жұмыс істейтін ыдыс (автоцестерна) | H96: 1 | I96: 22-06-05-06/С-4721М | J96: 351 | K96: 12,45 м3 | L96: Маңғыстау облысы, Жаңаөзен қаласы, Теңге ауылы, Достық көшесі 71Б
A97: 56 | B97: «АЙБАЗАРОВА А» ЖК | C97: 620525402432 | D97: Маңғыстау облысы, Ақтау қаласы, 12 шағын ауданы, 70, 33 АЙБАЗАРОВА АСИПХАН | E97: АГҚС | F97: АГҚС, сұйытылған газды бөлшек саудада өткізу | G97: қысыммен жұмыс істейтін ыдыс (резервуар) | H97: 1 | I97: 25-20-13-1/С-4166М | J97: 1909 | K97: 50 м3 | L97: Маңғыстау облысы, Ақтау қаласы, 3Б ш / а., 38-учаске
A98: 57 | B98: МЫРЗАҒАЛИҚЫЗЫ БАЯНБЕК | C98: 531023400537 | D98: Маңғыстау облысы, Ақтау қаласы, 18А шағын ауданы, 1, 85 МЫРЗАҒАЛИҚЫЗЫ БАЯНБЕК | E98: АГҚС | F98: АГҚС, сұйытылған газды бөлшек саудада өткізу | H98: 1 | I98: 22-06-05-06/С-4783М | J98: 12753 | K98: 6 м3 | L98: Маңғыстау облысы, Маңғыстау ауданы, Шетпе ауылы, ш / а. Богет, құрылым 24/5
A99: 58 | B99: ЖК «Тютебеков О.Т.» | C99: 570806300801 | D99: Маңғыстау облысы, Ақтау қаласы, 13 ш / а, 24 үй, 251 пәтер Тютебеков Өмірхан Төлепбергенұлы | E99: АГҚС | F99: АГҚС, сұйытылған газды бөлшек саудада өткізу | G99: қысыммен жұмыс істейтін ыдыс (резервуар) | H99: 1 | I99: С-3330М | J99: 703 | K99: 10,2 м3 | L99: Маңғыстау облысы, Мұнайлы ауданы, Батыр ауылы, промзона, №38 учаске
A100: 59 | B100: ЖК «Бактыбаев М.Х.» | C100: 691101302436 | D100: Жаңаөзен қаласы,Арай шағынауданы, Біләл Әлиев көшесі 29, Бақтыбаев Мұрат Қожабергенұлы | E100: АГҚС | F100: АГҚС, сұйытылған газды бөлшек саудада өткізу | G100: қысыммен жұмыс істейтін ыдыс (резервуар) | H100: 1 | I100: С-3223М | J100: 532 | K100: 9,96 м3 | L100: Маңғыстау облысы, Жаңаөзен қаласы, өнеркәсіп аймағы, кенттің оңтүстік бөлігі Теңге
G101: ППЦТ-36 | H101: 1 | I101: С-3611М | J101: 76 | K101: 36 м3
...

Sheet  Жетісу облысы
A1: Владельцы газонаполнительных станций, газонаполнительных пунктов, автогазозаправочных станций и промышленных потребителей-владельцев сосудов, работающих под давлением использующих их для хранения сжиженного нефтяного газа.
A2: № п/п | B2: Наименование юридического, физического лица | C2: БИН, ИИН | D2: Адрес юридического, физического лица, Ф.И.О. руководителя | E2: Наименование объекта | F2: Отрасль промышленности и вид деятельности | G2: Наименование опасного технического устройства ( рабочая среда) | H2: Проектная мощность объекта (количество сосудов, учетный номер, заводской номер, объем хранения сжиженного нефтяного газа) | L2: Местонахождение объекта (адрес)
H3: общее количество СРД, шт | I3: учетный № | J3: заводской № | K3: объем СРД, м3
A4: 1 | B4: 2 | C4: 3 | D4: 4 | E4: 5 | F4: 6 | G4: 7 | H4: 8 | I4: 9 | J4: 10 | K4: 11 | L4: 12
A5: 1. | B5: Алматинский филиал ТОО "Гелиос" | C5: 80541005355 | D5: г. Алматы, Ауэзовский район, ул. Аскарова, д. 2; Шарапиев Казбек Конырбаевич | E5: АГЗС | F5: Реализация и хранение сжиженного нефтяного газа | G5: Сосуд работающий под давлением. Сжиженный газ (смесь пропан, бутан) | H5: 1 | I5: С-23-188 | J5: 6161 | K5: 5 | L5: область Жетісу, трасса Алматы-Талдыкорган 4 км., АЗС № 2.
B44: Алматинский филиал ТОО "Гелиос" | C44: 80541005355 | D44: г. Алматы, Ауэзовский район, ул. Аскарова, д. 2; Шарапиев Казбек Конырбаевич | E44: АГЗС | F44: Реализация и хранение сжиженного нефтяного газа | G44: Сосуд работающий под давлением. Сжиженный газ (смесь пропан, бутан) | H44: 1 | I44: С-23-189 | J44: 6000 | K44: 5 | L44: область Жетісу, трасса Алматы-Оскемен 170 км., АЗС № 12
A68: 2. | B68: ТОО "Альянс-Газ" | C68: 10340002187 | D68: г. Алматы, Жетысуский район, ул. Омарова, дом 12 В. Садырбакиев Адылжан | E68: АГЗС | F68: Реализация и хранение сжиженного нефтяного газа | G68: Сосуд работающий под давлением. Сжиженный газ (смесь пропан, бутан) | H68: 1 | I68: С-23-220 | J68: 55174 | K68: 4, 85 | L68: область Жетісу, Панфиловский р-н, с. Коктал, ул. Сулейменова б/н.
B76: ТОО "Альянс-Газ" | C76: 10340002187 | D76: г. Алматы, Жетысуский район, ул. Омарова, дом 12 В. Садырбакиев Адылжан | E76: АГЗС | F76: г. Алматы, Жетысуский район, ул. Омарова, дом 12 В. Садырбакиев Адылжан | G76: Сосуд работающий под давлением. Сжиженный газ (смесь пропан, бутан) | H76: 1 | I76: С-23-221 | J76: 683574 | K76: 4, 85 | L76: область Жетісу, Панфиловский р-н, с. Коктал, ул. Сулейменова б/н.
B83: ТОО "Альянс-Газ" | C83: 10340002187 | D83: г. Алматы, Жетысуский район, ул. Омарова, дом 12 В. Садырбакиев Адылжан | E83: АГЗС | F83: г. Алматы, Жетысуский район, ул. Омарова, дом 12 В. Садырбакиев Адылжан | G83: Сосуд работающий под давлением. Сжиженный газ (смесь пропан, бутан) | H83: 1 | I83: С-23-222 | J83: 0155Е | K83: 4, 85 | L83: область Жетісу, Панфиловский р-н, г. Жаркент, ул. Жибек жолы, угол ул. Кобикова
B94: ТОО "Альянс-Газ" | C94: 10340002187 | D94: г. Алматы, Жетысуский район, ул. Омарова, дом 12 В. Садырбакиев Адылжан | E94: АГЗС | F94: г. Алматы, Жетысуский район, ул. Омарова, дом 12 В. Садырбакиев Адылжан | G94: Сосуд работающий под давлением. Сжиженный газ (смесь пропан, бутан) | H94: 1 | I94: С-23-223 | J94: 669154 | K94: 4, 85 | L94: область Жетісу, Панфиловский р-н, г. Жаркент, ул. Жибек жолы, угол ул. Кобикова
A103: 3. | B103: ТОО "ЖаркентГазСервис" | C103: 121040012248 | D103: Алматинская область, Карасайский район, Ельтайский с.о., с. Жармухамбет, уч. кв. 034, стр. № 13. Рахиов Галым Абилхасымович | E103: АГЗС | F103: Реализация и хранение сжиженного нефтяного газа | G103: Сосуд работающий под давлением. Сжиженный газ (пропан, бутан и смесь пропан, бутан) | H103: 1 | I103: С-23-67 | J103: 424 | K103: 5 | L103: область Жетісу, Панфиловский р-н, с. Балым
B104: ТОО "ЖаркентГазСервис" | C104: 121040012248 | D104: Алматинская область, Карасайский район, Ельтайский с.о., с. Жармухамбет, уч. кв. 034, стр. № 13. Рахиов Галым Абилхасымович | E104: АГЗС | F104: Реализация и хранение сжиженного нефтяного газа | G104: Сосуд работающий под давлением. Сжиженный газ (пропан, бутан и смесь пропан, бутан) | H104: 1 | I104: С-23-65 | J104: 423 | K104: 5 | L104: область Жетісу, Панфиловский р-н, с. Балым
B105: ТОО "ЖаркентГазСервис" | C105: 121040012248 | D105: Алматинская область, Карасайский район, Ельтайский с.о., с. Жармухамбет, уч. кв. 034, стр. № 13. Рахиов Галым Абилхасымович | E105: АГЗС | F105: Реализация и хранение сжиженного нефтяного газа | G105: Сосуд работающий под давлением. Сжиженный газ (пропан, бутан и смесь пропан, бутан) | H105: 1 | I105: С-23-40 | J105: 14/В-163 | K105: 5 | L105: область Жетісу, Аксуский р-н, п. Энергетик, ул. Гарышкер, 65
B106: ТОО "ЖаркентГазСервис" | C106: 121040012248 | D106: Алматинская область, Карасайский район, Ельтайский с.о., с. Жармухамбет, уч. кв. 034, стр. № 13. Рахиов Галым Абилхасымович | E106: АГЗС | F106: Реализация и хранение сжиженного нефтяного газа | G106: Сосуд работающий под давлением. Сжиженный газ (пропан, бутан и смесь пропан, бутан) | H106: 1 | I106: С-23-69 | J106: 14/\В-165 | K106: 5 | L106: область Жетісу, Аксуский р-н, п. Энергетик, ул. Гарышкер, 65
B107: ТОО "ЖаркентГазСервис" | C107: 121040012248 | D107: Алматинская область, Карасайский район, Ельтайский с.о., с. Жармухамбет, уч. кв. 034, стр. № 13. Рахиов Галым Абилхасымович | E107: АГЗС | F107: Реализация и хранение сжиженного нефтяного газа | G107: Сосуд работающий под давлением. Сжиженный газ (пропан, бутан и смесь пропан, бутан) | H107: 1 | I107: С-23-37 | J107: 14/\В-186 | K107: 5 | L107: область Жетісу, Аксуский р-н, п. Энергетик, ул. Гарышкер, 65
B108: ТОО "ЖаркентГазСервис" | C108: 121040012248 | D108: Алматинская область, Карасайский район, Ельтайский с.о., с. Жармухамбет, уч. кв. 034, стр. № 13. Рахиов Галым Абилхасымович | E108: АГЗС | F108: Реализация и хранение сжиженного нефтяного газа | G108: Сосуд работающий под давлением. Сжиженный газ (пропан, бутан и смесь пропан, бутан) | H108: 1 | I108: С-23-63 | J108: 18/\В-121 | K108: 10 | L108: область Жетісу, Панфиловский р-н, п. Аккент
B109: ТОО "ЖаркентГазСервис" | C109: 121040012248 | D109: Алматинская область, Карасайский район, Ельтайский с.о., с. Жармухамбет, уч. кв. 034, стр. № 13. Рахиов Галым Абилхасымович | E109: АГЗС | F109: Реализация и хранение сжиженного нефтяного газа | G109: Сосуд работающий под давлением. Сжиженный газ (пропан, бутан и смесь пропан, бутан) | H109: 1 | I109: С-23-57 | J109: 15/\В-183 | K109: 4.7 | L109: область Жетісу, г. Талдыкорган, микрорайон Восточный, ул. Центральная, д.6
B110: ТОО "ЖаркентГазСервис" | C110: 121040012248 | D110: Алматинская область, Карасайский район, Ельтайский с.о., с. Жармухамбет, уч. кв. 034, стр. № 13. Рахиов Галым Абилхасымович | E110: АГЗС | F110: Реализация и хранение сжиженного нефтяного газа | G110: Сосуд работающий под давлением. Сжиженный газ (пропан, бутан и смесь пропан, бутан) | H110: 1 | I110: С-23-74 | J110: 172 | K110: 4.6 | L110: область Жетісу, г. Талдыкорган, микрорайон Восточный, ул. Центральная, д.6
B111: ТОО "ЖаркентГазСервис" | C111: 121040012248 | D111: Алматинская область, Карасайский район, Ельтайский с.о., с. Жармухамбет, уч. кв. 034, стр. № 13. Рахиов Галым Абилхасымович | E111: АГЗС | F111: Реализация и хранение сжиженного нефтяного газа | G111: Сосуд работающий под давлением. Сжиженный газ (пропан, бутан и смесь пропан, бутан) | H111: 1 | I111: С-23-39 | J111: 14/В-472 | K111: 5 | L111: область Жетісу, Ескельдинский р-н, п. Карбулак, ул. Алдабергенова, 63А
B112: ТОО "ЖаркентГазСервис" | C112: 121040012248 | D112: Алматинская область, Карасайский район, Ельтайский с.о., с. Жармухамбет, уч. кв. 034, стр. № 13. Рахиов Галым Абилхасымович | E112: АГЗС | F112: Реализация и хранение сжиженного нефтяного газа | G112: Сосуд работающий под давлением. Сжиженный газ (пропан, бутан и смесь пропан, бутан) | H112: 1 | I112: С-23-68 | J112: 14/В-473 | K112: 5 | L112: область Жетісу, Ескельдинский р-н, п. Карбулак, ул. Алдабергенова, 63А
B113: ТОО "ЖаркентГазСервис" | C113: 121040012248 | D113: Алматинская область, Карасайский район, Ельтайский с.о., с. Жармухамбет, уч. кв. 034, стр. № 13. Рахиов Галым Абилхасымович | E113: АГЗС | F113: Реализация и хранение сжиженного нефтяного газа | G113: Сосуд работающий под давлением. Сжиженный газ (пропан, бутан и смесь пропан, бутан) | H113: 1 | I113: С-23-38 | J113: 14/В-474 | K113: 4.7 | L113: область Жетісу, Кербулакский р-н, п. Сарыозек, ул. Манаса б/н
B114: ТОО "ЖаркентГазСервис" | C114: 121040012248 | D114: Алматинская область, Карасайский район, Ельтайский с.о., с. Жармухамбет, уч. кв. 034, стр. № 13. Рахиов Галым Абилхасымович | E114: АГЗС | F114: Реализация и хранение сжиженного нефтяного газа | G114: Сосуд работающий под давлением. Сжиженный газ (пропан, бутан и смесь пропан, бутан) | H114: 1 | I114: С-23-66 | J114: 14/В-658 | K114: 4.7 | L114: область Жетісу, Кербулакский р-н, п. Сарыозек, ул. Манаса б/н
B115: ТОО "ЖаркентГазСервис" | C115: 121040012248 | D115: Алматинская область, Карасайский район, Ельтайский с.о., с. Жармухамбет, уч. кв. 034, стр. № 13. Рахиов Галым Абилхасымович | E115: АГЗС | F115: Реализация и хранение сжиженного нефтяного газа | G115: Сосуд работающий под давлением. Сжиженный газ (пропан, бутан и смесь пропан, бутан) | H115: 1 | I115: С-23-46 | J115: 14/В-420 | K115: 5 | L115: область Жетісу, Панфиловский р-н, г. Жаркент, автодорга Жаркент-Коктал
B116: ТОО "ЖаркентГазСервис" | C116: 121040012248 | D116: Алматинская область, Карасайский район, Ельтайский с.о., с. Жармухамбет, уч. кв. 034, стр. № 13. Рахиов Галым Абилхасымович | E116: АГЗС | F116: Реализация и хранение сжиженного нефтяного газа | G116: Сосуд работающий под давлением. Сжиженный газ (пропан, бутан и смесь пропан, бутан) | H116: 1 | I116: С-23-41 | J116: 14/В-469 | K116: 4.7 | L116: область Жетісу, Панфиловский р-н, г. Жаркент, автодорга Жаркент-Коктал
B117: ТОО "ЖаркентГазСервис" | C117: 121040012248 | D117: Алматинская область, Карасайский район, Ельтайский с.о., с. Жармухамбет, уч. кв. 034, стр. № 13. Рахиов Галым Абилхасымович | E117: АГЗС | F117: Реализация и хранение сжиженного нефтяного газа | G117: Сосуд работающий под давлением. Сжиженный газ (пропан, бутан и смесь пропан, бутан) | H117: 1 | I117: С-23-70 | J117: 15/В-206 | K117: 5 | L117: область Жетісу, Панфиловский р-н, г. Жаркент, п..Малый Шаган, ул. Жибек Жолы
B118: ТОО "ЖаркентГазСервис" | C118: 121040012248 | D118: Алматинская область, Карасайский район, Ельтайский с.о., с. Жармухамбет, уч. кв. 034, стр. № 13. Рахиов Галым Абилхасымович | E118: АГЗС | F118: Реализация и хранение сжиженного нефтяного газа | G118: Сосуд работающий под давлением. Сжиженный газ (пропан, бутан и смесь пропан, бутан) | H118: 1 | I118: С-23-72 | J118: 14/В-703 | K118: 5 | L118: область Жетісу, Панфиловский р-н, г. Жаркент, п..Малый Шаган, ул. Жибек Жолы
B119: ТОО "ЖаркентГазСервис" | C119: 121040012248 | D119: Алматинская область, Карасайский район, Ельтайский с.о., с. Жармухамбет, уч. кв. 034, стр. № 13. Рахиов Галым Абилхасымович | E119: АГЗС | F119: Реализация и хранение сжиженного нефтяного газа | G119: Сосуд работающий под давлением. Сжиженный газ (пропан, бутан и смесь пропан, бутан) | H119: 1 | I119: С-23-52 | J119: 15/В-195 | K119: 5 | L119: область Жетісу, г. Талдыкорган, пр. Кадыргали Жалайыри, стр. 106А
B120: ТОО "ЖаркентГазСервис" | C120: 121040012248 | D120: Алматинская область, Карасайский район, Ельтайский с.о., с. Жармухамбет, уч. кв. 034, стр. № 13. Рахиов Галым Абилхасымович | E120: АГЗС | F120: Реализация и хранение сжиженного нефтяного газа | G120: Сосуд работающий под давлением. Сжиженный газ (пропан, бутан и смесь пропан, бутан) | H120: 1 | I120: С-23-51 | J120: 6 | K120: 5 | L120: область Жетісу, г. Талдыкорган, пр. Кадыргали Жалайыри, стр. 106А
B121: ТОО "ЖаркентГазСервис" | C121: 121040012248 | D121: Алматинская область, Карасайский район, Ельтайский с.о., с. Жармухамбет, уч. кв. 034, стр. № 13. Рахиов Галым Абилхасымович | E121: АГЗС | F121: Реализация и хранение сжиженного нефтяного газа | G121: Сосуд работающий под давлением. Сжиженный газ (пропан, бутан и смесь пропан, бутан) | H121: 1 | I121: С-23-73 | J121: 188114 | K121: 5 | L121: область Жетісу, Панфиловский р-н, г. Жаркент, ул. Головацкого, (уг.Тамынбаева), АЗС Айбек
B122: ТОО "ЖаркентГазСервис" | C122: 121040012248 | D122: Алматинская область, Карасайский район, Ельтайский с.о., с. Жармухамбет, уч. кв. 034, стр. № 13. Рахиов Галым Абилхасымович | E122: АГЗС | F122: Реализация и хранение сжиженного нефтяного газа | G122: Сосуд работающий под давлением. Сжиженный газ (пропан, бутан и смесь пропан, бутан) | H122: 1 | I122: С-23-48 | J122: 12 | K122: 5 | L122: область Жетісу, Панфиловский р-н, г. Жаркент, ул. Головацкого, (уг.Тамынбаева), АЗС Айбек
B123: ТОО "ЖаркентГазСервис" | C123: 121040012248 | D123: Алматинская область, Карасайский район, Ельтайский с.о., с. Жармухамбет, уч. кв. 034, стр. № 13. Рахиов Галым Абилхасымович | E123: АГЗС | F123: Реализация и хранение сжиженного нефтяного газа | G123: Сосуд работающий под давлением. Сжиженный газ (пропан, бутан и смесь пропан, бутан) | H123: 1 | I123: С-23-61 | J123: 10188122 | K123: 5 | L123: область Жетісу, Панфиловский р-н, с. Коктал, ул. Заречная, б/н
B124: ТОО "ЖаркентГазСервис" | C124: 121040012248 | D124: Алматинская область, Карасайский район, Ельтайский с.о., с. Жармухамбет, уч. кв. 034, стр. № 13. Рахиов Галым Абилхасымович | E124: АГЗС | F124: Реализация и хранение сжиженного нефтяного газа | G124: Сосуд работающий под давлением. Сжиженный газ (пропан, бутан и смесь пропан, бутан) | H124: 1 | I124: С-23-54 | J124: 19 | K124: 5 | L124: область Жетісу, Панфиловский р-н, с. Коктал, ул. Заречная, б/н
B125: ТОО "ЖаркентГазСервис" | C125: 121040012248 | D125: Алматинская область, Карасайский район, Ельтайский с.о., с. Жармухамбет, уч. кв. 034, стр. № 13. Рахиов Галым Абилхасымович | E125: АГЗС | F125: Реализация и хранение сжиженного нефтяного газа | G125: Сосуд работающий под давлением. Сжиженный газ (пропан, бутан и смесь пропан, бутан) | H125: 1 | I125: С-23-42 | J125: 430 | K125: 16 | L125: область Жетісу, Панфиловский р-н, с. Пенжим, ул. Ч. Уалиханов
B126: ТОО "ЖаркентГазСервис" | C126: 121040012248 | D126: Алматинская область, Карасайский район, Ельтайский с.о., с. Жармухамбет, уч. кв. 034, стр. № 13. Рахиов Галым Абилхасымович | E126: АГЗС | F126: Реализация и хранение сжиженного нефтяного газа | G126: Сосуд работающий под давлением. Сжиженный газ (пропан, бутан и смесь пропан, бутан) | H126: 1 | I126: С-23-60 | J126: 15/В-459 | K126: 5 | L126: область Жетісу, Панфиловский р-н, с. Пенжим, ул. Ч. Уалиханов
B127: ТОО "ЖаркентГазСервис" | C127: 121040012248 | D127: Алматинская область, Карасайский район, Ельтайский с.о., с. Жармухамбет, уч. кв. 034, стр. № 13. Рахиов Галым Абилхасымович | E127: АГЗС | F127: Реализация и хранение сжиженного нефтяного газа | G127: Сосуд работающий под давлением. Сжиженный газ (пропан, бутан и смесь пропан, бутан) | H127: 1 | I127: С-23-55 | J127: 15/В-632 | K127: 5 | L127: область Жетісу, Панфиловский р-н, г. Жаркент, развилка Енбекши-Лесновка
B128: ТОО "ЖаркентГазСервис" | C128: 121040012248 | D128: Алматинская область, Карасайский район, Ельтайский с.о., с. Жармухамбет, уч. кв. 034, стр. № 13. Рахиов Галым Абилхасымович | E128: АГЗС | F128: Реализация и хранение сжиженного нефтяного газа | G128: Сосуд работающий под давлением. Сжиженный газ (пропан, бутан и смесь пропан, бутан) | H128: 1 | I128: С-23-45 | J128: 21 | K128: 5 | L128: область Жетісу, Панфиловский р-н, г. Жаркент, развилка Енбекши-Лесновка
B129: ТОО "ЖаркентГазСервис" | C129: 121040012248 | D129: Алматинская область, Карасайский район, Ельтайский с.о., с. Жармухамбет, уч. кв. 034, стр. № 13. Рахиов Галым Абилхасымович | E129: АГЗС | F129: Реализация и хранение сжиженного нефтяного газа | G129: Сосуд работающий под давлением. Сжиженный газ (пропан, бутан и смесь пропан, бутан) | H129: 1 | I129: С-23-62 | J129: 268 | K129: 5 | L129: область Жетісу, Каратальский р-н, трасса Уштобе-Кальпе, стр. 1
B130: ТОО "ЖаркентГазСервис" | C130: 121040012248 | D130: Алматинская область, Карасайский район, Ельтайский с.о., с. Жармухамбет, уч. кв. 034, стр. № 13. Рахиов Галым Абилхасымович | E130: АГЗС | F130: Реализация и хранение сжиженного нефтяного газа | G130: Сосуд работающий под давлением. Сжиженный газ (пропан, бутан и смесь пропан, бутан) | H130: 1 | I130: С-23-53 | J130: 21 | K130: 5 | L130: область Жетісу, Каратальский р-н, трасса Уштобе-Кальпе, стр. 1
B131: ТОО "ЖаркентГазСервис" | C131: 121040012248 | D131: Алматинская область, Карасайский район, Ельтайский с.о., с. Жармухамбет, уч. кв. 034, стр. № 13. Рахиов Галым Абилхасымович | E131: АГЗС | F131: Реализация и хранение сжиженного нефтяного газа | G131: Сосуд работающий под давлением. Сжиженный газ (пропан, бутан и смесь пропан, бутан) | H131: 1 | I131: С-23-59 | J131: 1703 | K131: 4.6 | L131: область Жетісу, Панфиловский р-н, г. Жаркент, ул. Кобикова-уг.ул. Пашенок б/н
B132: ТОО "ЖаркентГазСервис" | C132: 121040012248 | D132: Алматинская область, Карасайский район, Ельтайский с.о., с. Жармухамбет, уч. кв. 034, стр. № 13. Рахиов Галым Абилхасымович | E132: АГЗС | F132: Реализация и хранение сжиженного нефтяного газа | G132: Сосуд работающий под давлением. Сжиженный газ (пропан, бутан и смесь пропан, бутан) | H132: 1 | I132: С-23-43 | J132: 16 | K132: 5 | L132: область Жетісу, Панфиловский р-н, г. Жаркент, ул. Кобикова-уг.ул. Пашенок б/н
A133: 4. | B133: АО "Корпорация "Жетысугаз" | C133: 931240000469 | D133: область Жетісу, г. Талдыкорган, ул. Абылайхана 379; Сапиев Канат Мелисович; | E133: ГНС | F133: Реализация и хранение сжиженного нефтяного газа | G133: Сосуд работающий под давлением. Сжиженный газ (пропан, бутан и смесь пропан, бутан) | H133: 1 | I133: С-23-186 | J133: 9259 | K133: 100 | L133: область Жетісу, г. Талдыкорган, ул. Абылайхана 379
B134: АО "Корпорация "Жетысугаз" | C134: 931240000469 | D134: область Жетісу, г. Талдыкорган, ул. Абылайхана 379; Сапиев Канат Мелисович; | E134: ГНС | F134: Реализация и хранение сжиженного нефтяного газа | G134: Сосуд работающий под давлением. Сжиженный газ (пропан, бутан и смесь пропан, бутан) | H134: 1 | I134: С-23-187 | J134: 9256 | K134: 100 | L134: область Жетісу, г. Талдыкорган, ул. Абылайхана 379
B135: АО "Корпорация "Жетысугаз" | C135: 931240000469 | D135: область Жетісу, г. Талдыкорган, ул. Абылайхана 379; Сапиев Канат Мелисович; | E135: ГНС | F135: Реализация и хранение сжиженного нефтяного газа | G135: Сосуд работающий под давлением. Сжиженный газ (пропан, бутан и смесь пропан, бутан) | H135: 1 | I135: С-23-185 | J135: 10702 | K135: 100 | L135: область Жетісу, г. Талдыкорган, ул. Абылайхана 379
B136: АО "Корпорация "Жетысугаз" | C136: 931240000469 | D136: область Жетісу, г. Талдыкорган, ул. Абылайхана 379; Сапиев Канат Мелисович; | E136: ГНС | F136: Реализация и хранение сжиженного нефтяного газа | G136: Сосуд работающий под давлением. Сжиженный газ (пропан, бутан и смесь пропан, бутан) | H136: 1 | I136: С-23-184 | J136: 10731 | K136: 100 | L136: область Жетісу, г. Талдыкорган, ул. Абылайхана 379
B137: АО "Корпорация "Жетысугаз" | C137: 931240000469 | D137: область Жетісу, г. Талдыкорган, ул. Абылайхана 379; Сапиев Канат Мелисович; | E137: ГНС | F137: Реализация и хранение сжиженного нефтяного газа | G137: Сосуд работающий под давлением. Сжиженный газ (пропан, бутан и смесь пропан, бутан) | H137: 1 | I137: С-23-183 | J137: 19977 | K137: 100 | L137: область Жетісу, г. Талдыкорган, ул. Абылайхана 379
B138: АО "Корпорация "Жетысугаз" | C138: 931240000469 | D138: область Жетісу, г. Талдыкорган, ул. Абылайхана 379; Сапиев Канат Мелисович; | E138: ГНС | F138: Реализация и хранение сжиженного нефтяного газа | G138: Сосуд работающий под давлением. Сжиженный газ (пропан, бутан и смесь пропан, бутан) | H138: 1 | I138: С-23-182 | J138: 20020 | K138: 100 | L138: область Жетісу, г. Талдыкорган, ул. Абылайхана 379
B139: АО "Корпорация "Жетысугаз" | C139: 931240000469 | D139: область Жетісу, г. Талдыкорган, ул. Абылайхана 379; Сапиев Канат Мелисович; | E139: ГНС | F139: Реализация и хранение сжиженного нефтяного газа | G139: Сосуд работающий под давлением. Сжиженный газ (пропан, бутан и смесь пропан, бутан) | H139: 1 | I139: С-23-181 | J139: 9261 | K139: 100 | L139: область Жетісу, г. Талдыкорган, ул. Абылайхана 379
B140: АО "Корпорация "Жетысугаз" | C140: 931240000469 | D140: область Жетісу, г. Талдыкорган, ул. Абылайхана 379; Сапиев Канат Мелисович; | E140: ГНС | F140: Реализация и хранение сжиженного нефтяного газа | G140: Сосуд работающий под давлением. Сжиженный газ (пропан, бутан и смесь пропан, бутан) | H140: 1 | I140: С-23-180 | J140: 9260 | K140: 100 | L140: область Жетісу, г. Талдыкорган, ул. Абылайхана 379
B141: АО "Корпорация "Жетысугаз" | C141: 931240000469 | D141: область Жетісу, г. Талдыкорган, ул. Абылайхана 379; Сапиев Канат Мелисович; | E141: ГНС | F141: Реализация и хранение сжиженного нефтяного газа | G141: Сосуд работающий под давлением. Сжиженный газ (пропан, бутан и смесь пропан, бутан) | H141: 1 | I141: С-23-179 | J141: 9255 | K141: 100 | L141: область Жетісу, г. Талдыкорган, ул. Абылайхана 379
B142: АО "Корпорация "Жетысугаз" | C142: 931240000469 | D142: область Жетісу, г. Талдыкорган, ул. Абылайхана 379; Сапиев Канат Мелисович; | E142: ГНС | F142: Реализация и хранение сжиженного нефтяного газа | G142: Сосуд работающий под давлением. Сжиженный газ (пропан, бутан и смесь пропан, бутан) | H142: 1 | I142: С-23-178 | J142: 9262 | K142: 100 | L142: область Жетісу, г. Талдыкорган, ул. Абылайхана 379
B143: АО "Корпорация "Жетысугаз" | C143: 931240000469 | D143: область Жетісу, г. Талдыкорган, ул. Абылайхана 379; Сапиев Канат Мелисович; | E143: ГНС | F143: Реализация и хранение сжиженного нефтяного газа | G143: Сосуд работающий под давлением. Сжиженный газ (пропан, бутан и смесь пропан, бутан) | H143: 1 | I143: С-23-177 | J143: 9254 | K143: 100 | L143: область Жетісу, г. Талдыкорган, ул. Абылайхана 379
B144: АО "Корпорация "Жетысугаз" | C144: 931240000469 | D144: область Жетісу, г. Талдыкорган, ул. Абылайхана 379; Сапиев Канат Мелисович; | E144: ГНС | F144: Реализация и хранение сжиженного нефтяного газа | G144: Сосуд работающий под давлением. Сжиженный газ (пропан, бутан и смесь пропан, бутан) | H144: 1 | I144: С-23-176 | J144: 9258 | K144: 100 | L144: область Жетісу, г. Талдыкорган, ул. Абылайхана 379
B145: АО "Корпорация "Жетысугаз" | C145: 931240000469 | D145: область Жетісу, г. Талдыкорган, ул. Абылайхана 379; Сапиев Канат Мелисович; | E145: ГНС | F145: Реализация и хранение сжиженного нефтяного газа | G145: Сосуд работающий под давлением. Сжиженный газ (пропан, бутан и смесь пропан, бутан) | H145: 1 | I145: С-23-175 | J145: 9263 | K145: 100 | L145: область Жетісу, г. Талдыкорган, ул. Абылайхана 379
B146: АО "Корпорация "Жетысугаз" | C146: 931240000469 | D146: область Жетісу, г. Талдыкорган, ул. Абылайхана 379; Сапиев Канат Мелисович; | E146: ГНС | F146: Реализация и хранение сжиженного нефтяного газа | G146: Сосуд работающий под давлением. Сжиженный газ (пропан, бутан и смесь пропан, бутан) | H146: 1 | I146: С-23-174 | J146: 9257 | K146: 100 | L146: область Жетісу, г. Талдыкорган, ул. Абылайхана 379
A147: 5. | B147: Частный владелец Сайдулаев Аспул Заурович | C147: 510601300539 | D147: область Жетісу, г. Талдыкорган, ул. А. Пушкина, дом № 279. Сайдулаев Аспул Заурович | E147: АГЗС | F147: Реализация и хранение сжиженного нефтяного газа | G147: Сосуд работающий под давлением. Сжиженный газ (пропан, бутан и смесь пропан, бутан) | H147: 1 | I147: С-23-194 | J147: 1678 | K147: 10 | L147: область Жетісу, г. Талдыкорган, ул. Абылайхана, № 237"А"
B148: Частный владелец Сайдулаев Аспул Заурович | C148: 510601300539 | D148: область Жетісу, г. Талдыкорган, ул. А. Пушкина, дом № 279. Сайдулаев Аспул Заурович | G148: Сосуд работающий под давлением. Сжиженный газ (пропан, бутан и смесь пропан, бутан) | L148: область Жетісу, г. Талдыкорган, ул. Абылайхана, № 237"А"
F149: Реализация и хранение сжиженного нефтяного газа | H149: 1
E154: АГЗС | H154: 1 | I154: С-23-195 | J154: 2152 | K154: 10
A161: 6. | B161: ИП "Тарасенко Д.В." | C161: 880705300044 | D161: область Жетісу, г. Ушарал, ул. Тощенко, 109. Тарасенко Денис Влалимирович | E161: ГНП | F161: Реализация и хранение сжиженного нефтяного газа | G161: Сосуд работающий под давлением. Сжиженный нефтяной газ (пропан, бутан и смесь пропан/бутан) | H161: 1 | I161: С-23-93 | J161: 1447 | K161: 50 | L161: область Жетісу, г. Ушарал, ул. Тощенко, 109
B162: ИП "Тарасенко Д.В." | C162: 880705300044 | D162: область Жетісу, г. Ушарал, ул. Тощенко, 109. Тарасенко Денис Влалимирович | E162: ГНП | F162: Реализация и хранение сжиженного нефтяного газа | G162: Сосуд работающий под давлением. Сжиженный нефтяной газ (пропан, бутан и смесь пропан/бутан) | H162: 1 | I162: С-23-94 | J162: 4860 | K162: 2.5 | L162: область Жетісу, г. Ушарал, ул. Тощенко, 109
B163: ИП "Тарасенко Д.В." | C163: 880705300044 | D163: область Жетісу, г. Ушарал, ул. Тощенко, 109. Тарасенко Денис Влалимирович | E163: ГНП | F163: Реализация и хранение сжиженного нефтяного газа | G163: Сосуд работающий под давлением. Сжиженный нефтяной газ (пропан, бутан и смесь пропан/бутан) | H163: 1 | I163: С-23-95 | J163: 3353 | K163: 3.5 | L163: область Жетісу, г. Ушарал, ул. Тощенко, 109
B164: ИП "Тарасенко Д.В." | C164: 880705300044 | D164: область Жетісу, г. Ушарал, ул. Тощенко, 109. Тарасенко Денис Влалимирович | E164: ГНП | F164: Реализация и хранение сжиженного нефтяного газа | G164: Сосуд работающий под давлением. Сжиженный нефтяной газ (пропан, бутан и смесь пропан/бутан) | H164: 1 | I164: С-23-96 | J164: 1849 | K164: 6 | L164: область Жетісу, г. Ушарал, ул. Тощенко, 109
B165: ИП "Тарасенко Д.В." | C165: 880705300044 | D165: область Жетісу, г. Ушарал, ул. Тощенко, 109. Тарасенко Денис Влалимирович | E165: ГНП | F165: Реализация и хранение сжиженного нефтяного газа | G165: Сосуд работающий под давлением. Сжиженный нефтяной газ (пропан, бутан и смесь пропан/бутан) | H165: 1 | I165: С-23-97 | J165: 1331 | K165: 2.5 | L165: область Жетісу, г. Ушарал, ул. Тощенко, 109
B166: ИП "Тарасенко Д.В." | C166: 880705300044 | D166: область Жетісу, г. Ушарал, ул. Тощенко, 109. Тарасенко Денис Влалимирович | E166: ГНП | F166: Реализация и хранение сжиженного нефтяного газа | G166: Сосуд работающий под давлением. Сжиженный нефтяной газ (пропан, бутан и смесь пропан/бутан) | H166: 1 | I166: С-23-98 | J166: 3375 | K166: 2.5 | L166: область Жетісу, г. Ушарал, ул. Тощенко, 109
B167: ИП "Тарасенко Д.В." | C167: 880705300044 | D167: область Жетісу, г. Ушарал, ул. Тощенко, 109. Тарасенко Денис Влалимирович | E167: ГНП | F167: Реализация и хранение сжиженного нефтяного газа | G167: Сосуд работающий под давлением. Сжиженный нефтяной газ (пропан, бутан и смесь пропан/бутан) | H167: 1 | I167: С-23-99 | J167: 3355 | K167: 2.5 | L167: область Жетісу, г. Ушарал, ул. Тощенко, 109
B168: ИП "Тарасенко Д.В." | C168: 880705300044 | D168: область Жетісу, г. Ушарал, ул. Тощенко, 109. Тарасенко Денис Влалимирович | E168: ГНП | F168: Реализация и хранение сжиженного нефтяного газа | G168: Сосуд работающий под давлением. Сжиженный нефтяной газ (пропан, бутан и смесь пропан/бутан) | H168: 1 | I168: С-23-100 | J168: 14475 | K168: 50 | L168: область Жетісу, г. Ушарал, ул. Тощенко, 109
B169: ИП "Тарасенко Д.В." | C169: 880705300044 | D169: область Жетісу, г. Ушарал, ул. Тощенко, 109. Тарасенко Денис Влалимирович | E169: ГНП | F169: Реализация и хранение сжиженного нефтяного газа | G169: Сосуд работающий под давлением. Сжиженный нефтяной газ (пропан, бутан и смесь пропан/бутан) | H169: 1 | I169: С-23-101 | J169: 14476 | K169: 50 | L169: область Жетісу, г. Ушарал, ул. Тощенко, 109
B170: ИП "Тарасенко Д.В." | C170: 880705300044 | D170: область Жетісу, г. Ушарал, ул. Тощенко, 109. Тарасенко Денис Влалимирович | E170: АГЗС | F170: Реализация и хранение сжиженного нефтяного газа | G170: Сосуд работающий под давлением. Сжиженный нефтяной газ (пропан, бутан и смесь пропан/бутан) | H170: 1 | I170: С-23-112 | J170: 1354 | K170: 5 | L170: область Жетісу, Алакольский район, с. Кабанбай, ул. Алимжанова, 64
B171: ИП "Тарасенко Д.В." | C171: 880705300044 | D171: область Жетісу, г. Ушарал, ул. Тощенко, 109. Тарасенко Денис Влалимирович | E171: АГЗС | F171: Реализация и хранение сжиженного нефтяного газа | G171: Сосуд работающий под давлением. Сжиженный нефтяной газ (пропан, бутан и смесь пропан/бутан) | H171: 1 | I171: С-23-113 | J171: 1409 | K171: 5 | L171: область Жетісу, Алакольский район, с. Кабанбай, ул. Алимжанова, 64
B172: ИП "Тарасенко Д.В." | C172: 880705300044 | D172: область Жетісу, г. Ушарал, ул. Тощенко, 109. Тарасенко Денис Влалимирович | E172: АГЗС | F172: Реализация и хранение сжиженного нефтяного газа | G172: Сосуд работающий под давлением. Сжиженный нефтяной газ (пропан, бутан и смесь пропан/бутан) | H172: 1 | I172: С-23-115 | J172: 16298 | K172: 7.25 | L172: область Жетісу, Алакольский район, с. Булакты, ст. Бесколь, ул. Амангельды, 35 Б
B173: ИП "Тарасенко Д.В." | C173: 880705300044 | D173: область Жетісу, г. Ушарал, ул. Тощенко, 109. Тарасенко Денис Влалимирович | E173: АГЗС | F173: Реализация и хранение сжиженного нефтяного газа | G173: Сосуд работающий под давлением. Сжиженный нефтяной газ (пропан, бутан и смесь пропан/бутан) | H173: 1 | I173: С-23-118 | J173: 40950 | K173: 50 | L173: область Жетісу, Алакольский район, с. Булакты, ст. Бесколь, ул. Амангельды, 35 Б
B174: ИП "Тарасенко Д.В." | C174: 880705300044 | D174: область Жетісу, г. Ушарал, ул. Тощенко, 109. Тарасенко Денис Влалимирович | E174: АГЗС | F174: Реализация и хранение сжиженного нефтяного газа | G174: Сосуд работающий под давлением. Сжиженный нефтяной газ (пропан, бутан и смесь пропан/бутан) | H174: 1 | I174: С-23-117 | J174: 1044 | K174: 5 | L174: область Жетісу, Алакольский район, с. Кабанбай, ул. Жансугурова, 2 А
A175: 7. | B175: Акционерное общество "ОЛЖА" | C175: 980240003083 | D175: г. Алматы, Ауэзовский район, улица Утеген батыра, дом 11/5. Шеденов Ильяс Утегалиевич | E175: ГНС | F175: Реализация и хранение сжиженного углеводородного газа | G175: Сосуд работающий под давлением. Сжиженный нефтяной газ (пропан, бутан и смесь пропан/бутан) | H175: 1 | I175: С-23-248 | J175: 6024-1 | K175: 200 | L175: область Жетісу, г. Талдыкорган, Восточная промзона, стр. 69/5
B176: Акционерное общество "ОЛЖА" | C176: 980240003083 | D176: г. Алматы, Ауэзовский район, улица Утеген батыра, дом 11/5. Шеденов Ильяс Утегалиевич | E176: ГНС | F176: Реализация и хранение сжиженного углеводородного газа | G176: Сосуд работающий под давлением. Сжиженный нефтяной газ (пропан, бутан и смесь пропан/бутан) | H176: 1 | I176: С-23-246 | J176: 6024-2 | K176: 200 | L176: область Жетісу, г. Талдыкорган, Восточная промзона, стр. 69/5
B177: Акционерное общество "ОЛЖА" | C177: 980240003083 | D177: г. Алматы, Ауэзовский район, улица Утеген батыра, дом 11/5. Шеденов Ильяс Утегалиевич | E177: ГНС | F177: Реализация и хранение сжиженного углеводородного газа | G177: Сосуд работающий под давлением. Сжиженный нефтяной газ (пропан, бутан и смесь пропан/бутан) | H177: 1 | I177: С-23-247 | J177: 6024-3 | K177: 200 | L177: область Жетісу, г. Талдыкорган, Восточная промзона, стр. 69/5
B178: Акционерное общество "ОЛЖА" | C178: 980240003083 | D178: г. Алматы, Ауэзовский район, улица Утеген батыра, дом 11/5. Шеденов Ильяс Утегалиевич | E178: АГЗС | F178: Реализация и хранение сжиженного углеводородного газа | G178: Сосуд работающий под давлением. Сжиженный нефтяной газ (пропан, бутан и смесь пропан/бутан) | H178: 1 | I178: С-24-255 | J178: 43 | K178: 10 | L178: область Жетісу, г. Талдыкорган, с. Еркин, стр. 130 А
B179: Акционерное общество "ОЛЖА" | C179: 980240003083 | D179: г. Алматы, Ауэзовский район, улица Утеген батыра, дом 11/5. Шеденов Ильяс Утегалиевич | E179: АГЗС | F179: Реализация и хранение сжиженного углеводородного газа | G179: Сосуд работающий под давлением. Сжиженный нефтяной газ (пропан, бутан и смесь пропан/бутан) | H179: 1 | I179: С-24-257 | J179: 38 | K179: 10 | L179: область Жетісу, г. Талдыкорган, с. Еркин, ул. Куренбел 2/2
B180: Акционерное общество "ОЛЖА" | C180: 980240003083 | D180: г. Алматы, Ауэзовский район, улица Утеген батыра, дом 11/5. Шеденов Ильяс Утегалиевич | E180: АГЗС | F180: Реализация и хранение сжиженного углеводородного газа | G180: Сосуд работающий под давлением. Сжиженный нефтяной газ (пропан, бутан и смесь пропан/бутан) | H180: 1 | I180: С-24-256 | J180: 6 | K180: 8 | L180: область Жетісу, г. Талдыкорган, уг. ул. Жансугурова – Кабанбай Батыра
B181: Акционерное общество "ОЛЖА" | C181: 980240003083 | D181: г. Алматы, Ауэзовский район, улица Утеген батыра, дом 11/5. Шеденов Ильяс Утегалиевич | E181: АГЗС | F181: Реализация и хранение сжиженного углеводородного газа | G181: Сосуд работающий под давлением. Сжиженный нефтяной газ (пропан, бутан и смесь пропан/бутан) | H181: 1 | I181: С-24-262 | J181: 6079 | K181: 5 | L181: область Жетісу, Каратальский р-н, г. Уштобе
B182: Акционерное общество "ОЛЖА" | C182: 980240003083 | D182: г. Алматы, Ауэзовский район, улица Утеген батыра, дом 11/5. Шеденов Ильяс Утегалиевич | E182: АГЗС | F182: Реализация и хранение сжиженного углеводородного газа | G182: Сосуд работающий под давлением. Сжиженный нефтяной газ (пропан, бутан и смесь пропан/бутан) | H182: 1 | I182: С-24-258 | J182: 5182 | K182: 5 | L182: область Жетісу, Кербулакский р-н, с. Сарыозек, ул. Б. Момышулы, 1 Б
B183: Акционерное общество "ОЛЖА" | C183: 980240003083 | D183: г. Алматы, Ауэзовский район, улица Утеген батыра, дом 11/5. Шеденов Ильяс Утегалиевич | E183: АГЗС | F183: Реализация и хранение сжиженного углеводородного газа | G183: Сосуд работающий под давлением. Сжиженный нефтяной газ (пропан, бутан и смесь пропан/бутан) | H183: 1 | I183: С-24-259 | J183: 5968 | K183: 5 | L183: область Жетісу, г. Текели, ул. Конаева, 13
A184: 8. | B184: ТОО "TMK-GAZ" | C184: 180640032798 | D184: г. Астана, район Есиль, Шоссе Коргалжын, дом 5, н.п. 3. Болегенов Жасулан Абдиллаевич | E184: АГЗС | F184: Реализация и хранение сжиженного нефтяного газа | G184: Сосуд работающий под давлением. Сжиженный нефтяной газ (пропан, бутан и смесь пропан/бутан) | H184: 1 | I184: С-24-305 | J184: 30357 | K184: 6.7 | L184: область Жетісу, г. Талдыкорган, по Алматинской трассе, село Отенай
B185: ТОО "TMK-GAZ" | C185: 180640032798 | D185: г. Астана, район Есиль, Шоссе Коргалжын, дом 5, н.п. 3. Болегенов Жасулан Абдиллаевич | E185: АГЗС | F185: Реализация и хранение сжиженного нефтяного газа | G185: Сосуд работающий под давлением. Сжиженный нефтяной газ (пропан, бутан и смесь пропан/бутан) | H185: 1 | I185: С-24-264 | J185: 30429 | K185: 9.8 | L185: область Жетісу, г. Талдыкорган, ул. Жансугурова, 201/1
B186: ТОО "TMK-GAZ" | C186: 180640032798 | D186: г. Астана, район Есиль, Шоссе Коргалжын, дом 5, н.п. 3. Болегенов Жасулан Абдиллаевич | E186: АГЗС | F186: Реализация и хранение сжиженного нефтяного газа | G186: Сосуд работающий под давлением. Сжиженный нефтяной газ (пропан, бутан и смесь пропан/бутан) | H186: 1 | I186: С-24-306 | J186: 650 | K186: 9.95 | L186: область Жетісу, г. Талдыкорган, ул. Жансугурова угол ул. Кабанбай батыра
B187: ТОО "TMK-GAZ" | C187: 180640032798 | D187: г. Астана, район Есиль, Шоссе Коргалжын, дом 5, н.п. 3. Болегенов Жасулан Абдиллаевич | E187: ГНС | F187: Реализация и хранение сжиженного нефтяного газа | G187: Сосуд работающий под давлением. Сжиженный нефтяной газ (пропан, бутан и смесь пропан/бутан) | H187: 1 | I187: С-23-234 | J187: 6321 | K187: 100 | L187: область Жетісу, г. Талдыкорган, Восточная промзона, участок 84б
B188: ТОО "TMK-GAZ" | C188: 180640032798 | D188: г. Астана, район Есиль, Шоссе Коргалжын, дом 5, н.п. 3. Болегенов Жасулан Абдиллаевич | E188: ГНС | F188: Реализация и хранение сжиженного нефтяного газа | G188: Сосуд работающий под давлением. Сжиженный нефтяной газ (пропан, бутан и смесь пропан/бутан) | H188: 1 | I188: С-23-236 | J188: 6322 | K188: 100 | L188: область Жетісу, г. Талдыкорган, Восточная промзона, участок 84б
B189: ТОО "TMK-GAZ" | C189: 180640032798 | D189: г. Астана, район Есиль, Шоссе Коргалжын, дом 5, н.п. 3. Болегенов Жасулан Абдиллаевич | E189: ГНС | F189: Реализация и хранение сжиженного нефтяного газа | G189: Сосуд работающий под давлением. Сжиженный нефтяной газ (пропан, бутан и смесь пропан/бутан) | H189: 1 | I189: С-23-233 | J189: 6323 | K189: 100 | L189: область Жетісу, г. Талдыкорган, Восточная промзона, участок 84б
B190: ТОО "TMK-GAZ" | C190: 180640032798 | D190: г. Астана, район Есиль, Шоссе Коргалжын, дом 5, н.п. 3. Болегенов Жасулан Абдиллаевич | E190: ГНС | F190: Реализация и хранение сжиженного нефтяного газа | G190: Сосуд работающий под давлением. Сжиженный нефтяной газ (пропан, бутан и смесь пропан/бутан) | H190: 1 | I190: С-23-237 | J190: 6324 | K190: 100 | L190: область Жетісу, г. Талдыкорган, Восточная промзона, участок 84б
B191: ТОО "TMK-GAZ" | C191: 180640032798 | D191: г. Астана, район Есиль, Шоссе Коргалжын, дом 5, н.п. 3. Болегенов Жасулан Абдиллаевич | E191: ГНС | F191: Реализация и хранение сжиженного нефтяного газа | G191: Сосуд работающий под давлением. Сжиженный нефтяной газ (пропан, бутан и смесь пропан/бутан) | H191: 1 | I191: С-23-238 | J191: 6327 | K191: 100 | L191: область Жетісу, г. Талдыкорган, Восточная промзона, участок 84б
B192: ТОО "TMK-GAZ" | C192: 180640032798 | D192: г. Астана, район Есиль, Шоссе Коргалжын, дом 5, н.п. 3. Болегенов Жасулан Абдиллаевич | E192: ГНС | F192: Реализация и хранение сжиженного нефтяного газа | G192: Сосуд работающий под давлением. Сжиженный нефтяной газ (пропан, бутан и смесь пропан/бутан) | H192: 1 | I192: С-23-235 | J192: 6327 | K192: 100 | L192: область Жетісу, г. Талдыкорган, Восточная промзона, участок 84б
B193: ТОО "TMK-GAZ" | C193: 180640032798 | D193: г. Астана, район Есиль, Шоссе Коргалжын, дом 5, н.п. 3. Болегенов Жасулан Абдиллаевич | E193: АГЗС | F193: Реализация и хранение сжиженного нефтяного газа | G193: Сосуд работающий под давлением. Сжиженный нефтяной газ (пропан, бутан и смесь пропан/бутан) | H193: 1 | I193: С-24-356 | J193: 1417 | K193: 9.96 | L193: область Жетісу, г. Талдыкорган, ул. Желтоксан
B194: ТОО "TMK-GAZ" | C194: 180640032798 | D194: г. Астана, район Есиль, Шоссе Коргалжын, дом 5, н.п. 3. Болегенов Жасулан Абдиллаевич | E194: АГЗС | F194: Реализация и хранение сжиженного нефтяного газа | G194: Сосуд работающий под давлением. Сжиженный нефтяной газ (пропан, бутан и смесь пропан/бутан) | H194: 1 | I194: С-24-357 | J194: 20 | K194: 10 | L194: область Жетісу, г. Талдыкорган, Еркинский с.о.,130
B195: ТОО "TMK-GAZ" | C195: 180640032798 | D195: г. Астана, район Есиль, Шоссе Коргалжын, дом 5, н.п. 3. Болегенов Жасулан Абдиллаевич | E195: ГНП | F195: Реализация и хранение сжиженного нефтяного газа | G195: Сосуд работающий под давлением. Сжиженный нефтяной газ (пропан, бутан и смесь пропан/бутан) | H195: 1 | I195: С-25-371 | J195: 1133 | K195: 5 | L195: область Жетісу, г. Талдыкорган, Восточная промзона, участок 84б
B196: ТОО "TMK-GAZ" | C196: 180640032798 | D196: г. Астана, район Есиль, Шоссе Коргалжын, дом 5, н.п. 3. Болегенов Жасулан Абдиллаевич | E196: ГНП | F196: Реализация и хранение сжиженного нефтяного газа | G196: Сосуд работающий под давлением. Сжиженный нефтяной газ (пропан, бутан и смесь пропан/бутан) | H196: 1 | I196: С-25-372 | J196: 1134 | K196: 5 | L196: область Жетісу, г. Талдыкорган, Восточная промзона, участок 84б
A197: 9. | B197: ТОО "Тавиди" | C197: О11040005440 | D197: область Жетісу, г. Талдыкорган, ул. Алмалы, 9 Б. Тарасенко В.В. | E197: ГНС | F197: Прочая розничная торговля вне магазинов (47999) | G197: Сосуд работающий под давлением. Сжиженный нефтяной газ (пропан, бутан и смесь пропан/бутан) | H197: 1+RC:R[16]C | I197: С-24-336 | J197: 1 | K197: 50 | L197: область Жетісу, г. Талдыкорган, ул. Алмалы, 9 Б
B198: ТОО "Тавиди" | C198: О11040005440 | D198: область Жетісу, г. Талдыкорган, ул. Алмалы, 9 Б. Тарасенко В.В. | E198: ГНС | F198: Прочая розничная торговля вне магазинов (47999) | G198: Сосуд работающий под давлением. Сжиженный нефтяной газ (пропан, бутан и смесь пропан/бутан) | H198: 1 | I198: С-24-334 | J198: 2 | K198: 50 | L198: область Жетісу, г. Талдыкорган, ул. Алмалы, 9 Б
B199: ТОО "Тавиди" | C199: О11040005440 | D199: область Жетісу, г. Талдыкорган, ул. Алмалы, 9 Б. Тарасенко В.В. | E199: ГНС | F199: Прочая розничная торговля вне магазинов (47999) | G199: Сосуд работающий под давлением. Сжиженный нефтяной газ (пропан, бутан и смесь пропан/бутан) | H199: 1 | I199: С-24-338 | J199: 3 | K199: 50 | L199: область Жетісу, г. Талдыкорган, ул. Алмалы, 9 Б
B200: ТОО "Тавиди" | C200: О11040005440 | D200: область Жетісу, г. Талдыкорган, ул. Алмалы, 9 Б. Тарасенко В.В. | E200: ГНС | F200: Прочая розничная торговля вне магазинов (47999) | G200: Сосуд работающий под давлением. Сжиженный нефтяной газ (пропан, бутан и смесь пропан/бутан) | H200: 1 | I200: С-24-340 | J200: 4 | K200: 50 | L200: область Жетісу, г. Талдыкорган, ул. Алмалы, 9 Б
B201: ТОО "Тавиди" | C201: О11040005440 | D201: область Жетісу, г. Талдыкорган, ул. Алмалы, 9 Б. Тарасенко В.В. | E201: ГНС | F201: Прочая розничная торговля вне магазинов (47999) | G201: Сосуд работающий под давлением. Сжиженный нефтяной газ (пропан, бутан и смесь пропан/бутан) | H201: 1 | I201: С-24-339 | J201: 5 | K201: 50 | L201: область Жетісу, г. Талдыкорган, ул. Алмалы, 9 Б
B202: ТОО "Тавиди" | C202: О11040005440 | D202: область Жетісу, г. Талдыкорган, ул. Алмалы, 9 Б. Тарасенко В.В. | E202: ГНС | F202: Прочая розничная торговля вне магазинов (47999) | G202: Сосуд работающий под давлением. Сжиженный нефтяной газ (пропан, бутан и смесь пропан/бутан) | H202: 1 | I202: С-24-343 | J202: 6 | K202: 50 | L202: область Жетісу, г. Талдыкорган, ул. Алмалы, 9 Б
...

Sheet Жамбыл облысы
A1: Газ толтыру станцияларының, газ толтыру пункттерінің, автогаз құю станцияларының және өнеркәсіптік тұтынушылардың - қысыммен жұмыс істейтін түтіктерді сұйытылған мұнай газын сақтау үшін пайдаланатын олардың иелерінің тізілімі Жамбыл облысы бойынша
A2: №п/п | B2: Заңды немесе жеке тұлғаның атауы | C2: БСН, ЖСН | D2: Заңды немесе жеке тұлғаның мекенжайы, басшының Т. А. Ә. (иесі) | E2: Объектінің атауы | F2: Өнеркәсіп саласы және қызмет түрі | G2: Қауіпті техникалық құрылғыны сәйкестендіру ерекшеліктері (қысыммен жұмыс істейтін ыдыс, жұмыс ортасы) | H2: Объектінің жалпы сипаттамасы (ыдыстардың саны және көлемі, зауытық нөмірі, аумақтық бөлімшедегі есептік нөмірі) | L2: Объектінің орналасқан жері ( нақты мекенжайы)
H3: ҚЖІЫ жалпы саны | I3: Есептік № | J3: зауыттық № | K3: ҚЖІЫ көлемі, м3
A4: 1 | B4: 2 | C4: 3 | D4: 4 | E4: 5 | F4: 6 | G4: 7 | H4: 8 | L4: 9
A5: 1 | B5: ТОО «Ниет ЛТД» | C5: 970640001071 | D5: Алматы қаласы, Алмалы ауданы, Бөгенбай батыр көшесі, көше, №303 үй Музыка Евгений Владимирович · | E5: АГЗС | F5: сұйытылған мұнай газын сату және сақтау | G5: қысыммен жұмыс істейтін ыдыс, сұйытылған мұнай газы | H5: 1 | I5: С-4700 | J5: 70 | K5: 4.2 | L5: Жамбылская область, Кордайский район, с. Беткайнар, вдоль автодороги Кордай-Шу 242 км
B6: ТОО «Ниет ЛТД» | C6: 970640001071 | D6: Алматы қаласы, Алмалы ауданы, Бөгенбай батыр көшесі, көше, №303 үй Музыка Евгений Владимирович · | E6: АГЗС | F6: сұйытылған мұнай газын сату және сақтау | G6: қысыммен жұмыс істейтін ыдыс, сұйытылған мұнай газы | H6: 1 | I6: С-4701 | J6: 1897 | K6: 4.2 | L6: Жамбылская область, Кордайский район, с. Беткайнар, вдоль автодороги Кордай-Шу 242 км
B7: ТОО «Ниет ЛТД» | C7: 970640001071 | D7: Алматы қаласы, Алмалы ауданы, Бөгенбай батыр көшесі, көше, №303 үй Музыка Евгений Владимирович · | E7: АГЗС | F7: сұйытылған мұнай газын сату және сақтау | G7: қысыммен жұмыс істейтін ыдыс, сұйытылған мұнай газы | H7: 1 | I7: С-4702 | J7: 427 | K7: 4.6 | L7: Жамбылская область, Мойынкумский район, с. Кенес, вдоль автодороги Шу-Бирлик
B8: ТОО «Ниет ЛТД» | C8: 970640001071 | D8: Алматы қаласы, Алмалы ауданы, Бөгенбай батыр көшесі, көше, №303 үй Музыка Евгений Владимирович · | E8: АГЗС | F8: сұйытылған мұнай газын сату және сақтау | G8: қысыммен жұмыс істейтін ыдыс, сұйытылған мұнай газы | H8: 1 | I8: С-5838 | J8: 34797 | K8: 20 | L8: Жамбылская область, Мойынкумский район, с. Кенес, вдоль автодороги Шу-Бирлик
B9: ТОО «Ниет ЛТД» | C9: 970640001071 | D9: Алматы қаласы, Алмалы ауданы, Бөгенбай батыр көшесі, көше, №303 үй Музыка Евгений Владимирович · | E9: АГЗС | F9: сұйытылған мұнай газын сату және сақтау | G9: қысыммен жұмыс істейтін ыдыс, сұйытылған мұнай газы | H9: 1 | I9: С-5839 | J9: 68 | K9: 20 | L9: Жамбылская область, Кордайский район,вдоль автодороги Кордай-Шу 232 км
B10: ТОО «Ниет ЛТД» | C10: 970640001071 | D10: Алматы қаласы, Алмалы ауданы, Бөгенбай батыр көшесі, көше, №303 үй Музыка Евгений Владимирович · | E10: АГЗС | F10: сұйытылған мұнай газын сату және сақтау | G10: қысыммен жұмыс істейтін ыдыс, сұйытылған мұнай газы | H10: 1 | I10: С-4718 | J10: 30 | K10: 8
A11: 3 | B11: ТОО «Auto Gas Station» | C11: 160540008381 | D11: Қызылорда облысы, Қызылорда қаласы, Әлихан Бөкейхан көшесі, № 11А үй Серикбаев Бакытжан Жаксылыкулы | E11: АГЗС | F11: сұйытылған мұнай газын сату және сақтау | G11: қысыммен жұмыс істейтін ыдыс, сұйытылған мұнай газы | H11: 1 | I11: C-4950 | J11: 226267 | K11: 4.9 | L11: Жамбылская область, г. Тараз, ул. Санырак батыра, 47 "Б"
B12: ТОО «Auto Gas Station» | C12: 160540008381 | D12: Қызылорда облысы, Қызылорда қаласы, Әлихан Бөкейхан көшесі, № 11А үй Серикбаев Бакытжан Жаксылыкулы | E12: АГЗС | F12: сұйытылған мұнай газын сату және сақтау | G12: қысыммен жұмыс істейтін ыдыс, сұйытылған мұнай газы | H12: 1 | I12: C-4951 | J12: 5737 | K12: 10 | L12: Жамбылская область, город Тараз, улица Айша биби 120
B13: ТОО «Auto Gas Station» | C13: 160540008381 | D13: Қызылорда облысы, Қызылорда қаласы, Әлихан Бөкейхан көшесі, № 11А үй Серикбаев Бакытжан Жаксылыкулы | E13: АГЗС | F13: сұйытылған мұнай газын сату және сақтау | G13: қысыммен жұмыс істейтін ыдыс, сұйытылған мұнай газы | H13: 1 | I13: C-4952 | J13: 28021088 | K13: 4.9 | L13: Жамбылская область, Байзакский район, трасса Тараз - Алматы
B14: ТОО «Auto Gas Station» | C14: 160540008381 | D14: Қызылорда облысы, Қызылорда қаласы, Әлихан Бөкейхан көшесі, № 11А үй Серикбаев Бакытжан Жаксылыкулы | E14: АГЗС | F14: сұйытылған мұнай газын сату және сақтау | G14: қысыммен жұмыс істейтін ыдыс, сұйытылған мұнай газы | H14: 1 | I14: C-4953 | J14: 971713 | K14: 4.9 | L14: Жамбылская область, Байзакский район, трасса Тараз - Алматы
B15: ТОО «Auto Gas Station» | C15: 160540008381 | D15: Қызылорда облысы, Қызылорда қаласы, Әлихан Бөкейхан көшесі, № 11А үй Серикбаев Бакытжан Жаксылыкулы | E15: АГЗС | F15: сұйытылған мұнай газын сату және сақтау | G15: қысыммен жұмыс істейтін ыдыс, сұйытылған мұнай газы | H15: 1 | I15: C-4988 | J15: 971715 | K15: 4.97 | L15: Жамбылская область, город Тараз, улица Аль- Фараби
B16: ТОО «Auto Gas Station» | C16: 160540008381 | D16: Қызылорда облысы, Қызылорда қаласы, Әлихан Бөкейхан көшесі, № 11А үй Серикбаев Бакытжан Жаксылыкулы | E16: АГЗС | F16: сұйытылған мұнай газын сату және сақтау | G16: қысыммен жұмыс істейтін ыдыс, сұйытылған мұнай газы | H16: 1 | I16: C-4989 | J16: 971714 | K16: 4.97 | L16: Жамбылская область, город Тараз, улица Санырак батыра 47 "Б"
B17: ТОО «Auto Gas Station» | C17: 160540008381 | D17: Қызылорда облысы, Қызылорда қаласы, Әлихан Бөкейхан көшесі, № 11А үй Серикбаев Бакытжан Жаксылыкулы | E17: АГЗС | F17: сұйытылған мұнай газын сату және сақтау | G17: қысыммен жұмыс істейтін ыдыс, сұйытылған мұнай газы | H17: 1 | I17: C-5412 | J17: 948 | K17: 5 | L17: Жамбылская область, город Тараз, вдоль улицы Сулейменова
B18: ТОО «Auto Gas Station» | C18: 160540008381 | D18: Қызылорда облысы, Қызылорда қаласы, Әлихан Бөкейхан көшесі, № 11А үй Серикбаев Бакытжан Жаксылыкулы | E18: АГЗС | F18: сұйытылған мұнай газын сату және сақтау | G18: қысыммен жұмыс істейтін ыдыс, сұйытылған мұнай газы | H18: 1 | I18: C-5413 | J18: 7108495 | K18: 5 | L18: Жамбылская область, город Тараз, вдоль улицы Сулейменова
B19: ТОО «Auto Gas Station» | C19: 160540008381 | D19: Қызылорда облысы, Қызылорда қаласы, Әлихан Бөкейхан көшесі, № 11А үй Серикбаев Бакытжан Жаксылыкулы | E19: АГЗС | F19: сұйытылған мұнай газын сату және сақтау | G19: қысыммен жұмыс істейтін ыдыс, сұйытылған мұнай газы | H19: 1 | I19: C-5414 | J19: 952 | K19: 6 | L19: Жамбылская область, город Тараз, пр-т, Жамбыла, 2 Р
B20: ТОО «Auto Gas Station» | C20: 160540008381 | D20: Қызылорда облысы, Қызылорда қаласы, Әлихан Бөкейхан көшесі, № 11А үй Серикбаев Бакытжан Жаксылыкулы | E20: АГЗС | F20: сұйытылған мұнай газын сату және сақтау | G20: қысыммен жұмыс істейтін ыдыс, сұйытылған мұнай газы | H20: 1 | I20: C-5415 | J20: 246043 | K20: 5 | L20: Жамбылская область, город Тараз, пр-т, Жамбыла, 2 Р
B21: ТОО «Auto Gas Station» | C21: 160540008381 | D21: Қызылорда облысы, Қызылорда қаласы, Әлихан Бөкейхан көшесі, № 11А үй Серикбаев Бакытжан Жаксылыкулы | E21: АГЗС | F21: сұйытылған мұнай газын сату және сақтау | G21: қысыммен жұмыс істейтін ыдыс, сұйытылған мұнай газы | H21: 1 | I21: C-5416 | J21: 6647 | K21: 4.97 | L21: Жамбылская область, город Тараз, улица Аль- Фараби
B22: ТОО «Auto Gas Station» | C22: 160540008381 | D22: Қызылорда облысы, Қызылорда қаласы, Әлихан Бөкейхан көшесі, № 11А үй Серикбаев Бакытжан Жаксылыкулы | E22: АГЗС | F22: сұйытылған мұнай газын сату және сақтау | G22: қысыммен жұмыс істейтін ыдыс, сұйытылған мұнай газы | H22: 1 | I22: С-5877 | J22: 3605 | K22: 4.8 | L22: 1) Жамбылская область, г.Тараз, массив Шайкорык, 12+900 "Обход г.Тараз", кадастровый номер:06-097-104-494"
B23: ТОО «Auto Gas Station» | C23: 160540008381 | D23: Қызылорда облысы, Қызылорда қаласы, Әлихан Бөкейхан көшесі, № 11А үй Серикбаев Бакытжан Жаксылыкулы | E23: АГЗС | F23: сұйытылған мұнай газын сату және сақтау | G23: қысыммен жұмыс істейтін ыдыс, сұйытылған мұнай газы | H23: 1 | I23: С-5878 | J23: 27891 | K23: 4.8 | L23: 1) Жамбылская область, г.Тараз, массив Шайкорык, 12+900 "Обход г.Тараз", кадастровый номер:06-097-104-494"
B24: ТОО «Auto Gas Station» | C24: 160540008381 | D24: Қызылорда облысы, Қызылорда қаласы, Әлихан Бөкейхан көшесі, № 11А үй Серикбаев Бакытжан Жаксылыкулы | E24: АГЗС | F24: сұйытылған мұнай газын сату және сақтау | G24: қысыммен жұмыс істейтін ыдыс, сұйытылған мұнай газы | H24: 1 | I24: С-5879 | J24: 047/11 | K24: 10 | L24: Жамбылская область, Жамбылский район, Жамбылский с.о. из земель к/х Култаевой Р. на территории с.Шайкорык кадастровый номер:06-088-033-360 "»
A25: 4 | B25: ТОО «Азия Нефтепродукт» | C25: 150340023316 | D25: Жамбыл облысы, Байзақ ауданы, Ботамойнақ ауылы Токметова Айнура Асилбековна | E25: ГНС | F25: сұйытылған мұнай газын сату және сақтау | G25: қысыммен жұмыс істейтін ыдыс, сұйытылған мұнай газы | H25: 1 | I25: С-5035 | J25: 33162 | K25: 54 | L25: Жамбылская область. Байзакский р/н, Ботамойнакский с/о, с.Ботамойнак, уч.квартал 094, строение 116
B26: ТОО «Азия Нефтепродукт» | C26: 150340023316 | D26: Жамбыл облысы, Байзақ ауданы, Ботамойнақ ауылы Токметова Айнура Асилбековна | E26: ГНС | F26: сұйытылған мұнай газын сату және сақтау | G26: қысыммен жұмыс істейтін ыдыс, сұйытылған мұнай газы | H26: 1 | I26: С-5034 | J26: 24700 | K26: 54 | L26: Жамбылская область. Байзакский р/н, Ботамойнакский с/о, с.Ботамойнак, уч.квартал 094, строение 116
B27: ТОО «Азия Нефтепродукт» | C27: 150340023316 | D27: Жамбыл облысы, Байзақ ауданы, Ботамойнақ ауылы Токметова Айнура Асилбековна | E27: ГНС | F27: сұйытылған мұнай газын сату және сақтау | G27: қысыммен жұмыс істейтін ыдыс, сұйытылған мұнай газы | H27: 1 | I27: С-5009 | J27: 33151 | K27: 54 | L27: Жамбылская область. Байзакский р/н, Ботамойнакский с/о, с.Ботамойнак, уч.квартал 094, строение 116
B28: ТОО «Азия Нефтепродукт» | C28: 150340023316 | D28: Жамбыл облысы, Байзақ ауданы, Ботамойнақ ауылы Токметова Айнура Асилбековна | E28: ГНС | F28: сұйытылған мұнай газын сату және сақтау | G28: қысыммен жұмыс істейтін ыдыс, сұйытылған мұнай газы | H28: 1 | I28: С-5010 | J28: 33152 | K28: 54 | L28: Жамбылская область. Байзакский р/н, Ботамойнакский с/о, с.Ботамойнак, уч.квартал 094, строение 116
B29: ТОО «Азия Нефтепродукт» | C29: 150340023316 | D29: Жамбыл облысы, Байзақ ауданы, Ботамойнақ ауылы Токметова Айнура Асилбековна | E29: ГНС | F29: сұйытылған мұнай газын сату және сақтау | G29: қысыммен жұмыс істейтін ыдыс, сұйытылған мұнай газы | H29: 1 | I29: С-5011 | J29: 33153 | K29: 54 | L29: Жамбылская область. Байзакский р/н, Ботамойнакский с/о, с.Ботамойнак, уч.квартал 094, строение 116
B30: ТОО «Азия Нефтепродукт» | C30: 150340023316 | D30: Жамбыл облысы, Байзақ ауданы, Ботамойнақ ауылы Токметова Айнура Асилбековна | E30: ГНС | F30: сұйытылған мұнай газын сату және сақтау | G30: қысыммен жұмыс істейтін ыдыс, сұйытылған мұнай газы | H30: 1 | I30: С-5012 | J30: 33154 | K30: 54 | L30: Жамбылская область. Байзакский р/н, Ботамойнакский с/о, с.Ботамойнак, уч.квартал 094, строение 116
B31: ТОО «Азия Нефтепродукт» | C31: 150340023316 | D31: Жамбыл облысы, Байзақ ауданы, Ботамойнақ ауылы Токметова Айнура Асилбековна | E31: ГНС | F31: сұйытылған мұнай газын сату және сақтау | G31: қысыммен жұмыс істейтін ыдыс, сұйытылған мұнай газы | H31: 1 | I31: С-5013 | J31: 33155 | K31: 54 | L31: Жамбылская область. Байзакский р/н, Ботамойнакский с/о, с.Ботамойнак, уч.квартал 094, строение 116
B32: ТОО «Азия Нефтепродукт» | C32: 150340023316 | D32: Жамбыл облысы, Байзақ ауданы, Ботамойнақ ауылы Токметова Айнура Асилбековна | E32: ГНС | F32: сұйытылған мұнай газын сату және сақтау | G32: қысыммен жұмыс істейтін ыдыс, сұйытылған мұнай газы | H32: 1 | I32: С-5014 | J32: 33156 | K32: 54 | L32: Жамбылская область. Байзакский р/н, Ботамойнакский с/о, с.Ботамойнак, уч.квартал 094, строение 116
B33: ТОО «Азия Нефтепродукт» | C33: 150340023316 | D33: Жамбыл облысы, Байзақ ауданы, Ботамойнақ ауылы Токметова Айнура Асилбековна | E33: ГНС | F33: сұйытылған мұнай газын сату және сақтау | G33: қысыммен жұмыс істейтін ыдыс, сұйытылған мұнай газы | H33: 1 | I33: С-5015 | J33: 33157 | K33: 54 | L33: Жамбылская область. Байзакский р/н, Ботамойнакский с/о, с.Ботамойнак, уч.квартал 094, строение 116
B34: ТОО «Азия Нефтепродукт» | C34: 150340023316 | D34: Жамбыл облысы, Байзақ ауданы, Ботамойнақ ауылы Токметова Айнура Асилбековна | E34: ГНС | F34: сұйытылған мұнай газын сату және сақтау | G34: қысыммен жұмыс істейтін ыдыс, сұйытылған мұнай газы | H34: 1 | I34: С-5016 | J34: 33158 | K34: 54 | L34: Жамбылская область. Байзакский р/н, Ботамойнакский с/о, с.Ботамойнак, уч.квартал 094, строение 116
B35: ТОО «Азия Нефтепродукт» | C35: 150340023316 | D35: Жамбыл облысы, Байзақ ауданы, Ботамойнақ ауылы Токметова Айнура Асилбековна | E35: ГНС | F35: сұйытылған мұнай газын сату және сақтау | G35: қысыммен жұмыс істейтін ыдыс, сұйытылған мұнай газы | H35: 1 | I35: С-5017 | J35: 33159 | K35: 54 | L35: Жамбылская область. Байзакский р/н, Ботамойнакский с/о, с.Ботамойнак, уч.квартал 094, строение 116
B36: ТОО «Азия Нефтепродукт» | C36: 150340023316 | D36: Жамбыл облысы, Байзақ ауданы, Ботамойнақ ауылы Токметова Айнура Асилбековна | E36: ГНС | F36: сұйытылған мұнай газын сату және сақтау | G36: қысыммен жұмыс істейтін ыдыс, сұйытылған мұнай газы | H36: 1 | I36: С-5018 | J36: 33160 | K36: 54 | L36: Жамбылская область. Байзакский р/н, Ботамойнакский с/о, с.Ботамойнак, уч.квартал 094, строение 116
B37: ТОО «Азия Нефтепродукт» | C37: 150340023316 | D37: Жамбыл облысы, Байзақ ауданы, Ботамойнақ ауылы Токметова Айнура Асилбековна | E37: ГНС | F37: сұйытылған мұнай газын сату және сақтау | G37: қысыммен жұмыс істейтін ыдыс, сұйытылған мұнай газы | H37: 1 | I37: С-5028 | J37: 24690 | K37: 54 | L37: Жамбылская область. Байзакский р/н, Ботамойнакский с/о, с.Ботамойнак, уч.квартал 094, строение 116
... B70: ТОО «Азия Нефтепродукт» | C70: 150340023316 | D70: Жамбыл облысы, Байзақ ауданы, Ботамойнақ ауылы Токметова Айнура Асилбековна | E70: АГЗС | F70: сұйытылған мұнай газын сату және сақтау | G70: қысыммен жұмыс істейтін ыдыс, сұйытылған мұнай газы | H70: 1 | I70: С-5170 | J70: 25861 | K70: 5 | L70: Жамбылская область , Жам.обл.,с.Мерке, вдоль ул Ленина
B71: ТОО «Азия Нефтепродукт» | C71: 150340023316 | D71: Жамбыл облысы, Байзақ ауданы, Ботамойнақ ауылы Токметова Айнура Асилбековна | E71: АГЗС | F71: сұйытылған мұнай газын сату және сақтау | G71: қысыммен жұмыс істейтін ыдыс, сұйытылған мұнай газы | H71: 1 | I71: С-5754 | J71: 092/2 | K71: 10 | L71: Жамбылская область , г. Тараз ул Аль-Фараби 9а
B72: ТОО «Азия Нефтепродукт» | C72: 150340023316 | D72: Жамбыл облысы, Байзақ ауданы, Ботамойнақ ауылы Токметова Айнура Асилбековна | E72: АГЗС | F72: сұйытылған мұнай газын сату және сақтау | G72: қысыммен жұмыс істейтін ыдыс, сұйытылған мұнай газы | H72: 1 | I72: С-5050 | J72: 33150 | K72: 54 | L72: Жамбыл облысы , Кордай ауданы, Сортобинский с/о вдоль авто дороги
B73: ТОО «Азия Нефтепродукт» | C73: 150340023316 | D73: Жамбыл облысы, Байзақ ауданы, Ботамойнақ ауылы Токметова Айнура Асилбековна | E73: АГЗС | F73: сұйытылған мұнай газын сату және сақтау | G73: қысыммен жұмыс істейтін ыдыс, сұйытылған мұнай газы | H73: 1 | I73: С-5219 | J73: 24526 | K73: 10 | L73: Жамбылская область .,город .Тараз, ул Толе би 171а
B74: ТОО «Азия Нефтепродукт» | C74: 150340023316 | D74: Жамбыл облысы, Байзақ ауданы, Ботамойнақ ауылы Токметова Айнура Асилбековна | E74: АГЗС | F74: сұйытылған мұнай газын сату және сақтау | G74: қысыммен жұмыс істейтін ыдыс, сұйытылған мұнай газы | H74: 1 | I74: С-5220 | J74: 24527 | K74: 16 | L74: Жамбылская область , Жуалинский р/н
B75: ТОО «Азия Нефтепродукт» | C75: 150340023316 | D75: Жамбыл облысы, Байзақ ауданы, Ботамойнақ ауылы Токметова Айнура Асилбековна | E75: АГЗС | F75: сұйытылған мұнай газын сату және сақтау | G75: қысыммен жұмыс істейтін ыдыс, сұйытылған мұнай газы | H75: 1 | I75: С-5222 | J75: 1204 | K75: 10 | L75: Жамбылская область , г Тараз ул Самаркандская 30
B76: ТОО «Азия Нефтепродукт» | C76: 150340023316 | D76: Жамбыл облысы, Байзақ ауданы, Ботамойнақ ауылы Токметова Айнура Асилбековна | E76: АГЗС | F76: сұйытылған мұнай газын сату және сақтау | G76: қысыммен жұмыс істейтін ыдыс, сұйытылған мұнай газы | H76: 1 | I76: С-5234 | J76: 2 | K76: 5 | L76: Жамбылская область , город Жанатас, ул.Аулие-Ата 12
B77: ТОО «Азия Нефтепродукт» | C77: 150340023316 | D77: Жамбыл облысы, Байзақ ауданы, Ботамойнақ ауылы Токметова Айнура Асилбековна | E77: АГЗС | F77: сұйытылған мұнай газын сату және сақтау | G77: қысыммен жұмыс істейтін ыдыс, сұйытылған мұнай газы | H77: 1 | I77: С-5454 | J77: /06208 | K77: 10 | L77: Жамбылская область ,г. Тараз привязка к АЗС НУР 105разъезд
A78: 5 | B78: ТОО ALAN Gaz Terminal | C78: 210140009036 | D78: Жамбыл облысы, Жамбыл ауданы, Жамбыл а / о, Шайқорық станциясы, 033 есептік квартал, 221 ғимарат, Нурмаханов Гани Шукириллаевич | E78: ГНС | F78: сұйытылған мұнай газын сату және сақтау | G78: қысыммен жұмыс істейтін ыдыс, сұйытылған мұнай газы | H78: 1 | I78: С-5019 | J78: 138712 | K78: 100 | L78: Жамбылская область, город Тараз, конец улицы Асқарова
B79: ТОО ALAN Gaz Terminal | C79: 210140009036 | D79: Жамбыл облысы, Жамбыл ауданы, Жамбыл а / о, Шайқорық станциясы, 033 есептік квартал, 221 ғимарат, Нурмаханов Гани Шукириллаевич | E79: ГНС | F79: сұйытылған мұнай газын сату және сақтау | G79: қысыммен жұмыс істейтін ыдыс, сұйытылған мұнай газы | H79: 1 | I79: С-5020 | J79: 603003 | K79: 100 | L79: Жамбылская область, город Тараз, конец улицы Асқарова
B80: ТОО ALAN Gaz Terminal | C80: 210140009036 | D80: Жамбыл облысы, Жамбыл ауданы, Жамбыл а / о, Шайқорық станциясы, 033 есептік квартал, 221 ғимарат, Нурмаханов Гани Шукириллаевич | E80: ГНС | F80: сұйытылған мұнай газын сату және сақтау | G80: қысыммен жұмыс істейтін ыдыс, сұйытылған мұнай газы | H80: 1 | I80: С-5021 | J80: 201031 | K80: 100 | L80: Жамбылская область, город Тараз, конец улицы Асқарова
B81: ТОО ALAN Gaz Terminal | C81: 210140009036 | D81: Жамбыл облысы, Жамбыл ауданы, Жамбыл а / о, Шайқорық станциясы, 033 есептік квартал, 221 ғимарат, Нурмаханов Гани Шукириллаевич | E81: ГНС | F81: сұйытылған мұнай газын сату және сақтау | G81: қысыммен жұмыс істейтін ыдыс, сұйытылған мұнай газы | H81: 1 | I81: С-5022 | J81: 201604 | K81: 100 | L81: Жамбылская область, город Тараз, конец улицы Асқарова
B82: ТОО ALAN Gaz Terminal | C82: 210140009036 | D82: Жамбыл облысы, Жамбыл ауданы, Жамбыл а / о, Шайқорық станциясы, 033 есептік квартал, 221 ғимарат, Нурмаханов Гани Шукириллаевич | E82: ГНС | F82: сұйытылған мұнай газын сату және сақтау | G82: қысыммен жұмыс істейтін ыдыс, сұйытылған мұнай газы | H82: 1 | I82: С-5023 | J82: 201227 | K82: 100 | L82: Жамбылская область, город Тараз, конец улицы Асқарова
B83: ТОО ALAN Gaz Terminal | C83: 210140009036 | D83: Жамбыл облысы, Жамбыл ауданы, Жамбыл а / о, Шайқорық станциясы, 033 есептік квартал, 221 ғимарат, Нурмаханов Гани Шукириллаевич | E83: ГНС | F83: сұйытылған мұнай газын сату және сақтау | G83: қысыммен жұмыс істейтін ыдыс, сұйытылған мұнай газы | H83: 1 | I83: С-5024 | J83: 20420 | K83: 100 | L83: Жамбылская область, город Тараз, конец улицы Асқарова
B84: ТОО ALAN Gaz Terminal | C84: 210140009036 | D84: Жамбыл облысы, Жамбыл ауданы, Жамбыл а / о, Шайқорық станциясы, 033 есептік квартал, 221 ғимарат, Нурмаханов Гани Шукириллаевич | E84: ГНС | F84: сұйытылған мұнай газын сату және сақтау | G84: қысыммен жұмыс істейтін ыдыс, сұйытылған мұнай газы | H84: 1 | I84: С-5756 | J84: 6688АТ16 | K84: 100 | L84: Жамбылская область, город Тараз, конец улицы Асқарова
B85: ТОО ALAN Gaz Terminal | C85: 210140009036 | D85: Жамбыл облысы, Жамбыл ауданы, Жамбыл а / о, Шайқорық станциясы, 033 есептік квартал, 221 ғимарат, Нурмаханов Гани Шукириллаевич | E85: ГНС | F85: сұйытылған мұнай газын сату және сақтау | G85: қысыммен жұмыс істейтін ыдыс, сұйытылған мұнай газы | H85: 1 | I85: С-5755 | J85: 6689АТ16 | K85: 100 | L85: Жамбылская область, город Тараз, конец улицы Асқарова
B86: ТОО ALAN Gaz Terminal | C86: 210140009036 | D86: Жамбыл облысы, Жамбыл ауданы, Жамбыл а / о, Шайқорық станциясы, 033 есептік квартал, 221 ғимарат, Нурмаханов Гани Шукириллаевич | E86: ГНС | F86: сұйытылған мұнай газын сату және сақтау | G86: қысыммен жұмыс істейтін ыдыс, сұйытылған мұнай газы | H86: 1 | I86: С-5025 | J86: 101602 | K86: 100 | L86: Жамбылская область, город Тараз, конец улицы Асқарова
B87: ТОО ALAN Gaz Terminal | C87: 210140009036 | D87: Жамбыл облысы, Жамбыл ауданы, Жамбыл а / о, Шайқорық станциясы, 033 есептік квартал, 221 ғимарат, Нурмаханов Гани Шукириллаевич | E87: ГНС | F87: сұйытылған мұнай газын сату және сақтау | G87: қысыммен жұмыс істейтін ыдыс, сұйытылған мұнай газы | H87: 1 | I87: С-5872 | J87: 0895AT16 | K87: 100 | L87: Жамбылская область, город Тараз, конец улицы Асқарова
B88: ТОО ALAN Gaz Terminal | C88: 210140009036 | D88: Жамбыл облысы, Жамбыл ауданы, Жамбыл а / о, Шайқорық станциясы, 033 есептік квартал, 221 ғимарат, Нурмаханов Гани Шукириллаевич | E88: ГНС | F88: сұйытылған мұнай газын сату және сақтау | G88: қысыммен жұмыс істейтін ыдыс, сұйытылған мұнай газы | H88: 1 | I88: С-5871 | J88: 0896AT16 | K88: 100 | L88: Жамбылская область, город Тараз, конец улицы Асқарова
B89: ТОО ALAN Gaz Terminal | C89: 210140009036 | D89: Жамбыл облысы, Жамбыл ауданы, Жамбыл а / о, Шайқорық станциясы, 033 есептік квартал, 221 ғимарат, Нурмаханов Гани Шукириллаевич | E89: ГНС | F89: сұйытылған мұнай газын сату және сақтау | G89: қысыммен жұмыс істейтін ыдыс, сұйытылған мұнай газы | H89: 1 | I89: С-5873 | J89: 0921AT16 | K89: 100 | L89: Жамбылская область, город Тараз, конец улицы Асқарова
B90: ТОО ALAN Gaz Terminal | C90: 210140009036 | D90: Жамбыл облысы, Жамбыл ауданы, Жамбыл а / о, Шайқорық станциясы, 033 есептік квартал, 221 ғимарат, Нурмаханов Гани Шукириллаевич | E90: АГЗС | F90: сұйытылған мұнай газын сату және сақтау | G90: қысыммен жұмыс істейтін ыдыс, сұйытылған мұнай газы | H90: 1 | I90: С-5181 | J90: 27072 | K90: 5 | L90: Жамбыл облысы,Байзақ ауданы Мырзатай ауылы
B91: ТОО ALAN Gaz Terminal | C91: 210140009036 | D91: Жамбыл облысы, Жамбыл ауданы, Жамбыл а / о, Шайқорық станциясы, 033 есептік квартал, 221 ғимарат, Нурмаханов Гани Шукириллаевич | E91: АГЗС | F91: сұйытылған мұнай газын сату және сақтау | G91: қысыммен жұмыс істейтін ыдыс, сұйытылған мұнай газы | H91: 1 | I91: С-5446 | J91: 21354 | K91: 6.7 | L91: Жамбыл облысы, Байзақ ауданы, Ботамойнак с/о,Тараз-Алматы автожолы н/ж
B92: ТОО ALAN Gaz Terminal | C92: 210140009036 | D92: Жамбыл облысы, Жамбыл ауданы, Жамбыл а / о, Шайқорық станциясы, 033 есептік квартал, 221 ғимарат, Нурмаханов Гани Шукириллаевич | E92: АГЗС | F92: сұйытылған мұнай газын сату және сақтау | G92: қысыммен жұмыс істейтін ыдыс, сұйытылған мұнай газы | H92: 1 | I92: С-5447 | J92: 60385 | K92: 5 | L92: Жамбыл облысы, Тараз қаласы,Мамбет батыр көшесі н/ж
B93: ТОО ALAN Gaz Terminal | C93: 210140009036 | D93: Жамбыл облысы, Жамбыл ауданы, Жамбыл а / о, Шайқорық станциясы, 033 есептік квартал, 221 ғимарат, Нурмаханов Гани Шукириллаевич | E93: АГЗС | F93: сұйытылған мұнай газын сату және сақтау | G93: қысыммен жұмыс істейтін ыдыс, сұйытылған мұнай газы | H93: 1 | I93: С-5448 | J93: 56874 | K93: 5 | L93: Жамбыл облысы, Тараз қаласы Мамбет батыр көшесі н/ж
B94: ТОО ALAN Gaz Terminal | C94: 210140009036 | D94: Жамбыл облысы, Жамбыл ауданы, Жамбыл а / о, Шайқорық станциясы, 033 есептік квартал, 221 ғимарат, Нурмаханов Гани Шукириллаевич | E94: АГЗС | F94: сұйытылған мұнай газын сату және сақтау | G94: қысыммен жұмыс істейтін ыдыс, сұйытылған мұнай газы | H94: 1 | I94: С-5618 | J94: 67005 | K94: 16 | L94: Жамбыл облысы, Меркі ауданы,Жамбыл с/о, Меркі- Благовещенка автожолы 5 км
B95: ТОО ALAN Gaz Terminal | C95: 210140009036 | D95: Жамбыл облысы, Жамбыл ауданы, Жамбыл а / о, Шайқорық станциясы, 033 есептік квартал, 221 ғимарат, Нурмаханов Гани Шукириллаевич | E95: АГЗС | F95: сұйытылған мұнай газын сату және сақтау | G95: қысыммен жұмыс істейтін ыдыс, сұйытылған мұнай газы | H95: 1 | I95: С-5450 | J95: 24929 | K95: 6.7 | L95: Жамбыл облысы, Байзақ ауданы Үлгілі ауылы, Тараз- Сарыкемер автожолы
B96: ТОО ALAN Gaz Terminal | C96: 210140009036 | D96: Жамбыл облысы, Жамбыл ауданы, Жамбыл а / о, Шайқорық станциясы, 033 есептік квартал, 221 ғимарат, Нурмаханов Гани Шукириллаевич | E96: АГЗС | F96: сұйытылған мұнай газын сату және сақтау | G96: қысыммен жұмыс істейтін ыдыс, сұйытылған мұнай газы | H96: 1 | I96: С-5429 | J96: 71051 | K96: 32 | L96: Жамбыл облысы, Қордай ауданы, Сарыбұлақ с/о, уч.кв.020,уч.18
B97: ТОО ALAN Gaz Terminal | C97: 210140009036 | D97: Жамбыл облысы, Жамбыл ауданы, Жамбыл а / о, Шайқорық станциясы, 033 есептік квартал, 221 ғимарат, Нурмаханов Гани Шукириллаевич | E97: АГЗС | F97: сұйытылған мұнай газын сату және сақтау | G97: қысыммен жұмыс істейтін ыдыс, сұйытылған мұнай газы | H97: 1 | I97: С-5440 | J97: 240928 | K97: 6.7 | L97: Жамбыл облысы, Қордай ауданы, Сарыбұлақ с/о Қайнар ауылы
B98: ТОО ALAN Gaz Terminal | C98: 210140009036 | D98: Жамбыл облысы, Жамбыл ауданы, Жамбыл а / о, Шайқорық станциясы, 033 есептік квартал, 221 ғимарат, Нурмаханов Гани Шукириллаевич | E98: АГЗС | F98: сұйытылған мұнай газын сату және сақтау | G98: қысыммен жұмыс істейтін ыдыс, сұйытылған мұнай газы | H98: 1 | I98: С-5529 | J98: 51462 | K98: 10 | L98: Жамбыл облысы, Байзақ ауданы, Сарыкемер ауылы Байзақ батыр көшесі 358А
B99: ТОО ALAN Gaz Terminal | C99: 210140009036 | D99: Жамбыл облысы, Жамбыл ауданы, Жамбыл а / о, Шайқорық станциясы, 033 есептік квартал, 221 ғимарат, Нурмаханов Гани Шукириллаевич | E99: АГЗС | F99: сұйытылған мұнай газын сату және сақтау | G99: қысыммен жұмыс істейтін ыдыс, сұйытылған мұнай газы | H99: 1 | I99: С-5569 | J99: 10880 | K99: 20 | L99: Жамбыл облысы,Жамбыл ауданы, Тараз-Айша бибі автожолы
B100: ТОО ALAN Gaz Terminal | C100: 210140009036 | D100: Жамбыл облысы, Жамбыл ауданы, Жамбыл а / о, Шайқорық станциясы, 033 есептік квартал, 221 ғимарат, Нурмаханов Гани Шукириллаевич | E100: АГЗС | F100: сұйытылған мұнай газын сату және сақтау | G100: қысыммен жұмыс істейтін ыдыс, сұйытылған мұнай газы | H100: 1 | I100: С-5757 | J100: 71052 | K100: 32 | L100: Жамбыл облысы, Қордай ауданы, "Қайнар ш-қ"
B101: ТОО ALAN Gaz Terminal | C101: 210140009036 | D101: Жамбыл облысы, Жамбыл ауданы, Жамбыл а / о, Шайқорық станциясы, 033 есептік квартал, 221 ғимарат, Нурмаханов Гани Шукириллаевич | E101: АГЗС | F101: реализация и хранение сжиженного нефтяного газа | G101: сосуд работающий под давлением, сжиженный нефтяной газ | H101: 1 | I101: С-5843 | J101: 1640 | K101: 5 | L101: Жамбылская область, Байзакский р-н, село Мырзатай ул Жибек жолы 3
... B107: ТОО ALAN Gaz Terminal | C107: 210140009036 | D107: Жамбыл облысы, Жамбыл ауданы, Жамбыл а / о, Шайқорық станциясы, 033 есептік квартал, 221 ғимарат, Нурмаханов Гани Шукириллаевич | E107: АГЗС | F107: сұйытылған мұнай газын сату және сақтау | G107: қысыммен жұмыс істейтін ыдыс, сұйытылған мұнай газы | H107: 1 | I107: С-5874 | J107: 19036 | K107: 8.5 | L107: Жамбылская область, Т.Рыскуловский район, с. Акыртобе, Абая 13А
B108: ТОО ALAN Gaz Terminal | C108: 210140009036 | D108: Жамбыл облысы, Жамбыл ауданы, Жамбыл а / о, Шайқорық станциясы, 033 есептік квартал, 221 ғимарат, Нурмаханов Гани Шукириллаевич | E108: АГЗС | F108: сұйытылған мұнай газын сату және сақтау | G108: қысыммен жұмыс істейтін ыдыс, сұйытылған мұнай газы | H108: 1 | I108: С-5885 | J108: /00597 | K108: 8.5 | L108: Жамбылская область, г. Тараз, улица Кошеней 180
B109: ТОО ALAN Gaz Terminal | C109: 210140009036 | D109: Жамбыл облысы, Жамбыл ауданы, Жамбыл а / о, Шайқорық станциясы, 033 есептік квартал, 221 ғимарат, Нурмаханов Гани Шукириллаевич | E109: АГЗС | F109: сұйытылған мұнай газын сату және сақтау | G109: қысыммен жұмыс істейтін ыдыс, сұйытылған мұнай газы | H109: 1 | I109: С-5876 | J109: /00588 | K109: 8.5 | L109: Жамбылская область, г. Тараз, проспект Аль-Фараби, строение 22
B110: ТОО ALAN Gaz Terminal | C110: 210140009036 | D110: Жамбыл облысы, Жамбыл ауданы, Жамбыл а / о, Шайқорық станциясы, 033 есептік квартал, 221 ғимарат, Нурмаханов Гани Шукириллаевич | E110: АГЗС | F110: сұйытылған мұнай газын сату және сақтау | G110: қысыммен жұмыс істейтін ыдыс, сұйытылған мұнай газы | H110: 1 | I110: С-5888 | J110: 2244 | K110: 4.6 | L110: Жамбылская область, Меркенский район,Т.Рыскуловский с/о, с.Т.Рыскулва, трасса Алматы -Ташкент
B111: ТОО ALAN Gaz Terminal | C111: 210140009036 | D111: Жамбыл облысы, Жамбыл ауданы, Жамбыл а / о, Шайқорық станциясы, 033 есептік квартал, 221 ғимарат, Нурмаханов Гани Шукириллаевич | F111: сұйытылған мұнай газын сату және сақтау | G111: қысыммен жұмыс істейтін ыдыс, сұйытылған мұнай газы | H111: 1 | I111: С-5889 | J111: /01768 | K111: 4.6 | L111: Жамбылская область, Меркенский район,Т.Рыскуловский с/о, с.Т.Рыскулва, трасса Алматы -Ташкент
B112: ТОО ALAN Gaz Terminal | C112: 210140009036 | D112: Жамбыл облысы, Жамбыл ауданы, Жамбыл а / о, Шайқорық станциясы, 033 есептік квартал, 221 ғимарат, Нурмаханов Гани Шукириллаевич | F112: сұйытылған мұнай газын сату және сақтау | G112: қысыммен жұмыс істейтін ыдыс, сұйытылған мұнай газы | H112: 1 | I112: С-5890 | J112: /01765 | K112: 5 | L112: Жамбылская область, Меркенский район,Т.Рыскуловский с/о, с.Т.Рыскулва, трасса Алматы -Ташкент
B113: ТОО ALAN Gaz Terminal | C113: 210140009036 | D113: Жамбыл облысы, Жамбыл ауданы, Жамбыл а / о, Шайқорық станциясы, 033 есептік квартал, 221 ғимарат, Нурмаханов Гани Шукириллаевич | E113: АГЗС | F113: сұйытылған мұнай газын сату және сақтау | G113: қысыммен жұмыс істейтін ыдыс, сұйытылған мұнай газы | H113: 1 | I113: С-5937 | J113: 19031 | K113: 8.5 | L113: Жамбылская область,, Меркенский район, с. Актоган, трасса Алматы-Ташкент
B114: ТОО ALAN Gaz Terminal | C114: 210140009036 | D114: Жамбыл облысы, Жамбыл ауданы, Жамбыл а / о, Шайқорық станциясы, 033 есептік квартал, 221 ғимарат, Нурмаханов Гани Шукириллаевич | E114: АГЗС | F114: сұйытылған мұнай газын сату және сақтау | G114: қысыммен жұмыс істейтін ыдыс, сұйытылған мұнай газы | H114: 1 | I114: С-5935 | J114: 5248 | K114: 5 | L114: Жамбылская область, город Тараз, улица А.Аскарова 288
B115: ТОО ALAN Gaz Terminal | C115: 210140009036 | D115: Жамбыл облысы, Жамбыл ауданы, Жамбыл а / о, Шайқорық станциясы, 033 есептік квартал, 221 ғимарат, Нурмаханов Гани Шукириллаевич | E115: АГЗС | F115: сұйытылған мұнай газын сату және сақтау | G115: қысыммен жұмыс істейтін ыдыс, сұйытылған мұнай газы | H115: 1 | I115: С-5936 | J115: 7990 | K115: 5 | L115: Жамбылская область, город Тараз, улица А.Аскарова 288
B116: ТОО ALAN Gaz Terminal | C116: 210140009036 | D116: Жамбыл облысы, Жамбыл ауданы, Жамбыл а / о, Шайқорық станциясы, 033 есептік квартал, 221 ғимарат, Нурмаханов Гани Шукириллаевич | E116: АГЗС | F116: сұйытылған мұнай газын сату және сақтау | G116: қысыммен жұмыс істейтін ыдыс, сұйытылған мұнай газы | H116: 1 | I116: С-5925 | J116: 25 | K116: 3 | L116: Жамбылская область, Байзакский район, Кольцевая развезка Тараз- Бурыл
B117: ТОО ALAN Gaz Terminal | C117: 210140009036 | D117: Жамбыл облысы, Жамбыл ауданы, Жамбыл а / о, Шайқорық станциясы, 033 есептік квартал, 221 ғимарат, Нурмаханов Гани Шукириллаевич | E117: АГЗС | F117: сұйытылған мұнай газын сату және сақтау | G117: қысыммен жұмыс істейтін ыдыс, сұйытылған мұнай газы | H117: 1 | I117: С-5926 | J117: 26 | K117: 3 | L117: Жамбыл обл. Байзакский район, Кольцевая развезка Тараз- Бурыл
B118: ТОО ALAN Gaz Terminal | C118: 210140009036 | D118: Жамбыл облысы, Жамбыл ауданы, Жамбыл а / о, Шайқорық станциясы, 033 есептік квартал, 221 ғимарат, Нурмаханов Гани Шукириллаевич | E118: АГЗС | F118: сұйытылған мұнай газын сату және сақтау | G118: қысыммен жұмыс істейтін ыдыс, сұйытылған мұнай газы | H118: 1 | I118: С-5932 | J118: 27 | K118: 3 | L118: Жамбыл обл. Байзакский район, Кольцевая развезка Тараз- Бурыл
B119: ТОО ALAN Gaz Terminal | C119: 210140009036 | D119: Жамбыл облысы, Жамбыл ауданы, Жамбыл а / о, Шайқорық станциясы, 033 есептік квартал, 221 ғимарат, Нурмаханов Гани Шукириллаевич | E119: АГЗС | F119: сұйытылған мұнай газын сату және сақтау | G119: қысыммен жұмыс істейтін ыдыс, сұйытылған мұнай газы | H119: 1 | I119: С-5933 | J119: 28 | K119: 5 | L119: Жамбылская область, Жамбылский район, Колкайнарский с/о, село Тастобе, квартал 025, участок 567, объездная трасса Тараз-Шымкент
B120: ТОО ALAN Gaz Terminal | C120: 210140009036 | D120: Жамбыл облысы, Жамбыл ауданы, Жамбыл а / о, Шайқорық станциясы, 033 есептік квартал, 221 ғимарат, Нурмаханов Гани Шукириллаевич | E120: АГЗС | F120: сұйытылған мұнай газын сату және сақтау | G120: қысыммен жұмыс істейтін ыдыс, сұйытылған мұнай газы | H120: 1 | I120: С-5934 | J120: 29 | K120: 5 | L120: Жамбыл обл. Жамбылский район, Колкайнарский с/о, село Тастобе, квартал 025, участок 567, объездная трасса Тараз-Шымкент
B121: ТОО ALAN Gaz Terminal | C121: 210140009036 | D121: Жамбыл облысы, Жамбыл ауданы, Жамбыл а / о, Шайқорық станциясы, 033 есептік квартал, 221 ғимарат, Нурмаханов Гани Шукириллаевич | E121: АГЗС | F121: сұйытылған мұнай газын сату және сақтау | G121: қысыммен жұмыс істейтін ыдыс, сұйытылған мұнай газы | H121: 1 | I121: С-5938 | J121: 38 | K121: 10 | L121: Жамбылская область, город Тараз проспект Жамбыла №1/20
B122: ТОО ALAN Gaz Terminal | C122: 210140009036 | D122: Жамбыл облысы, Жамбыл ауданы, Жамбыл а / о, Шайқорық станциясы, 033 есептік квартал, 221 ғимарат, Нурмаханов Гани Шукириллаевич | E122: АГЗС | F122: сұйытылған мұнай газын сату және сақтау | G122: қысыммен жұмыс істейтін ыдыс, сұйытылған мұнай газы | H122: 1 | I122: С-5939 | J122: 74 | K122: 8 | L122: Жамбыл область, город Тараз улица Сыпатай батыра №8Б
B123: ТОО ALAN Gaz Terminal | C123: 210140009036 | D123: Жамбыл облысы, Тараз қаласы, Асқаров көшесі, 297, Көбейхан Нұрсұлтан Көбейханұлы | E123: АГЗС | F123: сұйытылған мұнай газын сату және сақтау | G123: қысыммен жұмыс істейтін ыдыс, сұйытылған мұнай газы | H123: 1 | I123: С-5978 | J123: 48 | K123: 5.58 | L123: Жамбыл область, Байзакский район, село Сарыкемер, ул. Медеулова, 68
B124: ТОО ALAN Gaz Terminal | C124: 210140009036 | D124: Жамбыл облысы, Тараз қаласы, Асқаров көшесі, 297, Көбейхан Нұрсұлтан Көбейханұлы | E124: АГЗС | F124: сұйытылған мұнай газын сату және сақтау | G124: қысыммен жұмыс істейтін ыдыс, сұйытылған мұнай газы | H124: 1 | I124: С-5995 | J124: 30 | K124: 3 | L124: Жамбыл область, Жамбылский район, село Тастөбе,объезная трасса Тараз-Шымкент
B125: ТОО ALAN Gaz Terminal | C125: 210140009036 | D125: Жамбыл облысы, Тараз қаласы, Асқаров көшесі, 297, Көбейхан Нұрсұлтан Көбейханұлы | E125: АГЗС | F125: сұйытылған мұнай газын сату және сақтау | G125: қысыммен жұмыс істейтін ыдыс, сұйытылған мұнай газы | H125: 1 | I125: С-5988 | J125: 44 | K125: 5.58 | L125: Жамбыл область, г. Тараз, ул. Сыпатай батыра, 8б
A126: 6 | B126: ТОО «Газ Ойл Тараз» | C126: 190940005783 | D126: Жамбыл облысы, Тараз қаласы, Асқаров көшесі, 297, Көбейхан Нұрсұлтан Көбейханұлы | E126: АГЗС | F126: сұйытылған мұнай газын сату және сақтау | G126: қысыммен жұмыс істейтін ыдыс, сұйытылған мұнай газы | H126: 1 | I126: ='[2]РУС. Н.Ф.'!I129 -> С-5300 | J126: ='[2]РУС. Н.Ф.'!J129 -> 545 | K126: ='[2]РУС. Н.Ф.'!K129 -> 4.2 | L126: ='[2]РУС. Н.Ф.'!L129 -> АГЗС №3 Жамбылская область, город Каратау, улица Б. Момышұлы 7
B127: ТОО «Газ Ойл Тараз» | C127: 190940005783 | D127: Жамбыл облысы, Тараз қаласы, Асқаров көшесі, 297, Көбейхан Нұрсұлтан Көбейханұлы | E127: АГЗС | F127: сұйытылған мұнай газын сату және сақтау | G127: қысыммен жұмыс істейтін ыдыс, сұйытылған мұнай газы | H127: 1 | I127: С-5301 | J127: 12/В-286 | K127: 5 | L127: АГЗС №2 город Тараз ул. Абая 576
B128: ТОО «Газ Ойл Тараз» | C128: 190940005783 | D128: Жамбыл облысы, Тараз қаласы, Асқаров көшесі, 297, Көбейхан Нұрсұлтан Көбейханұлы | E128: АГЗС | F128: сұйытылған мұнай газын сату және сақтау | G128: қысыммен жұмыс істейтін ыдыс, сұйытылған мұнай газы | H128: 1 | I128: С-5302 | J128: 594 | K128: 4 | L128: АГЗС №3 Жамбылская область, город Каратау, улица Б. Момышұлы 7
B129: ТОО «Газ Ойл Тараз» | C129: 190940005783 | D129: Жамбыл облысы, Тараз қаласы, Асқаров көшесі, 297, Көбейхан Нұрсұлтан Көбейханұлы | E129: АГЗС | F129: сұйытылған мұнай газын сату және сақтау | G129: қысыммен жұмыс істейтін ыдыс, сұйытылған мұнай газы | H129: 1 | I129: С-5303 | J129: 14/В-616 | K129: 5 | L129: АГЗС №13 Жамбылский обл. Меркенский р/н с.Мерке вдоль трассы Тараз-Алматы
B130: ТОО «Газ Ойл Тараз» | C130: 190940005783 | D130: Жамбыл облысы, Тараз қаласы, Асқаров көшесі, 297, Көбейхан Нұрсұлтан Көбейханұлы | E130: АГЗС | F130: сұйытылған мұнай газын сату және сақтау | G130: қысыммен жұмыс істейтін ыдыс, сұйытылған мұнай газы | H130: 1 | I130: С-5304 | J130: 23 | K130: 5 | L130: АГЗС № 28 Жамбылский обл. Меркенский р/н с. Сарымолдаев ул.Исмайлова 311А
B131: ТОО «Газ Ойл Тараз» | C131: 190940005783 | D131: Жамбыл облысы, Тараз қаласы, Асқаров көшесі, 297, Көбейхан Нұрсұлтан Көбейханұлы | E131: АГЗС | F131: сұйытылған мұнай газын сату және сақтау | G131: қысыммен жұмыс істейтін ыдыс, сұйытылған мұнай газы | H131: 1 | I131: С-5306 | J131: 12/В-298 | K131: 5 | L131: АГЗС №1 Жамбылская область, Байзакский район, Костоьинский с/о станция Талас, улица Барысхан 85
B132: ТОО «Газ Ойл Тараз» | C132: 190940005783 | D132: Жамбыл облысы, Тараз қаласы, Асқаров көшесі, 297, Көбейхан Нұрсұлтан Көбейханұлы | E132: АГЗС | F132: сұйытылған мұнай газын сату және сақтау | G132: қысыммен жұмыс істейтін ыдыс, сұйытылған мұнай газы | H132: 1 | I132: С-5307 | J132: 18/В-101 | K132: 10 | L132: АГЗС №33 Жамбылский обл. Мойынкумский р/н ст.Кашкан тениз трасса Алматы –Астана
B133: ТОО «Газ Ойл Тараз» | C133: 190940005783 | D133: Жамбыл облысы, Тараз қаласы, Асқаров көшесі, 297, Көбейхан Нұрсұлтан Көбейханұлы | E133: АГЗС | F133: сұйытылған мұнай газын сату және сақтау | G133: қысыммен жұмыс істейтін ыдыс, сұйытылған мұнай газы | H133: 1 | I133: С-5308 | J133: 12/В-287 | K133: 5 | L133: АГЗС №1 Жамбылская область, Байзакский район, Костоьинский с/о станция Талас, улица Барысхан 85
B134: ТОО «Газ Ойл Тараз» | C134: 190940005783 | D134: Жамбыл облысы, Тараз қаласы, Асқаров көшесі, 297, Көбейхан Нұрсұлтан Көбейханұлы | E134: АГЗС | F134: сұйытылған мұнай газын сату және сақтау | G134: қысыммен жұмыс істейтін ыдыс, сұйытылған мұнай газы | H134: 1 | I134: С-5310 | J134: 18/В-59 | K134: 10 | L134: АГЗС №33 Жамбылский обл. Мойынкумский р/н ст.Кашкан тениз трасса Алматы –Астана
B135: ТОО «Газ Ойл Тараз» | C135: 190940005783 | D135: Жамбыл облысы, Тараз қаласы, Асқаров көшесі, 297, Көбейхан Нұрсұлтан Көбейханұлы | E135: АГЗС | F135: сұйытылған мұнай газын сату және сақтау | G135: қысыммен жұмыс істейтін ыдыс, сұйытылған мұнай газы | H135: 1 | I135: С-5311 | J135: 15/в-216 | K135: 5 | L135: Жамбылская область, Байзакский район, с/о Улгили из земель спец фонда Кызыл Кайнар на терреторий ПК Улгили
B136: ТОО «Газ Ойл Тараз» | C136: 190940005783 | D136: Жамбыл облысы, Тараз қаласы, Асқаров көшесі, 297, Көбейхан Нұрсұлтан Көбейханұлы | E136: АГЗС | F136: сұйытылған мұнай газын сату және сақтау | G136: қысыммен жұмыс істейтін ыдыс, сұйытылған мұнай газы | H136: 1 | I136: С-5320 | J136: 1349 | K136: 5 | L136: АГЗС № 3 Тауке хана 23 В
B137: ТОО «Газ Ойл Тараз» | C137: 190940005783 | D137: Жамбыл облысы, Тараз қаласы, Асқаров көшесі, 297, Көбейхан Нұрсұлтан Көбейханұлы | E137: АГЗС | F137: сұйытылған мұнай газын сату және сақтау | G137: қысыммен жұмыс істейтін ыдыс, сұйытылған мұнай газы | H137: 1 | I137: С-5321 | J137: 4 | K137: 5 | L137: АГЗС №17 Жамбылская обл. Байзакский р/н с.Королевка
...

Sheet Алматы облысы
A1: №п/п | B1: Наименование юридического, физического лица | C1: БИН, ИИН | D1: Адрес юридического, физического лица, Ф.И.О. руководителя | E1: Наименование объекта | F1: Отрасль промышленности и вид деятельности | G1: Наименование опасного технического устройства ( рабочая среда) | H1: Проектная мощность объекта (количество сосудов, учетный номер, заводской номер, объем хранения сжиженного нефтяного газа) | L1: Местонахождение объекта (адрес)
H2: общее количество СРД, шт | I2: учетный № | J2: заводской № | K2: объем СРД, м3
A3: 1 | B3: 2 | C3: 3 | D3: 4 | E3: 5 | F3: 6 | G3: 7 | H3: 8 | I3: 9 | J3: 10 | K3: 11 | L3: 12
A4: 1 | B4: ТОО АФ Гелиос | C4: 080541005355 | D4: г.Алматы. ул Аскарова дом 2 Руководитель Сарсенова Диана Бакытжановна | E4: АГЗС | F4: реализация и хранение сжиженного нефтяного газа | G4: сосуд, работающий под давлением | H4: 1 | I4: СГ-2397 | J4: 5227 | K4: 5 | L4: Алматы Ащибулак 1,3км южнее Первомайских прудов (зеленая)
B5: ТОО АФ Гелиос | C5: 080541005355 | D5: г.Алматы. ул Аскарова дом 2 Руководитель Сарсенова Диана Бакытжановна | E5: АГЗС | F5: реализация и хранение сжиженного нефтяного газа | G5: сосуд, работающий под давлением | H5: 1 | I5: СГ-3646 | J5: 228 | K5: 10 | L5: с. Ащибулак ул.Алматинская уч. 138
B6: ТОО АФ Гелиос | C6: 080541005355 | D6: г.Алматы. ул Аскарова дом 2 Руководитель Сарсенова Диана Бакытжановна | E6: АГЗС | F6: реализация и хранение сжиженного нефтяного газа | G6: сосуд, работающий под давлением | H6: 1 | I6: СГ-3645 | J6: 229 | K6: 10 | L6: с.Междуреченск трасса Алматы-Астана 61,8км
A7: 2 | B7: ТОО "ДОС" | C7: 991040004851 | D7: Карасайский р-н, ст. Шамалган Руководитель Ержан Оразгали Сантаевич | E7: ГНС | F7: Реализация и хранение сжиженного нефтяного газа | G7: сосуд, работающий под давлением | H7: 1 | I7: СГ-1151 | J7: 23 | K7: 25 | L7: Карасайский р-н, ст. Шамалган
B8: ТОО "ДОС" | C8: 991040004851 | D8: Карасайский р-н, ст. Шамалган Руководитель Ержан Оразгали Сантаевич | E8: ГНС | F8: Реализация и хранение сжиженного нефтяного газа | G8: сосуд, работающий под давлением | H8: 1 | I8: СГ-1152 | J8: 22/2. | K8: 25 | L8: Карасайский р-н, ст. Шамалган
B9: ТОО "ДОС" | C9: 991040004851 | D9: Карасайский р-н, ст. Шамалган Руководитель Ержан Оразгали Сантаевич | E9: ГНС | F9: Реализация и хранение сжиженного нефтяного газа | G9: сосуд, работающий под давлением | H9: 1 | I9: СГ-1153 | J9: 23/4. | K9: 25 | L9: Карасайский р-н, ст. Шамалган
B10: ТОО "ДОС" | C10: 991040004851 | D10: Карасайский р-н, ст. Шамалган Руководитель Ержан Оразгали Сантаевич | E10: ГНС | F10: Реализация и хранение сжиженного нефтяного газа | G10: сосуд, работающий под давлением | H10: 1 | I10: СГ-1154 | J10: 73129 | K10: 50 | L10: Карасайский р-н, ст. Шамалган
B11: ТОО "ДОС" | C11: 991040004851 | D11: Карасайский р-н, ст. Шамалган Руководитель Ержан Оразгали Сантаевич | E11: ГНС | F11: Реализация и хранение сжиженного нефтяного газа | G11: сосуд, работающий под давлением | H11: 1 | I11: СГ-1155 | J11: 73130 | K11: 50 | L11: Карасайский р-н, ст. Шамалган
B12: ТОО "ДОС" | C12: 991040004851 | D12: Карасайский р-н, ст. Шамалган Руководитель Ержан Оразгали Сантаевич | E12: АГЗС | F12: реализация и хранение сжиженного нефтяного газа | G12: сосуд, работающий под давлением | H12: 1 | I12: СГ-2548 | J12: 8495 | K12: 2.5 | L12: Карасайский р-н, ст. Шамалган
B13: ТОО "ДОС" | C13: 991040004851 | D13: Карасайский р-н, ст. Шамалган Руководитель Ержан Оразгали Сантаевич | E13: АГЗС | F13: реализация и хранение сжиженного нефтяного газа | G13: сосуд, работающий под давлением | H13: 1 | I13: СГ-3346 | J13: 17 | K13: 8 | L13: трасса Алматы-Бишкек,18 км
B14: ТОО "ДОС" | C14: 991040004851 | D14: Карасайский р-н, ст. Шамалган Руководитель Ержан Оразгали Сантаевич | E14: АГЗС | F14: реализация и хранение сжиженного нефтяного газа | G14: сосуд, работающий под давлением | H14: 1 | I14: СГ-3126 | J14: 45 | K14: 8 | L14: трасса Алматы-Астана,село Улан,участок 78
B15: ТОО "ДОС" | C15: 991040004851 | D15: Карасайский р-н, ст. Шамалган Руководитель Ержан Оразгали Сантаевич | E15: АГЗС | F15: реализация и хранение сжиженного нефтяного газа | G15: сосуд, работающий под давлением | H15: 1 | I15: СГ-3345 | J15: 19 | K15: 8 | L15: трасса Алматы-Бишкек,30 км
B16: ТОО "ДОС" | C16: 991040004851 | D16: Карасайский р-н, ст. Шамалган Руководитель Ержан Оразгали Сантаевич | E16: АГЗС | F16: реализация и хранение сжиженного нефтяного газа | G16: сосуд, работающий под давлением | H16: 1 | I16: СГ-3127 | J16: 18 | K16: 8 | L16: трасса Алматы-Бишкек,31 км
B17: ТОО "ДОС" | C17: 991040004851 | D17: Карасайский р-н, ст. Шамалган Руководитель Ержан Оразгали Сантаевич | E17: АГЗС | F17: реализация и хранение сжиженного нефтяного газа | G17: сосуд, работающий под давлением | H17: 1 | I17: СГ-3350 | J17: 3392 | K17: 7.25 | L17: пос.Комсомол, ул.Интернациональная, дом 64
B18: ТОО "ДОС" | C18: 991040004851 | D18: Карасайский р-н, ст. Шамалган Руководитель Ержан Оразгали Сантаевич | E18: АГЗС | F18: реализация и хранение сжиженного нефтяного газа | G18: сосуд, работающий под давлением | H18: 1 | I18: СГ-3795 | J18: 15 | K18: 8 | L18: г.Иссык
A19: 3 | B19: ТОО "Альянс-Газ" | C19: 010340002187. | D19: г.Алматы, Жетысуский р-н, ул.Омарова 12В Садырбакиев Адылжан | E19: ГНС | F19: реализация и хранение сжиженного нефтяного газа | G19: сосуд, работающий под давлением | H19: 1 | I19: С-1474 | J19: 83028 | K19: 100 | L19: г.Конаев, с.о.Заречный, с.Заречное, уч.37
B20: ТОО "Альянс-Газ" | C20: 010340002187. | D20: г.Алматы, Жетысуский р-н, ул.Омарова 12В Садырбакиев Адылжан | E20: ГНС | F20: реализация и хранение сжиженного нефтяного газа | G20: сосуд, работающий под давлением | H20: 1 | I20: С-1473 | J20: 1 | K20: 100 | L20: г.Конаев, с.о.Заречный, с.Заречное, уч.37
B21: ТОО "Альянс-Газ" | C21: 010340002187. | D21: г.Алматы, Жетысуский р-н, ул.Омарова 12В Садырбакиев Адылжан | E21: ГНС | F21: реализация и хранение сжиженного нефтяного газа | G21: сосуд, работающий под давлением | H21: 1 | I21: С-1472 | J21: 5 | K21: 100 | L21: г.Конаев, с.о.Заречный, с.Заречное, уч.37
B22: ТОО "Альянс-Газ" | C22: 010340002187. | D22: г.Алматы, Жетысуский р-н, ул.Омарова 12В Садырбакиев Адылжан | E22: ГНС | F22: реализация и хранение сжиженного нефтяного газа | G22: сосуд, работающий под давлением | H22: 1 | I22: С-1471 | J22: 3 | K22: 100 | L22: г.Конаев, с.о.Заречный, с.Заречное, уч.37
B23: ТОО "Альянс-Газ" | C23: 010340002187. | D23: г.Алматы, Жетысуский р-н, ул.Омарова 12В Садырбакиев Адылжан | E23: ГНС | F23: реализация и хранение сжиженного нефтяного газа | G23: сосуд, работающий под давлением | H23: 1 | I23: С-1470 | J23: 2 | K23: 100 | L23: г.Конаев, с.о.Заречный, с.Заречное, уч.37
B24: ТОО "Альянс-Газ" | C24: 010340002187. | D24: г.Алматы, Жетысуский р-н, ул.Омарова 12В Садырбакиев Адылжан | E24: ГНС | F24: реализация и хранение сжиженного нефтяного газа | G24: сосуд, работающий под давлением | H24: 1 | I24: С-1469 | J24: 83028 | K24: 100 | L24: г.Конаев, с.о.Заречный, с.Заречное, уч.37
B25: ТОО "Альянс-Газ" | C25: 010340002187. | D25: г.Алматы, Жетысуский р-н, ул.Омарова 12В Садырбакиев Адылжан | E25: ГНС | F25: реализация и хранение сжиженного нефтяного газа | G25: сосуд, работающий под давлением | H25: 1 | I25: С-1465 | J25: 7 | K25: 100 | L25: г.Конаев, с.о.Заречный, с.Заречное, уч.37
B26: ТОО "Альянс-Газ" | C26: 010340002187. | D26: г.Алматы, Жетысуский р-н, ул.Омарова 12В Садырбакиев Адылжан | E26: ГНС | F26: реализация и хранение сжиженного нефтяного газа | G26: сосуд, работающий под давлением | H26: 1 | I26: С-1464 | J26: 9 | K26: 100 | L26: г.Конаев, с.о.Заречный, с.Заречное, уч.37
B27: ТОО "Альянс-Газ" | C27: 010340002187. | D27: г.Алматы, Жетысуский р-н, ул.Омарова 12В Садырбакиев Адылжан | E27: ГНС | F27: реализация и хранение сжиженного нефтяного газа | G27: сосуд, работающий под давлением | H27: 1 | I27: С-1468 | J27: 10 | K27: 100 | L27: г.Конаев, с.о.Заречный, с.Заречное, уч.37
B28: ТОО "Альянс-Газ" | C28: 010340002187. | D28: г.Алматы, Жетысуский р-н, ул.Омарова 12В Садырбакиев Адылжан | E28: ГНС | F28: реализация и хранение сжиженного нефтяного газа | G28: сосуд, работающий под давлением | H28: 1 | I28: С-1467 | J28: 8 | K28: 100 | L28: г.Конаев, с.о.Заречный, с.Заречное, уч.37
B29: ТОО "Альянс-Газ" | C29: 010340002187. | D29: г.Алматы, Жетысуский р-н, ул.Омарова 12В Садырбакиев Адылжан | E29: ГНС | F29: реализация и хранение сжиженного нефтяного газа | G29: сосуд, работающий под давлением | H29: 1 | I29: С-1466 | J29: 11 | K29: 100 | L29: г.Конаев, с.о.Заречный, с.Заречное, уч.37
B30: ТОО "Альянс-Газ" | C30: 010340002187. | D30: г.Алматы, Жетысуский р-н, ул.Омарова 12В Садырбакиев Адылжан | E30: ГНП | F30: реализация и хранение сжиженного нефтяного газа | G30: сосуд, работающий под давлением | H30: 1 | I30: СГ-2571 | J30: 1354 | K30: 10 | L30: Жамбылский район, с.Узынагаш, ул.Карасай Батыра
B31: ТОО "Альянс-Газ" | C31: 010340002187. | D31: г.Алматы, Жетысуский р-н, ул.Омарова 12В Садырбакиев Адылжан | E31: ГНП | F31: реализация и хранение сжиженного нефтяного газа | G31: сосуд, работающий под давлением | H31: 1 | I31: СГ-2572 | J31: 1404 | K31: 10 | L31: Жамбылский район, с.Узынагаш, ул.Карасай Батыра
... B60: ТОО "Альянс-Газ" | C60: 010340002187. | D60: г.Алматы, Жетысуский р-н, ул.Омарова 12В Садырбакиев Адылжан | E60: АГЗС | F60: реализация и хранение сжиженного нефтяного газа | G60: сосуд, работающий под давлением | H60: 1 | I60: СГ-3201 | J60: 88703 | K60: 4.85 | L60: г.Конаев, ул.Конаева №20
B61: ТОО "Альянс-Газ" | C61: 010340002187. | D61: г.Алматы, Жетысуский р-н, ул.Омарова 12В Садырбакиев Адылжан | E61: АГЗС | F61: Розничная реализация горюче-смазочных материалов, реализация сжатого, природного (сухого) газа и сжижженного нефтяного газа, пропеллента, пентан-гексановой фракции ПГФ | G61: Сосуд работающий под давлением | H61: 1 | I61: СГ-3813 | J61: 123 | K61: 30 | L61: Жамбылский р-н, п. Каргалы, ул.Тауелсиздик 7А
B62: ТОО "Альянс-Газ" | C62: 010340002187. | D62: г.Алматы, Жетысуский р-н, ул.Омарова 12В Садырбакиев Адылжан | E62: АГЗС | F62: Розничная реализация горюче-смазочных материалов, реализация сжатого, природного (сухого) газа и сжижженного нефтяного газа, пропеллента, пентан-гексановой фракции ПГФ | G62: Сосуд работающий под давлением | H62: 1 | I62: СГ-3812 | J62: 936 | K62: 8.6 | L62: Жамбылский р-н, с.Узынагаш, ул. Жамбыла б.н.
B63: ТОО "Альянс-Газ" | C63: 010340002187. | D63: г.Алматы, Жетысуский р-н, ул.Омарова 12В Садырбакиев Адылжан | E63: АГЗС | F63: Розничная реализация горюче-смазочных материалов, реализация сжатого, природного (сухого) газа и сжижженного нефтяного газа, пропеллента, пентан-гексановой фракции ПГФ | G63: Сосуд работающий под давлением | H63: 1 | I63: СГ-24-39 | J63: 3 | K63: 10 | L63: Алматинская область, Талгарский район,Бесагашский с/о, с.Бесагаш, ул. Райымбек Батыр, здание №10А
B64: ТОО "Альянс-Газ" | C64: 010340002187. | D64: г.Алматы, Жетысуский р-н, ул.Омарова 12В Садырбакиев Адылжан | E64: АГЗС | F64: реализация и хранение сжиженного нефтяного газа | G64: Сосуд работающий под давлением | H64: 1 | I64: СГ-25-39 | J64: 110 | K64: 10 | L64: Алматинская область, Енбекшиказахский район, Шелекский с/о, с.Шелек, ул.Малай батыра, уч.2 Б
B65: ТОО "Альянс-Газ" | C65: 010340002187. | D65: г.Алматы, Жетысуский р-н, ул.Омарова 12В Садырбакиев Адылжан | E65: АГЗС | F65: реализация и хранение сжиженного нефтяного газа | G65: Сосуд работающий под давлением | H65: 1 | I65: СГ-25-38 | J65: 55167 | K65: 4.85 | L65: Алматинская область, Енбекшиказахский район, Саймасайский с/о, с.Саймасай, трасса Алматы-Кокпек-Коктал-Хоргос 41 км строение 4
B66: ТОО "Альянс-Газ" | C66: 010340002187. | D66: г.Алматы, Жетысуский р-н, ул.Омарова 12В Садырбакиев Адылжан | E66: АГЗС | F66: реализация и хранение сжиженного нефтяного газа | G66: Сосуд работающий под давлением | H66: 1 | I66: СГ-3199 | J66: 20386 | K66: 5 | L66: Алматинская область, Енбекшиказахский район, Балтабайский с/о, с.Актогай, ул.Х.Абдулина, зем.участок №1 В
B67: ТОО "Альянс-Газ" | C67: 010340002187. | D67: г.Алматы, Жетысуский р-н, ул.Омарова 12В Садырбакиев Адылжан | E67: АГЗС | F67: реализация и хранение сжиженного нефтяного газа | G67: Сосуд работающий под давлением | H67: 1 | I67: СГ-3198 | J67: 9823 | K67: 5 | L67: Алматинская область, Енбекшиказахский район, Балтабайский с/о, с.Актогай, ул.Х.Абдулина, зем.участок №1 В
B68: ТОО "Альянс-Газ" | C68: 010340002187. | D68: г.Алматы, Жетысуский р-н, ул.Омарова 12В Садырбакиев Адылжан | E68: АГЗС | F68: Розничная реализация горюче-смазочных материалов, реализация сжатого, природного (сухого) газа и сжижженного нефтяного газа, пропеллента, пентан-гексановой фракции ПГФ | G68: Сосуд работающий под давлением | H68: 1 | I68: С-25-20 | J68: 4 | K68: 10 | L68: Алматинская область, Енбекшиказахский район, Шелекский с/о кад№03-044-263-1340
B69: ТОО "Альянс-Газ" | C69: 010340002187. | D69: г.Алматы, Жетысуский р-н, ул.Омарова 12В Садырбакиев Адылжан | E69: АГЗС | F69: Розничная реализация горюче-смазочных материалов, реализация сжатого, природного (сухого) газа и сжижженного нефтяного газа, пропеллента, пентан-гексановой фракции ПГФ | G69: Сосуд работающий под давлением | H69: 1 | I69: СГ-24-41 | J69: 10794 | K69: 5 | L69: Енбекшиказахский район,Каратурыкский с/о, с.Достык, ул.Жибек Жолы, строение 3-А
B70: ТОО "Альянс-Газ" | C70: 010340002187. | D70: г.Алматы, Жетысуский р-н, ул.Омарова 12В Садырбакиев Адылжан | E70: АГЗС | F70: Розничная реализация горюче-смазочных материалов, реализация сжатого, природного (сухого) газа и сжижженного нефтяного газа, пропеллента, пентан-гексановой фракции ПГФ | G70: Сосуд работающий под давлением | H70: 1 | I70: СГ-2440 | J70: 45835 | K70: 6.4 | L70: Алматинская область, Енбекшиказахский район, Бартогайский с/о, автодорога "Алматы-Хоргос" 131,5км, зем.участок кад.№03:044:275:228
B71: ТОО "Альянс-Газ" | C71: 010340002187. | D71: г.Алматы, Жетысуский р-н, ул.Омарова 12В Садырбакиев Адылжан | E71: АГЗС | F71: Розничная реализация горюче-смазочных материалов, реализация сжатого, природного (сухого) газа и сжижженного нефтяного газа, пропеллента, пентан-гексановой фракции ПГФ | G71: Сосуд работающий под давлением | H71: 1 | I71: СГ-2440 | J71: 71750 | K71: 6.4 | L71: Алматинская область, Енбекшиказахский район, Бартогайский с/о, автодорога "Алматы-Хоргос" 131,5км, зем.участок кад.№03:044:275:228
B72: ТОО "Альянс-Газ" | C72: 010340002187. | D72: г.Алматы, Жетысуский р-н, ул.Омарова 12В Садырбакиев Адылжан | E72: АГЗС | F72: Розничная реализация горюче-смазочных материалов, реализация сжатого, природного (сухого) газа и сжижженного нефтяного газа, пропеллента, пентан-гексановой фракции ПГФ | G72: Сосуд работающий под давлением | H72: 1 | I72: СГ-26-73 | J72: 112 | K72: 10 | L72: Алматинская область, Илийский район, пос. Боралдай. ул.Аэродромная, земельный участок 3В
A73: 4 | B73: ТОО "АДМ-ГАЗ" | C73: 050840009134. | D73: Алматинская область, Илийский р-н, Энергетический с/о, п.Покровка, ул.Кенесары хана 169В Руководитель Жуманиязов Данабек Абаевич | E73: ГНС | F73: реализация и хранение сжиженного нефтяного газа | G73: сосуд, работающий под давлением | H73: 1 | I73: Сг-2776 | J73: 041443020063-5 | K73: 50 | L73: Илийский р-н, с.Покровка, ул.Кенесары хан, д.169В
B74: ТОО "АДМ-ГАЗ" | C74: 050840009134. | D74: Алматинская область, Илийский р-н, Энергетический с/о, п.Покровка, ул.Кенесары хана 169В Руководитель Жуманиязов Данабек Абаевич | E74: ГНС | F74: реализация и хранение сжиженного нефтяного газа | G74: сосуд, работающий под давлением | H74: 1 | I74: Сг-2778 | J74: 041443020063-7 | K74: 50 | L74: Илийский р-н, с.Покровка, ул.Кенесары хан, д.169В
B75: ТОО "АДМ-ГАЗ" | C75: 050840009134. | D75: Алматинская область, Илийский р-н, Энергетический с/о, п.Покровка, ул.Кенесары хана 169В Руководитель Жуманиязов Данабек Абаевич | E75: ГНС | F75: реализация и хранение сжиженного нефтяного газа | G75: сосуд, работающий под давлением | H75: 1 | I75: Сг-2780 | J75: 041443020063-10 | K75: 50 | L75: Илийский р-н, с.Покровка, ул.Кенесары хан, д.169В
B76: ТОО "АДМ-ГАЗ" | C76: 050840009134. | D76: Алматинская область, Илийский р-н, Энергетический с/о, п.Покровка, ул.Кенесары хана 169В Руководитель Жуманиязов Данабек Абаевич | E76: ГНС | F76: реализация и хранение сжиженного нефтяного газа | G76: сосуд, работающий под давлением | H76: 1 | I76: Сг-2777 | J76: 041443020063-6 | K76: 50 | L76: Илийский р-н, с.Покровка, ул.Кенесары хан, д.169В
B77: ТОО "АДМ-ГАЗ" | C77: 050840009134. | D77: Алматинская область, Илийский р-н, Энергетический с/о, п.Покровка, ул.Кенесары хана 169В Руководитель Жуманиязов Данабек Абаевич | E77: ГНС | F77: реализация и хранение сжиженного нефтяного газа | G77: сосуд, работающий под давлением | H77: 1 | I77: Сг-2783 | J77: 041443020063-3 | K77: 50 | L77: Илийский р-н, с.Покровка, ул.Кенесары хан, д.169В
B78: ТОО "АДМ-ГАЗ" | C78: 050840009134. | D78: Алматинская область, Илийский р-н, Энергетический с/о, п.Покровка, ул.Кенесары хана 169В Руководитель Жуманиязов Данабек Абаевич | E78: ГНС | F78: реализация и хранение сжиженного нефтяного газа | G78: сосуд, работающий под давлением | H78: 1 | I78: Сг-2784 | J78: 041443020063-4 | K78: 50 | L78: Илийский р-н, с.Покровка, ул.Кенесары хан, д.169В
B79: ТОО "АДМ-ГАЗ" | C79: 050840009134. | D79: Алматинская область, Илийский р-н, Энергетический с/о, п.Покровка, ул.Кенесары хана 169В Руководитель Жуманиязов Данабек Абаевич | E79: ГНС | F79: реализация и хранение сжиженного нефтяного газа | G79: сосуд, работающий под давлением | H79: 1 | I79: Сг-2779 | J79: 041443020063-9 | K79: 50 | L79: Илийский р-н, с.Покровка, ул.Кенесары хан, д.169В
B80: ТОО "АДМ-ГАЗ" | C80: 050840009134. | D80: Алматинская область, Илийский р-н, Энергетический с/о, п.Покровка, ул.Кенесары хана 169В Руководитель Жуманиязов Данабек Абаевич | E80: ГНС | F80: реализация и хранение сжиженного нефтяного газа | G80: сосуд, работающий под давлением | H80: 1 | I80: Сг-2781 | J80: 041443020063-8 | K80: 50 | L80: Илийский р-н, с.Покровка, ул.Кенесары хан, д.169В
B81: ТОО "АДМ-ГАЗ" | C81: 050840009134. | D81: Алматинская область, Илийский р-н, Энергетический с/о, п.Покровка, ул.Кенесары хана 169В Руководитель Жуманиязов Данабек Абаевич | E81: ГНС | F81: реализация и хранение сжиженного нефтяного газа | G81: сосуд, работающий под давлением | H81: 1 | I81: Сг-2951 | J81: 3187 | K81: 50 | L81: Илийский р-н, с.Покровка, ул.Кенесары хан, д.169В
B82: ТОО "АДМ-ГАЗ" | C82: 050840009134. | D82: Алматинская область, Илийский р-н, Энергетический с/о, п.Покровка, ул.Кенесары хана 169В Руководитель Жуманиязов Данабек Абаевич | E82: ГНС | F82: реализация и хранение сжиженного нефтяного газа | G82: сосуд, работающий под давлением | H82: 1 | I82: Сг-2950 | J82: 3 | K82: 50 | L82: Илийский р-н, с.Покровка, ул.Кенесары хан, д.169В
B83: ТОО "АДМ-ГАЗ" | C83: 050840009134. | D83: Алматинская область, Илийский р-н, Энергетический с/о, п.Покровка, ул.Кенесары хана 169В Руководитель Жуманиязов Данабек Абаевич | E83: ГНС | F83: реализация и хранение сжиженного нефтяного газа | G83: сосуд, работающий под давлением | H83: 1 | I83: Сг-3240 | J83: 206044-6 | K83: 100 | L83: Илийский р-н, с.Покровка, ул.Кенесары хан, д.169В
B84: ТОО "АДМ-ГАЗ" | C84: 050840009134. | D84: Алматинская область, Илийский р-н, Энергетический с/о, п.Покровка, ул.Кенесары хана 169В Руководитель Жуманиязов Данабек Абаевич | E84: ГНС | F84: реализация и хранение сжиженного нефтяного газа | G84: сосуд, работающий под давлением | H84: 1 | I84: Сг-3237 | J84: 206044-7 | K84: 100 | L84: Илийский р-н, с.Покровка, ул.Кенесары хан, д.169В
B85: ТОО "АДМ-ГАЗ" | C85: 050840009134. | D85: Алматинская область, Илийский р-н, Энергетический с/о, п.Покровка, ул.Кенесары хана 169В Руководитель Жуманиязов Данабек Абаевич | E85: ГНС | F85: реализация и хранение сжиженного нефтяного газа | G85: сосуд, работающий под давлением | H85: 1 | I85: Сг-3239 | J85: 206044-8 | K85: 100 | L85: Илийский р-н, с.Покровка, ул.Кенесары хан, д.169В
B86: ТОО "АДМ-ГАЗ" | C86: 050840009134. | D86: Алматинская область, Илийский р-н, Энергетический с/о, п.Покровка, ул.Кенесары хана 169В Руководитель Жуманиязов Данабек Абаевич | E86: ГНС | F86: реализация и хранение сжиженного нефтяного газа | G86: сосуд, работающий под давлением | H86: 1 | I86: Сг-3238 | J86: 206044-9 | K86: 100 | L86: Илийский р-н, с.Покровка, ул.Кенесары хан, д.169В
