Workbook

Sheet БармайПБ
U1: Қазақстан Республикасының Денсаулық сақтау министрлігі Санитариялық-эпидемиологиялық бақылау комитеті төрағасының 2025 жылғы «___» __________ №____ бұйрығына 4-қосымша
A2: Халықтың санитариялық-эпидемиологиялық саламаттылығы саласында субъектіге (объектіге) бармай профилактикалық бақылау жөніндегі есеп
A3: № | B3: Атауы | C3: Барлығы жүргізілді | E3: Оның ішінде бұзушылықтарды жою туралы берілген ұсынымдар | U3: Жедел ден қою шаралары
E4: Өндірістік бақылау нәтижелерінің мониторингі, халықтың санитариялық-эпидемиологиялық саламаттылығы саласындағы мемлекеттік бақылау мен қадағалауға жататын эпидемиологиялық мәні бар объектілердің тізбесіне сәйкес жүргізіледі | N4: Санитариялық-эпидемиологиялық мониторинг | P4: Хабарламалар мен рұқсаттардың мониторингі | Q4: Санитариялық-эпидемиологиялық аудит нәтижелерінің мониторингі | R4: Есепке алу мен есептік құжаттаманың мониторингі | S4: Камералдық бақылау | T4: Мемлекеттік тіркеуге жататын, мемлекеттік санитариялық-эпидемиологиялық бақылау мен қадағалаудың бақылауындағы өнім (тауарлар) жарнамасының мониторингі
D5: Берілген ұсынымдар саны (5 пен 20 бағандарды қосқандағы сумма) | E5: өнеркәсіптік және радиациялық гигиена объектілері (өндірістік және (немесе) радиациялық объектілер) | F5: тамақ өнімдерін өндіру және айналымы объектілері | G5: коммуналдық гигиена объектілері | H5: амбулаториялық-емханалық көмек көрсететін ұйымдар, стационарлық көмек көрсететін ұйымдар, жедел медициналық жәрдем және санитариялық авиация ұйымдары, апаттық медицина ұйымдары, қалпына келтіру емі және медициналық оңалту ұйымдары, паллиативтік көмек және мейіргер күтімін көрсететін ұйымдар, қан қызметі саласындағы қызметті жүзеге асыратын ұйымдар, сот медицинасы және патологиялық-анатомиялық диагностика саласында қызмет көрсететін ұйымдар, фармацевтикалық қызметті жүзеге асыратын денсаулық сақтау ұйымдары | I5: дезинфекциялық, дезинсекциялық және дератизациялық құралдарды өндіру және (немесе) дезинфекциялық, дезинсекциялық және дератизациялық қызметтерді көрсету объектілері | J5: балалар мен жасөспірімдерді тәрбиелеу және оларға білім беру, балаларды мектепке дейінгі тәрбиелеу және оқыту объектілері, интернат ұйымдары, сауықтыру объектілері | K5: химиялық заттарды, агрохимикаттарды және пестицидтерді сақтау және пайдалану жөніндегі объектілер | L5: жолаушыларды тасымалдау жөніндегі көлік құралдары (теміржол, әуе) | M5: Басқа объектілер | N5: Санитариялық-эпидемиологиялық қадағалау мониторингі | O5: Кәсіби аурулар мен улануды бақылау мониторингі | U5: Барлығы | V5: Бақылау мен қадағалау субъектісінің (объектісінің) өнімді (тауарды) өндіру, қызметтер көрсету, жұмыстарды орындау жөніндегі қызметіне немесе оның жекелеген түрлеріне (процестерге, әрекеттерге) тыйым салу | W5: Техникалық регламенттердің талаптарына және (немесе) Еуразиялық экономикалық одақтың бірыңғай санитариялық-эпидемиологиялық және гигиеналық талаптарына сәйкес келмейтін өнімді (тауарды) өткізуден алып қою және кері қайтарып алу;
A6: 1 | B6: 2 | C6: 3 | D6: 4 | E6: 5 | F6: 6 | G6: 7 | H6: 8 | I6: 9 | J6: 10 | K6: 11 | L6: 12 | M6: 13 | N6: 14 | O6: 15 | P6: 16 | Q6: 17 | R6: 18 | S6: 19 | T6: 20 | U6: 21 | V6: 22 | W6: 23
A7: 1 | B7: Алатау ауданвы | C7: =SUM([1]ОГДИП:ТРТС!C7) -> 150 | D7: =SUM([1]ОГДИП:ТРТС!D7) -> 98 | E7: =SUM([1]ОГДИП:ТРТС!E7) -> 9 | F7: =SUM([1]ОГДИП:ТРТС!F7) -> 10 | G7: =SUM([1]ОГДИП:ТРТС!G7) -> 29 | H7: =SUM([1]ОГДИП:ТРТС!H7) -> 14 | I7: =SUM([1]ОГДИП:ТРТС!I7) -> 0 | J7: =SUM([1]ОГДИП:ТРТС!J7) -> 1 | ... W7: =SUM([1]ОГДИП:ТРТС!W7) -> 0
A8: 2 | B8: Алмалы ауданы | C8: =SUM([1]ОГДИП:ТРТС!C8) -> 224 | D8: =SUM([1]ОГДИП:ТРТС!D8) -> 83 | E8: =SUM([1]ОГДИП:ТРТС!E8) -> 0 | F8: =SUM([1]ОГДИП:ТРТС!F8) -> 15 | G8: =SUM([1]ОГДИП:ТРТС!G8) -> 5 | H8: =SUM([1]ОГДИП:ТРТС!H8) -> 2 | I8: =SUM([1]ОГДИП:ТРТС!I8) -> 0 | J8: =SUM([1]ОГДИП:ТРТС!J8) -> 0 | ... W8: =SUM([1]ОГДИП:ТРТС!W8) -> 0
A9: 3 | B9: Әуезов ауданы | C9: =SUM([1]ОГДИП:ТРТС!C9) -> 477 | D9: =SUM([1]ОГДИП:ТРТС!D9) -> 291 | E9: =SUM([1]ОГДИП:ТРТС!E9) -> 40 | F9: =SUM([1]ОГДИП:ТРТС!F9) -> 15 | G9: =SUM([1]ОГДИП:ТРТС!G9) -> 41 | H9: =SUM([1]ОГДИП:ТРТС!H9) -> 0 | I9: =SUM([1]ОГДИП:ТРТС!I9) -> 0 | J9: =SUM([1]ОГДИП:ТРТС!J9) -> 0 | ... W9: =SUM([1]ОГДИП:ТРТС!W9) -> 0
A10: 4 | B10: Бостандық ауданы | C10: =SUM([1]ОГДИП:ТРТС!C10) -> 124 | D10: =SUM([1]ОГДИП:ТРТС!D10) -> 99 | E10: =SUM([1]ОГДИП:ТРТС!E10) -> 20 | F10: =SUM([1]ОГДИП:ТРТС!F10) -> 5 | G10: =SUM([1]ОГДИП:ТРТС!G10) -> 27 | H10: =SUM([1]ОГДИП:ТРТС!H10) -> 12 | I10: =SUM([1]ОГДИП:ТРТС!I10) -> 0 | J10: =SUM([1]ОГДИП:ТРТС!J10) -> 0 | ... W10: =SUM([1]ОГДИП:ТРТС!W10) -> 0
A11: 5 | B11: Жетісу ауданы | C11: =SUM([1]ОГДИП:ТРТС!C11) -> 179 | D11: =SUM([1]ОГДИП:ТРТС!D11) -> 89 | E11: =SUM([1]ОГДИП:ТРТС!E11) -> 12 | F11: =SUM([1]ОГДИП:ТРТС!F11) -> 10 | G11: =SUM([1]ОГДИП:ТРТС!G11) -> 8 | H11: =SUM([1]ОГДИП:ТРТС!H11) -> 49 | I11: =SUM([1]ОГДИП:ТРТС!I11) -> 0 | J11: =SUM([1]ОГДИП:ТРТС!J11) -> 0 | ... W11: =SUM([1]ОГДИП:ТРТС!W11) -> 0
A12: 6 | B12: Медеу ауданы | C12: =SUM([1]ОГДИП:ТРТС!C12) -> 139 | D12: =SUM([1]ОГДИП:ТРТС!D12) -> 129 | E12: =SUM([1]ОГДИП:ТРТС!E12) -> 3 | F12: =SUM([1]ОГДИП:ТРТС!F12) -> 29 | G12: =SUM([1]ОГДИП:ТРТС!G12) -> 43 | H12: =SUM([1]ОГДИП:ТРТС!H12) -> 20 | I12: =SUM([1]ОГДИП:ТРТС!I12) -> 0 | J12: =SUM([1]ОГДИП:ТРТС!J12) -> 0 | ... W12: =SUM([1]ОГДИП:ТРТС!W12) -> 0
A13: 7 | B13: Наурызбай ауданы | C13: =SUM([1]ОГДИП:ТРТС!C13) -> 115 | D13: =SUM([1]ОГДИП:ТРТС!D13) -> 115 | E13: =SUM([1]ОГДИП:ТРТС!E13) -> 12 | F13: =SUM([1]ОГДИП:ТРТС!F13) -> 37 | G13: =SUM([1]ОГДИП:ТРТС!G13) -> 21 | H13: =SUM([1]ОГДИП:ТРТС!H13) -> 32 | I13: =SUM([1]ОГДИП:ТРТС!I13) -> 0 | J13: =SUM([1]ОГДИП:ТРТС!J13) -> 0 | ... W13: =SUM([1]ОГДИП:ТРТС!W13) -> 0
A14: 8 | B14: Түрксіб ауданы | C14: =SUM([1]ОГДИП:ТРТС!C14) -> 185 | D14: =SUM([1]ОГДИП:ТРТС!D14) -> 175 | E14: =SUM([1]ОГДИП:ТРТС!E14) -> 11 | F14: =SUM([1]ОГДИП:ТРТС!F14) -> 12 | G14: =SUM([1]ОГДИП:ТРТС!G14) -> 12 | H14: =SUM([1]ОГДИП:ТРТС!H14) -> 12 | I14: =SUM([1]ОГДИП:ТРТС!I14) -> 0 | J14: =SUM([1]ОГДИП:ТРТС!J14) -> 100 | ... W14: =SUM([1]ОГДИП:ТРТС!W14) -> 0
A15: 9 | B15: Алматы қаласы | C15: =SUM(C7:C14) -> 1593 | D15: =SUM(D7:D14) -> 1079 | E15: =SUM(E7:E14) -> 107 | F15: =SUM(F7:F14) -> 133 | G15: =SUM(G7:G14) -> 186 | H15: =SUM(H7:H14) -> 141 | I15: =SUM(I7:I14) -> 0 | J15: =SUM(J7:J14) -> 101 | ... W15: =SUM(W7:W14) -> 0
