Workbook

Sheet Жинақ
AA1: Қазақстан Республикасының Денсаулық сақтау министрлігі Санитариялық-эпидемиологиялық бақылау комитеті төрағасының 2025 жылғы «___» __________ №____ бұйрығына 1-қосымша
A2: «Рұқсаттар және хабарламалар туралы» Қазақстан Республикасының Заңына сәйкес берілген рұқсаттар, жіберілген хабарламаларға байланысты талаптар бойынша біліктілік немесе рұқсат беру талаптарына сәйкестігіне жүргізілетін тексерулер туралы есеп
A4: № | B4: Атауы | C4: Еgov кестесіне сәйкес жоспарланған тексерулер, барлығы | D4: Дұрыс емес деректермен кесте бойынша жоспарланған тексерулер | E4: Дұрыс деректермен кесте бойынша жоспарланған тексерулер | F4: Тексерулер жүргізілді | G4: % орындалуы | H4: Бұзушылықтары анықталған объектілер | I4: Бұзушылықтар анықталған объектілердің үлес салмағы % | J4: Берілген ұйғарымдар саны | K4: Сотқа жолданған материалдар саны | L4: Әкімшілік жазалардың саны | Q4: Әкімшілік айыппұл сомасы | R4: Жедел ден қою шаралары | W4: Тіркеуден бас тартылды | Z4: Тексерілмеген, себеппен алынған:
L5: Барлығы | M5: лауазымды тұлғалар | N5: заңды тұлғалар | O5: жеке кәсіпкерлер | P5: жеке тұлғалар | R5: Барлығы | S5: Бақылау мен қадағалау субъектісінің (объектісінің) өнімді (тауарды) өндіру, өткізу, қызметтер көрсету, жұмыстарды орындау жөніндегі қызметін немесе оның жекелеген түрлерін (процестерді, әрекеттерді) тоқтата тұру | T5: Бақылау мен қадағалау субъектісінің (объектісінің) өнімді (тауарды) өндіру, қызметтер көрсету, жұмыстарды орындау жөніндегі қызметіне немесе оның жекелеген түрлеріне (процестерге, әрекеттерге) тыйым салу | U5: Техникалық регламенттердің талаптарына және (немесе) Еуразиялық экономикалық одақтың бірыңғай санитариялық-эпидемиологиялық және гигиеналық талаптарына сәйкес келмейтін өнімді (тауарды) өткізуден алып қою және кері қайтарып алу; | V5: Адамдарды жұмыстан уақытша шеттету | W5: Хабарлама ережелерін бұзу | X5: Тексеру жүргізу мерзімдерін бұзу | Y5: Басқалары (*ескертпеде көрсету) | Z5: Кәсіпкерлік субъектісінің / объектісінің санатын өзгеруі | AA5: Объектінің жабылуы | AB5: Заңды немесе нақты мекенжайды өзгерту | AC5: Басқалары (*ескертпеде көрсету) | AD5: Аяқталмаған тексеруле (ауыспалы) | AE5: Келесі айға жоспарланған тексерулер
A6: 1 | B6: 2 | C6: 3 | D6: 4 | E6: 5 | F6: 6 | G6: 7 | H6: 8 | I6: 9 | J6: 10 | K6: 11 | L6: 12 | M6: 13 | N6: 14 | O6: 15 | P6: 16 | Q6: 17 | R6: 18 | S6: 19 | T6: 20 | U6: 21 | V6: 22 | W6: 23 | X6: 24 | Y6: 25 | Z6: 26 | AA6: 27 | AB6: 28 | AC6: 29 | AD6: 30 | AE6: 31
A7: 1 | B7: Алатау ауданы | C7: =SUM(МДҰ:басқалары!C7) -> 9 | D7: =SUM(МДҰ:басқалары!D7) -> 0 | E7: =SUM(МДҰ:басқалары!E7) -> 9 | F7: =SUM(МДҰ:басқалары!F7) -> 2 | G7: =F7/C7*100 -> 22.222222 | H7: =SUM(МДҰ:басқалары!H7) -> 0 | I7: =SUM(МДҰ:басқалары!I7) -> #DIV/0! | J7: =SUM(МДҰ:басқалары!J7) -> 0 | K7: =SUM(МДҰ:басқалары!K7) -> 0 | L7: =SUM(МДҰ:басқалары!L7) -> 0 | M7: =SUM(МДҰ:басқалары!M7) -> 0 | N7: =SUM(МДҰ:басқалары!N7) -> 0 | O7: =SUM(МДҰ:басқалары!O7) -> 0 | ... AE7: =SUM(МДҰ:басқалары!AE7) -> 6
A8: 2 | B8: Алмалы ауданы | C8: =SUM(МДҰ:басқалары!C8) -> 37 | D8: =SUM(МДҰ:басқалары!D8) -> 0 | E8: =SUM(МДҰ:басқалары!E8) -> 37 | F8: =SUM(МДҰ:басқалары!F8) -> 15 | G8: =F8/C8*100 -> 40.540541 | H8: =SUM(МДҰ:басқалары!H8) -> 12 | I8: =SUM(МДҰ:басқалары!I8) -> #DIV/0! | J8: =SUM(МДҰ:басқалары!J8) -> 12 | K8: =SUM(МДҰ:басқалары!K8) -> 0 | L8: =SUM(МДҰ:басқалары!L8) -> 12 | M8: =SUM(МДҰ:басқалары!M8) -> 0 | N8: =SUM(МДҰ:басқалары!N8) -> 12 | O8: =SUM(МДҰ:басқалары!O8) -> 0 | ... AE8: =SUM(МДҰ:басқалары!AE8) -> 5
A9: 3 | B9: Әуезов ауданы | C9: =SUM(МДҰ:басқалары!C9) -> 10 | D9: =SUM(МДҰ:басқалары!D9) -> 0 | E9: =SUM(МДҰ:басқалары!E9) -> 10 | F9: =SUM(МДҰ:басқалары!F9) -> 3 | G9: =F9/C9*100 -> 30 | H9: =SUM(МДҰ:басқалары!H9) -> 3 | I9: =SUM(МДҰ:басқалары!I9) -> #DIV/0! | J9: =SUM(МДҰ:басқалары!J9) -> 3 | K9: =SUM(МДҰ:басқалары!K9) -> 0 | L9: =SUM(МДҰ:басқалары!L9) -> 3 | M9: =SUM(МДҰ:басқалары!M9) -> 0 | N9: =SUM(МДҰ:басқалары!N9) -> 3 | O9: =SUM(МДҰ:басқалары!O9) -> 0 | ... AE9: =SUM(МДҰ:басқалары!AE9) -> 7
A10: 4 | B10: Бостандық ауданы | C10: =SUM(МДҰ:басқалары!C10) -> 26 | D10: =SUM(МДҰ:басқалары!D10) -> 0 | E10: =SUM(МДҰ:басқалары!E10) -> 26 | F10: =SUM(МДҰ:басқалары!F10) -> 11 | G10: =F10/C10*100 -> 42.307692 | H10: =SUM(МДҰ:басқалары!H10) -> 11 | I10: =SUM(МДҰ:басқалары!I10) -> #DIV/0! | J10: =SUM(МДҰ:басқалары!J10) -> 10 | K10: =SUM(МДҰ:басқалары!K10) -> 0 | L10: =SUM(МДҰ:басқалары!L10) -> 10 | M10: =SUM(МДҰ:басқалары!M10) -> 2 | N10: =SUM(МДҰ:басқалары!N10) -> 8 | O10: =SUM(МДҰ:басқалары!O10) -> 0 | ... AE10: =SUM(МДҰ:басқалары!AE10) -> 8
A11: 5 | B11: Жетісу ауданы | C11: =SUM(МДҰ:басқалары!C11) -> 13 | D11: =SUM(МДҰ:басқалары!D11) -> 0 | E11: =SUM(МДҰ:басқалары!E11) -> 13 | F11: =SUM(МДҰ:басқалары!F11) -> 2 | G11: =F11/C11*100 -> 15.384615 | H11: =SUM(МДҰ:басқалары!H11) -> 2 | I11: =SUM(МДҰ:басқалары!I11) -> #DIV/0! | J11: =SUM(МДҰ:басқалары!J11) -> 2 | K11: =SUM(МДҰ:басқалары!K11) -> 0 | L11: =SUM(МДҰ:басқалары!L11) -> 2 | M11: =SUM(МДҰ:басқалары!M11) -> 0 | N11: =SUM(МДҰ:басқалары!N11) -> 1 | O11: =SUM(МДҰ:басқалары!O11) -> 1 | ... AE11: =SUM(МДҰ:басқалары!AE11) -> 11
A12: 6 | B12: Медеу ауданы | C12: =SUM(МДҰ:басқалары!C12) -> 29 | D12: =SUM(МДҰ:басқалары!D12) -> 0 | E12: =SUM(МДҰ:басқалары!E12) -> 29 | F12: =SUM(МДҰ:басқалары!F12) -> 10 | G12: =F12/C12*100 -> 34.482759 | H12: =SUM(МДҰ:басқалары!H12) -> 9 | I12: =SUM(МДҰ:басқалары!I12) -> #DIV/0! | J12: =SUM(МДҰ:басқалары!J12) -> 9 | K12: =SUM(МДҰ:басқалары!K12) -> 0 | L12: =SUM(МДҰ:басқалары!L12) -> 9 | M12: =SUM(МДҰ:басқалары!M12) -> 2 | N12: =SUM(МДҰ:басқалары!N12) -> 6 | O12: =SUM(МДҰ:басқалары!O12) -> 0 | ... AE12: =SUM(МДҰ:басқалары!AE12) -> 17
A13: 7 | B13: Наурызбай ауданы | C13: =SUM(МДҰ:басқалары!C13) -> 7 | D13: =SUM(МДҰ:басқалары!D13) -> 0 | E13: =SUM(МДҰ:басқалары!E13) -> 7 | F13: =SUM(МДҰ:басқалары!F13) -> 3 | G13: =F13/C13*100 -> 42.857143 | H13: =SUM(МДҰ:басқалары!H13) -> 3 | I13: =SUM(МДҰ:басқалары!I13) -> #DIV/0! | J13: =SUM(МДҰ:басқалары!J13) -> 3 | K13: =SUM(МДҰ:басқалары!K13) -> 0 | L13: =SUM(МДҰ:басқалары!L13) -> 3 | M13: =SUM(МДҰ:басқалары!M13) -> 0 | N13: =SUM(МДҰ:басқалары!N13) -> 3 | O13: =SUM(МДҰ:басқалары!O13) -> 0 | ... AE13: =SUM(МДҰ:басқалары!AE13) -> 4
A14: 8 | B14: Түрксіб ауданы | C14: =SUM(МДҰ:басқалары!C14) -> 1 | D14: =SUM(МДҰ:басқалары!D14) -> 0 | E14: =SUM(МДҰ:басқалары!E14) -> 1 | F14: =SUM(МДҰ:басқалары!F14) -> 1 | G14: 0 | H14: =SUM(МДҰ:басқалары!H14) -> 1 | I14: =SUM(МДҰ:басқалары!I14) -> #DIV/0! | J14: =SUM(МДҰ:басқалары!J14) -> 1 | K14: =SUM(МДҰ:басқалары!K14) -> 0 | L14: =SUM(МДҰ:басқалары!L14) -> 1 | M14: =SUM(МДҰ:басқалары!M14) -> 1 | N14: =SUM(МДҰ:басқалары!N14) -> 0 | O14: =SUM(МДҰ:басқалары!O14) -> 0 | ... AE14: =SUM(МДҰ:басқалары!AE14) -> 0
A15: 9 | B15: Алматы қаласы | C15: =SUM(C7:C14) -> 132 | D15: =SUM(D7:D14) -> 0 | E15: =SUM(E7:E14) -> 132 | F15: =SUM(F7:F14) -> 47 | G15: =F15/C15*100 -> 35.606061 | H15: =SUM(H7:H14) -> 41 | I15: 0 | J15: =SUM(J7:J14) -> 40 | K15: =SUM(K7:K14) -> 0 | L15: =SUM(L7:L14) -> 40 | M15: =SUM(M7:M14) -> 5 | N15: =SUM(N7:N14) -> 33 | O15: =SUM(O7:O14) -> 1 | P15: =SUM(P7:P14) -> 1 | Q15: =SUM(Q7:Q14) -> 15570000 | ... AE15: =SUM(AE7:AE14) -> 58

Sheet МДҰ
AA1: Қазақстан Республикасының Денсаулық сақтау министрлігі Санитариялық-эпидемиологиялық бақылау комитеті төрағасының 2025 жылғы «___» __________ №____ бұйрығына 1-қосымша
A2: «Рұқсаттар және хабарламалар туралы» Қазақстан Республикасының Заңына сәйкес берілген рұқсаттар, жіберілген хабарламаларға байланысты талаптар бойынша біліктілік немесе рұқсат беру талаптарына сәйкестігіне жүргізілетін тексерулер туралы есеп
A4: № | B4: Атауы | C4: Еgov кестесіне сәйкес жоспарланған тексерулер, барлығы | D4: Дұрыс емес деректермен кесте бойынша жоспарланған тексерулер | E4: Дұрыс деректермен кесте бойынша жоспарланған тексерулер | F4: Тексерулер жүргізілді | G4: % орындалуы | H4: Бұзушылықтары анықталған объектілер | I4: Бұзушылықтар анықталған объектілердің үлес салмағы % | J4: Берілген ұйғарымдар саны | K4: Сотқа жолданған материалдар саны | L4: Әкімшілік жазалардың саны | Q4: Әкімшілік айыппұл сомасы | R4: Жедел ден қою шаралары | W4: Тіркеуден бас тартылды | Z4: Тексерілмеген, себеппен алынған:
L5: Барлығы | M5: лауазымды тұлғалар | N5: заңды тұлғалар | O5: жеке кәсіпкерлер | P5: жеке тұлғалар | R5: Барлығы | S5: Бақылау мен қадағалау субъектісінің (объектісінің) өнімді (тауарды) өндіру, өткізу, қызметтер көрсету, жұмыстарды орындау жөніндегі қызметін немесе оның жекелеген түрлерін (процестерді, әрекеттерді) тоқтата тұру | T5: Бақылау мен қадағалау субъектісінің (объектісінің) өнімді (тауарды) өндіру, қызметтер көрсету, жұмыстарды орындау жөніндегі қызметіне немесе оның жекелеген түрлеріне (процестерге, әрекеттерге) тыйым салу | U5: Техникалық регламенттердің талаптарына және (немесе) Еуразиялық экономикалық одақтың бірыңғай санитариялық-эпидемиологиялық және гигиеналық талаптарына сәйкес келмейтін өнімді (тауарды) өткізуден алып қою және кері қайтарып алу; | V5: Адамдарды жұмыстан уақытша шеттету | W5: Хабарлама ережелерін бұзу | X5: Тексеру жүргізу мерзімдерін бұзу | Y5: Басқалары (*ескертпеде көрсету) | Z5: Кәсіпкерлік субъектісінің / объектісінің санатын өзгеруі | AA5: Объектінің жабылуы | AB5: Заңды немесе нақты мекенжайды өзгерту | AC5: Басқалары (*ескертпеде көрсету) | AD5: Аяқталмаған тексеруле (ауыспалы) | AE5: Келесі айға жоспарланған тексерулер
A6: 1 | B6: 2 | C6: 3 | D6: 4 | E6: 5 | F6: 6 | G6: 7 | H6: 8 | I6: 9 | J6: 10 | K6: 11 | L6: 12 | M6: 13 | N6: 14 | O6: 15 | P6: 16 | Q6: 17 | R6: 18 | S6: 19 | T6: 20 | U6: 21 | V6: 22 | W6: 23 | X6: 24 | Y6: 25 | Z6: 26 | AA6: 27 | AB6: 28 | AC6: 29 | AD6: 30 | AE6: 31
A7: 1 | B7: Алатау ауданы | C7: 0 | D7: 0 | E7: 0 | F7: 0 | G7: 0 | H7: 0 | I7: 0 | J7: 0 | K7: 0 | L7: 0 | M7: 0 | N7: 0 | O7: 0 | P7: 0 | Q7: 0 | R7: 0 | S7: 0 | T7: 0 | U7: 0 | V7: 0 | W7: 0 | X7: 0 | Y7: 0 | Z7: 0 | AA7: 0 | AB7: 0 | AC7: 0 | AD7: 0 | AE7: 0
A8: 2 | B8: Алмалы ауданы | C8: 0 | D8: 0 | E8: 0 | F8: 0 | G8: 0 | H8: 0 | I8: 0 | J8: 0 | K8: 0 | L8: 0 | M8: 0 | N8: 0 | O8: 0 | P8: 0 | Q8: 0 | R8: 0 | S8: 0 | T8: 0 | U8: 0 | V8: 0 | W8: 0 | X8: 0 | Y8: 0 | Z8: 0 | AA8: 0 | AB8: 0 | AC8: 0 | AD8: 0 | AE8: 0
A9: 3 | B9: Әуезов ауданы | C9: 0 | D9: 0 | E9: 0 | F9: 0 | G9: 0 | H9: 0 | I9: 0 | J9: 0 | K9: 0 | L9: 0 | M9: 0 | N9: 0 | O9: 0 | P9: 0 | Q9: 0 | R9: 0 | S9: 0 | T9: 0 | U9: 0 | V9: 0 | W9: 0 | X9: 0 | Y9: 0 | Z9: 0 | AA9: 0 | AB9: 0 | AC9: 0 | AD9: 0 | AE9: 0
A10: 4 | B10: Бостандық ауданы | C10: 0 | D10: 0 | E10: 0 | F10: 0 | G10: 0 | H10: 0 | I10: 0 | J10: 0 | K10: 0 | L10: 0 | M10: 0 | N10: 0 | O10: 0 | P10: 0 | Q10: 0 | R10: 0 | S10: 0 | T10: 0 | U10: 0 | V10: 0 | W10: 0 | X10: 0 | Y10: 0 | Z10: 0 | AA10: 0 | AB10: 0 | AC10: 0 | AD10: 0 | AE10: 0
A11: 5 | B11: Жетісу ауданы | C11: 0 | D11: 0 | E11: 0 | F11: 0 | G11: 0 | H11: 0 | I11: 0 | J11: 0 | K11: 0 | L11: 0 | M11: 0 | N11: 0 | O11: 0 | P11: 0 | Q11: 0 | R11: 0 | S11: 0 | T11: 0 | U11: 0 | V11: 0 | W11: 0 | X11: 0 | Y11: 0 | Z11: 0 | AA11: 0 | AB11: 0 | AC11: 0 | AD11: 0 | AE11: 0
A12: 6 | B12: Медеу ауданы | C12: 0 | D12: 0 | E12: 0 | F12: 0 | G12: 0 | H12: 0 | I12: 0 | J12: 0 | K12: 0 | L12: 0 | M12: 0 | N12: 0 | O12: 0 | P12: 0 | Q12: 0 | R12: 0 | S12: 0 | T12: 0 | U12: 0 | V12: 0 | W12: 0 | X12: 0 | Y12: 0 | Z12: 0 | AA12: 0 | AB12: 0 | AC12: 0 | AD12: 0 | AE12: 0
A13: 7 | B13: Наурызбай ауданы | C13: 0 | D13: 0 | E13: 0 | F13: 0 | G13: 0 | H13: 0 | I13: 0 | J13: 0 | K13: 0 | L13: 0 | M13: 0 | N13: 0 | O13: 0 | P13: 0 | Q13: 0 | R13: 0 | S13: 0 | T13: 0 | U13: 0 | V13: 0 | W13: 0 | X13: 0 | Y13: 0 | Z13: 0 | AA13: 0 | AB13: 0 | AC13: 0 | AD13: 0 | AE13: 0
A14: 8 | B14: Түрксіб ауданы | C14: 0 | D14: 0 | E14: 0 | F14: 0 | G14: 0 | H14: 0 | I14: 0 | J14: 0 | K14: 0 | L14: 0 | M14: 0 | N14: 0 | O14: 0 | P14: 0 | Q14: 0 | R14: 0 | S14: 0 | T14: 0 | U14: 0 | V14: 0 | W14: 0 | X14: 0 | Y14: 0 | Z14: 0 | AA14: 0 | AB14: 0 | AC14: 0 | AD14: 0 | AE14: 0
A15: 9 | B15: Алматы қаласы | C15: =SUM(C7:C14) -> 0 | D15: =SUM(D7:D14) -> 0 | E15: =SUM(E7:E14) -> 0 | F15: =SUM(F7:F14) -> 0 | G15: =SUM(G7:G14) -> 0 | H15: =SUM(H7:H14) -> 0 | I15: =SUM(I7:I14) -> 0 | J15: =SUM(J7:J14) -> 0 | ... AE15: =SUM(AE7:AE14) -> 0

Sheet білім беру объектілері
AA1: Қазақстан Республикасының Денсаулық сақтау министрлігі Санитариялық-эпидемиологиялық бақылау комитеті төрағасының 2025 жылғы «___» __________ №____ бұйрығына 1-қосымша
A2: «Рұқсаттар және хабарламалар туралы» Қазақстан Республикасының Заңына сәйкес берілген рұқсаттар, жіберілген хабарламаларға байланысты талаптар бойынша біліктілік немесе рұқсат беру талаптарына сәйкестігіне жүргізілетін тексерулер туралы есеп
A4: № | B4: Атауы | C4: Еgov кестесіне сәйкес жоспарланған тексерулер, барлығы | D4: Дұрыс емес деректермен кесте бойынша жоспарланған тексерулер | E4: Дұрыс деректермен кесте бойынша жоспарланған тексерулер | F4: Тексерулер жүргізілді | G4: % орындалуы | H4: Бұзушылықтары анықталған объектілер | I4: Бұзушылықтар анықталған объектілердің үлес салмағы % | J4: Берілген ұйғарымдар саны | K4: Сотқа жолданған материалдар саны | L4: Әкімшілік жазалардың саны | Q4: Әкімшілік айыппұл сомасы | R4: Жедел ден қою шаралары | W4: Тіркеуден бас тартылды | Z4: Тексерілмеген, себеппен алынған:
L5: Барлығы | M5: лауазымды тұлғалар | N5: заңды тұлғалар | O5: жеке кәсіпкерлер | P5: жеке тұлғалар | R5: Барлығы | S5: Бақылау мен қадағалау субъектісінің (объектісінің) өнімді (тауарды) өндіру, өткізу, қызметтер көрсету, жұмыстарды орындау жөніндегі қызметін немесе оның жекелеген түрлерін (процестерді, әрекеттерді) тоқтата тұру | T5: Бақылау мен қадағалау субъектісінің (объектісінің) өнімді (тауарды) өндіру, қызметтер көрсету, жұмыстарды орындау жөніндегі қызметіне немесе оның жекелеген түрлеріне (процестерге, әрекеттерге) тыйым салу | U5: Техникалық регламенттердің талаптарына және (немесе) Еуразиялық экономикалық одақтың бірыңғай санитариялық-эпидемиологиялық және гигиеналық талаптарына сәйкес келмейтін өнімді (тауарды) өткізуден алып қою және кері қайтарып алу; | V5: Адамдарды жұмыстан уақытша шеттету | W5: Хабарлама ережелерін бұзу | X5: Тексеру жүргізу мерзімдерін бұзу | Y5: Басқалары (*ескертпеде көрсету) | Z5: Кәсіпкерлік субъектісінің / объектісінің санатын өзгеруі | AA5: Объектінің жабылуы | AB5: Заңды немесе нақты мекенжайды өзгерту | AC5: Басқалары (*ескертпеде көрсету) | AD5: Аяқталмаған тексеруле (ауыспалы) | AE5: Келесі айға жоспарланған тексерулер
A6: 1 | B6: 2 | C6: 3 | D6: 4 | E6: 5 | F6: 6 | G6: 7 | H6: 8 | I6: 9 | J6: 10 | K6: 11 | L6: 12 | M6: 13 | N6: 14 | O6: 15 | P6: 16 | Q6: 17 | R6: 18 | S6: 19 | T6: 20 | U6: 21 | V6: 22 | W6: 23 | X6: 24 | Y6: 25 | Z6: 26 | AA6: 27 | AB6: 28 | AC6: 29 | AD6: 30 | AE6: 31
A7: 1 | B7: Алатау ауданы | C7: 0 | D7: 0 | E7: 0 | F7: 0 | G7: 0 | H7: 0 | I7: 0 | J7: 0 | K7: 0 | L7: 0 | M7: 0 | N7: 0 | O7: 0 | P7: 0 | Q7: 0 | R7: 0 | S7: 0 | T7: 0 | U7: 0 | V7: 0 | W7: 0 | X7: 0 | Y7: 0 | Z7: 0 | AA7: 0 | AB7: 0 | AC7: 0 | AD7: 0 | AE7: 0
A8: 2 | B8: Алмалы ауданы | C8: 0 | D8: 0 | E8: 0 | F8: 0 | G8: 0 | H8: 0 | I8: 0 | J8: 0 | K8: 0 | L8: 0 | M8: 0 | N8: 0 | O8: 0 | P8: 0 | Q8: 0 | R8: 0 | S8: 0 | T8: 0 | U8: 0 | V8: 0 | W8: 0 | X8: 0 | Y8: 0 | Z8: 0 | AA8: 0 | AB8: 0 | AC8: 0 | AD8: 0 | AE8: 0
A9: 3 | B9: Әуезов ауданы | C9: 0 | D9: 0 | E9: 0 | F9: 0 | G9: 0 | H9: 0 | I9: 0 | J9: 0 | K9: 0 | L9: 0 | M9: 0 | N9: 0 | O9: 0 | P9: 0 | Q9: 0 | R9: 0 | S9: 0 | T9: 0 | U9: 0 | V9: 0 | W9: 0 | X9: 0 | Y9: 0 | Z9: 0 | AA9: 0 | AB9: 0 | AC9: 0 | AD9: 0 | AE9: 0
A10: 4 | B10: Бостандық ауданы | C10: 0 | D10: 0 | E10: 0 | F10: 0 | G10: 0 | H10: 0 | I10: 0 | J10: 0 | K10: 0 | L10: 0 | M10: 0 | N10: 0 | O10: 0 | P10: 0 | Q10: 0 | R10: 0 | S10: 0 | T10: 0 | U10: 0 | V10: 0 | W10: 0 | X10: 0 | Y10: 0 | Z10: 0 | AA10: 0 | AB10: 0 | AC10: 0 | AD10: 0 | AE10: 0
A11: 5 | B11: Жетісу ауданы | C11: 0 | D11: 0 | E11: 0 | F11: 0 | G11: 0 | H11: 0 | I11: 0 | J11: 0 | K11: 0 | L11: 0 | M11: 0 | N11: 0 | O11: 0 | P11: 0 | Q11: 0 | R11: 0 | S11: 0 | T11: 0 | U11: 0 | V11: 0 | W11: 0 | X11: 0 | Y11: 0 | Z11: 0 | AA11: 0 | AB11: 0 | AC11: 0 | AD11: 0 | AE11: 0
A12: 6 | B12: Медеу ауданы | C12: 0 | D12: 0 | E12: 0 | F12: 0 | G12: 0 | H12: 0 | I12: 0 | J12: 0 | K12: 0 | L12: 0 | M12: 0 | N12: 0 | O12: 0 | P12: 0 | Q12: 0 | R12: 0 | S12: 0 | T12: 0 | U12: 0 | V12: 0 | W12: 0 | X12: 0 | Y12: 0 | Z12: 0 | AA12: 0 | AB12: 0 | AC12: 0 | AD12: 0 | AE12: 0
A13: 7 | B13: Наурызбай ауданы | C13: 0 | D13: 0 | E13: 0 | F13: 0 | G13: 0 | H13: 0 | I13: 0 | J13: 0 | K13: 0 | L13: 0 | M13: 0 | N13: 0 | O13: 0 | P13: 0 | Q13: 0 | R13: 0 | S13: 0 | T13: 0 | U13: 0 | V13: 0 | W13: 0 | X13: 0 | Y13: 0 | Z13: 0 | AA13: 0 | AB13: 0 | AC13: 0 | AD13: 0 | AE13: 0
A14: 8 | B14: Түрксіб ауданы | C14: 0 | D14: 0 | E14: 0 | F14: 0 | G14: 0 | H14: 0 | I14: 0 | J14: 0 | K14: 0 | L14: 0 | M14: 0 | N14: 0 | O14: 0 | P14: 0 | Q14: 0 | R14: 0 | S14: 0 | T14: 0 | U14: 0 | V14: 0 | W14: 0 | X14: 0 | Y14: 0 | Z14: 0 | AA14: 0 | AB14: 0 | AC14: 0 | AD14: 0 | AE14: 0
A15: 9 | B15: Алматы қаласы | C15: =SUM(C7:C14) -> 0 | D15: =SUM(D7:D14) -> 0 | E15: =SUM(E7:E14) -> 0 | F15: =SUM(F7:F14) -> 0 | G15: =SUM(G7:G14) -> 0 | H15: =SUM(H7:H14) -> 0 | I15: =SUM(I7:I14) -> 0 | J15: =SUM(J7:J14) -> 0 | ... AE15: =SUM(AE7:AE14) -> 0

Sheet балаларды санаторлы-сауықтыру
AA1: Қазақстан Республикасының Денсаулық сақтау министрлігі Санитариялық-эпидемиологиялық бақылау комитеті төрағасының 2025 жылғы «___» __________ №____ бұйрығына 1-қосымша
A2: «Рұқсаттар және хабарламалар туралы» Қазақстан Республикасының Заңына сәйкес берілген рұқсаттар, жіберілген хабарламаларға байланысты талаптар бойынша біліктілік немесе рұқсат беру талаптарына сәйкестігіне жүргізілетін тексерулер туралы есеп
A4: № | B4: Атауы | C4: Еgov кестесіне сәйкес жоспарланған тексерулер, барлығы | D4: Дұрыс емес деректермен кесте бойынша жоспарланған тексерулер | E4: Дұрыс деректермен кесте бойынша жоспарланған тексерулер | F4: Тексерулер жүргізілді | G4: % орындалуы | H4: Бұзушылықтары анықталған объектілер | I4: Бұзушылықтар анықталған объектілердің үлес салмағы % | J4: Берілген ұйғарымдар саны | K4: Сотқа жолданған материалдар саны | L4: Әкімшілік жазалардың саны | Q4: Әкімшілік айыппұл сомасы | R4: Жедел ден қою шаралары | W4: Тіркеуден бас тартылды | Z4: Тексерілмеген, себеппен алынған:
L5: Барлығы | M5: лауазымды тұлғалар | N5: заңды тұлғалар | O5: жеке кәсіпкерлер | P5: жеке тұлғалар | R5: Барлығы | S5: Бақылау мен қадағалау субъектісінің (объектісінің) өнімді (тауарды) өндіру, өткізу, қызметтер көрсету, жұмыстарды орындау жөніндегі қызметін немесе оның жекелеген түрлерін (процестерді, әрекеттерді) тоқтата тұру | T5: Бақылау мен қадағалау субъектісінің (объектісінің) өнімді (тауарды) өндіру, қызметтер көрсету, жұмыстарды орындау жөніндегі қызметіне немесе оның жекелеген түрлеріне (процестерге, әрекеттерге) тыйым салу | U5: Техникалық регламенттердің талаптарына және (немесе) Еуразиялық экономикалық одақтың бірыңғай санитариялық-эпидемиологиялық және гигиеналық талаптарына сәйкес келмейтін өнімді (тауарды) өткізуден алып қою және кері қайтарып алу; | V5: Адамдарды жұмыстан уақытша шеттету | W5: Хабарлама ережелерін бұзу | X5: Тексеру жүргізу мерзімдерін бұзу | Y5: Басқалары (*ескертпеде көрсету) | Z5: Кәсіпкерлік субъектісінің / объектісінің санатын өзгеруі | AA5: Объектінің жабылуы | AB5: Заңды немесе нақты мекенжайды өзгерту | AC5: Басқалары (*ескертпеде көрсету) | AD5: Аяқталмаған тексеруле (ауыспалы) | AE5: Келесі айға жоспарланған тексерулер
A6: 1 | B6: 2 | C6: 3 | D6: 4 | E6: 5 | F6: 6 | G6: 7 | H6: 8 | I6: 9 | J6: 10 | K6: 11 | L6: 12 | M6: 13 | N6: 14 | O6: 15 | P6: 16 | Q6: 17 | R6: 18 | S6: 19 | T6: 20 | U6: 21 | V6: 22 | W6: 23 | X6: 24 | Y6: 25 | Z6: 26 | AA6: 27 | AB6: 28 | AC6: 29 | AD6: 30 | AE6: 31
A7: 1 | B7: Алатау ауданы | C7: 0 | D7: 0 | E7: 0 | F7: 0 | G7: 0 | H7: 0 | I7: 0 | J7: 0 | K7: 0 | L7: 0 | M7: 0 | N7: 0 | O7: 0 | P7: 0 | Q7: 0 | R7: 0 | S7: 0 | T7: 0 | U7: 0 | V7: 0 | W7: 0 | X7: 0 | Y7: 0 | Z7: 0 | AA7: 0 | AB7: 0 | AC7: 0 | AD7: 0 | AE7: 0
A8: 2 | B8: Алмалы ауданы | C8: 0 | D8: 0 | E8: 0 | F8: 0 | G8: 0 | H8: 0 | I8: 0 | J8: 0 | K8: 0 | L8: 0 | M8: 0 | N8: 0 | O8: 0 | P8: 0 | Q8: 0 | R8: 0 | S8: 0 | T8: 0 | U8: 0 | V8: 0 | W8: 0 | X8: 0 | Y8: 0 | Z8: 0 | AA8: 0 | AB8: 0 | AC8: 0 | AD8: 0 | AE8: 0
A9: 3 | B9: Әуезов ауданы | C9: 0 | D9: 0 | E9: 0 | F9: 0 | G9: 0 | H9: 0 | I9: 0 | J9: 0 | K9: 0 | L9: 0 | M9: 0 | N9: 0 | O9: 0 | P9: 0 | Q9: 0 | R9: 0 | S9: 0 | T9: 0 | U9: 0 | V9: 0 | W9: 0 | X9: 0 | Y9: 0 | Z9: 0 | AA9: 0 | AB9: 0 | AC9: 0 | AD9: 0 | AE9: 0
A10: 4 | B10: Бостандық ауданы | C10: 0 | D10: 0 | E10: 0 | F10: 0 | G10: 0 | H10: 0 | I10: 0 | J10: 0 | K10: 0 | L10: 0 | M10: 0 | N10: 0 | O10: 0 | P10: 0 | Q10: 0 | R10: 0 | S10: 0 | T10: 0 | U10: 0 | V10: 0 | W10: 0 | X10: 0 | Y10: 0 | Z10: 0 | AA10: 0 | AB10: 0 | AC10: 0 | AD10: 0 | AE10: 0
A11: 5 | B11: Жетісу ауданы | C11: 0 | D11: 0 | E11: 0 | F11: 0 | G11: 0 | H11: 0 | I11: 0 | J11: 0 | K11: 0 | L11: 0 | M11: 0 | N11: 0 | O11: 0 | P11: 0 | Q11: 0 | R11: 0 | S11: 0 | T11: 0 | U11: 0 | V11: 0 | W11: 0 | X11: 0 | Y11: 0 | Z11: 0 | AA11: 0 | AB11: 0 | AC11: 0 | AD11: 0 | AE11: 0
A12: 6 | B12: Медеу ауданы | C12: 0 | D12: 0 | E12: 0 | F12: 0 | G12: 0 | H12: 0 | I12: 0 | J12: 0 | K12: 0 | L12: 0 | M12: 0 | N12: 0 | O12: 0 | P12: 0 | Q12: 0 | R12: 0 | S12: 0 | T12: 0 | U12: 0 | V12: 0 | W12: 0 | X12: 0 | Y12: 0 | Z12: 0 | AA12: 0 | AB12: 0 | AC12: 0 | AD12: 0 | AE12: 0
A13: 7 | B13: Наурызбай ауданы | C13: 0 | D13: 0 | E13: 0 | F13: 0 | G13: 0 | H13: 0 | I13: 0 | J13: 0 | K13: 0 | L13: 0 | M13: 0 | N13: 0 | O13: 0 | P13: 0 | Q13: 0 | R13: 0 | S13: 0 | T13: 0 | U13: 0 | V13: 0 | W13: 0 | X13: 0 | Y13: 0 | Z13: 0 | AA13: 0 | AB13: 0 | AC13: 0 | AD13: 0 | AE13: 0
A14: 8 | B14: Түрксіб ауданы | C14: 0 | D14: 0 | E14: 0 | F14: 0 | G14: 0 | H14: 0 | I14: 0 | J14: 0 | K14: 0 | L14: 0 | M14: 0 | N14: 0 | O14: 0 | P14: 0 | Q14: 0 | R14: 0 | S14: 0 | T14: 0 | U14: 0 | V14: 0 | W14: 0 | X14: 0 | Y14: 0 | Z14: 0 | AA14: 0 | AB14: 0 | AC14: 0 | AD14: 0 | AE14: 0
A15: 9 | B15: Алматы қаласы | C15: =SUM(C7:C14) -> 0 | D15: =SUM(D7:D14) -> 0 | E15: =SUM(E7:E14) -> 0 | F15: =SUM(F7:F14) -> 0 | G15: =SUM(G7:G14) -> 0 | H15: =SUM(H7:H14) -> 0 | I15: =SUM(I7:I14) -> 0 | J15: =SUM(J7:J14) -> 0 | ... AE15: =SUM(AE7:AE14) -> 0

Sheet қоғамдық тамақтану, сауда
AA1: Қазақстан Республикасының Денсаулық сақтау министрлігі Санитариялық-эпидемиологиялық бақылау комитеті төрағасының 2025 жылғы «___» __________ №____ бұйрығына 1-қосымша
A2: «Рұқсаттар және хабарламалар туралы» Қазақстан Республикасының Заңына сәйкес берілген рұқсаттар, жіберілген хабарламаларға байланысты талаптар бойынша біліктілік немесе рұқсат беру талаптарына сәйкестігіне жүргізілетін тексерулер туралы есеп
A4: № | B4: Атауы | C4: Еgov кестесіне сәйкес жоспарланған тексерулер, барлығы | D4: Дұрыс емес деректермен кесте бойынша жоспарланған тексерулер | E4: Дұрыс деректермен кесте бойынша жоспарланған тексерулер | F4: Тексерулер жүргізілді | G4: % орындалуы | H4: Бұзушылықтары анықталған объектілер | I4: Бұзушылықтар анықталған объектілердің үлес салмағы % | J4: Берілген ұйғарымдар саны | K4: Сотқа жолданған материалдар саны | L4: Әкімшілік жазалардың саны | Q4: Әкімшілік айыппұл сомасы | R4: Жедел ден қою шаралары | W4: Тіркеуден бас тартылды | Z4: Тексерілмеген, себеппен алынған:
L5: Барлығы | M5: лауазымды тұлғалар | N5: заңды тұлғалар | O5: жеке кәсіпкерлер | P5: жеке тұлғалар | R5: Барлығы | S5: Бақылау мен қадағалау субъектісінің (объектісінің) өнімді (тауарды) өндіру, өткізу, қызметтер көрсету, жұмыстарды орындау жөніндегі қызметін немесе оның жекелеген түрлерін (процестерді, әрекеттерді) тоқтата тұру | T5: Бақылау мен қадағалау субъектісінің (объектісінің) өнімді (тауарды) өндіру, қызметтер көрсету, жұмыстарды орындау жөніндегі қызметіне немесе оның жекелеген түрлеріне (процестерге, әрекеттерге) тыйым салу | U5: Техникалық регламенттердің талаптарына және (немесе) Еуразиялық экономикалық одақтың бірыңғай санитариялық-эпидемиологиялық және гигиеналық талаптарына сәйкес келмейтін өнімді (тауарды) өткізуден алып қою және кері қайтарып алу; | V5: Адамдарды жұмыстан уақытша шеттету | W5: Хабарлама ережелерін бұзу | X5: Тексеру жүргізу мерзімдерін бұзу | Y5: Басқалары (*ескертпеде көрсету) | Z5: Кәсіпкерлік субъектісінің / объектісінің санатын өзгеруі | AA5: Объектінің жабылуы | AB5: Заңды немесе нақты мекенжайды өзгерту | AC5: Басқалары (*ескертпеде көрсету) | AD5: Аяқталмаған тексеруле (ауыспалы) | AE5: Келесі айға жоспарланған тексерулер
A6: 1 | B6: 2 | C6: 3 | D6: 4 | E6: 5 | F6: 6 | G6: 7 | H6: 8 | I6: 9 | J6: 10 | K6: 11 | L6: 12 | M6: 13 | N6: 14 | O6: 15 | P6: 16 | Q6: 17 | R6: 18 | S6: 19 | T6: 20 | U6: 21 | V6: 22 | W6: 23 | X6: 24 | Y6: 25 | Z6: 26 | AA6: 27 | AB6: 28 | AC6: 29 | AD6: 30 | AE6: 31
A7: 1 | B7: Алатау ауданы | C7: =[1]ГДИП!C30+[1]ОГП!C30 -> 0 | D7: =[1]ГДИП!D30+[1]ОГП!D30 -> 0 | E7: =[1]ГДИП!E30+[1]ОГП!E30 -> 0 | F7: =[1]ГДИП!F30+[1]ОГП!F30 -> 0 | G7: =F7/E7 -> #DIV/0! | H7: =[1]ГДИП!H30+[1]ОГП!H30 -> 0 | I7: =H7/F7 -> #DIV/0! | J7: =[1]ГДИП!J30+[1]ОГП!J30 -> 0 | K7: =[1]ГДИП!K30+[1]ОГП!K30 -> 0 | L7: =M7+N7+O7+P7 -> 0 | M7: =[1]ГДИП!M30+[1]ОГП!M30 -> 0 | N7: =[1]ГДИП!N30+[1]ОГП!N30 -> 0 | O7: =[1]ГДИП!O30+[1]ОГП!O30 -> 0 | P7: =[1]ГДИП!P30+[1]ОГП!P30 -> 0 | Q7: =[1]ГДИП!Q30+[1]ОГП!Q30 -> 0 | R7: =S7+T7+U7+V7 -> 0 | S7: =[1]ГДИП!S30+[1]ОГП!S30 -> 0 | T7: =[1]ГДИП!T30+[1]ОГП!T30 -> 0 | U7: =[1]ГДИП!U30+[1]ОГП!U30 -> 0 | V7: =[1]ГДИП!V30+[1]ОГП!V30 -> 0 | W7: =[1]ГДИП!W30+[1]ОГП!W30 -> 0 | X7: =[1]ГДИП!X30+[1]ОГП!X30 -> 0 | Y7: =[1]ГДИП!Y30+[1]ОГП!Y30 -> 0 | Z7: =[1]ГДИП!Z30+[1]ОГП!Z30 -> 0 | ... AE7: =[1]ГДИП!AE30+[1]ОГП!AE30 -> 0
A8: 2 | B8: Алмалы ауданы | C8: =[1]ГДИП!C31+[1]ОГП!C31 -> 0 | D8: =[1]ГДИП!D31+[1]ОГП!D31 -> 0 | E8: =[1]ГДИП!E31+[1]ОГП!E31 -> 0 | F8: =[1]ГДИП!F31+[1]ОГП!F31 -> 0 | G8: =F8/E8 -> #DIV/0! | H8: =[1]ГДИП!H31+[1]ОГП!H31 -> 0 | I8: =H8/F8 -> #DIV/0! | J8: =[1]ГДИП!J31+[1]ОГП!J31 -> 0 | K8: =[1]ГДИП!K31+[1]ОГП!K31 -> 0 | L8: =M8+N8+O8+P8 -> 0 | M8: =[1]ГДИП!M31+[1]ОГП!M31 -> 0 | N8: =[1]ГДИП!N31+[1]ОГП!N31 -> 0 | O8: =[1]ГДИП!O31+[1]ОГП!O31 -> 0 | P8: =[1]ГДИП!P31+[1]ОГП!P31 -> 0 | Q8: =[1]ГДИП!Q31+[1]ОГП!Q31 -> 0 | R8: =S8+T8+U8+V8 -> 0 | S8: =[1]ГДИП!S31+[1]ОГП!S31 -> 0 | T8: =[1]ГДИП!T31+[1]ОГП!T31 -> 0 | U8: =[1]ГДИП!U31+[1]ОГП!U31 -> 0 | V8: =[1]ГДИП!V31+[1]ОГП!V31 -> 0 | W8: =[1]ГДИП!W31+[1]ОГП!W31 -> 0 | X8: =[1]ГДИП!X31+[1]ОГП!X31 -> 0 | Y8: =[1]ГДИП!Y31+[1]ОГП!Y31 -> 0 | Z8: =[1]ГДИП!Z31+[1]ОГП!Z31 -> 0 | ... AE8: =[1]ГДИП!AE31+[1]ОГП!AE31 -> 0
A9: 3 | B9: Әуезов ауданы | C9: =[1]ГДИП!C32+[1]ОГП!C32 -> 0 | D9: =[1]ГДИП!D32+[1]ОГП!D32 -> 0 | E9: =[1]ГДИП!E32+[1]ОГП!E32 -> 0 | F9: =[1]ГДИП!F32+[1]ОГП!F32 -> 0 | G9: =F9/E9 -> #DIV/0! | H9: =[1]ГДИП!H32+[1]ОГП!H32 -> 0 | I9: =H9/F9 -> #DIV/0! | J9: =[1]ГДИП!J32+[1]ОГП!J32 -> 0 | K9: =[1]ГДИП!K32+[1]ОГП!K32 -> 0 | L9: =M9+N9+O9+P9 -> 0 | M9: =[1]ГДИП!M32+[1]ОГП!M32 -> 0 | N9: =[1]ГДИП!N32+[1]ОГП!N32 -> 0 | O9: =[1]ГДИП!O32+[1]ОГП!O32 -> 0 | P9: =[1]ГДИП!P32+[1]ОГП!P32 -> 0 | Q9: =[1]ГДИП!Q32+[1]ОГП!Q32 -> 0 | R9: =S9+T9+U9+V9 -> 0 | S9: =[1]ГДИП!S32+[1]ОГП!S32 -> 0 | T9: =[1]ГДИП!T32+[1]ОГП!T32 -> 0 | U9: =[1]ГДИП!U32+[1]ОГП!U32 -> 0 | V9: =[1]ГДИП!V32+[1]ОГП!V32 -> 0 | W9: =[1]ГДИП!W32+[1]ОГП!W32 -> 0 | X9: =[1]ГДИП!X32+[1]ОГП!X32 -> 0 | Y9: =[1]ГДИП!Y32+[1]ОГП!Y32 -> 0 | Z9: =[1]ГДИП!Z32+[1]ОГП!Z32 -> 0 | ... AE9: =[1]ГДИП!AE32+[1]ОГП!AE32 -> 0
A10: 4 | B10: Бостандық ауданы | C10: =[1]ГДИП!C33+[1]ОГП!C33 -> 0 | D10: =[1]ГДИП!D33+[1]ОГП!D33 -> 0 | E10: =[1]ГДИП!E33+[1]ОГП!E33 -> 0 | F10: =[1]ГДИП!F33+[1]ОГП!F33 -> 0 | G10: =F10/E10 -> #DIV/0! | H10: =[1]ГДИП!H33+[1]ОГП!H33 -> 0 | I10: =H10/F10 -> #DIV/0! | J10: =[1]ГДИП!J33+[1]ОГП!J33 -> 0 | K10: =[1]ГДИП!K33+[1]ОГП!K33 -> 0 | L10: =M10+N10+O10+P10 -> 0 | M10: =[1]ГДИП!M33+[1]ОГП!M33 -> 0 | N10: =[1]ГДИП!N33+[1]ОГП!N33 -> 0 | O10: =[1]ГДИП!O33+[1]ОГП!O33 -> 0 | P10: =[1]ГДИП!P33+[1]ОГП!P33 -> 0 | Q10: =[1]ГДИП!Q33+[1]ОГП!Q33 -> 0 | R10: =S10+T10+U10+V10 -> 0 | S10: =[1]ГДИП!S33+[1]ОГП!S33 -> 0 | T10: =[1]ГДИП!T33+[1]ОГП!T33 -> 0 | U10: =[1]ГДИП!U33+[1]ОГП!U33 -> 0 | V10: =[1]ГДИП!V33+[1]ОГП!V33 -> 0 | W10: =[1]ГДИП!W33+[1]ОГП!W33 -> 0 | X10: =[1]ГДИП!X33+[1]ОГП!X33 -> 0 | Y10: =[1]ГДИП!Y33+[1]ОГП!Y33 -> 0 | Z10: =[1]ГДИП!Z33+[1]ОГП!Z33 -> 0 | ... AE10: =[1]ГДИП!AE33+[1]ОГП!AE33 -> 0
A11: 5 | B11: Жетісу ауданы | C11: =[1]ГДИП!C34+[1]ОГП!C34 -> 3 | D11: =[1]ГДИП!D34+[1]ОГП!D34 -> 0 | E11: =[1]ГДИП!E34+[1]ОГП!E34 -> 3 | F11: =[1]ГДИП!F34+[1]ОГП!F34 -> 0 | G11: =F11/E11 -> 0 | H11: =[1]ГДИП!H34+[1]ОГП!H34 -> 0 | I11: =H11/F11 -> #DIV/0! | J11: =[1]ГДИП!J34+[1]ОГП!J34 -> 0 | K11: =[1]ГДИП!K34+[1]ОГП!K34 -> 0 | L11: =M11+N11+O11+P11 -> 0 | M11: =[1]ГДИП!M34+[1]ОГП!M34 -> 0 | N11: =[1]ГДИП!N34+[1]ОГП!N34 -> 0 | O11: =[1]ГДИП!O34+[1]ОГП!O34 -> 0 | P11: =[1]ГДИП!P34+[1]ОГП!P34 -> 0 | Q11: =[1]ГДИП!Q34+[1]ОГП!Q34 -> 0 | R11: =S11+T11+U11+V11 -> 0 | S11: =[1]ГДИП!S34+[1]ОГП!S34 -> 0 | T11: =[1]ГДИП!T34+[1]ОГП!T34 -> 0 | U11: =[1]ГДИП!U34+[1]ОГП!U34 -> 0 | V11: =[1]ГДИП!V34+[1]ОГП!V34 -> 0 | W11: =[1]ГДИП!W34+[1]ОГП!W34 -> 0 | X11: =[1]ГДИП!X34+[1]ОГП!X34 -> 0 | Y11: =[1]ГДИП!Y34+[1]ОГП!Y34 -> 0 | Z11: =[1]ГДИП!Z34+[1]ОГП!Z34 -> 0 | ... AE11: =[1]ГДИП!AE34+[1]ОГП!AE34 -> 3
A12: 6 | B12: Медеу ауданы | C12: =[1]ГДИП!C35+[1]ОГП!C35 -> 13 | D12: =[1]ГДИП!D35+[1]ОГП!D35 -> 0 | E12: =[1]ГДИП!E35+[1]ОГП!E35 -> 13 | F12: =[1]ГДИП!F35+[1]ОГП!F35 -> 3 | G12: =F12/E12 -> 0.23076923 | H12: =[1]ГДИП!H35+[1]ОГП!H35 -> 2 | I12: =H12/F12 -> 0.66666667 | J12: =[1]ГДИП!J35+[1]ОГП!J35 -> 2 | K12: =[1]ГДИП!K35+[1]ОГП!K35 -> 0 | L12: =M12+N12+O12+P12 -> 2 | M12: =[1]ГДИП!M35+[1]ОГП!M35 -> 0 | N12: =[1]ГДИП!N35+[1]ОГП!N35 -> 1 | O12: =[1]ГДИП!O35+[1]ОГП!O35 -> 0 | P12: =[1]ГДИП!P35+[1]ОГП!P35 -> 1 | Q12: =[1]ГДИП!Q35+[1]ОГП!Q35 -> 692000 | R12: =S12+T12+U12+V12 -> 0 | S12: =[1]ГДИП!S35+[1]ОГП!S35 -> 0 | T12: =[1]ГДИП!T35+[1]ОГП!T35 -> 0 | U12: =[1]ГДИП!U35+[1]ОГП!U35 -> 0 | V12: =[1]ГДИП!V35+[1]ОГП!V35 -> 0 | W12: =[1]ГДИП!W35+[1]ОГП!W35 -> 0 | X12: =[1]ГДИП!X35+[1]ОГП!X35 -> 0 | Y12: =[1]ГДИП!Y35+[1]ОГП!Y35 -> 0 | Z12: =[1]ГДИП!Z35+[1]ОГП!Z35 -> 0 | ... AE12: =[1]ГДИП!AE35+[1]ОГП!AE35 -> 10
A13: 7 | B13: Наурызбай ауданы | C13: =[1]ГДИП!C36+[1]ОГП!C36 -> 0 | D13: =[1]ГДИП!D36+[1]ОГП!D36 -> 0 | E13: =[1]ГДИП!E36+[1]ОГП!E36 -> 0 | F13: =[1]ГДИП!F36+[1]ОГП!F36 -> 0 | G13: =F13/E13 -> #DIV/0! | H13: =[1]ГДИП!H36+[1]ОГП!H36 -> 0 | I13: =H13/F13 -> #DIV/0! | J13: =[1]ГДИП!J36+[1]ОГП!J36 -> 0 | K13: =[1]ГДИП!K36+[1]ОГП!K36 -> 0 | L13: =M13+N13+O13+P13 -> 0 | M13: =[1]ГДИП!M36+[1]ОГП!M36 -> 0 | N13: =[1]ГДИП!N36+[1]ОГП!N36 -> 0 | O13: =[1]ГДИП!O36+[1]ОГП!O36 -> 0 | P13: =[1]ГДИП!P36+[1]ОГП!P36 -> 0 | Q13: =[1]ГДИП!Q36+[1]ОГП!Q36 -> 0 | R13: =S13+T13+U13+V13 -> 0 | S13: =[1]ГДИП!S36+[1]ОГП!S36 -> 0 | T13: =[1]ГДИП!T36+[1]ОГП!T36 -> 0 | U13: =[1]ГДИП!U36+[1]ОГП!U36 -> 0 | V13: =[1]ГДИП!V36+[1]ОГП!V36 -> 0 | W13: =[1]ГДИП!W36+[1]ОГП!W36 -> 0 | X13: =[1]ГДИП!X36+[1]ОГП!X36 -> 0 | Y13: =[1]ГДИП!Y36+[1]ОГП!Y36 -> 0 | Z13: =[1]ГДИП!Z36+[1]ОГП!Z36 -> 0 | ... AE13: =[1]ГДИП!AE36+[1]ОГП!AE36 -> 0
A14: 8 | B14: Түрксіб ауданы | C14: =[1]ГДИП!C37+[1]ОГП!C37 -> 0 | D14: =[1]ГДИП!D37+[1]ОГП!D37 -> 0 | E14: =[1]ГДИП!E37+[1]ОГП!E37 -> 0 | F14: =[1]ГДИП!F37+[1]ОГП!F37 -> 0 | G14: =F14/E14 -> #DIV/0! | H14: =[1]ГДИП!H37+[1]ОГП!H37 -> 0 | I14: =H14/F14 -> #DIV/0! | J14: =[1]ГДИП!J37+[1]ОГП!J37 -> 0 | K14: =[1]ГДИП!K37+[1]ОГП!K37 -> 0 | L14: =M14+N14+O14+P14 -> 0 | M14: =[1]ГДИП!M37+[1]ОГП!M37 -> 0 | N14: =[1]ГДИП!N37+[1]ОГП!N37 -> 0 | O14: =[1]ГДИП!O37+[1]ОГП!O37 -> 0 | P14: =[1]ГДИП!P37+[1]ОГП!P37 -> 0 | Q14: =[1]ГДИП!Q37+[1]ОГП!Q37 -> 0 | R14: =S14+T14+U14+V14 -> 0 | S14: =[1]ГДИП!S37+[1]ОГП!S37 -> 0 | T14: =[1]ГДИП!T37+[1]ОГП!T37 -> 0 | U14: =[1]ГДИП!U37+[1]ОГП!U37 -> 0 | V14: =[1]ГДИП!V37+[1]ОГП!V37 -> 0 | W14: =[1]ГДИП!W37+[1]ОГП!W37 -> 0 | X14: =[1]ГДИП!X37+[1]ОГП!X37 -> 0 | Y14: =[1]ГДИП!Y37+[1]ОГП!Y37 -> 0 | Z14: =[1]ГДИП!Z37+[1]ОГП!Z37 -> 0 | ... AE14: =[1]ГДИП!AE37+[1]ОГП!AE37 -> 0
B15: Барлығы | C15: =SUM(C7:C14) -> 16 | D15: =SUM(D7:D14) -> 0 | E15: =SUM(E7:E14) -> 16 | F15: =SUM(F7:F14) -> 3 | G15: =F15/E15 -> 0.1875 | H15: =SUM(H7:H14) -> 2 | I15: =H15/F15 -> 0.66666667 | J15: =SUM(J7:J14) -> 2 | K15: =SUM(K7:K14) -> 0 | L15: =SUM(L7:L14) -> 2 | M15: =SUM(M7:M14) -> 0 | N15: =SUM(N7:N14) -> 1 | O15: =SUM(O7:O14) -> 0 | P15: =SUM(P7:P14) -> 1 | Q15: =SUM(Q7:Q14) -> 692000 | ... AE15: =SUM(AE7:AE14) -> 13

Sheet коммуналды объектілер
AA1: Қазақстан Республикасының Денсаулық сақтау министрлігі Санитариялық-эпидемиологиялық бақылау комитеті төрағасының 2025 жылғы «___» __________ №____ бұйрығына 1-қосымша
A2: «Рұқсаттар және хабарламалар туралы» Қазақстан Республикасының Заңына сәйкес берілген рұқсаттар, жіберілген хабарламаларға байланысты талаптар бойынша біліктілік немесе рұқсат беру талаптарына сәйкестігіне жүргізілетін тексерулер туралы есеп
A4: № | B4: Атауы | C4: Еgov кестесіне сәйкес жоспарланған тексерулер, барлығы | D4: Дұрыс емес деректермен кесте бойынша жоспарланған тексерулер | E4: Дұрыс деректермен кесте бойынша жоспарланған тексерулер | F4: Тексерулер жүргізілді | G4: % орындалуы | H4: Бұзушылықтары анықталған объектілер | I4: Бұзушылықтар анықталған объектілердің үлес салмағы % | J4: Берілген ұйғарымдар саны | K4: Сотқа жолданған материалдар саны | L4: Әкімшілік жазалардың саны | Q4: Әкімшілік айыппұл сомасы | R4: Жедел ден қою шаралары | W4: Тіркеуден бас тартылды | Z4: Тексерілмеген, себеппен алынған:
L5: Барлығы | M5: лауазымды тұлғалар | N5: заңды тұлғалар | O5: жеке кәсіпкерлер | P5: жеке тұлғалар | R5: Барлығы | S5: Бақылау мен қадағалау субъектісінің (объектісінің) өнімді (тауарды) өндіру, өткізу, қызметтер көрсету, жұмыстарды орындау жөніндегі қызметін немесе оның жекелеген түрлерін (процестерді, әрекеттерді) тоқтата тұру | T5: Бақылау мен қадағалау субъектісінің (объектісінің) өнімді (тауарды) өндіру, қызметтер көрсету, жұмыстарды орындау жөніндегі қызметіне немесе оның жекелеген түрлеріне (процестерге, әрекеттерге) тыйым салу | U5: Техникалық регламенттердің талаптарына және (немесе) Еуразиялық экономикалық одақтың бірыңғай санитариялық-эпидемиологиялық және гигиеналық талаптарына сәйкес келмейтін өнімді (тауарды) өткізуден алып қою және кері қайтарып алу; | V5: Адамдарды жұмыстан уақытша шеттету | W5: Хабарлама ережелерін бұзу | X5: Тексеру жүргізу мерзімдерін бұзу | Y5: Басқалары (*ескертпеде көрсету) | Z5: Кәсіпкерлік субъектісінің / объектісінің санатын өзгеруі | AA5: Объектінің жабылуы | AB5: Заңды немесе нақты мекенжайды өзгерту | AC5: Басқалары (*ескертпеде көрсету) | AD5: Аяқталмаған тексеруле (ауыспалы) | AE5: Келесі айға жоспарланған тексерулер
A6: 1 | B6: 2 | C6: 3 | D6: 4 | E6: 5 | F6: 6 | G6: 7 | H6: 8 | I6: 9 | J6: 10 | K6: 11 | L6: 12 | M6: 13 | N6: 14 | O6: 15 | P6: 16 | Q6: 17 | R6: 18 | S6: 19 | T6: 20 | U6: 21 | V6: 22 | W6: 23 | X6: 24 | Y6: 25 | Z6: 26 | AA6: 27 | AB6: 28 | AC6: 29 | AD6: 30 | AE6: 31
A7: 1 | B7: Алатау ауданы | C7: 0 | D7: 0 | E7: 0 | F7: 0 | G7: 0 | H7: 0 | I7: 0 | J7: 0 | K7: 0 | L7: 0 | M7: 0 | N7: 0 | O7: 0 | P7: 0 | Q7: 0 | R7: 0 | S7: 0 | T7: 0 | U7: 0 | V7: 0 | W7: 0 | X7: 0 | Y7: 0 | Z7: 0 | AA7: 0 | AB7: 0 | AC7: 0 | AD7: 0 | AE7: 0
A8: 2 | B8: Алмалы ауданы | C8: 0 | D8: 0 | E8: 0 | F8: 0 | G8: 0 | H8: 0 | I8: 0 | J8: 0 | K8: 0 | L8: 0 | M8: 0 | N8: 0 | O8: 0 | P8: 0 | Q8: 0 | R8: 0 | S8: 0 | T8: 0 | U8: 0 | V8: 0 | W8: 0 | X8: 0 | Y8: 0 | Z8: 0 | AA8: 0 | AB8: 0 | AC8: 0 | AD8: 0 | AE8: 0
A9: 3 | B9: Әуезов ауданы | C9: 0 | D9: 0 | E9: 0 | F9: 0 | G9: 0 | H9: 0 | I9: 0 | J9: 0 | K9: 0 | L9: 0 | M9: 0 | N9: 0 | O9: 0 | P9: 0 | Q9: 0 | R9: 0 | S9: 0 | T9: 0 | U9: 0 | V9: 0 | W9: 0 | X9: 0 | Y9: 0 | Z9: 0 | AA9: 0 | AB9: 0 | AC9: 0 | AD9: 0 | AE9: 0
A10: 4 | B10: Бостандық ауданы | C10: 0 | D10: 0 | E10: 0 | F10: 0 | G10: 0 | H10: 0 | I10: 0 | J10: 0 | K10: 0 | L10: 0 | M10: 0 | N10: 0 | O10: 0 | P10: 0 | Q10: 0 | R10: 0 | S10: 0 | T10: 0 | U10: 0 | V10: 0 | W10: 0 | X10: 0 | Y10: 0 | Z10: 0 | AA10: 0 | AB10: 0 | AC10: 0 | AD10: 0 | AE10: 0
A11: 5 | B11: Жетісу ауданы | C11: 0 | D11: 0 | E11: 0 | F11: 0 | G11: 0 | H11: 0 | I11: 0 | J11: 0 | K11: 0 | L11: 0 | M11: 0 | N11: 0 | O11: 0 | P11: 0 | Q11: 0 | R11: 0 | S11: 0 | T11: 0 | U11: 0 | V11: 0 | W11: 0 | X11: 0 | Y11: 0 | Z11: 0 | AA11: 0 | AB11: 0 | AC11: 0 | AD11: 0 | AE11: 0
A12: 6 | B12: Медеу ауданы | C12: 0 | D12: 0 | E12: 0 | F12: 0 | G12: 0 | H12: 0 | I12: 0 | J12: 0 | K12: 0 | L12: 0 | M12: 0 | N12: 0 | O12: 0 | P12: 0 | Q12: 0 | R12: 0 | S12: 0 | T12: 0 | U12: 0 | V12: 0 | W12: 0 | X12: 0 | Y12: 0 | Z12: 0 | AA12: 0 | AB12: 0 | AC12: 0 | AD12: 0 | AE12: 0
A13: 7 | B13: Наурызбай ауданы | C13: 0 | D13: 0 | E13: 0 | F13: 0 | G13: 0 | H13: 0 | I13: 0 | J13: 0 | K13: 0 | L13: 0 | M13: 0 | N13: 0 | O13: 0 | P13: 0 | Q13: 0 | R13: 0 | S13: 0 | T13: 0 | U13: 0 | V13: 0 | W13: 0 | X13: 0 | Y13: 0 | Z13: 0 | AA13: 0 | AB13: 0 | AC13: 0 | AD13: 0 | AE13: 0
A14: 8 | B14: Түрксіб ауданы | C14: 0 | D14: 0 | E14: 0 | F14: 0 | G14: 0 | H14: 0 | I14: 0 | J14: 0 | K14: 0 | L14: 0 | M14: 0 | N14: 0 | O14: 0 | P14: 0 | Q14: 0 | R14: 0 | S14: 0 | T14: 0 | U14: 0 | V14: 0 | W14: 0 | X14: 0 | Y14: 0 | Z14: 0 | AA14: 0 | AB14: 0 | AC14: 0 | AD14: 0 | AE14: 0
A15: 9 | B15: Алматы қаласы | C15: =SUM(C7:C14) -> 0 | D15: =SUM(D7:D14) -> 0 | E15: =SUM(E7:E14) -> 0 | F15: =SUM(F7:F14) -> 0 | G15: =SUM(G7:G14) -> 0 | H15: =SUM(H7:H14) -> 0 | I15: =SUM(I7:I14) -> 0 | J15: =SUM(J7:J14) -> 0 | ... AE15: =SUM(AE7:AE14) -> 0

Sheet өндірістік объектілер, РҚО
AA1: Қазақстан Республикасының Денсаулық сақтау министрлігі Санитариялық-эпидемиологиялық бақылау комитеті төрағасының 2025 жылғы «___» __________ №____ бұйрығына 1-қосымша
A2: «Рұқсаттар және хабарламалар туралы» Қазақстан Республикасының Заңына сәйкес берілген рұқсаттар, жіберілген хабарламаларға байланысты талаптар бойынша біліктілік немесе рұқсат беру талаптарына сәйкестігіне жүргізілетін тексерулер туралы есеп
A4: № | B4: Атауы | C4: Еgov кестесіне сәйкес жоспарланған тексерулер, барлығы | D4: Дұрыс емес деректермен кесте бойынша жоспарланған тексерулер | E4: Дұрыс деректермен кесте бойынша жоспарланған тексерулер | F4: Тексерулер жүргізілді | G4: % орындалуы | H4: Бұзушылықтары анықталған объектілер | I4: Бұзушылықтар анықталған объектілердің үлес салмағы % | J4: Берілген ұйғарымдар саны | K4: Сотқа жолданған материалдар саны | L4: Әкімшілік жазалардың саны | Q4: Әкімшілік айыппұл сомасы | R4: Жедел ден қою шаралары | W4: Тіркеуден бас тартылды | Z4: Тексерілмеген, себеппен алынған:
L5: Барлығы | M5: лауазымды тұлғалар | N5: заңды тұлғалар | O5: жеке кәсіпкерлер | P5: жеке тұлғалар | R5: Барлығы | S5: Бақылау мен қадағалау субъектісінің (объектісінің) өнімді (тауарды) өндіру, өткізу, қызметтер көрсету, жұмыстарды орындау жөніндегі қызметін немесе оның жекелеген түрлерін (процестерді, әрекеттерді) тоқтата тұру | T5: Бақылау мен қадағалау субъектісінің (объектісінің) өнімді (тауарды) өндіру, қызметтер көрсету, жұмыстарды орындау жөніндегі қызметіне немесе оның жекелеген түрлеріне (процестерге, әрекеттерге) тыйым салу | U5: Техникалық регламенттердің талаптарына және (немесе) Еуразиялық экономикалық одақтың бірыңғай санитариялық-эпидемиологиялық және гигиеналық талаптарына сәйкес келмейтін өнімді (тауарды) өткізуден алып қою және кері қайтарып алу; | V5: Адамдарды жұмыстан уақытша шеттету | W5: Хабарлама ережелерін бұзу | X5: Тексеру жүргізу мерзімдерін бұзу | Y5: Басқалары (*ескертпеде көрсету) | Z5: Кәсіпкерлік субъектісінің / объектісінің санатын өзгеруі | AA5: Объектінің жабылуы | AB5: Заңды немесе нақты мекенжайды өзгерту | AC5: Басқалары (*ескертпеде көрсету) | AD5: Аяқталмаған тексеруле (ауыспалы) | AE5: Келесі айға жоспарланған тексерулер
A6: 1 | B6: 2 | C6: 3 | D6: 4 | E6: 5 | F6: 6 | G6: 7 | H6: 8 | I6: 9 | J6: 10 | K6: 11 | L6: 12 | M6: 13 | N6: 14 | O6: 15 | P6: 16 | Q6: 17 | R6: 18 | S6: 19 | T6: 20 | U6: 21 | V6: 22 | W6: 23 | X6: 24 | Y6: 25 | Z6: 26 | AA6: 27 | AB6: 28 | AC6: 29 | AD6: 30 | AE6: 31
A7: 1 | B7: Алатау ауданы | C7: 2 | D7: 0 | E7: 2 | F7: 0 | G7: 0 | H7: 0 | I7: #DIV/0! | J7: 0 | K7: 0 | L7: 0 | M7: 0 | N7: 0 | O7: 0 | P7: 0 | Q7: 0 | R7: 0 | S7: 0 | T7: 0 | U7: 0 | V7: 0 | W7: 0 | X7: 0 | Y7: 0 | Z7: 0 | AA7: 0 | AB7: 0 | AC7: 0 | AD7: 0 | AE7: 2
A8: 2 | B8: Алмалы ауданы | C8: 0 | D8: 0 | E8: 0 | F8: 0 | G8: #DIV/0! | H8: 0 | I8: #DIV/0! | J8: 0 | K8: 0 | L8: 0 | M8: 0 | N8: 0 | O8: 0 | P8: 0 | Q8: 0 | R8: 0 | S8: 0 | T8: 0 | U8: 0 | V8: 0 | W8: 0 | X8: 0 | Y8: 0 | Z8: 0 | AA8: 0 | AB8: 0 | AC8: 0 | AD8: 0 | AE8: 0
A9: 3 | B9: Әуезов ауданы | C9: 0 | D9: 0 | E9: 0 | F9: 0 | G9: #DIV/0! | H9: 0 | I9: #DIV/0! | J9: 0 | K9: 0 | L9: 0 | M9: 0 | N9: 0 | O9: 0 | P9: 0 | Q9: 0 | R9: 0 | S9: 0 | T9: 0 | U9: 0 | V9: 0 | W9: 0 | X9: 0 | Y9: 0 | Z9: 0 | AA9: 0 | AB9: 0 | AC9: 0 | AD9: 0 | AE9: 0
A10: 4 | B10: Бостандық ауданы | C10: 0 | D10: 0 | E10: 0 | F10: 0 | G10: #DIV/0! | H10: 0 | I10: #DIV/0! | J10: 0 | K10: 0 | L10: 0 | M10: 0 | N10: 0 | O10: 0 | P10: 0 | Q10: 0 | R10: 0 | S10: 0 | T10: 0 | U10: 0 | V10: 0 | W10: 0 | X10: 0 | Y10: 0 | Z10: 0 | AA10: 0 | AB10: 0 | AC10: 0 | AD10: 0 | AE10: 0
A11: 5 | B11: Жетісу ауданы | C11: 1 | D11: 0 | E11: 1 | F11: 0 | G11: 0 | H11: 0 | I11: #DIV/0! | J11: 0 | K11: 0 | L11: 0 | M11: 0 | N11: 0 | O11: 0 | P11: 0 | Q11: 0 | R11: 0 | S11: 0 | T11: 0 | U11: 0 | V11: 0 | W11: 0 | X11: 0 | Y11: 0 | Z11: 0 | AA11: 0 | AB11: 0 | AC11: 0 | AD11: 0 | AE11: 1
A12: 6 | B12: Медеу ауданы | C12: 0 | D12: 0 | E12: 0 | F12: 0 | G12: #DIV/0! | H12: 0 | I12: #DIV/0! | J12: 0 | K12: 0 | L12: 0 | M12: 0 | N12: 0 | O12: 0 | P12: 0 | Q12: 0 | R12: 0 | S12: 0 | T12: 0 | U12: 0 | V12: 0 | W12: 0 | X12: 0 | Y12: 0 | Z12: 0 | AA12: 0 | AB12: 0 | AC12: 0 | AD12: 0 | AE12: 0
A13: 7 | B13: Наурызбай ауданы | C13: 0 | D13: 0 | E13: 0 | F13: 0 | G13: #DIV/0! | H13: 0 | I13: #DIV/0! | J13: 0 | K13: 0 | L13: 0 | M13: 0 | N13: 0 | O13: 0 | P13: 0 | Q13: 0 | R13: 0 | S13: 0 | T13: 0 | U13: 0 | V13: 0 | W13: 0 | X13: 0 | Y13: 0 | Z13: 0 | AA13: 0 | AB13: 0 | AC13: 0 | AD13: 0 | AE13: 0
A14: 8 | B14: Түрксіб ауданы | C14: 0 | D14: 0 | E14: 0 | F14: 0 | G14: #DIV/0! | H14: 0 | I14: #DIV/0! | J14: 0 | K14: 0 | L14: 0 | M14: 0 | N14: 0 | O14: 0 | P14: 0 | Q14: 0 | R14: 0 | S14: 0 | T14: 0 | U14: 0 | V14: 0 | W14: 0 | X14: 0 | Y14: 0 | Z14: 0 | AA14: 0 | AB14: 0 | AC14: 0 | AD14: 0 | AE14: 0
B15: Барлығы | C15: =SUM(C7:C14) -> 3 | D15: =SUM(D7:D14) -> 0 | E15: =SUM(E7:E14) -> 3 | F15: =SUM(F7:F14) -> 0 | G15: =F15/E15 -> 0 | H15: =SUM(H7:H14) -> 0 | I15: =H15/F15 -> #DIV/0! | J15: =SUM(J7:J14) -> 0 | K15: =SUM(K7:K14) -> 0 | L15: =SUM(L7:L14) -> 0 | M15: =SUM(M7:M14) -> 0 | N15: =SUM(N7:N14) -> 0 | O15: =SUM(O7:O14) -> 0 | P15: =SUM(P7:P14) -> 0 | Q15: =SUM(Q7:Q14) -> 0 | ... AE15: =SUM(AE7:AE14) -> 3

Sheet денсаулық сақтау объектілері
AA1: Қазақстан Республикасының Денсаулық сақтау министрлігі Санитариялық-эпидемиологиялық бақылау комитеті төрағасының 2025 жылғы «___» __________ №____ бұйрығына 1-қосымша
A2: «Рұқсаттар және хабарламалар туралы» Қазақстан Республикасының Заңына сәйкес берілген рұқсаттар, жіберілген хабарламаларға байланысты талаптар бойынша біліктілік немесе рұқсат беру талаптарына сәйкестігіне жүргізілетін тексерулер туралы есеп
A4: № | B4: Атауы | C4: Еgov кестесіне сәйкес жоспарланған тексерулер, барлығы | D4: Дұрыс емес деректермен кесте бойынша жоспарланған тексерулер | E4: Дұрыс деректермен кесте бойынша жоспарланған тексерулер | F4: Тексерулер жүргізілді | G4: % орындалуы | H4: Бұзушылықтары анықталған объектілер | I4: Бұзушылықтар анықталған объектілердің үлес салмағы % | J4: Берілген ұйғарымдар саны | K4: Сотқа жолданған материалдар саны | L4: Әкімшілік жазалардың саны | Q4: Әкімшілік айыппұл сомасы | R4: Жедел ден қою шаралары | W4: Тіркеуден бас тартылды | Z4: Тексерілмеген, себеппен алынған:
L5: Барлығы | M5: лауазымды тұлғалар | N5: заңды тұлғалар | O5: жеке кәсіпкерлер | P5: жеке тұлғалар | R5: Барлығы | S5: Бақылау мен қадағалау субъектісінің (объектісінің) өнімді (тауарды) өндіру, өткізу, қызметтер көрсету, жұмыстарды орындау жөніндегі қызметін немесе оның жекелеген түрлерін (процестерді, әрекеттерді) тоқтата тұру | T5: Бақылау мен қадағалау субъектісінің (объектісінің) өнімді (тауарды) өндіру, қызметтер көрсету, жұмыстарды орындау жөніндегі қызметіне немесе оның жекелеген түрлеріне (процестерге, әрекеттерге) тыйым салу | U5: Техникалық регламенттердің талаптарына және (немесе) Еуразиялық экономикалық одақтың бірыңғай санитариялық-эпидемиологиялық және гигиеналық талаптарына сәйкес келмейтін өнімді (тауарды) өткізуден алып қою және кері қайтарып алу; | V5: Адамдарды жұмыстан уақытша шеттету | W5: Хабарлама ережелерін бұзу | X5: Тексеру жүргізу мерзімдерін бұзу | Y5: Басқалары (*ескертпеде көрсету) | Z5: Кәсіпкерлік субъектісінің / объектісінің санатын өзгеруі | AA5: Объектінің жабылуы | AB5: Заңды немесе нақты мекенжайды өзгерту | AC5: Басқалары (*ескертпеде көрсету) | AD5: Аяқталмаған тексеруле (ауыспалы) | AE5: Келесі айға жоспарланған тексерулер
A6: 1 | B6: 2 | C6: 3 | D6: 4 | E6: 5 | F6: 6 | G6: 7 | H6: 8 | I6: 9 | J6: 10 | K6: 11 | L6: 12 | M6: 13 | N6: 14 | O6: 15 | P6: 16 | Q6: 17 | R6: 18 | S6: 19 | T6: 20 | U6: 21 | V6: 22 | W6: 23 | X6: 24 | Y6: 25 | Z6: 26 | AA6: 27 | AB6: 28 | AC6: 29 | AD6: 30 | AE6: 31
A7: 1 | B7: Алатау ауданы | C7: 3 | D7: 0 | E7: 3 | F7: 0 | G7: =F7/E7 -> 0 | H7: 0 | I7: =H7/F7 -> #DIV/0! | J7: 0 | L7: =M7+N7+O7+P7 -> 0 | M7: 0 | R7: =S7+T7+U7+V7 -> 0 | AD7: 1 | AE7: 2
A8: 2 | B8: Алмалы ауданы | C8: 36 | D8: 0 | E8: 36 | F8: 15 | G8: =F8/E8 -> 0.41666667 | H8: 12 | I8: =H8/F8 -> 0.8 | J8: 12 | L8: =M8+N8+O8+P8 -> 12 | N8: 12 | Q8: 5341375 | R8: =S8+T8+U8+V8 -> 0 | AA8: 13 | AB8: 2 | AD8: 2 | AE8: 4
A9: 3 | B9: Әуезов ауданы | C9: 9 | D9: 0 | E9: 9 | F9: 3 | G9: =F9/E9 -> 0.33333333 | H9: 3 | I9: =H9/F9 -> 1 | J9: 3 | K9: 0 | L9: =M9+N9+O9+P9 -> 3 | N9: 3 | Q9: 1254250 | R9: =S9+T9+U9+V9 -> 0 | AE9: 6
A10: 4 | B10: Бостандық ауданы | C10: 24 | D10: 0 | E10: 24 | F10: 11 | G10: =F10/E10 -> 0.45833333 | H10: 11 | I10: =H10/F10 -> 1 | J10: 10 | K10: 0 | L10: =M10+N10+O10+P10 -> 10 | M10: 2 | N10: 8 | O10: 0 | P10: 0 | Q10: 3568125 | R10: =S10+T10+U10+V10 -> 1 | S10: 0 | T10: 1 | U10: 0 | V10: 0 | W10: 0 | X10: 0 | Y10: 0 | Z10: 0 | AA10: 4 | AB10: 0 | AC10: 0 | AD10: 1 | AE10: 8
A11: 5 | B11: Жетісу ауданы | C11: 6 | D11: 0 | E11: 6 | F11: 2 | G11: =F11/E11 -> 0.33333333 | H11: 2 | I11: =H11/F11 -> 1 | J11: 2 | K11: 0 | L11: =M11+N11+O11+P11 -> 2 | M11: 0 | N11: 1 | O11: 1 | P11: 0 | Q11: 800125 | R11: =S11+T11+U11+V11 -> 0 | S11: 0 | T11: 0 | U11: 0 | V11: 0 | W11: 0 | X11: 0 | Y11: 0 | Z11: 0 | AA11: 0 | AB11: 0 | AC11: 0 | AE11: 4
A12: 6 | B12: Медеу ауданы | C12: 13 | D12: 0 | E12: 13 | F12: 7 | G12: =F12/E12 -> 0.53846154 | H12: 7 | I12: =H12/F12 -> 1 | J12: 7 | K12: 0 | L12: =M12+N12+O12+P12 -> 7 | M12: 2 | N12: 5 | O12: 0 | P12: 0 | Q12: 2530125 | R12: =S12+T12+U12+V12 -> 3 | S12: 0 | T12: 2 | V12: 1 | AB12: 1 | AC12: 1 | AE12: 4
A13: 7 | B13: Наурызбай ауданы | C13: 6 | D13: 0 | E13: 6 | F13: 3 | G13: =F13/E13 -> 0.5 | H13: 3 | I13: =H13/F13 -> 1 | J13: 3 | L13: =M13+N13+O13+P13 -> 3 | N13: 3 | Q13: 1038000 | R13: =S13+T13+U13+V13 -> 0 | AE13: 3
A14: 8 | B14: Түрксіб ауданы | C14: 1 | D14: 0 | E14: 1 | F14: 1 | G14: =F14/E14 -> 1 | H14: 1 | I14: =H14/F14 -> 1 | J14: 1 | K14: 0 | L14: =M14+N14+O14+P14 -> 1 | M14: 1 | N14: 0 | O14: 0 | P14: 0 | Q14: 346000 | R14: =S14+T14+U14+V14 -> 0 | S14: 0 | T14: 0 | U14: 0 | V14: 0 | W14: 0 | X14: 0 | Y14: 0 | Z14: 0 | AA14: 0 | AB14: 0 | AC14: 0 | AE14: 0
A15: 9 | B15: Алматы қаласы | C15: =SUM(C7:C14) -> 98 | D15: =SUM(D7:D14) -> 0 | E15: =SUM(E7:E14) -> 98 | F15: =SUM(F7:F14) -> 42 | G15: =F15/E15 -> 0.42857143 | H15: =SUM(H7:H14) -> 39 | I15: =H15/F15 -> 0.92857143 | J15: =SUM(J7:J14) -> 38 | K15: =SUM(K7:K14) -> 0 | L15: =SUM(L7:L14) -> 38 | M15: =SUM(M7:M14) -> 5 | N15: =SUM(N7:N14) -> 32 | O15: =SUM(O7:O14) -> 1 | P15: =SUM(P7:P14) -> 0 | Q15: =SUM(Q7:Q14) -> 14878000 | ... AE15: =SUM(AE7:AE14) -> 31

Sheet басқалары
AA1: Қазақстан Республикасының Денсаулық сақтау министрлігі Санитариялық-эпидемиологиялық бақылау комитеті төрағасының 2025 жылғы «___» __________ №____ бұйрығына 1-қосымша
A2: «Рұқсаттар және хабарламалар туралы» Қазақстан Республикасының Заңына сәйкес берілген рұқсаттар, жіберілген хабарламаларға байланысты талаптар бойынша біліктілік немесе рұқсат беру талаптарына сәйкестігіне жүргізілетін тексерулер туралы есеп
A4: № | B4: Атауы | C4: Еgov кестесіне сәйкес жоспарланған тексерулер, барлығы | D4: Дұрыс емес деректермен кесте бойынша жоспарланған тексерулер | E4: Дұрыс деректермен кесте бойынша жоспарланған тексерулер | F4: Тексерулер жүргізілді | G4: % орындалуы | H4: Бұзушылықтары анықталған объектілер | I4: Бұзушылықтар анықталған объектілердің үлес салмағы % | J4: Берілген ұйғарымдар саны | K4: Сотқа жолданған материалдар саны | L4: Әкімшілік жазалардың саны | Q4: Әкімшілік айыппұл сомасы | R4: Жедел ден қою шаралары | W4: Тіркеуден бас тартылды | Z4: Тексерілмеген, себеппен алынған:
L5: Барлығы | M5: лауазымды тұлғалар | N5: заңды тұлғалар | O5: жеке кәсіпкерлер | P5: жеке тұлғалар | R5: Барлығы | S5: Бақылау мен қадағалау субъектісінің (объектісінің) өнімді (тауарды) өндіру, өткізу, қызметтер көрсету, жұмыстарды орындау жөніндегі қызметін немесе оның жекелеген түрлерін (процестерді, әрекеттерді) тоқтата тұру | T5: Бақылау мен қадағалау субъектісінің (объектісінің) өнімді (тауарды) өндіру, қызметтер көрсету, жұмыстарды орындау жөніндегі қызметіне немесе оның жекелеген түрлеріне (процестерге, әрекеттерге) тыйым салу | U5: Техникалық регламенттердің талаптарына және (немесе) Еуразиялық экономикалық одақтың бірыңғай санитариялық-эпидемиологиялық және гигиеналық талаптарына сәйкес келмейтін өнімді (тауарды) өткізуден алып қою және кері қайтарып алу; | V5: Адамдарды жұмыстан уақытша шеттету | W5: Хабарлама ережелерін бұзу | X5: Тексеру жүргізу мерзімдерін бұзу | Y5: Басқалары (*ескертпеде көрсету) | Z5: Кәсіпкерлік субъектісінің / объектісінің санатын өзгеруі | AA5: Объектінің жабылуы | AB5: Заңды немесе нақты мекенжайды өзгерту | AC5: Басқалары (*ескертпеде көрсету) | AD5: Аяқталмаған тексеруле (ауыспалы) | AE5: Келесі айға жоспарланған тексерулер
A6: 1 | B6: 2 | C6: 3 | D6: 4 | E6: 5 | F6: 6 | G6: 7 | H6: 8 | I6: 9 | J6: 10 | K6: 11 | L6: 12 | M6: 13 | N6: 14 | O6: 15 | P6: 16 | Q6: 17 | R6: 18 | S6: 19 | T6: 20 | U6: 21 | V6: 22 | W6: 23 | X6: 24 | Y6: 25 | Z6: 26 | AA6: 27 | AB6: 28 | AC6: 29 | AD6: 30 | AE6: 31
A7: 1 | B7: Алатау ауданы | C7: 4 | D7: 0 | E7: 4 | F7: 2 | G7: =F7/E7 -> 0.5 | H7: 0 | I7: 0 | J7: 0 | K7: 0 | L7: 0 | M7: 0 | N7: 0 | O7: 0 | P7: 0 | Q7: 0 | R7: 0 | S7: 0 | T7: 0 | U7: 0 | V7: 0 | W7: 0 | X7: 0 | Y7: 0 | Z7: 0 | AA7: 0 | AB7: 0 | AC7: 0 | AD7: 0 | AE7: 2
A8: 2 | B8: Алмалы ауданы | C8: 1 | D8: 0 | E8: 1 | F8: 0 | G8: =F8/E8 -> 0 | H8: 0 | I8: #DIV/0! | J8: 0 | K8: 0 | L8: 0 | M8: 0 | N8: 0 | O8: 0 | P8: 0 | Q8: 0 | R8: 0 | S8: 0 | T8: 0 | U8: 0 | V8: 0 | W8: 0 | X8: 0 | Y8: 0 | Z8: 0 | AA8: 0 | AB8: 0 | AC8: 0 | AD8: 0 | AE8: 1
A9: 3 | B9: Әуезов ауданы | C9: 1 | D9: 0 | E9: 1 | F9: 0 | G9: =F9/E9 -> 0 | H9: 0 | I9: #DIV/0! | J9: 0 | K9: 0 | L9: 0 | M9: 0 | N9: 0 | O9: 0 | P9: 0 | Q9: 0 | R9: 0 | S9: 0 | T9: 0 | U9: 0 | V9: 0 | W9: 0 | X9: 0 | Y9: 0 | Z9: 0 | AA9: 0 | AB9: 0 | AC9: 0 | AD9: 0 | AE9: 1
A10: 4 | B10: Бостандық ауданы | C10: 2 | D10: 0 | E10: 2 | F10: 0 | G10: =F10/E10 -> 0 | H10: 0 | I10: #DIV/0! | J10: 0 | K10: 0 | L10: 0 | M10: 0 | N10: 0 | O10: 0 | P10: 0 | Q10: 0 | R10: 0 | S10: 0 | T10: 0 | U10: 0 | V10: 0 | W10: 0 | X10: 0 | Y10: 0 | Z10: 1 | AA10: 1 | AB10: 0 | AC10: 0 | AD10: 0 | AE10: 0
A11: 5 | B11: Жетісу ауданы | C11: 3 | D11: 0 | E11: 3 | F11: 0 | G11: =F11/E11 -> 0 | H11: 0 | I11: #DIV/0! | J11: 0 | K11: 0 | L11: 0 | M11: 0 | N11: 0 | O11: 0 | P11: 0 | Q11: 0 | R11: 0 | S11: 0 | T11: 0 | U11: 0 | V11: 0 | W11: 0 | X11: 0 | Y11: 0 | Z11: 0 | AA11: 0 | AB11: 0 | AC11: 0 | AD11: 0 | AE11: 3
A12: 6 | B12: Медеу ауданы | C12: 3 | D12: 0 | E12: 3 | F12: 0 | G12: =F12/E12 -> 0 | H12: 0 | I12: #DIV/0! | J12: 0 | K12: 0 | L12: 0 | M12: 0 | N12: 0 | O12: 0 | P12: 0 | Q12: 0 | R12: 0 | S12: 0 | T12: 0 | U12: 0 | V12: 0 | W12: 0 | X12: 0 | Y12: 0 | Z12: 0 | AA12: 0 | AB12: 0 | AC12: 0 | AD12: 0 | AE12: 3
A13: 7 | B13: Наурызбай ауданы | C13: 1 | D13: 0 | E13: 1 | F13: 0 | G13: =F13/E13 -> 0 | H13: 0 | I13: #DIV/0! | J13: 0 | K13: 0 | L13: 0 | M13: 0 | N13: 0 | O13: 0 | P13: 0 | Q13: 0 | R13: 0 | S13: 0 | T13: 0 | U13: 0 | V13: 0 | W13: 0 | X13: 0 | Y13: 0 | Z13: 0 | AA13: 0 | AB13: 0 | AC13: 0 | AD13: 0 | AE13: 1
A14: 8 | B14: Түрксіб ауданы | C14: 0 | D14: 0 | E14: 0 | F14: 0 | G14: =F14/E14 -> #DIV/0! | H14: 0 | I14: #DIV/0! | J14: 0 | K14: 0 | L14: 0 | M14: 0 | N14: 0 | O14: 0 | P14: 0 | Q14: 0 | R14: 0 | S14: 0 | T14: 0 | U14: 0 | V14: 0 | W14: 0 | X14: 0 | Y14: 0 | Z14: 0 | AA14: 0 | AB14: 0 | AC14: 0 | AD14: 0 | AE14: 0
A15: 9 | B15: Алматы қаласы | C15: =SUM(C7:C14) -> 15 | D15: =SUM(D7:D14) -> 0 | E15: =SUM(E7:E14) -> 15 | F15: =SUM(F7:F14) -> 2 | G15: =F15/E15 -> 0.13333333 | H15: =SUM(H7:H14) -> 0 | J15: =SUM(J7:J14) -> 0 | K15: =SUM(K7:K14) -> 0 | L15: =SUM(L7:L14) -> 0 | M15: =SUM(M7:M14) -> 0 | N15: =SUM(N7:N14) -> 0 | O15: =SUM(O7:O14) -> 0 | P15: =SUM(P7:P14) -> 0 | Q15: =SUM(Q7:Q14) -> 0 | ... AE15: =SUM(AE7:AE14) -> 11
C16: Тағам өнеркәсібі
B17: ЕСКЕРТУ: ОБЪЕКТІЛЕРДІҢ ТҮРЛЕРІ КӨРСЕТІЛСІН

Sheet Лист2
