Workbook

Sheet каз
A1: 2026 жылғы 01 қазанға арналған Павлодар облысы облыстық бюджеті кіріс бөлігінің атқарылуы
O2: мың теңге
A3: санаты | B3: Атауы | C3: 2026 жылға арналған жоспар | D3: 2026ж. 01.10 орындау | F3: % орындауы | H3: Ауытқу | J3: Ескерту | K3: 2025ж. 01.10 | M3: 2024ж. 01.10 | O3: 2023ж. 01.10
D4: Жоспар | E4: Нақты | F4: кезеңге | G4: жылға | H4: кезеңнен | I4: жылдан | K4: Нақты | L4: 2026ж. фактіден ауытқу | M4: Нақты | N4: 2026ж. фактіден ауытқу | O4: Нақты | P4: 2026ж. фактіден ауытқу
B5: Кірістер: | C5: =SUM(C6:C10) -> 5.208779e+08 | D5: =SUM(D6:D10) -> 3.3887704e+08 | E5: =SUM(E6:E10) -> 3.3241248e+08 | F5: =E5/D5*100 -> 98.09236 | G5: =E5/C5*100 -> 63.817735 | H5: =SUM(H6:H10) -> -6464555.2 | I5: =SUM(I6:I10) -> -1.8846542e+08 | K5: =SUM(K6:K10) -> 3.6404552e+08 | L5: =SUM(L6:L10) -> -46778314 | M5: =SUM(M6:M10) -> 3.403045e+08 | N5: =SUM(N6:N10) -> -23037297 | O5: =SUM(O6:O10) -> 3.0342526e+08 | P5: =SUM(P6:P10) -> 13841939
A6: 1 | B6: Салықтық түсімдер | C6: =[1]рус!C6 -> 66153454 | D6: =[1]рус!D6 -> 55522120 | E6: =[1]рус!E6 -> 46984815 | F6: =E6/D6*100 -> 84.623596 | G6: =E6/C6*100 -> 71.023978 | H6: =E6-D6 -> -8537305.5 | I6: =E6-C6 -> -19168639 | J6: Әлеуметтік салық жоспарын орындамау | K6: =[1]рус!K6 -> 67231302 | L6: =E6-K6 -> -20246487 | M6: =[1]рус!M6 -> 52220784 | N6: =E6-M6 -> -5235969.3 | O6: =[1]рус!O6 -> 40396651 | P6: =E6-O6 -> 6588163.2
A7: 2 | B7: Салықтық емес түсімдер | C7: =[1]рус!C7 -> 10960192 | D7: =[1]рус!D7 -> 8178507 | E7: =[1]рус!E7 -> 9467061.7 | F7: =E7/D7*100 -> 115.75538 | G7: =E7/C7*100 -> 86.376787 | H7: =E7-D7 -> 1288554.7 | I7: =E7-C7 -> -1493130.3 | J7: Мемлекеттік меншіктен түсетін кірістердің, әкімшілік айыппұлдардың, өсімпұлдардың, сот орындаушылары және соттардың өзге де қызметкерлері салатын санкциялар мен өндіріп алулардан, сондай-ақ жергілікті бюджетке түсетін өзге де салықтық емес түсімдердің ұлғаюы есебінен | K7: =[1]рус!K7 -> 5505098.2 | L7: =E7-K7 -> 3961963.5 | M7: =[1]рус!M7 -> 4515188.4 | N7: =E7-M7 -> 4951873.3 | O7: =[1]рус!O7 -> 3305045.9 | P7: =E7-O7 -> 6162015.8
A8: 3 | B8: Негізгі капиталды сатудан түсетін түсімдер | C8: =[1]рус!C8 -> 0 | D8: =[1]рус!D8 -> 0 | E8: =[1]рус!E8 -> 535.163 | H8: =E8-D8 -> 535.163 | I8: =E8-C8 -> 535.163 | K8: =[1]рус!K8 -> -710.9 | L8: =E8-K8 -> 1246.063 | M8: =[1]рус!M8 -> 226.2 | N8: =E8-M8 -> 308.963 | O8: =[1]рус!O8 -> -699.8 | P8: =E8-O8 -> 1234.963
A9: 4 | B9: Арнаулы түсімдер | C9: =[1]рус!C9 -> 17071139 | D9: =[1]рус!D9 -> 14361612 | E9: =[1]рус!E9 -> 15145280 | F9: =E9/D9*100 -> 105.45669 | G9: =E9/C9*100 -> 88.718629 | H9: =E9-D9 -> 783668.43 | I9: =E9-C9 -> -1925858.6 | J9: Қоршаған ортаға теріс әсер еткені үшін толем бойынша жоспардың артық орындалуы | K9: 0 | L9: 0 | M9: 0 | N9: 0 | O9: 0 | P9: 0
A10: 5 | B10: Трансферттер түсімдері | C10: =[1]рус!C10 -> 4.2669312e+08 | D10: =[1]рус!D10 -> 2.608148e+08 | E10: =[1]рус!E10 -> 2.6081479e+08 | F10: =E10/D10*100 -> 99.999997 | G10: =E10/C10*100 -> 61.124677 | H10: =E10-D10 -> -7.988 | I10: =E10-C10 -> -1.6587833e+08 | K10: =[1]рус!K10 -> 2.9130983e+08 | L10: =E10-K10 -> -30495036 | M10: =[1]рус!M10 -> 2.835683e+08 | N10: =E10-M10 -> -22753510 | O10: =[1]рус!O10 -> 2.5972427e+08 | P10: =E10-O10 -> 1090525
A12: 2026 жылғы 01 қазанға арналған Павлодар облысы облыстық бюджетінің шығыс бөлігінің орындалуы
L13: мың теңге
A14: Бюджеттік сыныптама кодтары | B14: Атауы | C14: 2026 жылға арналған жоспар | D14: 2026ж. | F14: Ауытқу | H14: 2025ж. | J14: 2024ж. | L14: 2023ж.
D15: Жоспар | E15: Факт | F15: кезеңнен | G15: жылдан | H15: Факт | I15: 2026ж. фактіден ауытқу | J15: Факт | K15: 2026ж. фактіден ауытқу | L15: Факт | M15: 2026ж. фактіден ауытқу
B16: ШЫҒЫНДАР: | C16: 5.7553475e+08 | D16: 3.7602144e+08 | E16: 3.7506737e+08 | F16: -954069.04 | G16: -2.0046738e+08 | H16: 3.5978001e+08 | I16: 15287355 | J16: 3.4927483e+08 | K16: 25792536 | L16: 2.9715282e+08 | M16: 77914549
A17: 01 | B17: Жалпы сипаттағы мемлекеттік қызметтер | C17: 29116100 | D17: 27162022 | E17: 27152906 | F17: -9115.7865 | G17: -1963193.8 | H17: 3834846.6 | I17: 23318059 | J17: 3649791.8 | K17: 23503114 | L17: 3515784.6 | M17: 23637121
A18: 02 | B18: Қорғаныс | C18: 1874172 | D18: 566925.4 | E18: 566818.93 | F18: -106.47288 | G18: -1307353.1 | H18: 1144367.8 | I18: -577548.9 | J18: 1348706.7 | K18: -781887.78 | L18: 614420.96 | M18: -47602.035
A19: 03 | B19: Қоғамдық тәртіп, қауіпсіздік, құқықтық, сот, қылмыстық-атқару қызметі | C19: 17161089 | D19: 12357196 | E19: 12352349 | F19: -4846.165 | G19: -4808739.7 | H19: 10884270 | I19: 1468079.1 | J19: 10582619 | K19: 1769730.3 | L19: 7293943.7 | M19: 5058405.6
A20: 04 | B20: Білім беру | C20: 2.5446867e+08 | D20: 1.7943877e+08 | E20: 1.7930044e+08 | F20: -138329.37 | G20: -75168225 | H20: 1.7676469e+08 | I20: 2535759 | J20: 1.6003906e+08 | K20: 19261388 | L20: 1.3693624e+08 | M20: 42364206
A21: 05 | B21: Денсаулық сақтау | C21: 17815297 | D21: 9233651.4 | E21: 9226614.3 | F21: -7037.1425 | G21: -8588682.7 | H21: 9903308.2 | I21: -676693.9 | J21: 12331202 | K21: -3104587.7 | L21: 10037949 | M21: -811334.99
A22: 06 | B22: Әлеуметтік көмек және әлеуметтік қамсыздандыру | C22: 24161770 | D22: 15598038 | E22: 15589921 | F22: -8117.2986 | G22: -8571849.1 | H22: 16907580 | I22: -1317659.4 | J22: 17090428 | K22: -1500507.1 | L22: 14230386 | M22: 1359534.5
A23: 07 | B23: Тұрғын үй -коммуналдық шаруашылық | C23: 58291287 | D23: 40587373 | E23: 40136324 | F23: -451049.49 | G23: -18154963 | H23: 34857269 | I23: 5279054.3 | J23: 45451208 | K23: -5314884.1 | L23: 40012265 | M23: 124058.5
A24: 08 | B24: Мәдениет, спорт, туризм және ақпараттық кеңістік | C24: 23530956 | D24: 13001504 | E24: 12951614 | F24: -49890.549 | G24: -10579342 | H24: 14816851 | I24: -1865236.9 | J24: 14097357 | K24: -1145742.8 | L24: 10099455 | M24: 2852158.4
A25: 09 | B25: Отын-энергетика кешені және жер қойнауын пайдалану | C25: 0 | D25: 0 | E25: 0 | F25: 0 | G25: 0 | H25: 312 | I25: -312 | J25: 119182 | K25: -119182 | L25: 153797 | M25: -153797
A26: 10 | B26: Ауыл, су, орман, балық шаруашылығы, ерекше қорғалатын табиғи аумақтар, қоршаған ортаны және жануарлар дүниесін қорғау, жер қатынастары | C26: 51498965 | D26: 35850553 | E26: 35569746 | F26: -280806.86 | G26: -15929219 | H26: 37134991 | I26: -1565245.3 | J26: 35469207 | K26: 100539.42 | L26: 32289659 | M26: 3280086.9
A27: 11 | B27: Өнеркәсіп, сәулет, қала құрылысы және құрылыс қызметі | C27: 12028717 | D27: 5558563.5 | E27: 5553982.1 | F27: -4581.4275 | G27: -6474734.9 | H27: 9031629.7 | I27: -3477647.6 | J27: 7162130.5 | K27: -1608148.5 | L27: 8470372.5 | M27: -2916390.4
A28: 12 | B28: Көлік және коммуникация | C28: 15361325 | D28: 7409277 | E28: 7409227.2 | F28: -49.76784 | G28: -7952097.8 | H28: 21044101 | I28: -13634874 | J28: 20079117 | K28: -12669890 | L28: 16106415 | M28: -8697188.2
... A31: 15 | B31: Трансферттер | C31: 33011475 | D31: 13348587 | E31: 13348586 | F31: -0.595 | G31: -19662889 | H31: 9045044.7 | I31: 4303541.7 | J31: 8382377.5 | K31: 4966208.9 | L31: 8439210.1 | M31: 4909376.3
A32: 16 | B32: Карыздырды өтеу | C32: 20265710 | D32: 9930030 | E32: 9930026.1 | F32: -3.88671 | G32: -10335684 | H32: 6521314.1 | I32: 3408712 | J32: 6876872.2 | K32: 3053154 | L32: 1212856.2 | M32: 8717170
