Workbook

Sheet 01.07.26 гос.язык
A1: ҚР Денсаулық сақтау Министрлігі санитариялық-эпидемиологиялық бақылау Комитеті Павлодар облысының санитариялық-эпидемиологиялық бақылау Департаменті РММ Бюджет қаражатының атқарылуы туралы ақпарат
A2: 2026 жылдың 30 маусым айының жағдайы бойынша
A4: Бағдарлама | B4: Кіші бағдарлама | C4: Ерекшелігі | D4: Шығындар атауы | E4: 2026 жылға арналған жиынтық қаржыландыру жоспары
F5: Міндеттемелер бойынша | J5: Төлемдемелер бойынша
F6: Жылдық жоспары | G6: Қабылданған міндеттемелер | H6: Аирмашылығы | I6: % орындау | J6: Жылдық жоспары | K6: Төленген төлемдер | L6: Аирмашылығы | M6: % орындау
A7: 1 | B7: 2 | C7: 3 | D7: 4 | E7: 5 | F7: 6 | G7: 7 | H7: 8 | I7: 9 | J7: 11 | K7: 12 | L7: 13 | M7: 14
D8: Павлодар облысының санитариялық-эпидемиологиялық бақылау Департаменті бойынша БАРЛЫҒЫ: | E8: =E9+E51+E58 -> 2865346.1 | F8: =F9+F51+F58 -> 2240417.1 | G8: =G9+G51+G58 -> 2238345.9 | H8: =H9+H51+H58 -> 2071.165 | I8: =G8/F8*100 -> 99.907554 | J8: =J9+J51+J58 -> 1414252.1 | K8: =K9+K51+K58 -> 1381165.2 | L8: =L9+L51+L58 -> 33086.942 | M8: =K8/J8*100 -> 97.660464
A9: 1 | D9: Денсаулық сақтау саласындағы мемлекеттік саясатты қалыптастыру | E9: =E10+E19+E23+E30 -> 1451572.1 | F9: =F10+F19+F23+F30 -> 826643.1 | G9: =G10+G19+G23+G30 -> 824572.47 | H9: =H10+H19+H23+H30 -> 2070.629 | I9: =G9/F9*100 -> 99.749514 | J9: =J10+J19+J23+J30 -> 823995.1 | K9: =K10+K19+K23+K30 -> 821073.66 | L9: =L10+L19+L23+L30 -> 2921.443 | M9: =K9/J9*100 -> 99.645454
B10: 100 | D10: Денсаулық сақтау саласындағы уәкілетті органның қызметін қамтамасыз ету | E10: =SUM(E11:E18) -> 243409 | F10: =SUM(F11:F18) -> 130044 | G10: =SUM(G11:G18) -> 130001.27 | H10: =SUM(H11:H18) -> 42.725 | I10: =G10/F10*100 -> 99.967146 | J10: =SUM(J11:J18) -> 130044 | K10: =SUM(K11:K18) -> 130001.27 | L10: =SUM(L11:L18) -> 42.725 | M10: =K10/J10*100 -> 99.967146
C11: 131 | D11: Техникалық персоналдың еңбегіне ақы төлеу | E11: 213219 | F11: 114512 | G11: 114512 | H11: =F11-G11 -> 0 | I11: =G11/F11*100 -> 100 | J11: 114512 | K11: 114512 | L11: =J11-K11 -> 0 | M11: =K11/J11*100 -> 100
C12: 135 | D12: Техникалық персонал бойынша жұмыс берушілердің жарналары | E12: 29355 | F12: 15230 | G12: 15230 | H12: =F12-G12 -> 0 | I12: =G12/F12*100 -> 100 | J12: 15230 | K12: 15230 | L12: =J12-K12 -> 0 | M12: =K12/J12*100 -> 100
C13: 136 | D13: Техникалық персонал ішіндегі іссапарлар мен қызметтік сапарлар | E13: 835 | F13: 302 | G13: 259.275 | H13: =F13-G13 -> 42.725 | I13: =G13/F13*100 -> 85.852649 | J13: 302 | K13: 259.275 | L13: =J13-K13 -> 42.725 | M13: =K13/J13*100 -> 85.852649
C14: 165 | D14: Исполнение исполнительных документов,судебных актов | E14: 0 | F14: 0 | G14: 0 | H14: =F14-G14 -> 0 | J14: 0 | K14: 0 | L14: =J14-K14 -> 0
C15: 159 | D15: Прочие услуги и работы | E15: 0 | F15: 0 | G15: 0 | H15: =F15-G15 -> 0 | I15: =G15/F15*100 -> #DIV/0! | J15: 0 | K15: 0 | L15: =J15-K15 -> 0 | M15: =K15/J15*100 -> #DIV/0!
C16: 169 | D16: Прочие текущие затраты | E16: 0 | F16: 0 | G16: 0 | H16: =F16-G16 -> 0 | I16: =G16/F16*100 -> #DIV/0! | J16: 0 | K16: 0 | L16: =J16-K16 -> 0 | M16: =K16/J16*100 -> #DIV/0!
C17: 322 | D17: Трансферты физическим лицам | E17: 0 | F17: 0 | G17: 0 | H17: =F17-G17 -> 0 | I17: =G17/F17*100 -> #DIV/0! | J17: 0 | K17: 0 | L17: =J17-K17 -> 0 | M17: =K17/J17*100 -> #DIV/0!
C18: 414 | D18: Приобретение машин, оборудования, инструментов, производственного и хозяйственного инвентаря | E18: =ЦА!E18+'СВОД терр'!E18 -> 0 | F18: =ЦА!F18+'СВОД терр'!F18 -> 0 | G18: 0 | H18: =F18-G18 -> 0 | J18: 0 | K18: 0 | L18: =J18-K18 -> 0
B19: 104 | D19: Обеспечение функционирования информационных систем и информационно-техническое обеспечение государственного органа | E19: =SUM(E20:E22) -> 0 | F19: =SUM(F20:F22) -> 0 | G19: =SUM(G20:G22) -> 0 | H19: =SUM(H20:H22) -> 0 | I19: =G19/F19*100 -> #DIV/0! | J19: =SUM(J20:J22) -> 0 | K19: =SUM(K20:K22) -> 0 | L19: =SUM(L20:L22) -> 0 | M19: =K19/J19*100 -> #DIV/0!
C20: 149 | D20: Приобретение прочих запасов | E20: 0 | F20: 0 | G20: 0 | H20: =F20-G20 -> 0 | I20: =G20/F20*100 -> #DIV/0! | J20: 0 | K20: 0 | L20: =J20-K20 -> 0 | M20: =K20/J20*100 -> #DIV/0!
C21: 152 | D21: Оплата услуг связи | E21: 0 | F21: 0 | G21: 0 | H21: =F21-G21 -> 0 | I21: =G21/F21*100 -> #DIV/0! | J21: 0 | K21: 0 | L21: =J21-K21 -> 0 | M21: =K21/J21*100 -> #DIV/0!
C22: 159 | D22: Оплата прочих услуг и работ | E22: 0 | F22: 0 | G22: 0 | H22: =F22-G22 -> 0 | I22: =G22/F22*100 -> #DIV/0! | J22: 0 | K22: 0 | L22: =J22-K22 -> 0 | M22: =K22/J22*100 -> #DIV/0!
B23: 111 | D23: Қазақстан Республикасы денсаулық сақтау Министрлігінің күрделі шығыстары | E23: =SUM(E24:E29) -> 0 | F23: =SUM(F24:F29) -> 0 | G23: =SUM(G24:G29) -> 0 | H23: =SUM(H24:H29) -> 0 | J23: =SUM(J24:J29) -> 0 | K23: =SUM(K24:K29) -> 0 | L23: =SUM(L24:L29) -> 0
C24: 412 | D24: Приобретение помещений, зданий, сооружений, передаточных устройств | E24: 0 | F24: 0 | G24: 0 | H24: =F24-G24 -> 0 | J24: 0 | K24: 0 | L24: =J24-K24 -> 0
C25: 413 | D25: Приобретение транспортных средств | E25: 0 | F25: 0 | G25: 0 | H25: =F25-G25 -> 0 | I25: =G25/F25*100 -> #DIV/0! | J25: 0 | K25: 0 | L25: =J25-K25 -> 0
C26: 414 | D26: Машиналарды, жабдықтарды, құралдарды, өндірістік және шаруашылық мүкәммалдарды сатып алу | H26: =F26-G26 -> 0
C27: 416 | D27: Үй-жайларды, ғимараттарды, құрылыстарды күрделі жөндеу | H27: =F27-G27 -> 0
C28: 419 | D28: Машиналарды, жабдықтарды, құралдарды, өндірістік және шаруашылық мүкәммалдарды сатып алу | H28: =F28-G28 -> 0
C29: 421 | D29: Үй-жайларды, ғимараттарды, құрылыстарды күрделі жөндеу | H29: =F29-G29 -> 0
B30: 123 | D30: Ағымдағы әкімшілік шығыстар | E30: =SUM(E31:E50) -> 1208163.1 | F30: =SUM(F31:F50) -> 696599.1 | G30: =SUM(G31:G50) -> 694571.2 | H30: =SUM(H31:H50) -> 2027.904 | I30: =G30/F30*100 -> 99.708885 | J30: =SUM(J31:J50) -> 693951.1 | K30: =SUM(K31:K50) -> 691072.38 | L30: =SUM(L31:L50) -> 2878.718 | M30: =K30/J30*100 -> 99.58517
C31: 111 | D31: Еңбек төлемі | E31: 694694 | F31: 319694 | G31: 319694 | H31: =F31-G31 -> 0 | I31: =G31/F31*100 -> 100 | J31: 319694 | K31: 319694 | L31: =J31-K31 -> 0 | M31: =K31/J31*100 -> 100
C32: 112 | D32: Қосымша ақшалай төлемдер | E32: 165477.8 | F32: 165477.8 | G32: 165477.8 | H32: =F32-G32 -> 0 | I32: =G32/F32*100 -> 100 | J32: 165477.8 | K32: 165477.8 | L32: =J32-K32 -> 0 | M32: =K32/J32*100 -> 100
C33: 113 | D33: Өтемақы төлемдері | E33: 124950 | F33: 73065 | G33: 72935.658 | H33: =F33-G33 -> 129.342 | I33: =G33/F33*100 -> 99.822977 | J33: 73065 | K33: 72935.658 | L33: =J33-K33 -> 129.342 | M33: =K33/J33*100 -> 99.822977
C34: 116 | D34: Жұмыс берушінің міндетті зейнетақы жарналары | E34: 18766.1 | F34: 10504.1 | G34: 10504.1 | H34: =F34-G34 -> 0 | I34: =G34/F34*100 -> 100 | J34: 10504.1 | K34: 10504.1 | L34: =J34-K34 -> 0 | M34: =K34/J34*100 -> 100
C35: 121 | D35: Әлеуметтік салық | E35: 48455.6 | F35: 28569.6 | G35: 28569.6 | H35: =F35-G35 -> 0 | I35: =G35/F35*100 -> 100 | J35: 28569.6 | K35: 28569.6 | L35: =J35-K35 -> 0 | M35: =K35/J35*100 -> 100
C36: 122 | D36: Мемлекеттік әлеуметтік сақтандыру қорына әлеуметтік аударымдар | E36: 36838 | F36: 19972 | G36: 19972 | H36: =F36-G36 -> 0 | I36: =G36/F36*100 -> 100 | J36: 19972 | K36: 19972 | L36: =J36-K36 -> 0 | M36: =K36/J36*100 -> 100
C37: 123 | D37: Міндетті сақтандыру жарналары | E37: 589 | F37: 589 | G37: 500.521 | H37: =F37-G37 -> 88.479 | I37: =G37/F37*100 -> 84.978098 | J37: 488 | K37: 347.087 | L37: =J37-K37 -> 140.913 | M37: =K37/J37*100 -> 71.124385
C38: 124 | D38: Міндетті әлеуметтік медициналық сақтандыруға аударымдар | E38: 23534 | F38: 12284 | G38: 11957.8 | H38: =F38-G38 -> 326.2 | I38: =G38/F38*100 -> 97.344513 | J38: 12284 | K38: 11957.8 | L38: =J38-K38 -> 326.2 | M38: =K38/J38*100 -> 97.344513
C39: 142 | D39: Дәрілік заттарды және медициналық мақсаттағы өзге де бұйымдарды сатып алу | E39: 375 | F39: 0 | G39: 0 | H39: =F39-G39 -> 0 | I39: 0 | J39: 0 | K39: 0 | L39: =J39-K39 -> 0 | M39: 0
C40: 144 | D40: Отын, жанар-жағармай материалдарын сатып алу | E40: 16467 | F40: 181 | G40: 180.96 | H40: =F40-G40 -> 0.04 | I40: =G40/F40*100 -> 99.977901 | J40: 181 | K40: 180.96 | L40: =J40-K40 -> 0.04 | M40: =K40/J40*100 -> 99.977901
C41: 149 | D41: Басқа қорларды сатып алу | E41: 15014.5 | F41: 12267.5 | G41: 12231.5 | H41: =F41-G41 -> 36 | I41: =G41/F41*100 -> 99.706542 | J41: 12267.5 | K41: 11937.902 | L41: =J41-K41 -> 329.598 | M41: =K41/J41*100 -> 97.313242
...

Sheet 01.07.26г.
A1: Информация по исполнению бюджетных средств РГУ Департамента санитарно-эпидемиологического контроля Павлодарской области Комитета санитарно-эпидемиологического контроля МЗ РК
A2: по состоянию на 30 июня 2026 года
A4: Программа | B4: П/программа | C4: Специфика | D4: Наименование | E4: Сводный план финансирования на 2026 год
F5: по обязательствам | J5: по платежам
F6: План сначала года | G6: Принятые обязательства | H6: Отклонение | I6: % исполнения | J6: План сначала года | K6: оплаченные обязательства | L6: Отклонение | M6: % исполнения
A7: 1 | B7: 2 | C7: 3 | D7: 4 | E7: 5 | F7: 6 | G7: 7 | H7: 8 | I7: 9 | J7: 11 | K7: 12 | L7: 13 | M7: 14
D8: ВСЕГО по Департаменту СЭК Павлодарской области КСЭК МЗ РК: | E8: =E9+E51+E58 -> 2865346.1 | F8: =F9+F51+F58 -> 2240417.1 | G8: =G9+G51+G58 -> 2238345.9 | H8: =H9+H51+H58 -> 2071.165 | I8: =G8/F8*100 -> 99.907554 | J8: =J9+J51+J58 -> 1414252.1 | K8: =K9+K51+K58 -> 1381165.2 | L8: =L9+L51+L58 -> 33086.942 | M8: =K8/J8*100 -> 97.660464
A9: 1 | D9: Формирование государственной политики в области здравоохранения | E9: =E10+E19+E23+E30 -> 1451572.1 | F9: =F10+F19+F23+F30 -> 826643.1 | G9: =G10+G19+G23+G30 -> 824572.47 | H9: =H10+H19+H23+H30 -> 2070.629 | I9: =G9/F9*100 -> 99.749514 | J9: =J10+J19+J23+J30 -> 823995.1 | K9: =K10+K19+K23+K30 -> 821073.66 | L9: =L10+L19+L23+L30 -> 2921.443 | M9: =K9/J9*100 -> 99.645454
B10: 100 | D10: Обеспечение деятельности уполномоченного органа в области здравоохранения | E10: =SUM(E11:E18) -> 243409 | F10: =SUM(F11:F18) -> 130044 | G10: =SUM(G11:G18) -> 130001.27 | H10: =SUM(H11:H18) -> 42.725 | I10: =G10/F10*100 -> 99.967146 | J10: =SUM(J11:J18) -> 130044 | K10: =SUM(K11:K18) -> 130001.27 | L10: =SUM(L11:L18) -> 42.725 | M10: =K10/J10*100 -> 99.967146
C11: 131 | D11: Оплата труда технического персонала | E11: 213219 | F11: 114512 | G11: 114512 | H11: =F11-G11 -> 0 | I11: =G11/F11*100 -> 100 | J11: 114512 | K11: 114512 | L11: =J11-K11 -> 0 | M11: =K11/J11*100 -> 100
C12: 135 | D12: Взносы работодателей по техническому персоналу | E12: 29355 | F12: 15230 | G12: 15230 | H12: =F12-G12 -> 0 | I12: =G12/F12*100 -> 100 | J12: 15230 | K12: 15230 | L12: =J12-K12 -> 0 | M12: =K12/J12*100 -> 100
C13: 136 | D13: Командировки и служебные разъезды внутри страны технического персонала | E13: 835 | F13: 302 | G13: 259.275 | H13: =F13-G13 -> 42.725 | I13: =G13/F13*100 -> 85.852649 | J13: 302 | K13: 259.275 | L13: =J13-K13 -> 42.725 | M13: =K13/J13*100 -> 85.852649
C14: 165 | D14: Исполнение исполнительных документов,судебных актов | E14: 0 | F14: 0 | G14: 0 | H14: =F14-G14 -> 0 | J14: 0 | K14: 0 | L14: =J14-K14 -> 0
C15: 159 | D15: Прочие услуги и работы | E15: 0 | F15: 0 | G15: 0 | H15: =F15-G15 -> 0 | I15: =G15/F15*100 -> #DIV/0! | J15: 0 | K15: 0 | L15: =J15-K15 -> 0 | M15: =K15/J15*100 -> #DIV/0!
C16: 169 | D16: Прочие текущие затраты | E16: 0 | F16: 0 | G16: 0 | H16: =F16-G16 -> 0 | I16: =G16/F16*100 -> #DIV/0! | J16: 0 | K16: 0 | L16: =J16-K16 -> 0 | M16: =K16/J16*100 -> #DIV/0!
C17: 322 | D17: Трансферты физическим лицам | E17: 0 | F17: 0 | G17: 0 | H17: =F17-G17 -> 0 | I17: =G17/F17*100 -> #DIV/0! | J17: 0 | K17: 0 | L17: =J17-K17 -> 0 | M17: =K17/J17*100 -> #DIV/0!
C18: 414 | D18: Приобретение машин, оборудования, инструментов, производственного и хозяйственного инвентаря | E18: =ЦА!E18+'СВОД терр'!E18 -> 0 | F18: =ЦА!F18+'СВОД терр'!F18 -> 0 | G18: 0 | H18: =F18-G18 -> 0 | J18: 0 | K18: 0 | L18: =J18-K18 -> 0
B19: 104 | D19: Обеспечение функционирования информационных систем и информационно-техническое обеспечение государственного органа | E19: =SUM(E20:E22) -> 0 | F19: =SUM(F20:F22) -> 0 | G19: =SUM(G20:G22) -> 0 | H19: =SUM(H20:H22) -> 0 | I19: =G19/F19*100 -> #DIV/0! | J19: =SUM(J20:J22) -> 0 | K19: =SUM(K20:K22) -> 0 | L19: =SUM(L20:L22) -> 0 | M19: =K19/J19*100 -> #DIV/0!
C20: 149 | D20: Приобретение прочих запасов | E20: 0 | F20: 0 | G20: 0 | H20: =F20-G20 -> 0 | I20: =G20/F20*100 -> #DIV/0! | J20: 0 | K20: 0 | L20: =J20-K20 -> 0 | M20: =K20/J20*100 -> #DIV/0!
C21: 152 | D21: Оплата услуг связи | E21: 0 | F21: 0 | G21: 0 | H21: =F21-G21 -> 0 | I21: =G21/F21*100 -> #DIV/0! | J21: 0 | K21: 0 | L21: =J21-K21 -> 0 | M21: =K21/J21*100 -> #DIV/0!
C22: 159 | D22: Оплата прочих услуг и работ | E22: 0 | F22: 0 | G22: 0 | H22: =F22-G22 -> 0 | I22: =G22/F22*100 -> #DIV/0! | J22: 0 | K22: 0 | L22: =J22-K22 -> 0 | M22: =K22/J22*100 -> #DIV/0!
B23: 111 | D23: Капитальные расходы Министерства здраоохранения Республики Казахстан | E23: =SUM(E24:E29) -> 0 | F23: =SUM(F24:F29) -> 0 | G23: =SUM(G24:G29) -> 0 | H23: =SUM(H24:H29) -> 0 | J23: =SUM(J24:J29) -> 0 | K23: =SUM(K24:K29) -> 0 | L23: =SUM(L24:L29) -> 0
C24: 412 | D24: Приобретение помещений, зданий, сооружений, передаточных устройств | E24: 0 | F24: 0 | G24: 0 | H24: =F24-G24 -> 0 | J24: 0 | K24: 0 | L24: =J24-K24 -> 0
C25: 413 | D25: Приобретение транспортных средств | E25: 0 | F25: 0 | G25: 0 | H25: =F25-G25 -> 0 | I25: =G25/F25*100 -> #DIV/0! | J25: 0 | K25: 0 | L25: =J25-K25 -> 0
C26: 414 | D26: Приобретение машин, оборудования, инструментов, производственного и хозяйственного инвентаря | E26: 0 | F26: 0 | G26: 0 | H26: =F26-G26 -> 0 | J26: 0 | K26: 0 | L26: =J26-K26 -> 0
C27: 416 | D27: Үй-жайларды, ғимараттарды, құрылыстарды күрделі жөндеу | E27: =ЦА!E27+'СВОД терр'!E27 -> 0 | F27: 0 | G27: 0 | H27: =F27-G27 -> 0 | J27: 0 | K27: 0 | L27: =J27-K27 -> 0
C28: 419 | D28: Машиналарды, жабдықтарды, құралдарды, өндірістік және шаруашылық мүкәммалдарды сатып алу | E28: =ЦА!E28+'СВОД терр'!E28 -> 0 | F28: 0 | G28: 0 | H28: =F28-G28 -> 0 | J28: 0 | K28: =ЦА!L28+'СВОД терр'!L28 -> 0 | L28: =J28-K28 -> 0
C29: 421 | D29: Капитальный ремонт помещений, зданий, сооружений, передаточных устройств | E29: 0 | F29: 0 | G29: 0 | H29: =F29-G29 -> 0 | J29: 0 | K29: 0 | L29: =J29-K29 -> 0
B30: 123 | D30: Текущие административные расходы | E30: =SUM(E31:E50) -> 1208163.1 | F30: =SUM(F31:F50) -> 696599.1 | G30: =SUM(G31:G50) -> 694571.2 | H30: =SUM(H31:H50) -> 2027.904 | I30: =G30/F30*100 -> 99.708885 | J30: =SUM(J31:J50) -> 693951.1 | K30: =SUM(K31:K50) -> 691072.38 | L30: =SUM(L31:L50) -> 2878.718 | M30: =K30/J30*100 -> 99.58517
C31: 111 | D31: Оплата труда | E31: 694694 | F31: 319694 | G31: 319694 | H31: =F31-G31 -> 0 | I31: =G31/F31*100 -> 100 | J31: 319694 | K31: 319694 | L31: =J31-K31 -> 0 | M31: =K31/J31*100 -> 100
C32: 112 | D32: Дополнительные денежные выплаты | E32: 165477.8 | F32: 165477.8 | G32: 165477.8 | H32: =F32-G32 -> 0 | I32: =G32/F32*100 -> 100 | J32: 165477.8 | K32: 165477.8 | L32: =J32-K32 -> 0 | M32: =K32/J32*100 -> 100
C33: 113 | D33: Компенсационные выплаты | E33: 124950 | F33: 73065 | G33: 72935.658 | H33: =F33-G33 -> 129.342 | I33: =G33/F33*100 -> 99.822977 | J33: 73065 | K33: 72935.658 | L33: =J33-K33 -> 129.342 | M33: =K33/J33*100 -> 99.822977
C34: 116 | D34: Обязательные пенсионные взносы работодателя | E34: 18766.1 | F34: 10504.1 | G34: 10504.1 | H34: =F34-G34 -> 0 | I34: =G34/F34*100 -> 100 | J34: 10504.1 | K34: 10504.1 | L34: =J34-K34 -> 0 | M34: =K34/J34*100 -> 100
C35: 121 | D35: Социальный налог | E35: 48455.6 | F35: 28569.6 | G35: 28569.6 | H35: =F35-G35 -> 0 | I35: =G35/F35*100 -> 100 | J35: 28569.6 | K35: 28569.6 | L35: =J35-K35 -> 0 | M35: =K35/J35*100 -> 100
C36: 122 | D36: Социальные отчисления в ГФСС | E36: 36838 | F36: 19972 | G36: 19972 | H36: =F36-G36 -> 0 | I36: =G36/F36*100 -> 100 | J36: 19972 | K36: 19972 | L36: =J36-K36 -> 0 | M36: =K36/J36*100 -> 100
C37: 123 | D37: Взносы на обязательное страхование | E37: 589 | F37: 589 | G37: 500.521 | H37: =F37-G37 -> 88.479 | I37: =G37/F37*100 -> 84.978098 | J37: 488 | K37: 347.087 | L37: =J37-K37 -> 140.913 | M37: =K37/J37*100 -> 71.124385
C38: 124 | D38: Отчисления на обязательное социальное медицинское страхование | E38: 23534 | F38: 12284 | G38: 11957.8 | H38: =F38-G38 -> 326.2 | I38: =G38/F38*100 -> 97.344513 | J38: 12284 | K38: 11957.8 | L38: =J38-K38 -> 326.2 | M38: =K38/J38*100 -> 97.344513
C39: 142 | D39: Приобретение лекарственных средств и прочих медицинского назначения | E39: 375 | F39: 0 | G39: 0 | H39: =F39-G39 -> 0 | I39: 0 | J39: 0 | K39: 0 | L39: =J39-K39 -> 0 | M39: 0
C40: 144 | D40: Приобретение топлива, горюче-смазочных материалов | E40: 16467 | F40: 181 | G40: 180.96 | H40: =F40-G40 -> 0.04 | I40: =G40/F40*100 -> 99.977901 | J40: 181 | K40: 180.96 | L40: =J40-K40 -> 0.04 | M40: =K40/J40*100 -> 99.977901
C41: 149 | D41: Приобретение прочих запасов | E41: 15014.5 | F41: 12267.5 | G41: 12231.5 | H41: =F41-G41 -> 36 | I41: =G41/F41*100 -> 99.706542 | J41: 12267.5 | K41: 11937.902 | L41: =J41-K41 -> 329.598 | M41: =K41/J41*100 -> 97.313242
...

Sheet СВОД терр
A1: Информация по исполнению бюджетных средств ЦА и по территориальным подразделениям Комитета санитарно-эпидемиологического контроля МЗ РК
A2: по состоянию на 30 апреля 2023 года
A4: Программа | B4: П/программа | C4: Специфика | D4: Наименование | E4: Сводный план финансирования на 2023 год
F5: По обязательствам | K5: По платежам
F6: План сначала года | G6: Принятые обязательства | H6: Отклонение | I6: % исполнения | J6: Примечание (обоснование причин неисполнения плана) | K6: План сначала года | L6: Оплаченные обязательства | M6: Отклонение | N6: % исполнения | O6: Примечание (обоснование причин неисполнения плана)
A7: 1 | B7: 2 | C7: 3 | D7: 4 | E7: 5 | F7: 6 | G7: 7 | H7: 8 | I7: 9 | J7: 10 | K7: 11 | L7: 12 | M7: 13 | N7: 14 | O7: 15
D8: ВСЕГО по КСЭК МЗ РК: | E8: =IFERROR(__xludf.DUMMYFUNCTION("IMPORTRANGE(""https://docs.google.com/spreadsheets/d/1PsUKG3ee57b5sx42omjfZd9CYxuRONokMWtiORmUc0s/edit#gid=1568135178"",""СВОД!E8:Y85"")"),42218709.7999999) -> 42218710 | F8: =IFERROR(__xludf.DUMMYFUNCTION("""COMPUTED_VALUE"""),31381834.7999999) -> 31381835 | G8: =IFERROR(__xludf.DUMMYFUNCTION("""COMPUTED_VALUE"""),31145743.28498) -> 31145743 | H8: =IFERROR(__xludf.DUMMYFUNCTION("""COMPUTED_VALUE"""),236091.51501999) -> 236091.52 | I8: =IFERROR(__xludf.DUMMYFUNCTION("""COMPUTED_VALUE"""),99.2476809704575) -> 99.247681 | K8: =IFERROR(__xludf.DUMMYFUNCTION("""COMPUTED_VALUE"""),20273207.5969999) -> 20273208 | L8: =IFERROR(__xludf.DUMMYFUNCTION("""COMPUTED_VALUE"""),20267400.5790399) -> 20267401 | M8: =IFERROR(__xludf.DUMMYFUNCTION("""COMPUTED_VALUE"""),5807.01796000078) -> 5807.018 | N8: =IFERROR(__xludf.DUMMYFUNCTION("""COMPUTED_VALUE"""),99.9713561954504) -> 99.971356 | Q8: =IFERROR(__xludf.DUMMYFUNCTION("""COMPUTED_VALUE"""),21951309.2209599) -> 21951309
A9: 1 | D9: Формирование государственной политики в области здравоохранения | E9: =IFERROR(__xludf.DUMMYFUNCTION("""COMPUTED_VALUE"""),23836014) -> 23836014 | F9: =IFERROR(__xludf.DUMMYFUNCTION("""COMPUTED_VALUE"""),13017205.5999999) -> 13017206 | G9: =IFERROR(__xludf.DUMMYFUNCTION("""COMPUTED_VALUE"""),12784827.55672) -> 12784828 | H9: =IFERROR(__xludf.DUMMYFUNCTION("""COMPUTED_VALUE"""),232378.043279998) -> 232378.04 | I9: =IFERROR(__xludf.DUMMYFUNCTION("""COMPUTED_VALUE"""),98.2148392641198) -> 98.214839 | K9: =IFERROR(__xludf.DUMMYFUNCTION("""COMPUTED_VALUE"""),12399136.3969999) -> 12399136 | L9: =IFERROR(__xludf.DUMMYFUNCTION("""COMPUTED_VALUE"""),12393332.5575899) -> 12393333 | M9: =IFERROR(__xludf.DUMMYFUNCTION("""COMPUTED_VALUE"""),5803.83940999954) -> 5803.8394 | N9: =IFERROR(__xludf.DUMMYFUNCTION("""COMPUTED_VALUE"""),99.9531915834767) -> 99.953192 | Q9: =IFERROR(__xludf.DUMMYFUNCTION("""COMPUTED_VALUE"""),11442681.44241) -> 11442681
B10: 100 | D10: Обеспечение деятельности уполномоченного органа в области здравоохранения | E10: =IFERROR(__xludf.DUMMYFUNCTION("""COMPUTED_VALUE"""),2747413.79999999) -> 2747413.8 | F10: =IFERROR(__xludf.DUMMYFUNCTION("""COMPUTED_VALUE"""),1454913.5) -> 1454913.5 | G10: =IFERROR(__xludf.DUMMYFUNCTION("""COMPUTED_VALUE"""),1453577.66569) -> 1453577.7 | H10: =IFERROR(__xludf.DUMMYFUNCTION("""COMPUTED_VALUE"""),1335.83431000006) -> 1335.8343 | I10: =IFERROR(__xludf.DUMMYFUNCTION("""COMPUTED_VALUE"""),99.908184623347) -> 99.908185 | K10: =IFERROR(__xludf.DUMMYFUNCTION("""COMPUTED_VALUE"""),1452406.5) -> 1452406.5 | L10: =IFERROR(__xludf.DUMMYFUNCTION("""COMPUTED_VALUE"""),1452145.26669) -> 1452145.3 | M10: =IFERROR(__xludf.DUMMYFUNCTION("""COMPUTED_VALUE"""),261.233310000039) -> 261.23331 | N10: =IFERROR(__xludf.DUMMYFUNCTION("""COMPUTED_VALUE"""),99.9820137606104) -> 99.982014 | Q10: =IFERROR(__xludf.DUMMYFUNCTION("""COMPUTED_VALUE"""),1295268.53330999) -> 1295268.5
C11: 131 | D11: Оплата труда технического персонала: | E11: =IFERROR(__xludf.DUMMYFUNCTION("""COMPUTED_VALUE"""),2401063.19999999) -> 2401063.2 | F11: =IFERROR(__xludf.DUMMYFUNCTION("""COMPUTED_VALUE"""),1292028.2) -> 1292028.2 | G11: =IFERROR(__xludf.DUMMYFUNCTION("""COMPUTED_VALUE"""),1291946.71467) -> 1291946.7 | H11: =IFERROR(__xludf.DUMMYFUNCTION("""COMPUTED_VALUE"""),81.485330000054) -> 81.48533 | I11: =IFERROR(__xludf.DUMMYFUNCTION("""COMPUTED_VALUE"""),99.9936932235689) -> 99.993693 | K11: =IFERROR(__xludf.DUMMYFUNCTION("""COMPUTED_VALUE"""),1292028.2) -> 1292028.2 | L11: =IFERROR(__xludf.DUMMYFUNCTION("""COMPUTED_VALUE"""),1291946.71467) -> 1291946.7 | M11: =IFERROR(__xludf.DUMMYFUNCTION("""COMPUTED_VALUE"""),81.485330000054) -> 81.48533 | N11: =IFERROR(__xludf.DUMMYFUNCTION("""COMPUTED_VALUE"""),99.9936932235689) -> 99.993693 | Q11: =IFERROR(__xludf.DUMMYFUNCTION("""COMPUTED_VALUE"""),1109116.48532999) -> 1109116.5
C12: 135 | D12: Взносы работодателей по техническому персоналу | E12: =IFERROR(__xludf.DUMMYFUNCTION("""COMPUTED_VALUE"""),303994.8) -> 303994.8 | F12: =IFERROR(__xludf.DUMMYFUNCTION("""COMPUTED_VALUE"""),140834.9) -> 140834.9 | G12: =IFERROR(__xludf.DUMMYFUNCTION("""COMPUTED_VALUE"""),140789.83037) -> 140789.83 | H12: =IFERROR(__xludf.DUMMYFUNCTION("""COMPUTED_VALUE"""),45.0696300000126) -> 45.06963 | I12: =IFERROR(__xludf.DUMMYFUNCTION("""COMPUTED_VALUE"""),99.9679982518537) -> 99.967998 | K12: =IFERROR(__xludf.DUMMYFUNCTION("""COMPUTED_VALUE"""),140834.9) -> 140834.9 | L12: =IFERROR(__xludf.DUMMYFUNCTION("""COMPUTED_VALUE"""),140789.83037) -> 140789.83 | M12: =IFERROR(__xludf.DUMMYFUNCTION("""COMPUTED_VALUE"""),45.0696300000126) -> 45.06963 | N12: =IFERROR(__xludf.DUMMYFUNCTION("""COMPUTED_VALUE"""),99.9679982518537) -> 99.967998 | Q12: =IFERROR(__xludf.DUMMYFUNCTION("""COMPUTED_VALUE"""),163204.969629999) -> 163204.97
C13: 136 | D13: Командировки и служебные разъезды внутри страны технического персонала | E13: =IFERROR(__xludf.DUMMYFUNCTION("""COMPUTED_VALUE"""),14633.8) -> 14633.8 | F13: =IFERROR(__xludf.DUMMYFUNCTION("""COMPUTED_VALUE"""),14533.8) -> 14533.8 | G13: =IFERROR(__xludf.DUMMYFUNCTION("""COMPUTED_VALUE"""),14435.0569999999) -> 14435.057 | H13: =IFERROR(__xludf.DUMMYFUNCTION("""COMPUTED_VALUE"""),98.7430000000004) -> 98.743 | I13: =IFERROR(__xludf.DUMMYFUNCTION("""COMPUTED_VALUE"""),99.3205975037498) -> 99.320598 | K13: =IFERROR(__xludf.DUMMYFUNCTION("""COMPUTED_VALUE"""),14533.8) -> 14533.8 | L13: =IFERROR(__xludf.DUMMYFUNCTION("""COMPUTED_VALUE"""),14435.0569999999) -> 14435.057 | M13: =IFERROR(__xludf.DUMMYFUNCTION("""COMPUTED_VALUE"""),98.7430000000004) -> 98.743 | N13: =IFERROR(__xludf.DUMMYFUNCTION("""COMPUTED_VALUE"""),99.3205975037498) -> 99.320598 | Q13: =IFERROR(__xludf.DUMMYFUNCTION("""COMPUTED_VALUE"""),198.743) -> 198.743
C14: 157 | D14: Оплата услуг на проведение форумов, семинаров | E14: =IFERROR(__xludf.DUMMYFUNCTION("""COMPUTED_VALUE"""),0) -> 0 | F14: =IFERROR(__xludf.DUMMYFUNCTION("""COMPUTED_VALUE"""),0) -> 0 | G14: =IFERROR(__xludf.DUMMYFUNCTION("""COMPUTED_VALUE"""),0) -> 0 | H14: =IFERROR(__xludf.DUMMYFUNCTION("""COMPUTED_VALUE"""),0) -> 0 | I14: =IFERROR(__xludf.DUMMYFUNCTION("""COMPUTED_VALUE"""),"#DIV/0!") -> #DIV/0! | K14: =IFERROR(__xludf.DUMMYFUNCTION("""COMPUTED_VALUE"""),0) -> 0 | L14: =IFERROR(__xludf.DUMMYFUNCTION("""COMPUTED_VALUE"""),0) -> 0 | M14: =IFERROR(__xludf.DUMMYFUNCTION("""COMPUTED_VALUE"""),0) -> 0 | N14: =IFERROR(__xludf.DUMMYFUNCTION("""COMPUTED_VALUE"""),"#DIV/0!") -> #DIV/0! | Q14: =IFERROR(__xludf.DUMMYFUNCTION("""COMPUTED_VALUE"""),0) -> 0
C15: 159 | D15: Прочие услуги и работы | E15: =IFERROR(__xludf.DUMMYFUNCTION("""COMPUTED_VALUE"""),26899.7) -> 26899.7 | F15: =IFERROR(__xludf.DUMMYFUNCTION("""COMPUTED_VALUE"""),6694.29999999999) -> 6694.3 | G15: =IFERROR(__xludf.DUMMYFUNCTION("""COMPUTED_VALUE"""),5591.73093999999) -> 5591.7309 | H15: =IFERROR(__xludf.DUMMYFUNCTION("""COMPUTED_VALUE"""),1102.56905999999) -> 1102.5691 | I15: =IFERROR(__xludf.DUMMYFUNCTION("""COMPUTED_VALUE"""),83.5297333552425) -> 83.529733 | K15: =IFERROR(__xludf.DUMMYFUNCTION("""COMPUTED_VALUE"""),4187.29999999999) -> 4187.3 | L15: =IFERROR(__xludf.DUMMYFUNCTION("""COMPUTED_VALUE"""),4159.33194) -> 4159.3319 | M15: =IFERROR(__xludf.DUMMYFUNCTION("""COMPUTED_VALUE"""),27.9680599999983) -> 27.96806 | N15: =IFERROR(__xludf.DUMMYFUNCTION("""COMPUTED_VALUE"""),99.3320741289136) -> 99.332074 | Q15: =IFERROR(__xludf.DUMMYFUNCTION("""COMPUTED_VALUE"""),22740.36806) -> 22740.368
C16: 169 | D16: Прочие текущие затраты | E16: =IFERROR(__xludf.DUMMYFUNCTION("""COMPUTED_VALUE"""),517.3) -> 517.3 | F16: =IFERROR(__xludf.DUMMYFUNCTION("""COMPUTED_VALUE"""),517.3) -> 517.3 | G16: =IFERROR(__xludf.DUMMYFUNCTION("""COMPUTED_VALUE"""),510.00271) -> 510.00271 | H16: =IFERROR(__xludf.DUMMYFUNCTION("""COMPUTED_VALUE"""),7.29728999999997) -> 7.29729 | I16: =IFERROR(__xludf.DUMMYFUNCTION("""COMPUTED_VALUE"""),98.589350473613) -> 98.58935 | K16: =IFERROR(__xludf.DUMMYFUNCTION("""COMPUTED_VALUE"""),517.3) -> 517.3 | L16: =IFERROR(__xludf.DUMMYFUNCTION("""COMPUTED_VALUE"""),510.00271) -> 510.00271 | M16: =IFERROR(__xludf.DUMMYFUNCTION("""COMPUTED_VALUE"""),7.29728999999997) -> 7.29729 | N16: =IFERROR(__xludf.DUMMYFUNCTION("""COMPUTED_VALUE"""),98.589350473613) -> 98.58935 | Q16: =IFERROR(__xludf.DUMMYFUNCTION("""COMPUTED_VALUE"""),7.29728999999997) -> 7.29729
C17: 322 | D17: Трансферты физическим лицам | E17: =IFERROR(__xludf.DUMMYFUNCTION("""COMPUTED_VALUE"""),305) -> 305 | F17: =IFERROR(__xludf.DUMMYFUNCTION("""COMPUTED_VALUE"""),305) -> 305 | G17: =IFERROR(__xludf.DUMMYFUNCTION("""COMPUTED_VALUE"""),304.33) -> 304.33 | H17: =IFERROR(__xludf.DUMMYFUNCTION("""COMPUTED_VALUE"""),0.670000000000015) -> 0.67 | I17: =IFERROR(__xludf.DUMMYFUNCTION("""COMPUTED_VALUE"""),99.7803278688524) -> 99.780328 | K17: =IFERROR(__xludf.DUMMYFUNCTION("""COMPUTED_VALUE"""),305) -> 305 | L17: =IFERROR(__xludf.DUMMYFUNCTION("""COMPUTED_VALUE"""),304.33) -> 304.33 | M17: =IFERROR(__xludf.DUMMYFUNCTION("""COMPUTED_VALUE"""),0.670000000000015) -> 0.67 | N17: =IFERROR(__xludf.DUMMYFUNCTION("""COMPUTED_VALUE"""),99.7803278688524) -> 99.780328 | Q17: =IFERROR(__xludf.DUMMYFUNCTION("""COMPUTED_VALUE"""),0.670000000000015) -> 0.67
C18: 414 | D18: Приобретение машин, оборудования, инструментов, производственного и хозяйственного инвентаря | E18: =IFERROR(__xludf.DUMMYFUNCTION("""COMPUTED_VALUE"""),0) -> 0 | F18: =IFERROR(__xludf.DUMMYFUNCTION("""COMPUTED_VALUE"""),0) -> 0 | G18: =IFERROR(__xludf.DUMMYFUNCTION("""COMPUTED_VALUE"""),0) -> 0 | H18: =IFERROR(__xludf.DUMMYFUNCTION("""COMPUTED_VALUE"""),0) -> 0 | I18: =IFERROR(__xludf.DUMMYFUNCTION("""COMPUTED_VALUE"""),"#DIV/0!") -> #DIV/0! | K18: =IFERROR(__xludf.DUMMYFUNCTION("""COMPUTED_VALUE"""),0) -> 0 | L18: =IFERROR(__xludf.DUMMYFUNCTION("""COMPUTED_VALUE"""),0) -> 0 | M18: =IFERROR(__xludf.DUMMYFUNCTION("""COMPUTED_VALUE"""),0) -> 0 | N18: =IFERROR(__xludf.DUMMYFUNCTION("""COMPUTED_VALUE"""),"#DIV/0!") -> #DIV/0! | Q18: =IFERROR(__xludf.DUMMYFUNCTION("""COMPUTED_VALUE"""),0) -> 0
B19: 104 | D19: Обеспечение функционирования информационных систем и информационно-техническое обеспечение государственного органа | E19: =IFERROR(__xludf.DUMMYFUNCTION("""COMPUTED_VALUE"""),0) -> 0 | F19: =IFERROR(__xludf.DUMMYFUNCTION("""COMPUTED_VALUE"""),0) -> 0 | G19: =IFERROR(__xludf.DUMMYFUNCTION("""COMPUTED_VALUE"""),0) -> 0 | H19: =IFERROR(__xludf.DUMMYFUNCTION("""COMPUTED_VALUE"""),0) -> 0 | I19: =IFERROR(__xludf.DUMMYFUNCTION("""COMPUTED_VALUE"""),"#DIV/0!") -> #DIV/0! | K19: =IFERROR(__xludf.DUMMYFUNCTION("""COMPUTED_VALUE"""),0) -> 0 | L19: =IFERROR(__xludf.DUMMYFUNCTION("""COMPUTED_VALUE"""),0) -> 0 | M19: =IFERROR(__xludf.DUMMYFUNCTION("""COMPUTED_VALUE"""),0) -> 0 | N19: =IFERROR(__xludf.DUMMYFUNCTION("""COMPUTED_VALUE"""),"#DIV/0!") -> #DIV/0! | Q19: =IFERROR(__xludf.DUMMYFUNCTION("""COMPUTED_VALUE"""),0) -> 0
C20: 149 | D20: Приобретение прочих запасов | E20: =IFERROR(__xludf.DUMMYFUNCTION("""COMPUTED_VALUE"""),0) -> 0 | F20: =IFERROR(__xludf.DUMMYFUNCTION("""COMPUTED_VALUE"""),0) -> 0 | G20: =IFERROR(__xludf.DUMMYFUNCTION("""COMPUTED_VALUE"""),0) -> 0 | H20: =IFERROR(__xludf.DUMMYFUNCTION("""COMPUTED_VALUE"""),0) -> 0 | I20: =IFERROR(__xludf.DUMMYFUNCTION("""COMPUTED_VALUE"""),"#DIV/0!") -> #DIV/0! | K20: =IFERROR(__xludf.DUMMYFUNCTION("""COMPUTED_VALUE"""),0) -> 0 | L20: =IFERROR(__xludf.DUMMYFUNCTION("""COMPUTED_VALUE"""),0) -> 0 | M20: =IFERROR(__xludf.DUMMYFUNCTION("""COMPUTED_VALUE"""),0) -> 0 | N20: =IFERROR(__xludf.DUMMYFUNCTION("""COMPUTED_VALUE"""),"#DIV/0!") -> #DIV/0! | Q20: =IFERROR(__xludf.DUMMYFUNCTION("""COMPUTED_VALUE"""),0) -> 0
C21: 152 | D21: Оплата услуг связи | E21: =IFERROR(__xludf.DUMMYFUNCTION("""COMPUTED_VALUE"""),0) -> 0 | F21: =IFERROR(__xludf.DUMMYFUNCTION("""COMPUTED_VALUE"""),0) -> 0 | G21: =IFERROR(__xludf.DUMMYFUNCTION("""COMPUTED_VALUE"""),0) -> 0 | H21: =IFERROR(__xludf.DUMMYFUNCTION("""COMPUTED_VALUE"""),0) -> 0 | I21: =IFERROR(__xludf.DUMMYFUNCTION("""COMPUTED_VALUE"""),"#DIV/0!") -> #DIV/0! | K21: =IFERROR(__xludf.DUMMYFUNCTION("""COMPUTED_VALUE"""),0) -> 0 | L21: =IFERROR(__xludf.DUMMYFUNCTION("""COMPUTED_VALUE"""),0) -> 0 | M21: =IFERROR(__xludf.DUMMYFUNCTION("""COMPUTED_VALUE"""),0) -> 0 | N21: =IFERROR(__xludf.DUMMYFUNCTION("""COMPUTED_VALUE"""),"#DIV/0!") -> #DIV/0! | Q21: =IFERROR(__xludf.DUMMYFUNCTION("""COMPUTED_VALUE"""),0) -> 0
C22: 159 | D22: Оплата прочих услуг и работ | E22: =IFERROR(__xludf.DUMMYFUNCTION("""COMPUTED_VALUE"""),0) -> 0 | F22: =IFERROR(__xludf.DUMMYFUNCTION("""COMPUTED_VALUE"""),0) -> 0 | G22: =IFERROR(__xludf.DUMMYFUNCTION("""COMPUTED_VALUE"""),0) -> 0 | H22: =IFERROR(__xludf.DUMMYFUNCTION("""COMPUTED_VALUE"""),0) -> 0 | I22: =IFERROR(__xludf.DUMMYFUNCTION("""COMPUTED_VALUE"""),"#DIV/0!") -> #DIV/0! | K22: =IFERROR(__xludf.DUMMYFUNCTION("""COMPUTED_VALUE"""),0) -> 0 | L22: =IFERROR(__xludf.DUMMYFUNCTION("""COMPUTED_VALUE"""),0) -> 0 | M22: =IFERROR(__xludf.DUMMYFUNCTION("""COMPUTED_VALUE"""),0) -> 0 | N22: =IFERROR(__xludf.DUMMYFUNCTION("""COMPUTED_VALUE"""),"#DIV/0!") -> #DIV/0! | Q22: =IFERROR(__xludf.DUMMYFUNCTION("""COMPUTED_VALUE"""),0) -> 0
B23: 111 | D23: Капитальные расходы Министерства здравоохранения Республики Казахстан | E23: =IFERROR(__xludf.DUMMYFUNCTION("""COMPUTED_VALUE"""),131077.199999999) -> 131077.2 | F23: =IFERROR(__xludf.DUMMYFUNCTION("""COMPUTED_VALUE"""),107114.4) -> 107114.4 | G23: =IFERROR(__xludf.DUMMYFUNCTION("""COMPUTED_VALUE"""),28303.1613) -> 28303.161 | H23: =IFERROR(__xludf.DUMMYFUNCTION("""COMPUTED_VALUE"""),78811.2387) -> 78811.239 | I23: =IFERROR(__xludf.DUMMYFUNCTION("""COMPUTED_VALUE"""),26.423301908987) -> 26.423302 | K23: =IFERROR(__xludf.DUMMYFUNCTION("""COMPUTED_VALUE"""),25773.1) -> 25773.1 | L23: =IFERROR(__xludf.DUMMYFUNCTION("""COMPUTED_VALUE"""),23003.4636699999) -> 23003.464 | M23: =IFERROR(__xludf.DUMMYFUNCTION("""COMPUTED_VALUE"""),2769.63633) -> 2769.6363 | N23: =IFERROR(__xludf.DUMMYFUNCTION("""COMPUTED_VALUE"""),89.2537710636283) -> 89.253771 | Q23: =IFERROR(__xludf.DUMMYFUNCTION("""COMPUTED_VALUE"""),108073.736329999) -> 108073.74
C24: 412 | D24: Приобретение помещений, зданий, сооружений, передаточных устройств | E24: =IFERROR(__xludf.DUMMYFUNCTION("""COMPUTED_VALUE"""),0) -> 0 | F24: =IFERROR(__xludf.DUMMYFUNCTION("""COMPUTED_VALUE"""),0) -> 0 | G24: =IFERROR(__xludf.DUMMYFUNCTION("""COMPUTED_VALUE"""),0) -> 0 | H24: =IFERROR(__xludf.DUMMYFUNCTION("""COMPUTED_VALUE"""),0) -> 0 | I24: =IFERROR(__xludf.DUMMYFUNCTION("""COMPUTED_VALUE"""),"#DIV/0!") -> #DIV/0! | K24: =IFERROR(__xludf.DUMMYFUNCTION("""COMPUTED_VALUE"""),0) -> 0 | L24: =IFERROR(__xludf.DUMMYFUNCTION("""COMPUTED_VALUE"""),0) -> 0 | M24: =IFERROR(__xludf.DUMMYFUNCTION("""COMPUTED_VALUE"""),0) -> 0 | N24: =IFERROR(__xludf.DUMMYFUNCTION("""COMPUTED_VALUE"""),"#DIV/0!") -> #DIV/0! | Q24: =IFERROR(__xludf.DUMMYFUNCTION("""COMPUTED_VALUE"""),0) -> 0
C25: 413 | D25: Приобретение транспортных средств | E25: =IFERROR(__xludf.DUMMYFUNCTION("""COMPUTED_VALUE"""),0) -> 0 | F25: =IFERROR(__xludf.DUMMYFUNCTION("""COMPUTED_VALUE"""),0) -> 0 | G25: =IFERROR(__xludf.DUMMYFUNCTION("""COMPUTED_VALUE"""),0) -> 0 | H25: =IFERROR(__xludf.DUMMYFUNCTION("""COMPUTED_VALUE"""),0) -> 0 | I25: =IFERROR(__xludf.DUMMYFUNCTION("""COMPUTED_VALUE"""),"#DIV/0!") -> #DIV/0! | K25: =IFERROR(__xludf.DUMMYFUNCTION("""COMPUTED_VALUE"""),0) -> 0 | L25: =IFERROR(__xludf.DUMMYFUNCTION("""COMPUTED_VALUE"""),0) -> 0 | M25: =IFERROR(__xludf.DUMMYFUNCTION("""COMPUTED_VALUE"""),0) -> 0 | N25: =IFERROR(__xludf.DUMMYFUNCTION("""COMPUTED_VALUE"""),"#DIV/0!") -> #DIV/0! | Q25: =IFERROR(__xludf.DUMMYFUNCTION("""COMPUTED_VALUE"""),0) -> 0
C26: 414 | D26: Приобретение машин, оборудования, инструментов, производственного и хозяйственного инвентаря | E26: =IFERROR(__xludf.DUMMYFUNCTION("""COMPUTED_VALUE"""),121988.9) -> 121988.9 | F26: =IFERROR(__xludf.DUMMYFUNCTION("""COMPUTED_VALUE"""),100723.7) -> 100723.7 | G26: =IFERROR(__xludf.DUMMYFUNCTION("""COMPUTED_VALUE"""),24505.0994) -> 24505.099 | H26: =IFERROR(__xludf.DUMMYFUNCTION("""COMPUTED_VALUE"""),76218.6006) -> 76218.601 | I26: =IFERROR(__xludf.DUMMYFUNCTION("""COMPUTED_VALUE"""),24.3290302083819) -> 24.32903 | K26: =IFERROR(__xludf.DUMMYFUNCTION("""COMPUTED_VALUE"""),24088.2) -> 24088.2 | L26: =IFERROR(__xludf.DUMMYFUNCTION("""COMPUTED_VALUE"""),21864.0454) -> 21864.045 | M26: =IFERROR(__xludf.DUMMYFUNCTION("""COMPUTED_VALUE"""),2224.1546) -> 2224.1546 | N26: =IFERROR(__xludf.DUMMYFUNCTION("""COMPUTED_VALUE"""),90.7666218314361) -> 90.766622 | Q26: =IFERROR(__xludf.DUMMYFUNCTION("""COMPUTED_VALUE"""),100124.854599999) -> 100124.85
C27: 416 | D27: Приобретение нематериальных активов | E27: =IFERROR(__xludf.DUMMYFUNCTION("""COMPUTED_VALUE"""),0) -> 0 | F27: =IFERROR(__xludf.DUMMYFUNCTION("""COMPUTED_VALUE"""),0) -> 0 | G27: =IFERROR(__xludf.DUMMYFUNCTION("""COMPUTED_VALUE"""),0) -> 0 | H27: =IFERROR(__xludf.DUMMYFUNCTION("""COMPUTED_VALUE"""),0) -> 0 | I27: =IFERROR(__xludf.DUMMYFUNCTION("""COMPUTED_VALUE"""),"#DIV/0!") -> #DIV/0! | K27: =IFERROR(__xludf.DUMMYFUNCTION("""COMPUTED_VALUE"""),0) -> 0 | L27: =IFERROR(__xludf.DUMMYFUNCTION("""COMPUTED_VALUE"""),0) -> 0 | M27: =IFERROR(__xludf.DUMMYFUNCTION("""COMPUTED_VALUE"""),0) -> 0 | N27: =IFERROR(__xludf.DUMMYFUNCTION("""COMPUTED_VALUE"""),"#DIV/0!") -> #DIV/0! | Q27: =IFERROR(__xludf.DUMMYFUNCTION("""COMPUTED_VALUE"""),0) -> 0
C28: 419 | D28: Приобретение прочих основных средств | E28: =IFERROR(__xludf.DUMMYFUNCTION("""COMPUTED_VALUE"""),0) -> 0 | F28: =IFERROR(__xludf.DUMMYFUNCTION("""COMPUTED_VALUE"""),0) -> 0 | G28: =IFERROR(__xludf.DUMMYFUNCTION("""COMPUTED_VALUE"""),0) -> 0 | H28: =IFERROR(__xludf.DUMMYFUNCTION("""COMPUTED_VALUE"""),0) -> 0 | I28: =IFERROR(__xludf.DUMMYFUNCTION("""COMPUTED_VALUE"""),"#DIV/0!") -> #DIV/0! | K28: =IFERROR(__xludf.DUMMYFUNCTION("""COMPUTED_VALUE"""),0) -> 0 | L28: =IFERROR(__xludf.DUMMYFUNCTION("""COMPUTED_VALUE"""),0) -> 0 | M28: =IFERROR(__xludf.DUMMYFUNCTION("""COMPUTED_VALUE"""),0) -> 0 | N28: =IFERROR(__xludf.DUMMYFUNCTION("""COMPUTED_VALUE"""),"#DIV/0!") -> #DIV/0! | Q28: =IFERROR(__xludf.DUMMYFUNCTION("""COMPUTED_VALUE"""),0) -> 0
C29: 421 | D29: Капитальный ремонт помещений, зданий, сооружений, передаточных устройств | E29: =IFERROR(__xludf.DUMMYFUNCTION("""COMPUTED_VALUE"""),9088.3) -> 9088.3 | F29: =IFERROR(__xludf.DUMMYFUNCTION("""COMPUTED_VALUE"""),6390.7) -> 6390.7 | G29: =IFERROR(__xludf.DUMMYFUNCTION("""COMPUTED_VALUE"""),3798.0619) -> 3798.0619 | H29: =IFERROR(__xludf.DUMMYFUNCTION("""COMPUTED_VALUE"""),2592.6381) -> 2592.6381 | I29: =IFERROR(__xludf.DUMMYFUNCTION("""COMPUTED_VALUE"""),59.431077972679) -> 59.431078 | K29: =IFERROR(__xludf.DUMMYFUNCTION("""COMPUTED_VALUE"""),1684.9) -> 1684.9 | L29: =IFERROR(__xludf.DUMMYFUNCTION("""COMPUTED_VALUE"""),1139.41827) -> 1139.4183 | M29: =IFERROR(__xludf.DUMMYFUNCTION("""COMPUTED_VALUE"""),545.48173) -> 545.48173 | N29: =IFERROR(__xludf.DUMMYFUNCTION("""COMPUTED_VALUE"""),67.6252756840168) -> 67.625276 | Q29: =IFERROR(__xludf.DUMMYFUNCTION("""COMPUTED_VALUE"""),7948.88173) -> 7948.8817
B30: 123 | D30: Текущие административные расходы | E30: =IFERROR(__xludf.DUMMYFUNCTION("""COMPUTED_VALUE"""),20957523) -> 20957523 | F30: =IFERROR(__xludf.DUMMYFUNCTION("""COMPUTED_VALUE"""),11455177.6999999) -> 11455178 | G30: =IFERROR(__xludf.DUMMYFUNCTION("""COMPUTED_VALUE"""),11302946.7297299) -> 11302947 | H30: =IFERROR(__xludf.DUMMYFUNCTION("""COMPUTED_VALUE"""),152230.970269998) -> 152230.97 | I30: =IFERROR(__xludf.DUMMYFUNCTION("""COMPUTED_VALUE"""),98.6710728174038) -> 98.671073 | K30: =IFERROR(__xludf.DUMMYFUNCTION("""COMPUTED_VALUE"""),10920956.7969999) -> 10920957 | L30: =IFERROR(__xludf.DUMMYFUNCTION("""COMPUTED_VALUE"""),10918183.8272299) -> 10918184 | M30: =IFERROR(__xludf.DUMMYFUNCTION("""COMPUTED_VALUE"""),2772.96976999938) -> 2772.9698 | N30: =IFERROR(__xludf.DUMMYFUNCTION("""COMPUTED_VALUE"""),99.9746087286897) -> 99.974609 | Q30: =IFERROR(__xludf.DUMMYFUNCTION("""COMPUTED_VALUE"""),10039339.17277) -> 10039339
C31: 111 | D31: Оплата труда | E31: =IFERROR(__xludf.DUMMYFUNCTION("""COMPUTED_VALUE"""),11591960.2) -> 11591960 | F31: =IFERROR(__xludf.DUMMYFUNCTION("""COMPUTED_VALUE"""),5256882.7) -> 5256882.7 | G31: =IFERROR(__xludf.DUMMYFUNCTION("""COMPUTED_VALUE"""),5256879.76484999) -> 5256879.8 | H31: =IFERROR(__xludf.DUMMYFUNCTION("""COMPUTED_VALUE"""),2.93515000119805) -> 2.93515 | I31: =IFERROR(__xludf.DUMMYFUNCTION("""COMPUTED_VALUE"""),99.9999441655793) -> 99.999944 | K31: =IFERROR(__xludf.DUMMYFUNCTION("""COMPUTED_VALUE"""),5256882.7) -> 5256882.7 | L31: =IFERROR(__xludf.DUMMYFUNCTION("""COMPUTED_VALUE"""),5256879.76584999) -> 5256879.8 | M31: =IFERROR(__xludf.DUMMYFUNCTION("""COMPUTED_VALUE"""),2.93415000103414) -> 2.93415 | N31: =IFERROR(__xludf.DUMMYFUNCTION("""COMPUTED_VALUE"""),99.999944184602) -> 99.999944 | Q31: =IFERROR(__xludf.DUMMYFUNCTION("""COMPUTED_VALUE"""),6335080.43415) -> 6335080.4
C32: 112 | D32: Дополнительные денежные выплаты | E32: =IFERROR(__xludf.DUMMYFUNCTION("""COMPUTED_VALUE"""),2967808.09999999) -> 2967808.1 | F32: =IFERROR(__xludf.DUMMYFUNCTION("""COMPUTED_VALUE"""),2989032.9) -> 2989032.9 | G32: =IFERROR(__xludf.DUMMYFUNCTION("""COMPUTED_VALUE"""),2988636.76571999) -> 2988636.8 | H32: =IFERROR(__xludf.DUMMYFUNCTION("""COMPUTED_VALUE"""),396.134280000347) -> 396.13428 | I32: =IFERROR(__xludf.DUMMYFUNCTION("""COMPUTED_VALUE"""),99.9867470752831) -> 99.986747 | K32: =IFERROR(__xludf.DUMMYFUNCTION("""COMPUTED_VALUE"""),2989032.9) -> 2989032.9 | L32: =IFERROR(__xludf.DUMMYFUNCTION("""COMPUTED_VALUE"""),2988636.76471999) -> 2988636.8 | M32: =IFERROR(__xludf.DUMMYFUNCTION("""COMPUTED_VALUE"""),396.135280000511) -> 396.13528 | N32: =IFERROR(__xludf.DUMMYFUNCTION("""COMPUTED_VALUE"""),99.9867470418274) -> 99.986747 | Q32: =IFERROR(__xludf.DUMMYFUNCTION("""COMPUTED_VALUE"""),-20828.6647199997) -> -20828.665
C33: 113 | D33: Компенсационные выплаты | E33: =IFERROR(__xludf.DUMMYFUNCTION("""COMPUTED_VALUE"""),2131358.9) -> 2131358.9 | F33: =IFERROR(__xludf.DUMMYFUNCTION("""COMPUTED_VALUE"""),859727.2) -> 859727.2 | G33: =IFERROR(__xludf.DUMMYFUNCTION("""COMPUTED_VALUE"""),859688.413) -> 859688.41 | H33: =IFERROR(__xludf.DUMMYFUNCTION("""COMPUTED_VALUE"""),38.7869999998947) -> 38.787 | I33: =IFERROR(__xludf.DUMMYFUNCTION("""COMPUTED_VALUE"""),99.9954884526161) -> 99.995488 | K33: =IFERROR(__xludf.DUMMYFUNCTION("""COMPUTED_VALUE"""),859727.2) -> 859727.2 | L33: =IFERROR(__xludf.DUMMYFUNCTION("""COMPUTED_VALUE"""),859688.413) -> 859688.41 | M33: =IFERROR(__xludf.DUMMYFUNCTION("""COMPUTED_VALUE"""),38.7869999998947) -> 38.787 | N33: =IFERROR(__xludf.DUMMYFUNCTION("""COMPUTED_VALUE"""),99.9954884526161) -> 99.995488 | Q33: =IFERROR(__xludf.DUMMYFUNCTION("""COMPUTED_VALUE"""),1271670.48699999) -> 1271670.5
C34: 116 | D34: Обязательные пенсионные взносы работодателя | E34: =IFERROR(__xludf.DUMMYFUNCTION("""COMPUTED_VALUE"""),0) -> 0 | F34: =IFERROR(__xludf.DUMMYFUNCTION("""COMPUTED_VALUE"""),0) -> 0 | G34: =IFERROR(__xludf.DUMMYFUNCTION("""COMPUTED_VALUE"""),0) -> 0 | H34: =IFERROR(__xludf.DUMMYFUNCTION("""COMPUTED_VALUE"""),0) -> 0 | I34: =IFERROR(__xludf.DUMMYFUNCTION("""COMPUTED_VALUE"""),"#DIV/0!") -> #DIV/0! | K34: =IFERROR(__xludf.DUMMYFUNCTION("""COMPUTED_VALUE"""),0) -> 0 | L34: =IFERROR(__xludf.DUMMYFUNCTION("""COMPUTED_VALUE"""),0) -> 0 | M34: =IFERROR(__xludf.DUMMYFUNCTION("""COMPUTED_VALUE"""),0) -> 0 | N34: =IFERROR(__xludf.DUMMYFUNCTION("""COMPUTED_VALUE"""),"#DIV/0!") -> #DIV/0!
C35: 121 | D35: Социальный налог | E35: =IFERROR(__xludf.DUMMYFUNCTION("""COMPUTED_VALUE"""),785544.2) -> 785544.2 | F35: =IFERROR(__xludf.DUMMYFUNCTION("""COMPUTED_VALUE"""),457222.2) -> 457222.2 | G35: =IFERROR(__xludf.DUMMYFUNCTION("""COMPUTED_VALUE"""),457221.87823) -> 457221.88 | H35: =IFERROR(__xludf.DUMMYFUNCTION("""COMPUTED_VALUE"""),0.32176999998046) -> 0.32177 | I35: =IFERROR(__xludf.DUMMYFUNCTION("""COMPUTED_VALUE"""),99.9999296250269) -> 99.99993 | K35: =IFERROR(__xludf.DUMMYFUNCTION("""COMPUTED_VALUE"""),457222.2) -> 457222.2 | L35: =IFERROR(__xludf.DUMMYFUNCTION("""COMPUTED_VALUE"""),457221.87723) -> 457221.88 | M35: =IFERROR(__xludf.DUMMYFUNCTION("""COMPUTED_VALUE"""),0.32276999996975) -> 0.32277 | N35: =IFERROR(__xludf.DUMMYFUNCTION("""COMPUTED_VALUE"""),99.9999294063149) -> 99.999929 | Q35: =IFERROR(__xludf.DUMMYFUNCTION("""COMPUTED_VALUE"""),328322.322769999) -> 328322.32
C36: 122 | D36: Социальные отчисления в ГФСС | E36: =IFERROR(__xludf.DUMMYFUNCTION("""COMPUTED_VALUE"""),434497.3) -> 434497.3 | F36: =IFERROR(__xludf.DUMMYFUNCTION("""COMPUTED_VALUE"""),232268.199999999) -> 232268.2 | G36: =IFERROR(__xludf.DUMMYFUNCTION("""COMPUTED_VALUE"""),231980.469999999) -> 231980.47 | H36: =IFERROR(__xludf.DUMMYFUNCTION("""COMPUTED_VALUE"""),287.73000000001) -> 287.73 | I36: =IFERROR(__xludf.DUMMYFUNCTION("""COMPUTED_VALUE"""),99.8761216559132) -> 99.876122 | K36: =IFERROR(__xludf.DUMMYFUNCTION("""COMPUTED_VALUE"""),232268.199999999) -> 232268.2 | L36: =IFERROR(__xludf.DUMMYFUNCTION("""COMPUTED_VALUE"""),231980.469999999) -> 231980.47 | M36: =IFERROR(__xludf.DUMMYFUNCTION("""COMPUTED_VALUE"""),287.73000000001) -> 287.73 | N36: =IFERROR(__xludf.DUMMYFUNCTION("""COMPUTED_VALUE"""),99.8761216559132) -> 99.876122 | Q36: =IFERROR(__xludf.DUMMYFUNCTION("""COMPUTED_VALUE"""),202516.83) -> 202516.83
C37: 123 | D37: Взносы на обязательное страхование | E37: =IFERROR(__xludf.DUMMYFUNCTION("""COMPUTED_VALUE"""),9321.1) -> 9321.1 | F37: =IFERROR(__xludf.DUMMYFUNCTION("""COMPUTED_VALUE"""),5082.5) -> 5082.5 | G37: =IFERROR(__xludf.DUMMYFUNCTION("""COMPUTED_VALUE"""),4711.7751) -> 4711.7751 | H37: =IFERROR(__xludf.DUMMYFUNCTION("""COMPUTED_VALUE"""),370.7249) -> 370.7249 | I37: =IFERROR(__xludf.DUMMYFUNCTION("""COMPUTED_VALUE"""),92.7058553861288) -> 92.705855 | K37: =IFERROR(__xludf.DUMMYFUNCTION("""COMPUTED_VALUE"""),4665.5) -> 4665.5 | L37: =IFERROR(__xludf.DUMMYFUNCTION("""COMPUTED_VALUE"""),4597.51709999999) -> 4597.5171 | M37: =IFERROR(__xludf.DUMMYFUNCTION("""COMPUTED_VALUE"""),67.9829000000008) -> 67.9829 | N37: =IFERROR(__xludf.DUMMYFUNCTION("""COMPUTED_VALUE"""),98.5428592862501) -> 98.542859 | Q37: =IFERROR(__xludf.DUMMYFUNCTION("""COMPUTED_VALUE"""),4723.5829) -> 4723.5829
C38: 124 | D38: Отчисления на обязательное социальное медицинское страхование | E38: =IFERROR(__xludf.DUMMYFUNCTION("""COMPUTED_VALUE"""),423584.3) -> 423584.3 | F38: =IFERROR(__xludf.DUMMYFUNCTION("""COMPUTED_VALUE"""),227976.5) -> 227976.5 | G38: =IFERROR(__xludf.DUMMYFUNCTION("""COMPUTED_VALUE"""),227742.713) -> 227742.71 | H38: =IFERROR(__xludf.DUMMYFUNCTION("""COMPUTED_VALUE"""),233.786999999982) -> 233.787 | I38: =IFERROR(__xludf.DUMMYFUNCTION("""COMPUTED_VALUE"""),99.8974512723899) -> 99.897451 | K38: =IFERROR(__xludf.DUMMYFUNCTION("""COMPUTED_VALUE"""),227976.5) -> 227976.5 | L38: =IFERROR(__xludf.DUMMYFUNCTION("""COMPUTED_VALUE"""),227742.703) -> 227742.7 | M38: =IFERROR(__xludf.DUMMYFUNCTION("""COMPUTED_VALUE"""),233.796999999991) -> 233.797 | N38: =IFERROR(__xludf.DUMMYFUNCTION("""COMPUTED_VALUE"""),99.8974468859729) -> 99.897447 | Q38: =IFERROR(__xludf.DUMMYFUNCTION("""COMPUTED_VALUE"""),195841.597) -> 195841.6
C39: 142 | D39: Приобретение лекарственных средств и прочих изделий медицинского назначения | E39: =IFERROR(__xludf.DUMMYFUNCTION("""COMPUTED_VALUE"""),661221.5) -> 661221.5 | F39: =IFERROR(__xludf.DUMMYFUNCTION("""COMPUTED_VALUE"""),93073.9) -> 93073.9 | G39: =IFERROR(__xludf.DUMMYFUNCTION("""COMPUTED_VALUE"""),5813.74) -> 5813.74 | H39: =IFERROR(__xludf.DUMMYFUNCTION("""COMPUTED_VALUE"""),87260.1599999999) -> 87260.16 | I39: =IFERROR(__xludf.DUMMYFUNCTION("""COMPUTED_VALUE"""),6.24636982011068) -> 6.2463698 | K39: =IFERROR(__xludf.DUMMYFUNCTION("""COMPUTED_VALUE"""),2702.4) -> 2702.4 | L39: =IFERROR(__xludf.DUMMYFUNCTION("""COMPUTED_VALUE"""),2692.54) -> 2692.54 | M39: =IFERROR(__xludf.DUMMYFUNCTION("""COMPUTED_VALUE"""),9.86000000000012) -> 9.86 | N39: =IFERROR(__xludf.DUMMYFUNCTION("""COMPUTED_VALUE"""),99.6351391355831) -> 99.635139 | Q39: =IFERROR(__xludf.DUMMYFUNCTION("""COMPUTED_VALUE"""),658528.96) -> 658528.96
E40: =IFERROR(__xludf.DUMMYFUNCTION("""COMPUTED_VALUE"""),2080) -> 2080 | F40: =IFERROR(__xludf.DUMMYFUNCTION("""COMPUTED_VALUE"""),558) -> 558 | G40: =IFERROR(__xludf.DUMMYFUNCTION("""COMPUTED_VALUE"""),557.4) -> 557.4 | K40: =IFERROR(__xludf.DUMMYFUNCTION("""COMPUTED_VALUE"""),0) -> 0 | L40: =IFERROR(__xludf.DUMMYFUNCTION("""COMPUTED_VALUE"""),0) -> 0
C41: 144 | D41: Приобретение топлива, горюче-смазочных материалов | E41: =IFERROR(__xludf.DUMMYFUNCTION("""COMPUTED_VALUE"""),270926.3) -> 270926.3 | F41: =IFERROR(__xludf.DUMMYFUNCTION("""COMPUTED_VALUE"""),216302.1) -> 216302.1 | G41: =IFERROR(__xludf.DUMMYFUNCTION("""COMPUTED_VALUE"""),197858.118899999) -> 197858.12 | H41: =IFERROR(__xludf.DUMMYFUNCTION("""COMPUTED_VALUE"""),18443.9811) -> 18443.981 | I41: =IFERROR(__xludf.DUMMYFUNCTION("""COMPUTED_VALUE"""),91.4730457540633) -> 91.473046 | K41: =IFERROR(__xludf.DUMMYFUNCTION("""COMPUTED_VALUE"""),161378.9) -> 161378.9 | L41: =IFERROR(__xludf.DUMMYFUNCTION("""COMPUTED_VALUE"""),161058.47318) -> 161058.47 | M41: =IFERROR(__xludf.DUMMYFUNCTION("""COMPUTED_VALUE"""),320.426819999993) -> 320.42682 | N41: =IFERROR(__xludf.DUMMYFUNCTION("""COMPUTED_VALUE"""),99.8014444143565) -> 99.801444 | Q41: =IFERROR(__xludf.DUMMYFUNCTION("""COMPUTED_VALUE"""),109867.82682) -> 109867.83
...

Sheet по ТД (копия)
A2: Наименование | C2: По обязательствам | G2: По платежам | K2: по видам расходов
C3: План сначала года | D3: Принятые обязательства | E3: Отклонение | F3: % исполнения | G3: План сначала года | H3: Оплаченные обязательства | I3: Остаток по платежам | J3: % исполнения | K3: ФОТ | L3: Командировочные | M3: Коммуналка | N3: Кап расходы (авто) | O3: Кап расходы (ОС) | P3: Кап расходы (Капремонт) | Q3: ГСМ | R3: Запасы | S3: Сизы | T3: Аренда автотранспорта | U3: Услуги и работы прочие | V3: Услуги связи | W3: Услуги госзаказ | X3: Прочие платежи | Y3: Повышение квалификации | Z3: 143 | AA3: маттехоснащение
A4: 1 | B4: 2 | C4: 3 | D4: 4 | E4: 5 | F4: 6 | G4: 7 | H4: 8 | I4: 9 | J4: 10
A5: ВСЕГО по КСЭК МЗ РК | B5: =SUM(B6:B27) -> 46597341 | C5: =SUM(C6:C27) -> 32115555 | D5: =SUM(D6:D27) -> 31877040 | E5: =SUM(E6:E27) -> 238515.08 | F5: =D5/C5*100 -> 99.257322 | G5: =SUM(G6:G27) -> 20799211 | H5: =SUM(H6:H27) -> 20793403 | I5: =SUM(I6:I27) -> 5807.4684 | J5: =H5/G5*100 -> 99.972078 | K5: =SUM(K6:K27) -> 1087.0334 | L5: =SUM(L6:L27) -> 169.644 | M5: =SUM(M6:M27) -> 991.20042 | N5: =SUM(N6:N27) -> 0 | O5: =SUM(O6:O27) -> 2218.5946 | P5: =SUM(P6:P27) -> 545.48173 | Q5: =SUM(Q6:Q27) -> 320.41682 | R5: =SUM(R6:R27) -> 224.21391 | ... AA5: =SUM(AA6:AA27) -> 0
A6: ЦА КСЭК МЗ РК | B6: =ЦА!E8 -> 4378631.6 | C6: =ЦА!F8 -> 733720.2 | D6: =ЦА!G8 -> 731296.58 | E6: =ЦА!H8 -> 2423.617 | F6: =ЦА!I8 -> 99.669681 | G6: =ЦА!K8 -> 526003.3 | H6: =ЦА!L8 -> 526002.82 | I6: =ЦА!M8 -> 0.48039 | J6: =ЦА!O8 -> 99.999909 | K6: =ЦА!O64 -> 0.103 | L6: =ЦА!O65 -> 0 | N6: =ЦА!O67 -> 0 | O6: =ЦА!O68 -> 0 | R6: =ЦА!O71 -> 0.141 | T6: =ЦА!O73 -> 0 | U6: =ЦА!O74 -> 0.096 | V6: =ЦА!O75 -> 0.14039 | W6: =ЦА!O76 -> 0 | X6: =ЦА!O77 -> 0 | Y6: =ЦА!O80 -> 0 | AA6: =ЦА!O79 -> 0
A7: ДСЭК Акмолинской области КСЭК МЗ РК | B7: =IFERROR(__xludf.DUMMYFUNCTION("IMPORTRANGE(""https://docs.google.com/spreadsheets/d/1PsUKG3ee57b5sx42omjfZd9CYxuRONokMWtiORmUc0s/edit#gid=1568135178"",""по ТД!B7:Z27"")"),2360608) -> 2360608 | C7: =IFERROR(__xludf.DUMMYFUNCTION("""COMPUTED_VALUE"""),1842383.6) -> 1842383.6 | D7: =IFERROR(__xludf.DUMMYFUNCTION("""COMPUTED_VALUE"""),1836802.48) -> 1836802.5 | E7: =IFERROR(__xludf.DUMMYFUNCTION("""COMPUTED_VALUE"""),5581.11999999987) -> 5581.12 | F7: =IFERROR(__xludf.DUMMYFUNCTION("""COMPUTED_VALUE"""),99.6970706860395) -> 99.697071 | G7: =IFERROR(__xludf.DUMMYFUNCTION("""COMPUTED_VALUE"""),1325835.4) -> 1325835.4 | H7: =IFERROR(__xludf.DUMMYFUNCTION("""COMPUTED_VALUE"""),1325731.801) -> 1325731.8 | I7: =IFERROR(__xludf.DUMMYFUNCTION("""COMPUTED_VALUE"""),103.598999999929) -> 103.599 | J7: =IFERROR(__xludf.DUMMYFUNCTION("""COMPUTED_VALUE"""),99.9921861341159) -> 99.992186 | K7: =IFERROR(__xludf.DUMMYFUNCTION("""COMPUTED_VALUE"""),36.3080000000009) -> 36.308 | L7: =IFERROR(__xludf.DUMMYFUNCTION("""COMPUTED_VALUE"""),0) -> 0 | M7: =IFERROR(__xludf.DUMMYFUNCTION("""COMPUTED_VALUE"""),0) -> 0 | N7: =IFERROR(__xludf.DUMMYFUNCTION("""COMPUTED_VALUE"""),0) -> 0 | O7: =IFERROR(__xludf.DUMMYFUNCTION("""COMPUTED_VALUE"""),31.048) -> 31.048 | P7: =IFERROR(__xludf.DUMMYFUNCTION("""COMPUTED_VALUE"""),0) -> 0 | Q7: =IFERROR(__xludf.DUMMYFUNCTION("""COMPUTED_VALUE"""),0.0180000000000291) -> 0.018 | R7: =IFERROR(__xludf.DUMMYFUNCTION("""COMPUTED_VALUE"""),0.0230000000010477) -> 0.023 | S7: =IFERROR(__xludf.DUMMYFUNCTION("""COMPUTED_VALUE"""),9.4) -> 9.4 | T7: =IFERROR(__xludf.DUMMYFUNCTION("""COMPUTED_VALUE"""),0) -> 0 | U7: =IFERROR(__xludf.DUMMYFUNCTION("""COMPUTED_VALUE"""),26.6719999999999) -> 26.672 | V7: =IFERROR(__xludf.DUMMYFUNCTION("""COMPUTED_VALUE"""),0) -> 0 | W7: =IFERROR(__xludf.DUMMYFUNCTION("""COMPUTED_VALUE"""),0.018999999971129) -> 0.019 | X7: =IFERROR(__xludf.DUMMYFUNCTION("""COMPUTED_VALUE"""),0.091000000000001) -> 0.091 | Y7: =IFERROR(__xludf.DUMMYFUNCTION("""COMPUTED_VALUE"""),0.0199999999999818) -> 0.02
A8: ДСЭК Актюбинской области КСЭК МЗ РК | B8: =IFERROR(__xludf.DUMMYFUNCTION("""COMPUTED_VALUE"""),1949055.7) -> 1949055.7 | C8: =IFERROR(__xludf.DUMMYFUNCTION("""COMPUTED_VALUE"""),1501536.1) -> 1501536.1 | D8: =IFERROR(__xludf.DUMMYFUNCTION("""COMPUTED_VALUE"""),1501531.295) -> 1501531.3 | E8: =IFERROR(__xludf.DUMMYFUNCTION("""COMPUTED_VALUE"""),4.8049999999892) -> 4.805 | F8: =IFERROR(__xludf.DUMMYFUNCTION("""COMPUTED_VALUE"""),99.9996799943737) -> 99.99968 | G8: =IFERROR(__xludf.DUMMYFUNCTION("""COMPUTED_VALUE"""),941974.399999999) -> 941974.4 | H8: =IFERROR(__xludf.DUMMYFUNCTION("""COMPUTED_VALUE"""),941970.738999999) -> 941970.74 | I8: =IFERROR(__xludf.DUMMYFUNCTION("""COMPUTED_VALUE"""),3.66100000001398) -> 3.661 | J8: =IFERROR(__xludf.DUMMYFUNCTION("""COMPUTED_VALUE"""),99.9996113482489) -> 99.999611 | K8: =IFERROR(__xludf.DUMMYFUNCTION("""COMPUTED_VALUE"""),0) -> 0 | L8: =IFERROR(__xludf.DUMMYFUNCTION("""COMPUTED_VALUE"""),3.43799999999998) -> 3.438 | M8: =IFERROR(__xludf.DUMMYFUNCTION("""COMPUTED_VALUE"""),0) -> 0 | N8: =IFERROR(__xludf.DUMMYFUNCTION("""COMPUTED_VALUE"""),0) -> 0 | O8: =IFERROR(__xludf.DUMMYFUNCTION("""COMPUTED_VALUE"""),0.0830000000000268) -> 0.083 | P8: =IFERROR(__xludf.DUMMYFUNCTION("""COMPUTED_VALUE"""),0) -> 0 | Q8: =IFERROR(__xludf.DUMMYFUNCTION("""COMPUTED_VALUE"""),0) -> 0 | R8: =IFERROR(__xludf.DUMMYFUNCTION("""COMPUTED_VALUE"""),0.00499999999965439) -> 0.005 | S8: =IFERROR(__xludf.DUMMYFUNCTION("""COMPUTED_VALUE"""),0) -> 0 | T8: =IFERROR(__xludf.DUMMYFUNCTION("""COMPUTED_VALUE"""),0.0749999999998181) -> 0.075 | U8: =IFERROR(__xludf.DUMMYFUNCTION("""COMPUTED_VALUE"""),0.0599999999976716) -> 0.06 | V8: =IFERROR(__xludf.DUMMYFUNCTION("""COMPUTED_VALUE"""),0) -> 0 | W8: =IFERROR(__xludf.DUMMYFUNCTION("""COMPUTED_VALUE"""),0) -> 0 | X8: =IFERROR(__xludf.DUMMYFUNCTION("""COMPUTED_VALUE"""),0) -> 0 | Y8: =IFERROR(__xludf.DUMMYFUNCTION("""COMPUTED_VALUE"""),0) -> 0
A9: ДСЭК Алматинской области КСЭК МЗ РК | B9: =IFERROR(__xludf.DUMMYFUNCTION("""COMPUTED_VALUE"""),1823103.4) -> 1823103.4 | C9: =IFERROR(__xludf.DUMMYFUNCTION("""COMPUTED_VALUE"""),1325432.8) -> 1325432.8 | D9: =IFERROR(__xludf.DUMMYFUNCTION("""COMPUTED_VALUE"""),1324233.97621) -> 1324234 | E9: =IFERROR(__xludf.DUMMYFUNCTION("""COMPUTED_VALUE"""),1198.82379000005) -> 1198.8238 | F9: =IFERROR(__xludf.DUMMYFUNCTION("""COMPUTED_VALUE"""),99.909552276811) -> 99.909552 | G9: =IFERROR(__xludf.DUMMYFUNCTION("""COMPUTED_VALUE"""),726870.6) -> 726870.6 | H9: =IFERROR(__xludf.DUMMYFUNCTION("""COMPUTED_VALUE"""),726870.43765) -> 726870.44 | I9: =IFERROR(__xludf.DUMMYFUNCTION("""COMPUTED_VALUE"""),0.162349999998696) -> 0.16235 | J9: =IFERROR(__xludf.DUMMYFUNCTION("""COMPUTED_VALUE"""),99.9999776645251) -> 99.999978 | K9: =IFERROR(__xludf.DUMMYFUNCTION("""COMPUTED_VALUE"""),0) -> 0 | L9: =IFERROR(__xludf.DUMMYFUNCTION("""COMPUTED_VALUE"""),0) -> 0 | M9: =IFERROR(__xludf.DUMMYFUNCTION("""COMPUTED_VALUE"""),0) -> 0 | N9: =IFERROR(__xludf.DUMMYFUNCTION("""COMPUTED_VALUE"""),0) -> 0 | O9: =IFERROR(__xludf.DUMMYFUNCTION("""COMPUTED_VALUE"""),0) -> 0 | P9: =IFERROR(__xludf.DUMMYFUNCTION("""COMPUTED_VALUE"""),0) -> 0 | Q9: =IFERROR(__xludf.DUMMYFUNCTION("""COMPUTED_VALUE"""),0.0706800000007206) -> 0.07068 | R9: =IFERROR(__xludf.DUMMYFUNCTION("""COMPUTED_VALUE"""),0.0582399999998415) -> 0.05824 | S9: =IFERROR(__xludf.DUMMYFUNCTION("""COMPUTED_VALUE"""),0) -> 0 | T9: =IFERROR(__xludf.DUMMYFUNCTION("""COMPUTED_VALUE"""),0) -> 0 | U9: =IFERROR(__xludf.DUMMYFUNCTION("""COMPUTED_VALUE"""),0) -> 0 | V9: =IFERROR(__xludf.DUMMYFUNCTION("""COMPUTED_VALUE"""),0) -> 0 | W9: =IFERROR(__xludf.DUMMYFUNCTION("""COMPUTED_VALUE"""),0.0334300000104121) -> 0.03343 | X9: =IFERROR(__xludf.DUMMYFUNCTION("""COMPUTED_VALUE"""),0) -> 0 | Y9: =IFERROR(__xludf.DUMMYFUNCTION("""COMPUTED_VALUE"""),0) -> 0
A10: ДСЭК Атырауской области КСЭК МЗ РК | B10: =IFERROR(__xludf.DUMMYFUNCTION("""COMPUTED_VALUE"""),1509428.5) -> 1509428.5 | C10: =IFERROR(__xludf.DUMMYFUNCTION("""COMPUTED_VALUE"""),1085777.3) -> 1085777.3 | D10: =IFERROR(__xludf.DUMMYFUNCTION("""COMPUTED_VALUE"""),1081132.99599999) -> 1081133 | E10: =IFERROR(__xludf.DUMMYFUNCTION("""COMPUTED_VALUE"""),4644.30400000023) -> 4644.304 | F10: =IFERROR(__xludf.DUMMYFUNCTION("""COMPUTED_VALUE"""),99.5722599837001) -> 99.57226 | G10: =IFERROR(__xludf.DUMMYFUNCTION("""COMPUTED_VALUE"""),667642.4) -> 667642.4 | H10: =IFERROR(__xludf.DUMMYFUNCTION("""COMPUTED_VALUE"""),667156.566) -> 667156.57 | I10: =IFERROR(__xludf.DUMMYFUNCTION("""COMPUTED_VALUE"""),485.834000000031) -> 485.834 | J10: =IFERROR(__xludf.DUMMYFUNCTION("""COMPUTED_VALUE"""),99.9272314041169) -> 99.927231 | K10: =IFERROR(__xludf.DUMMYFUNCTION("""COMPUTED_VALUE"""),477.560000000009) -> 477.56 | L10: =IFERROR(__xludf.DUMMYFUNCTION("""COMPUTED_VALUE"""),0) -> 0 | M10: =IFERROR(__xludf.DUMMYFUNCTION("""COMPUTED_VALUE"""),0) -> 0 | N10: =IFERROR(__xludf.DUMMYFUNCTION("""COMPUTED_VALUE"""),0) -> 0 | O10: =IFERROR(__xludf.DUMMYFUNCTION("""COMPUTED_VALUE"""),0) -> 0 | P10: =IFERROR(__xludf.DUMMYFUNCTION("""COMPUTED_VALUE"""),0) -> 0 | Q10: =IFERROR(__xludf.DUMMYFUNCTION("""COMPUTED_VALUE"""),1.68400000000019) -> 1.684 | R10: =IFERROR(__xludf.DUMMYFUNCTION("""COMPUTED_VALUE"""),0.900000000000545) -> 0.9 | S10: =IFERROR(__xludf.DUMMYFUNCTION("""COMPUTED_VALUE"""),0) -> 0 | T10: =IFERROR(__xludf.DUMMYFUNCTION("""COMPUTED_VALUE"""),0) -> 0 | U10: =IFERROR(__xludf.DUMMYFUNCTION("""COMPUTED_VALUE"""),0) -> 0 | V10: =IFERROR(__xludf.DUMMYFUNCTION("""COMPUTED_VALUE"""),0) -> 0 | W10: =IFERROR(__xludf.DUMMYFUNCTION("""COMPUTED_VALUE"""),0) -> 0 | X10: =IFERROR(__xludf.DUMMYFUNCTION("""COMPUTED_VALUE"""),0) -> 0 | Y10: =IFERROR(__xludf.DUMMYFUNCTION("""COMPUTED_VALUE"""),0.0600000000001728) -> 0.06
A11: ДСЭК ВКО КСЭК МЗ РК | B11: =IFERROR(__xludf.DUMMYFUNCTION("""COMPUTED_VALUE"""),2237806.89999999) -> 2237806.9 | C11: =IFERROR(__xludf.DUMMYFUNCTION("""COMPUTED_VALUE"""),1701757.1) -> 1701757.1 | D11: =IFERROR(__xludf.DUMMYFUNCTION("""COMPUTED_VALUE"""),1701142.54305) -> 1701142.5 | E11: =IFERROR(__xludf.DUMMYFUNCTION("""COMPUTED_VALUE"""),614.556950000114) -> 614.55695 | F11: =IFERROR(__xludf.DUMMYFUNCTION("""COMPUTED_VALUE"""),99.9638869172339) -> 99.963887 | G11: =IFERROR(__xludf.DUMMYFUNCTION("""COMPUTED_VALUE"""),1189600.2) -> 1189600.2 | H11: =IFERROR(__xludf.DUMMYFUNCTION("""COMPUTED_VALUE"""),1189285.18468) -> 1189285.2 | I11: =IFERROR(__xludf.DUMMYFUNCTION("""COMPUTED_VALUE"""),315.015320000238) -> 315.01532 | J11: =IFERROR(__xludf.DUMMYFUNCTION("""COMPUTED_VALUE"""),99.9735192277203) -> 99.973519 | K11: =IFERROR(__xludf.DUMMYFUNCTION("""COMPUTED_VALUE"""),0.000970000005509064) -> 0.00097000001 | L11: =IFERROR(__xludf.DUMMYFUNCTION("""COMPUTED_VALUE"""),0.0389999999999872) -> 0.039 | M11: =IFERROR(__xludf.DUMMYFUNCTION("""COMPUTED_VALUE"""),0) -> 0 | N11: =IFERROR(__xludf.DUMMYFUNCTION("""COMPUTED_VALUE"""),0) -> 0 | O11: =IFERROR(__xludf.DUMMYFUNCTION("""COMPUTED_VALUE"""),0) -> 0 | P11: =IFERROR(__xludf.DUMMYFUNCTION("""COMPUTED_VALUE"""),0.0107299999999668) -> 0.01073 | Q11: =IFERROR(__xludf.DUMMYFUNCTION("""COMPUTED_VALUE"""),314.782729999999) -> 314.78273 | R11: =IFERROR(__xludf.DUMMYFUNCTION("""COMPUTED_VALUE"""),0.0320300000003044) -> 0.03203 | S11: =IFERROR(__xludf.DUMMYFUNCTION("""COMPUTED_VALUE"""),0) -> 0 | T11: =IFERROR(__xludf.DUMMYFUNCTION("""COMPUTED_VALUE"""),0.0217599999996309) -> 0.02176 | U11: =IFERROR(__xludf.DUMMYFUNCTION("""COMPUTED_VALUE"""),0.0103599999999914) -> 0.01036 | V11: =IFERROR(__xludf.DUMMYFUNCTION("""COMPUTED_VALUE"""),0) -> 0 | W11: =IFERROR(__xludf.DUMMYFUNCTION("""COMPUTED_VALUE"""),0) -> 0 | X11: =IFERROR(__xludf.DUMMYFUNCTION("""COMPUTED_VALUE"""),0.0569700000000084) -> 0.05697 | Y11: =IFERROR(__xludf.DUMMYFUNCTION("""COMPUTED_VALUE"""),0.0600000000000591) -> 0.06
