Workbook

Sheet Форма 1
A3: Данные о работе местного исполнительного органа по внутреннему контролю за качеством оказания государственных услуг, шт.
A5: № п/п | D5: Выполняемые мероприятия | F5: Наименование месяцев | AD5: ВСЕГО
F6: январь | H6: февраль | J6: март | L6: апрель | N6: май | P6: июнь | R6: июль | T6: август | V6: сентябрь | X6: октябрь | Z6: ноябрь | AB6: декабрь | AD6: за __ квартал
F7: 1 | H7: 2 | J7: 3 | L7: 4 | N7: 5 | P7: 6 | R7: 7 | T7: 8 | V7: 9 | X7: 10 | Z7: 11 | AB7: 12
A8: 1. Информация о результатах контрольных мероприятий (установленных по итогам внутреннего контроля)
A9: 1. | D9: Количество проведенных контрольных мероприятий, всего, из них: | F9: =F10+F11 -> 0 | H9: =H10+H11 -> 0 | J9: =J10+J11 -> 0 | L9: =L10+L11 -> 0 | N9: =N10+N11 -> 0 | P9: =P10+P11 -> 0 | R9: =R10+R11 -> 0 | T9: =T10+T11 -> 0 | V9: =V10+V11 -> 0 | X9: =X10+X11 -> 0 | Z9: =Z10+Z11 -> 0 | AB9: =AB10+AB11 -> 0 | AD9: =F9+H9+J9+L9+N9+P9+R9+T9+V9+X9+Z9+AB9 -> 0
A10: 1.1. | D10: согласно утвержденному годовому плану контрольных мероприятий | AD10: =F10+H10+J10+L10+N10+P10+R10+T10+V10+X10+Z10+AB10 -> 0
A11: 1.2. | D11: по результатам мониторинга качества оказания государственных услуг | AD11: =F11+H11+J11+L11+N11+P11+R11+T11+V11+X11+Z11+AB11 -> 0
A12: 2. | D12: Количество объектов контрольных мероприятий, всего, из них: | F12: =F13+F14+F15+F16+F17 -> 0 | H12: =H13+H14+H15+H16+H17 -> 0 | J12: =J13+J14+J15+J16+J17 -> 0 | L12: =L13+L14+L15+L16+L17 -> 0 | N12: =N13+N14+N15+N16+N17 -> 0 | P12: =P13+P14+P15+P16+P17 -> 0 | R12: =R13+R14+R15+R16+R17 -> 0 | T12: =T13+T14+T15+T16+T17 -> 0 | V12: =V13+V14+V15+V16+V17 -> 0 | X12: =X13+X14+X15+X16+X17 -> 0 | Z12: =Z13+Z14+Z15+Z16+Z17 -> 0 | AB12: =AB13+AB14+AB15+AB16+AB17 -> 0 | AD12: =F12+H12+J12+L12+N12+P12+R12+T12+V12+X12+Z12+AB12 -> 0
A13: 2.1. | D13: структурных подразделений и ведомств центрального государственного органа | AD13: =F13+H13+J13+L13+N13+P13+R13+T13+V13+X13+Z13+AB13 -> 0
A14: 2.2. | D14: местных исполнительных органов | AD14: =F14+H14+J14+L14+N14+P14+R14+T14+V14+X14+Z14+AB14 -> 0
A15: 2.3. | D15: подведомственных организаций | AD15: =F15+H15+J15+L15+N15+P15+R15+T15+V15+X15+Z15+AB15 -> 0
A16: 2.4. | D16: физических лиц, оказывающих государственные услуги в соответствии с законодательством Республики Казахстан | AD16: =F16+H16+J16+L16+N16+P16+R16+T16+V16+X16+Z16+AB16 -> 0
A17: 2.5. | D17: юридических лиц, оказывающих государственные услуги в соответствии с законодательством Республики Казахстан (не являющихся государственными органами или подведомственными организациями) | AD17: =F17+H17+J17+L17+N17+P17+R17+T17+V17+X17+Z17+AB17 -> 0
A18: 3. | D18: Количество выявленных нарушений, всего, из них: | F18: =F19+F20+F21+F22+F23+F24+F25+F26+F27+F28+F29+F30+F31+F32+F33+F34+F35 -> 0 | H18: =H19+H20+H21+H22+H23+H24+H25+H26+H27+H28+H29+H30+H31+H32+H33+H34+H35 -> 0 | J18: =J19+J20+J21+J22+J23+J24+J25+J26+J27+J28+J29+J30+J31+J32+J33+J34+J35 -> 0 | L18: =L19+L20+L21+L22+L23+L24+L25+L26+L27+L28+L29+L30+L31+L32+L33+L34+L35 -> 0 | N18: =N19+N20+N21+N22+N23+N24+N25+N26+N27+N28+N29+N30+N31+N32+N33+N34+N35 -> 0 | P18: =P19+P20+P21+P22+P23+P24+P25+P26+P27+P28+P29+P30+P31+P32+P33+P34+P35 -> 0 | R18: =R19+R20+R21+R22+R23+R24+R25+R26+R27+R28+R29+R30+R31+R32+R33+R34+R35 -> 0 | T18: =T19+T20+T21+T22+T23+T24+T25+T26+T27+T28+T29+T30+T31+T32+T33+T34+T35 -> 0 | V18: =V19+V20+V21+V22+V23+V24+V25+V26+V27+V28+V29+V30+V31+V32+V33+V34+V35 -> 0 | X18: =X19+X20+X21+X22+X23+X24+X25+X26+X27+X28+X29+X30+X31+X32+X33+X34+X35 -> 0 | Z18: =Z19+Z20+Z21+Z22+Z23+Z24+Z25+Z26+Z27+Z28+Z29+Z30+Z31+Z32+Z33+Z34+Z35 -> 0 | AB18: =AB19+AB20+AB21+AB22+AB23+AB24+AB25+AB26+AB27+AB28+AB29+AB30+AB31+AB32+AB33+AB34+AB35 -> 0 | AD18: =F18+H18+J18+L18+N18+P18+R18+T18+V18+X18+Z18+AB18 -> 0
A19: 3.1. | D19: нарушения сроков оказания государственных услуг | AD19: =F19+H19+J19+L19+N19+P19+R19+T19+V19+X19+Z19+AB19 -> 0
A20: 3.2. | D20: нарушения сроков отказов оказания государственных услуг | AD20: =F20+H20+J20+L20+N20+P20+R20+T20+V20+X20+Z20+AB20 -> 0
A21: 3.3. | D21: оказания государственных услуг при отсутствии полного пакета документов, предусмотренных подзаконными нормативными правовыми актами, а также несоответствии перечня документов или сведений, указанных в них, требованиям подзаконных нормативных правовых актов | AD21: =F21+H21+J21+L21+N21+P21+R21+T21+V21+X21+Z21+AB21 -> 0
A22: 3.4. | D22: истребования документов, не предусмотренных установленным перечнем в подзаконных нормативных правовых актах | AD22: =F22+H22+J22+L22+N22+P22+R22+T22+V22+X22+Z22+AB22 -> 0
A23: 3.5. | D23: истребования документов, которые возможно получить из информационных систем | AD23: =F23+H23+J23+L23+N23+P23+R23+T23+V23+X23+Z23+AB23 -> 0
A24: 3.6. | D24: неоднократного предоставления отказа по заявлениям с идентичным перечнем документов и их содержанием | AD24: =F24+H24+J24+L24+N24+P24+R24+T24+V24+X24+Z24+AB24 -> 0
A25: 3.7. | D25: нарушения порядка (бизнес-процессов) оказания государственных услуг | AD25: =F25+H25+J25+L25+N25+P25+R25+T25+V25+X25+Z25+AB25 -> 0
A26: 3.8. | D26: необоснованных отказов в оказании государственных услуг | AD26: =F26+H26+J26+L26+N26+P26+R26+T26+V26+X26+Z26+AB26 -> 0
A27: 3.9. | D27: несоблюдения графика работы, предусмотренного подзаконными нормативными правовыми актами | AD27: =F27+H27+J27+L27+N27+P27+R27+T27+V27+X27+Z27+AB27 -> 0
A28: 3.10. | D28: предоставления государственной услуги на платной основе, бесплатное предоставление которой гарантировано законами Республики Казахстан | AD28: =F28+H28+J28+L28+N28+P28+R28+T28+V28+X28+Z28+AB28 -> 0
A29: 3.11. | D29: отсутствия ответов на запросы о стадии исполнения государственных услуг, а также предоставление услугополучателям неполной и недостоверной информации о порядке оказания государственных услуг | AD29: =F29+H29+J29+L29+N29+P29+R29+T29+V29+X29+Z29+AB29 -> 0
A30: 3.12. | D30: отсутствия перечня необходимых документов и образцов форм их заполнения для оказания государственных услуг в местах нахождения услугодателей и в отделах по обслуживанию населения филиалов Государственной корпорации | AD30: =F30+H30+J30+L30+N30+P30+R30+T30+V30+X30+Z30+AB30 -> 0
... A36: 4. | D36: Количество лиц, восстановивших нарушенные права при получении государственных услуг по результатам контрольных мероприятий | AD36: =F36+H36+J36+L36+N36+P36+R36+T36+V36+X36+Z36+AB36 -> 0
A37: 5. | D37: Количество наложенных дисциплинарных взысканий по итогам контрольных мероприятий, всего, из них: | F37: =F38+F39+F40+F41+F42+F43 -> 0 | H37: =H38+H39+H40+H41+H42+H43 -> 0 | J37: =J38+J39+J40+J41+J42+J43 -> 0 | L37: =L38+L39+L40+L41+L42+L43 -> 0 | N37: =N38+N39+N40+N41+N42+N43 -> 0 | P37: =P38+P39+P40+P41+P42+P43 -> 0 | R37: =R38+R39+R40+R41+R42+R43 -> 0 | T37: =T38+T39+T40+T41+T42+T43 -> 0 | V37: =V38+V39+V40+V41+V42+V43 -> 0 | X37: =X38+X39+X40+X41+X42+X43 -> 0 | Z37: =Z38+Z39+Z40+Z41+Z42+Z43 -> 0 | AB37: =AB38+AB39+AB40+AB41+AB42+AB43 -> 0 | AD37: =F37+H37+J37+L37+N37+P37+R37+T37+V37+X37+Z37+AB37 -> 0
A38: 5.1. | D38: замечание | AD38: =F38+H38+J38+L38+N38+P38+R38+T38+V38+X38+Z38+AB38 -> 0
A39: 5.2. | D39: выговор | AD39: =F39+H39+J39+L39+N39+P39+R39+T39+V39+X39+Z39+AB39 -> 0
A40: 5.3. | D40: строгий выговор | AD40: =F40+H40+J40+L40+N40+P40+R40+T40+V40+X40+Z40+AB40 -> 0
A41: 5.4. | D41: предупреждение о неполном служебном соответствии | AD41: =F41+H41+J41+L41+N41+P41+R41+T41+V41+X41+Z41+AB41 -> 0
A42: 5.5. | D42: понижение в должности | AD42: =F42+H42+J42+L42+N42+P42+R42+T42+V42+X42+Z42+AB42 -> 0
A43: 5.6. | D43: увольнение с занимаемой должности | AD43: =F43+H43+J43+L43+N43+P43+R43+T43+V43+X43+Z43+AB43 -> 0
A44: 6. | D44: Количество лиц, привлеченных к дисциплинарной ответственности, всего, из них: | F44: =F45+F46+F47 -> 0 | H44: =H45+H46+H47 -> 0 | J44: =J45+J46+J47 -> 0 | L44: =L45+L46+L47 -> 0 | N44: =N45+N46+N47 -> 0 | P44: =P45+P46+P47 -> 0 | R44: =R45+R46+R47 -> 0 | T44: =T45+T46+T47 -> 0 | V44: =V45+V46+V47 -> 0 | X44: =X45+X46+X47 -> 0 | Z44: =Z45+Z46+Z47 -> 0 | AB44: =AB45+AB46+AB47 -> 0 | AD44: =F44+H44+J44+L44+N44+P44+R44+T44+V44+X44+Z44+AB44 -> 0
A45: 6.1. | D45: сотрудники структурных подразделений и ведомств центрального государственного органа | AD45: =F45+H45+J45+L45+N45+P45+R45+T45+V45+X45+Z45+AB45 -> 0
A46: 6.2. | D46: сотрудники местных исполнительных органов | AD46: =F46+H46+J46+L46+N46+P46+R46+T46+V46+X46+Z46+AB46 -> 0
A47: 6.3. | D47: сотрудники подведомственных организаций | AD47: =F47+H47+J47+L47+N47+P47+R47+T47+V47+X47+Z47+AB47 -> 0
A48: 7 | D48: Количество выработанных рекомендаций по итогам контрольных мероприятий, всего, из них: | F48: =F49+F50 -> 0 | H48: =H49+H50 -> 0 | J48: =J49+J50 -> 0 | L48: =L49+L50 -> 0 | N48: =N49+N50 -> 0 | P48: =P49+P50 -> 0 | R48: =R49+R50 -> 0 | T48: =T49+T50 -> 0 | V48: =V49+V50 -> 0 | X48: =X49+X50 -> 0 | Z48: =Z49+Z50 -> 0 | AB48: =AB49+AB50 -> 0 | AD48: =F48+H48+J48+L48+N48+P48+R48+T48+V48+X48+Z48+AB48 -> 0
...

Sheet Форма 2
A3: Данные о работе местного исполнительного органа по внутреннему контролю за качеством оказания государственных услуг, шт.
A5: 2.1. Информация о количестве оказанных государственных услуг
A6: № | D6: Выполняемые мероприятия | F6: Наименование месяцев | AD6: ВСЕГО
F7: январь | H7: февраль | J7: март | L7: апрель | N7: май | P7: июнь | R7: июль | T7: август | V7: сентябрь | X7: октябрь | Z7: ноябрь | AB7: декабрь
F8: физ. лицо | G8: юр. лицо | H8: физ. лицо | I8: юр. лицо | J8: физ. лицо | K8: юр. лицо | L8: физ. лицо | M8: юр. лицо | N8: физ. лицо | O8: юр. лицо | P8: физ. лицо | Q8: юр. лицо | R8: физ. лицо | S8: юр. лицо | T8: физ. лицо | U8: юр. лицо | V8: физ. лицо | W8: юр. лицо | X8: физ. лицо | Y8: юр. лицо | Z8: физ. лицо | AA8: юр. лицо | AB8: физ. лицо | AC8: юр. лицо | AD8: физ. лицо | AE8: юр. лицо
D9: Количество государственных услуг, оказанных в электронном виде – всего, в том числе: | F9: =F10+F373 -> 31 | G9: =G10+G373 -> 89 | H9: =H10+H373 -> 49 | I9: =I10+I373 -> 25 | J9: =J10+J373 -> 53 | K9: =K10+K373 -> 82 | L9: =L10+L373 -> 54 | M9: =M10+M373 -> 57 | ... AC9: =AC10+AC373 -> 0 | AD9: =F9+H9+J9+L9+N9+P9+R9+T9+V9+X9+Z9+AB9 -> 353 | AE9: =G9+I9+K9+M9+O9+Q9+S9+U9+W9+Y9+AA9+AC9 -> 466
C10: ПЭП | D10: Количество государственных услуг оказанных в электронном виде через веб-портал «электронное правительство» в том числе по видам услуг: | F10: =SUM(F12:F372) -> 0 | G10: =SUM(G12:G372) -> 0 | H10: =SUM(H12:H372) -> 0 | I10: =SUM(I12:I372) -> 0 | J10: =SUM(J12:J372) -> 0 | K10: =SUM(K12:K372) -> 0 | L10: =SUM(L12:L372) -> 0 | M10: =SUM(M12:M372) -> 0 | ... AC10: =SUM(AC12:AC372) -> 0 | AD10: =F10+H10+J10+L10+N10+P10+R10+T10+V10+X10+Z10+AB10 -> 0 | AE10: =G10+I10+K10+M10+O10+Q10+S10+U10+W10+Y10+AA10+AC10 -> 0
D11: наименование государственной услуги | E11: наименование подвида государственной услуги
A12: 1 | C12: ПЭП | D12: Выдача удостоверений на право управления тракторами и изготовленными на их базе самоходными шасси и механизмами, самоходными сельскохозяйственными, мелиоративными и дорожно-строительными машинами и механизмами, а также специальными машинами повышенной проходимости | AD12: =F12+H12+J12+L12+N12+P12+R12+T12+V12+X12+Z12+AB12 -> 0 | AE12: =G12+I12+K12+M12+O12+Q12+S12+U12+W12+Y12+AA12+AC12 -> 0
B13: 1 | C13: ПЭП | E13: Получение удостоверения тракториста-машиниста категорий "А", "В", "Г", "Б" и "Д" | F13: 0 | H13: 0 | J13: 0 | L13: 0 | N13: 0 | P13: 0 | R13: 0 | T13: 0 | V13: 0 | AD13: =F13+H13+J13+L13+N13+P13+R13+T13+V13+X13+Z13+AB13 -> 0 | AE13: =G13+I13+K13+M13+O13+Q13+S13+U13+W13+Y13+AA13+AC13 -> 0
B14: 2 | C14: ПЭП | E14: Получение удостоверения тракториста-машиниста с записью "управление снегоходами, квадроциклами разрешено": | F14: 0 | H14: 0 | J14: 0 | L14: 0 | N14: 0 | P14: 0 | R14: 0 | T14: 0 | V14: 0 | AD14: =F14+H14+J14+L14+N14+P14+R14+T14+V14+X14+Z14+AB14 -> 0 | AE14: =G14+I14+K14+M14+O14+Q14+S14+U14+W14+Y14+AA14+AC14 -> 0
B15: 3 | C15: ПЭП | E15: Замена удостоверения тракториста-машиниста | F15: 0 | H15: 0 | J15: 0 | L15: 0 | N15: 0 | P15: 0 | R15: 0 | T15: 0 | V15: 0 | AD15: =F15+H15+J15+L15+N15+P15+R15+T15+V15+X15+Z15+AB15 -> 0 | AE15: =G15+I15+K15+M15+O15+Q15+S15+U15+W15+Y15+AA15+AC15 -> 0
B16: 4 | C16: ПЭП | E16: Получение дубликата удостоверения тракториста-машиниста | F16: 0 | H16: 0 | J16: 0 | L16: 0 | N16: 0 | P16: 0 | R16: 0 | T16: 0 | V16: 0 | AD16: =F16+H16+J16+L16+N16+P16+R16+T16+V16+X16+Z16+AB16 -> 0 | AE16: =G16+I16+K16+M16+O16+Q16+S16+U16+W16+Y16+AA16+AC16 -> 0
A17: 2 | C17: ПЭП | D17: Выдача удостоверения на право управления самоходным маломерным судном | AD17: =F17+H17+J17+L17+N17+P17+R17+T17+V17+X17+Z17+AB17 -> 0 | AE17: =G17+I17+K17+M17+O17+Q17+S17+U17+W17+Y17+AA17+AC17 -> 0
B18: 5 | C18: ПЭП | E18: Выдача удостоверения на право управления самоходным маломерным судном | AD18: =F18+H18+J18+L18+N18+P18+R18+T18+V18+X18+Z18+AB18 -> 0 | AE18: =G18+I18+K18+M18+O18+Q18+S18+U18+W18+Y18+AA18+AC18 -> 0
B19: 6 | C19: ПЭП | E19: Выдача дубликата удостоверения на право управления самоходным маломерным судном | AD19: =F19+H19+J19+L19+N19+P19+R19+T19+V19+X19+Z19+AB19 -> 0 | AE19: =G19+I19+K19+M19+O19+Q19+S19+U19+W19+Y19+AA19+AC19 -> 0
B20: 7 | C20: ПЭП | E20: Выдача удостоверения на право управления самоходным маломерным судном в случае истечения срока действия ранее выданного удостоверения | AD20: =F20+H20+J20+L20+N20+P20+R20+T20+V20+X20+Z20+AB20 -> 0 | AE20: =G20+I20+K20+M20+O20+Q20+S20+U20+W20+Y20+AA20+AC20 -> 0
B21: 8 | C21: ПЭП | E21: "Выдача удостоверения на право управления самоходным маломерным судном в связи с изменением района плавания и (или) типа судна" | AD21: =F21+H21+J21+L21+N21+P21+R21+T21+V21+X21+Z21+AB21 -> 0 | AE21: =G21+I21+K21+M21+O21+Q21+S21+U21+W21+Y21+AA21+AC21 -> 0
A22: 3 | C22: ПЭП | D22: Проведение регистрации и перерегистрации лиц, осуществляющих миссионерскую деятельность | AD22: =F22+H22+J22+L22+N22+P22+R22+T22+V22+X22+Z22+AB22 -> 0 | AE22: =G22+I22+K22+M22+O22+Q22+S22+U22+W22+Y22+AA22+AC22 -> 0
A23: 4 | C23: ПЭП | D23: Присвоение или продление статуса кандаса | AD23: =F23+H23+J23+L23+N23+P23+R23+T23+V23+X23+Z23+AB23 -> 0 | AE23: =G23+I23+K23+M23+O23+Q23+S23+U23+W23+Y23+AA23+AC23 -> 0
B24: 9 | C24: ПЭП | E24: Получение статуса в общем порядке | AD24: =F24+H24+J24+L24+N24+P24+R24+T24+V24+X24+Z24+AB24 -> 0 | AE24: =G24+I24+K24+M24+O24+Q24+S24+U24+W24+Y24+AA24+AC24 -> 0
B25: 10 | C25: ПЭП | E25: Получение статуса на основании согласия местного исполнительного органа на присвоение статуса кандаса через загранучреждения Республики Казахстан | AD25: =F25+H25+J25+L25+N25+P25+R25+T25+V25+X25+Z25+AB25 -> 0 | AE25: =G25+I25+K25+M25+O25+Q25+S25+U25+W25+Y25+AA25+AC25 -> 0
B26: 11 | C26: ПЭП | E26: Продление статуса | AD26: =F26+H26+J26+L26+N26+P26+R26+T26+V26+X26+Z26+AB26 -> 0 | AE26: =G26+I26+K26+M26+O26+Q26+S26+U26+W26+Y26+AA26+AC26 -> 0
A27: 5 | C27: ПЭП | D27: Предоставление отсрочки от призыва | AD27: =F27+H27+J27+L27+N27+P27+R27+T27+V27+X27+Z27+AB27 -> 0 | AE27: =G27+I27+K27+M27+O27+Q27+S27+U27+W27+Y27+AA27+AC27 -> 0
B28: 12 | C28: ПЭП | E28: Гражданам, занятым уходом за членами семьи, нуждающимися в посторонней помощи и не находящимися на полном государственном обеспечении, при отсутствии близких родственников или других лиц, проживающих на территории Республики Казахстан вместе с ними или отдельно, обязанных по закону содержать указанных членов семьи | AD28: =F28+H28+J28+L28+N28+P28+R28+T28+V28+X28+Z28+AB28 -> 0 | AE28: =G28+I28+K28+M28+O28+Q28+S28+U28+W28+Y28+AA28+AC28 -> 0
B29: 13 | C29: ПЭП | E29: Гражданам, имеющим на своем иждивении ребенка (детей), воспитываемого без матери | AD29: =F29+H29+J29+L29+N29+P29+R29+T29+V29+X29+Z29+AB29 -> 0 | AE29: =G29+I29+K29+M29+O29+Q29+S29+U29+W29+Y29+AA29+AC29 -> 0
B30: 14 | C30: ПЭП | E30: Гражданам, имеющим на своем иждивении лиц, у которых они находились на воспитании и содержании не менее двух лет в связи со смертью своих родителей или лишением их родительских прав, или осуждением судом к лишению свободы | AD30: =F30+H30+J30+L30+N30+P30+R30+T30+V30+X30+Z30+AB30 -> 0 | AE30: =G30+I30+K30+M30+O30+Q30+S30+U30+W30+Y30+AA30+AC30 -> 0
B31: 15 | C31: ПЭП | E31: Гражданам, состоящим в браке и имеющие одного и более детей | AD31: =F31+H31+J31+L31+N31+P31+R31+T31+V31+X31+Z31+AB31 -> 0 | AE31: =G31+I31+K31+M31+O31+Q31+S31+U31+W31+Y31+AA31+AC31 -> 0
B32: 16 | C32: ПЭП | E32: Гражданам, получающим образование, на период обучения | AD32: =F32+H32+J32+L32+N32+P32+R32+T32+V32+X32+Z32+AB32 -> 0 | AE32: =G32+I32+K32+M32+O32+Q32+S32+U32+W32+Y32+AA32+AC32 -> 0
B33: 17 | C33: ПЭП | E33: Гражданам, по состоянию здоровья | AD33: =F33+H33+J33+L33+N33+P33+R33+T33+V33+X33+Z33+AB33 -> 0 | AE33: =G33+I33+K33+M33+O33+Q33+S33+U33+W33+Y33+AA33+AC33 -> 0
B34: 18 | C34: ПЭП | E34: Педагогам, осуществляющим профессиональную деятельность в дошкольных организациях образования, организациях среднего (начального, основного среднего, общего среднего), технического и профессионального, послесреднего образования, специализированных, специальных организациях образования, организациях образования для детей-сирот и детей, оставшихся без попечения родителей, организациях дополнительного образования для детей, а также в методических кабинетах | AD34: =F34+H34+J34+L34+N34+P34+R34+T34+V34+X34+Z34+AB34 -> 0 | AE34: =G34+I34+K34+M34+O34+Q34+S34+U34+W34+Y34+AA34+AC34 -> 0
B35: 19 | C35: ПЭП | E35: Врачам, имеющим соответствующее образование, постоянно работающим по специальности в сельской местности | AD35: =F35+H35+J35+L35+N35+P35+R35+T35+V35+X35+Z35+AB35 -> 0 | AE35: =G35+I35+K35+M35+O35+Q35+S35+U35+W35+Y35+AA35+AC35 -> 0
B36: 20 | C36: ПЭП | E36: Депутатам Парламента Республики Казахстан или местных представительных органов | AD36: =F36+H36+J36+L36+N36+P36+R36+T36+V36+X36+Z36+AB36 -> 0 | AE36: =G36+I36+K36+M36+O36+Q36+S36+U36+W36+Y36+AA36+AC36 -> 0
B37: 21 | C37: ПЭП | E37: Лицам, в отношении которых ведется дознание, предварительное следствие или уголовные дела рассматриваются судами | AD37: =F37+H37+J37+L37+N37+P37+R37+T37+V37+X37+Z37+AB37 -> 0 | AE37: =G37+I37+K37+M37+O37+Q37+S37+U37+W37+Y37+AA37+AC37 -> 0
B38: 22 | C38: ПЭП | E38: Членам летных экипажей гражданских воздушных судов, инженерам, механикам и техникам гражданской авиации, имеющим соответствующее образование | AD38: =F38+H38+J38+L38+N38+P38+R38+T38+V38+X38+Z38+AB38 -> 0 | AE38: =G38+I38+K38+M38+O38+Q38+S38+U38+W38+Y38+AA38+AC38 -> 0
B39: 23 | C39: ПЭП | E39: Членам экипажей судов, имеющим соответствующее образование | AD39: =F39+H39+J39+L39+N39+P39+R39+T39+V39+X39+Z39+AB39 -> 0 | AE39: =G39+I39+K39+M39+O39+Q39+S39+U39+W39+Y39+AA39+AC39 -> 0
B40: 24 | C40: ПЭП | E40: Лицам, проходящим первоначальную профессиональную подготовку в организациях образования правоохранительных органов | AD40: =F40+H40+J40+L40+N40+P40+R40+T40+V40+X40+Z40+AB40 -> 0 | AE40: =G40+I40+K40+M40+O40+Q40+S40+U40+W40+Y40+AA40+AC40 -> 0
A41: 6 | C41: ПЭП | D41: Освобождение граждан от призыва на воинскую службу | AD41: =F41+H41+J41+L41+N41+P41+R41+T41+V41+X41+Z41+AB41 -> 0 | AE41: =G41+I41+K41+M41+O41+Q41+S41+U41+W41+Y41+AA41+AC41 -> 0
B42: 25 | C42: ПЭП | E42: Признанные негодными к воинской службе по состоянию здоровья | AD42: =F42+H42+J42+L42+N42+P42+R42+T42+V42+X42+Z42+AB42 -> 0 | AE42: =G42+I42+K42+M42+O42+Q42+S42+U42+W42+Y42+AA42+AC42 -> 0
B43: 26 | C43: ПЭП | E43: Не призванные на законных основаниях на срочную воинскую службу, по достижении двадцати семи лет | AD43: =F43+H43+J43+L43+N43+P43+R43+T43+V43+X43+Z43+AB43 -> 0 | AE43: =G43+I43+K43+M43+O43+Q43+S43+U43+W43+Y43+AA43+AC43 -> 0
...

Sheet Форма 3
B1: приложение 2
A2: ИНФОРМАЦИЯ О РЕЗУЛЬТАТАХ МОНИТОРИНГА КАЧЕСТВА ОКАЗАНИЯ ГОСУДАРСТВЕННЫХ УСЛУГ
A3: № | B3: Наименование мероприятий | C3: Количество
A4: 1 | B4: Количество оказанных государственных услуг – всего, из них: | C4: =C5+C6+C7+C8 -> 959
A5: 2 | B5: оказанных услугодателями (за исключением оказанных через Государственную корпорацию) в бумажной форме, всего | C5: ='Форма 1'!AD57+'Форма 1'!AE57 -> 0
A6: 3 | B6: оказанных услугодателями (за исключением оказанных через Государственную корпорацию) в бумажной форме, но которые могли быть оказаны через веб-портал "электронного правительства" и (или) Государственную корпорацию, всего | C6: ='Форма 1'!AD420+'Форма 1'!AE420 -> 78
A7: 4 | B7: оказанных через Госкорпорацию | C7: ='Форма 2'!AD735+'Форма 2'!AE735 -> 0
A8: 5 | B8: оказанных в электронном виде, всего, из них: | C8: =C9+C10+C11+C12 -> 881
A9: 6 | B9: оказанных в электронном виде через веб-портал «электронное правительство» | C9: ='Форма 2'!AD10+'Форма 2'!AE10 -> 0
A10: 7 | B10: оказанных в электронном виде через ГБД «Е-лицензирование» | C10: ='Форма 2'!AD373+'Форма 2'!AE373 -> 819
A11: 8 | B11: оказанных в электронном виде через информационные системы услугодателябез прямого контакта с услугополучателем | C11: ='Форма 1'!AD782+'Форма 1'!AE782 -> 0
A12: 9 | B12: оказанных в электронном виде через информационные системы услугодателя путем прямого контакта с услугополучателем и ручного ввода заявки в информационную систему | C12: ='Форма 1'!AD1144+'Форма 1'!AE1144 -> 62
