Workbook

Sheet прил15
B1: 2026 жылдың 3 тоқсаны бойынша жеке және тұлғалардың өтініштерімен жұмыс істеу туралы жалпы статистикасы | O1: № 1 кесте
B2: Общая статистика по работе с обращениями физических и юридических лиц за 3 квартал 2026 года Министерства энергетики РК | P2: табл № 1
A5: № п/п | B5: МО атауылары, ведомстволық бағыныстағы ұйымдары, аудандық әкімдіктері // Наименование ГО, ведомственных подразделений // районных акиматов | C5: Тіркелген өтініштер // Зарегистрировано обращений | G5: Қаралған өтініштер // Рассмотрено обращений | S5: Есепті кезеңнің соңында қаралуда // Остаток на конец отчетного периода
C6: Барлығы // Всего | D6: оның ішінде: // в том числе: | G6: Барлығы // Всего | H6: оның ішінде: // в том числе:
D7: Есепті кезеңнің басында қаралуда // на начало отчетного периода | E7: Есеп мерзімінде // в отчетный период | F7: жеке қабылдауда қабылданған өтініштер // обращения, принятые на личном приеме | H7: МО - да // в ГО | I7: оның ішінде: // в том числе: | K7: құзыреті бойынша жолданған // перенаправлено по компетенции | Q7: әкімшілік рәсім тәртібімен // в порядке административной процедуры | R7: оңайлатылған әкімшілік рәсім тәртібімен // в порядке упрощенной процедуры
I8: мерзімі ұзартылып қаралды // рассмотрено с продлением срока | J8: мерзімі бұзылып қаралды // рассмотрено с нарушением срока | K8: жоғары тұрған органға // в вышестоящий орган | L8: орталық мемлекеттік органға //в ЦГО | M8: жергілікті билік органдарына // в МИО | N8: аумақтық органдарына // в территориальные органы | O8: ведомстволық бағыныстағы ұйымдарына // в подведомственные организации | P8: басқа ұйымдарына // в другие организации
A9: А | B9: Б | C9: 1 | D9: 2 | E9: 3 | F9: 4 | G9: 5 | H9: 6 | I9: 7 | J9: 8 | K9: 9 | L9: 10 | M9: 11 | N9: 12 | O9: 13 | P9: 14 | Q9: 15 | R9: 16 | S9: 17
B10: Центральный аппарат МЭ РК | C10: =D10+E10 -> 2973 | D10: 304 | E10: 2669 | F10: 0 | G10: =H10+K10+L10+M10+N10+O10+P10 -> 2685 | H10: 1860 | I10: 94 | J10: 0 | K10: 0 | L10: 223 | M10: 224 | N10: 309 | O10: 7 | P10: 62 | Q10: 588 | R10: =H10-Q10 -> 1272 | S10: =C10-G10 -> 288
B11: Комитет государственного энергетического надзора и контроля | C11: =D11+E11 -> 363 | D11: 30 | E11: 333 | F11: 0 | G11: =H11+K11+L11+M11+N11+O11+P11 -> 315 | H11: 133 | I11: 1 | J11: 0 | K11: 0 | L11: 18 | M11: 19 | N11: 144 | O11: 1 | P11: 0 | Q11: 19 | R11: =H11-Q11 -> 114 | S11: =C11-G11 -> 48
B12: Территориальный департамент КГЭНК по г.Астана | C12: =D12+E12 -> 172 | D12: 23 | E12: 149 | F12: 0 | G12: =H12+K12+L12+M12+N12+O12+P12 -> 138 | H12: 96 | I12: 33 | J12: 0 | K12: 0 | L12: 18 | M12: 24 | N12: 0 | O12: 0 | P12: 0 | Q12: 47 | R12: =H12-Q12 -> 49 | S12: =C12-G12 -> 34
B13: Территориальный департамент КГЭНК по г.Алматы | C13: =D13+E13 -> 867 | D13: 121 | E13: 746 | F13: 0 | G13: =H13+K13+L13+M13+N13+O13+P13 -> 807 | H13: 703 | I13: 18 | J13: 0 | K13: 0 | L13: 36 | M13: 16 | N13: 0 | O13: 0 | P13: 52 | Q13: 490 | R13: =H13-Q13 -> 213 | S13: =C13-G13 -> 60
B14: Территориальный департамент КГЭНК по г.Шымкент | C14: =D14+E14 -> 104 | D14: 7 | E14: 97 | F14: 0 | G14: =H14+K14+L14+M14+N14+O14+P14 -> 94 | H14: 83 | I14: 8 | J14: 0 | K14: 0 | L14: 7 | M14: 4 | N14: 0 | O14: 0 | P14: 0 | Q14: 25 | R14: =H14-Q14 -> 58 | S14: =C14-G14 -> 10
B15: Территориальный департамент КГЭНК по Акмолинской области | C15: =D15+E15 -> 165 | D15: 8 | E15: 157 | F15: 0 | G15: =H15+K15+L15+M15+N15+O15+P15 -> 149 | H15: 123 | I15: 13 | J15: 0 | K15: 0 | L15: 20 | M15: 5 | N15: 0 | O15: 1 | P15: 0 | Q15: 45 | R15: =H15-Q15 -> 78 | S15: =C15-G15 -> 16
B16: Территориальный департамент КГЭНК по Алматинской области | C16: =D16+E16 -> 487 | D16: 148 | E16: 339 | F16: 0 | G16: =H16+K16+L16+M16+N16+O16+P16 -> 473 | H16: 435 | I16: 1 | J16: 0 | K16: 0 | L16: 20 | M16: 12 | N16: 0 | O16: 0 | P16: 6 | Q16: 290 | R16: =H16-Q16 -> 145 | S16: =C16-G16 -> 14
B17: Территориальный департамент КГЭНК по Актюбинской области | C17: =D17+E17 -> 81 | D17: 17 | E17: 64 | F17: 0 | G17: =H17+K17+L17+M17+N17+O17+P17 -> 64 | H17: 62 | I17: 19 | J17: 0 | K17: 0 | L17: 2 | M17: 0 | N17: 0 | O17: 0 | P17: 0 | Q17: 35 | R17: =H17-Q17 -> 27 | S17: =C17-G17 -> 17
B18: Территориальный департамент КГЭНК по Атырауской области | C18: =D18+E18 -> 93 | D18: 6 | E18: 87 | F18: 0 | G18: =H18+K18+L18+M18+N18+O18+P18 -> 88 | H18: 65 | I18: 16 | J18: 0 | K18: 0 | L18: 22 | M18: 0 | N18: 0 | O18: 0 | P18: 1 | Q18: 41 | R18: =H18-Q18 -> 24 | S18: =C18-G18 -> 5
B19: Территориальный департамент КГЭНК по Павлодарской области | C19: =D19+E19 -> 97 | D19: 19 | E19: 78 | F19: 0 | G19: =H19+K19+L19+M19+N19+O19+P19 -> 90 | H19: 77 | I19: 3 | J19: 0 | K19: 0 | L19: 10 | M19: 2 | N19: 0 | O19: 1 | P19: 0 | Q19: 56 | R19: =H19-Q19 -> 21 | S19: =C19-G19 -> 7
B20: Территориальный департамент КГЭНК по Восточно-Казахстанской области | C20: =D20+E20 -> 139 | D20: 20 | E20: 119 | F20: 0 | G20: =H20+K20+L20+M20+N20+O20+P20 -> 113 | H20: 110 | I20: 13 | J20: 0 | K20: 0 | L20: 3 | M20: 0 | N20: 0 | O20: 0 | P20: 0 | Q20: 74 | R20: =H20-Q20 -> 36 | S20: =C20-G20 -> 26
B21: Территориальный департамент КГЭНК по Северо-Казахстанской области | C21: =D21+E21 -> 57 | D21: 8 | E21: 49 | F21: 0 | G21: =H21+K21+L21+M21+N21+O21+P21 -> 48 | H21: 44 | I21: 5 | J21: 0 | K21: 0 | L21: 2 | M21: 2 | N21: 0 | O21: 0 | P21: 0 | Q21: 20 | R21: =H21-Q21 -> 24 | S21: =C21-G21 -> 9
B22: Территориальный департамент КГЭНК по Западно-Казахстанской области | C22: =D22+E22 -> 120 | D22: 11 | E22: 109 | F22: 0 | G22: =H22+K22+L22+M22+N22+O22+P22 -> 95 | H22: 74 | I22: 44 | J22: 0 | K22: 0 | L22: 3 | M22: 7 | N22: 0 | O22: 11 | P22: 0 | Q22: 49 | R22: =H22-Q22 -> 25 | S22: =C22-G22 -> 25
B23: Территориальный департамент КГЭНК по Туркестанской области | C23: =D23+E23 -> 101 | D23: 6 | E23: 95 | F23: 0 | G23: =H23+K23+L23+M23+N23+O23+P23 -> 100 | H23: 73 | I23: 7 | J23: 0 | K23: 0 | L23: 17 | M23: 10 | N23: 0 | O23: 0 | P23: 0 | Q23: 11 | R23: =H23-Q23 -> 62 | S23: =C23-G23 -> 1
B24: Территориальный департамент КГЭНК по Костанайской области | C24: =D24+E24 -> 78 | D24: 9 | E24: 69 | F24: 0 | G24: =H24+K24+L24+M24+N24+O24+P24 -> 70 | H24: 52 | I24: 1 | J24: 0 | K24: 0 | L24: 8 | M24: 10 | N24: 0 | O24: 0 | P24: 0 | Q24: 31 | R24: =H24-Q24 -> 21 | S24: =C24-G24 -> 8
B25: Территориальный департамент КГЭНК по Кызылординской области | C25: =D25+E25 -> 52 | D25: 1 | E25: 51 | F25: 0 | G25: =H25+K25+L25+M25+N25+O25+P25 -> 52 | H25: 33 | I25: 0 | J25: 0 | K25: 0 | L25: 4 | M25: 4 | N25: 0 | O25: 0 | P25: 11 | Q25: 16 | R25: =H25-Q25 -> 17 | S25: =C25-G25 -> 0
B26: Территориальный департамент КГЭНК по Мангистауской области | C26: =D26+E26 -> 34 | D26: 2 | E26: 32 | F26: 0 | G26: =H26+K26+L26+M26+N26+O26+P26 -> 34 | H26: 26 | I26: 1 | J26: 0 | K26: 0 | L26: 7 | M26: 1 | N26: 0 | O26: 0 | P26: 0 | Q26: 23 | R26: =H26-Q26 -> 3 | S26: =C26-G26 -> 0
B27: Территориальный департамент КГЭНК по Жамбылской области | C27: =D27+E27 -> 155 | D27: 34 | E27: 121 | F27: 0 | G27: =H27+K27+L27+M27+N27+O27+P27 -> 155 | H27: 152 | I27: 8 | J27: 0 | K27: 0 | L27: 1 | M27: 2 | N27: 0 | O27: 0 | P27: 0 | Q27: 87 | R27: =H27-Q27 -> 65 | S27: =C27-G27 -> 0
B28: Территориальный департамент КГЭНК по области Улытау | C28: =D28+E28 -> 26 | D28: 5 | E28: 21 | F28: 0 | G28: =H28+K28+L28+M28+N28+O28+P28 -> 26 | H28: 25 | I28: 3 | J28: 0 | K28: 0 | L28: 1 | M28: 0 | N28: 0 | O28: 0 | P28: 0 | Q28: 15 | R28: =H28-Q28 -> 10 | S28: =C28-G28 -> 0
B29: Территориальный департамент КГЭНК по области Абай | C29: =D29+E29 -> 49 | D29: 2 | E29: 47 | F29: 0 | G29: =H29+K29+L29+M29+N29+O29+P29 -> 48 | H29: 44 | I29: 1 | J29: 0 | K29: 0 | L29: 4 | M29: 0 | N29: 0 | O29: 0 | P29: 0 | Q29: 39 | R29: =H29-Q29 -> 5 | S29: =C29-G29 -> 1
B30: Территориальный департамент КГЭНК по области Жетысу | C30: =D30+E30 -> 75 | D30: 13 | E30: 62 | F30: 0 | G30: =H30+K30+L30+M30+N30+O30+P30 -> 61 | H30: 58 | I30: 0 | J30: 0 | K30: 0 | L30: 3 | M30: 0 | N30: 0 | O30: 0 | P30: 0 | Q30: 37 | R30: =H30-Q30 -> 21 | S30: =C30-G30 -> 14
B31: Территориальный департамент КГЭНК по Карагандинской области | C31: =D31+E31 -> 182 | D31: 20 | E31: 162 | F31: 0 | G31: =H31+K31+L31+M31+N31+O31+P31 -> 148 | H31: 138 | I31: 26 | J31: 0 | K31: 0 | L31: 3 | M31: 7 | N31: 0 | O31: 0 | P31: 0 | Q31: 69 | R31: =H31-Q31 -> 69 | S31: =C31-G31 -> 34
B32: АО "САЦ ТЭК" | C32: =D32+E32 -> 15 | D32: 0 | E32: 15 | F32: 0 | G32: =H32+K32+L32+M32+N32+O32+P32 -> 14 | H32: 9 | I32: 0 | J32: 0 | K32: 0 | L32: 1 | M32: 1 | N32: 0 | O32: 3 | P32: 0 | Q32: 0 | R32: =H32-Q32 -> 9 | S32: =C32-G32 -> 1
B33: АО «Управляющая компания СЭЗ «Национальный индустриальный нефтехимический технопарк» | C33: =D33+E33 -> 13 | D33: 2 | E33: 11 | F33: 0 | G33: =H33+K33+L33+M33+N33+O33+P33 -> 12 | H33: 12 | I33: 0 | J33: 0 | K33: 0 | L33: 0 | M33: 0 | N33: 0 | O33: 0 | P33: 0 | Q33: 0 | R33: =H33-Q33 -> 12 | S33: =C33-G33 -> 1
B34: РГУ «Капиталнефтегаз» | C34: =D34+E34 -> 4 | D34: 0 | E34: 4 | F34: 0 | G34: =H34+K34+L34+M34+N34+O34+P34 -> 4 | H34: 3 | I34: 0 | J34: 0 | K34: 0 | L34: 0 | M34: 1 | N34: 0 | O34: 0 | P34: 0 | Q34: 1 | R34: =H34-Q34 -> 2 | S34: =C34-G34 -> 0
B35: Западное межрегиональное управление государственной инспекции в нефтегазовом комплексе МЭ РК | C35: =D35+E35 -> 23 | D35: 1 | E35: 22 | F35: 0 | G35: =H35+K35+L35+M35+N35+O35+P35 -> 22 | H35: 17 | I35: 1 | J35: 0 | K35: 0 | L35: 3 | M35: 1 | N35: 0 | O35: 0 | P35: 1 | Q35: 6 | R35: =H35-Q35 -> 11 | S35: =C35-G35 -> 1
B36: Южное межрегиональное управление государственной инспекции в нефтегазовом комплексе МЭ РК | C36: =D36+E36 -> 6 | D36: 0 | E36: 6 | F36: 0 | G36: =H36+K36+L36+M36+N36+O36+P36 -> 6 | H36: 4 | I36: 0 | J36: 0 | K36: 0 | L36: 0 | M36: 2 | N36: 0 | O36: 0 | P36: 0 | Q36: 3 | R36: =H36-Q36 -> 1 | S36: =C36-G36 -> 0
B37: АО "Казахстанский оператор рынка электрической мощности" | C37: =D37+E37 -> 40 | D37: 5 | E37: 35 | F37: 0 | G37: =H37+K37+L37+M37+N37+O37+P37 -> 38 | H37: 18 | I37: 0 | J37: 0 | K37: 0 | L37: 5 | M37: 14 | N37: 0 | O37: 1 | P37: 0 | Q37: 0 | R37: =H37-Q37 -> 18 | S37: =C37-G37 -> 2
B38: ТОО "Расчетно-финасовый центр по поддержке возобновляемых источников энергии" | C38: =D38+E38 -> 35 | D38: 4 | E38: 31 | F38: 0 | G38: =H38+K38+L38+M38+N38+O38+P38 -> 30 | H38: 30 | I38: 0 | J38: 0 | K38: 0 | L38: 0 | M38: 0 | N38: 0 | O38: 0 | P38: 0 | Q38: 10 | R38: =H38-Q38 -> 20 | S38: =C38-G38 -> 5
B39: 1-тоқсанның қорытындысы // Итого за 1 квартал | C39: 4279 | D39: 450 | E39: 3829 | F39: 0 | G39: 3736 | H39: 2883 | I39: 153 | J39: 0 | K39: 0 | L39: 371 | M39: 238 | N39: 164 | O39: 11 | P39: 69 | Q39: 989 | R39: 1894 | S39: 543
B40: 2-тоқсанның қорытындысы // Итого за 2 квартал | C40: 5515 | D40: 519 | E40: 4986 | F40: 0 | G40: 4680 | H40: 3580 | I40: 207 | J40: 1 | K40: 0 | L40: 351 | M40: 292 | N40: 382 | O40: 14 | P40: 61 | Q40: 1359 | R40: 1221 | S40: 835
B41: 1 жартыжылдық қорытындысы//Итого за 1 полугодие | C41: 9794 | D41: 979 | E41: 8815 | F41: 0 | G41: 8416 | H41: 6463 | I41: 360 | J41: 1 | K41: 0 | L41: 722 | M41: 530 | N41: 546 | O41: 25 | P41: 130 | Q41: 2348 | R41: 4115 | S41: 1378
B42: 3-тоқсанның қорытындысы // Итого за 3 квартал | C42: =D42+E42 -> 6615 | D42: 835 | E42: =E10+E11+E12+E13+E14+E15+E16+E17+E18+E19+E20+E21+E22+E23+E24+E25+E26+E27+E28+E29+E30+E31+E32+E33+E34+E35+E36+E37+E38 -> 5780 | F42: 0 | G42: =H42+K42+L42+M42+N42+O42+P42 -> 5979 | H42: =H10+H11+H12+H13+H14+H15+H16+H17+H18+H19+H20+H21+H22+H23+H24+H25+H26+H27+H28+H29+H30+H31+H32+H33+H34+H35+H36+H37+H38 -> 4559 | I42: =I10+I11+I12+I13+I14+I15+I16+I17+I18+I19+I20+I21+I22+I23+I24+I25+I26+I27+I28+I29+I30+I31+I32+I33+I34+I35+I36+I37+I38 -> 316 | J42: =J10+J11+J12+J13+J14+J15+J16+J17+J18+J19+J20+J21+J22+J23+J24+J25+J26+J27+J28+J29+J30+J31+J32+J33+J34+J35+J36+J37+J38 -> 0 | K42: =K10+K11+K12+K13+K14+K15+K16+K17+K18+K19+K20+K21+K22+K23+K24+K25+K26+K27+K28+K29+K30+K31+K32+K33+K34+K35+K36+K37+K38 -> 0 | L42: =L10+L11+L12+L13+L14+L15+L16+L17+L18+L19+L20+L21+L22+L23+L24+L25+L26+L27+L28+L29+L30+L31+L32+L33+L34+L35+L36+L37+L38 -> 441 | M42: =M10+M11+M12+M13+M14+M15+M16+M17+M18+M19+M20+M21+M22+M23+M24+M25+M26+M27+M28+M29+M30+M31+M32+M33+M34+M35+M36+M37+M38 -> 368 | N42: =N10+N11+N12+N13+N14+N15+N16+N17+N18+N19+N20+N21+N22+N23+N24+N25+N26+N27+N28+N29+N30+N31+N32+N33+N34+N35+N36+N37+N38 -> 453 | O42: =O10+O11+O12+O13+O14+O15+O16+O17+O18+O19+O20+O21+O22+O23+O24+O25+O26+O27+O28+O29+O30+O31+O32+O33+O34+O35+O36+O37+O38 -> 25 | ... Q42: =Q10+Q11+Q12+Q13+Q14+Q15+Q16+Q17+Q18+Q19+Q20+Q21+Q22+Q23+Q24+Q25+Q26+Q27+Q28+Q29+Q30+Q31+Q32+Q33+Q34+Q35+Q36+Q37+Q38 -> 2127 | R42: =H42-Q42 -> 2432 | S42: =C42-G42 -> 636
B43: 9 айдын қорытындысы//Итого за 9 месяцев | C43: =C39+C40+C42 -> 16409 | D43: 636 | E43: =E39+E40+E42 -> 14595 | F43: =F39+F40+F42 -> 0 | G43: =H43+K43+L43+M43+N43+O43+P43 -> 14395 | H43: =H39+H40+H42 -> 11022 | I43: =I39+I40+I42 -> 676 | J43: =J39+J40+J42 -> 1 | K43: =K39+K40+K42 -> 0 | L43: =L39+L40+L42 -> 1163 | M43: =M39+M40+M42 -> 898 | N43: =N39+N40+N42 -> 999 | O43: =O39+O40+O42 -> 50 | ... Q43: =Q39+Q40+Q42 -> 4475 | R43: =H43-Q43 -> 6547 | S43: =C43-G43 -> 2014
B44: 4-тоқсанның қорытындысы // Итого за 4 квартал
B45: 12 айдын қорытындысы//Итого за 12 месяцев
B48: 2 және 17-бағаның түстеріне қарап, бірдей түстердің мәліметтері бірдей болу керек // данные графы 2 и графы 17 смотрите по цветам. Где цвета одинаковые, там и цифры должны тоже быть идентичными
B50: Түсініктеме // Пояснение
B51: 2-баған мен 3-баған қосылғанда 1-баған шығады. // графа 1 равно графа 2 плюс графа 3. // 1- жартыжылдық, 9 айлық және жылдық қорытысын санаған кезде 1 және 2- баған жоғарыдан төменге қарай қосылмайды. // графы 1 и 2 сверху вниз не складываются при подсчете итого за полугодие, 9 месяцев и год | N51: ок
B52: 15-баған мен 16-баған қосылғанда 6-баған шығу тиіс // графа 6 равно графа 15 плюс графа 16 | N52: ок
B53: 6, 9, 10, 11, 12, 13, 14 бағандары қосылған жағдайды 5- баған шығу керек // графа 5 равно графа 6 плюс графы с 9 по 14 | N53: ок
B54: 1-бағаннан 5-бағанды алып тастаған жағдайды 17-баған шығу керек // графа 17 равно графа 1 минус графа 5 | N54: ок
B55: 1-кестенің 4-бағаны 4- кестенің 11-бағанымен сәйкес келу керек // графа 4 таблицы 1 идентичны с графой 17 таблицы 4 | N55: ок
B56: 1 кестенің 6-бағаны 2-кестенің 1-бағанымен сәйкес келу керек // графа 6 таблицы 1 идентична с графой 1 таблицы 2 | N56: ок
B57: 1-кестенің 15-бағаны 2-кестенің 3-бағанымен сәйкес келу керек // графа 15 таблицы 1 идентична с графой 3 таблицы 2 | N57: ок

Sheet прил16
B1: 2026 жылғы 3 тоқсанның жеке және заңды тұлғалардың өтініштерінің қаралудың нәтижелері туралы есеп | P1: № 2 кесте
B2: Отчет по результатам рассмотрений обращений физических и юридических лиц за 3 квартал 2026 года | P2: табл № 2
A5: № п/п | B5: МО атауылары, ведомстволық бағыныстағы ұйымдары, аудандық әкімдіктері // Наименование ГО, ведомственных подразделений // районных акиматов | C5: Мемлекеттік органында қаралған // Рассмотрено в государственном органе | I5: мерзімі ұзартылып қаралды // Рассмотрено с продлением срока | J5: мерзімі бұзылып қаралды // Рассмотрено с нарушением срока | K5: Лауазымды тұлғалардың жауапқа тартылған // Привлечено к ответственности должностных лиц | L5: Әкімшілік актілеріне шағым жасалған // Обжаловано административных актов | T5: Лауазымды тұлғалардың жауапқа тартылған // Привлечено к ответственности должностных лиц
C6: Барлығы // всего | D6: оның ішінде: // в том числе: | E6: қабылданған әәкімшілік акт // принят административный акт | F6: қабылданған шешім // принято решений | L6: Барлығы // всего | M6: оның ішінде: // в том числе
D7: тоқтатылған // прекращено | F7: қабылданған қолайлы әкімшілік акт // принят благоприятный административный акт | G7: қабылданған ауыртпалық түсіретін әкімшілік акт // принят обременяющий административный акт | M7: қаралды // рассмотрено | N7: оның ішінде: // в том числе
G8: Обременяющий административный акт | N8: Обжаловано административных актов
G9: Барлығы // всего | H9: оның ішінде: // в том числе | N9: МО-да // в ГО | P9: жоғары тұрған органда // в вышестоящем органе | R9: сотта // в суде
H10: тыңдау жүргізілмеген // по которым заслушивания не проводились | N10: Барлығы // всего | O10: оның ішінде: // в том числе | P10: Барлығы // всего | Q10: оның ішінде: // в том числе | R10: Барлығы // всего | S10: оның ішінде: // в том числе
O11: әкімшілік акт жойылды немесе жаңа әкімшілік акт қабылданды // адм. акт отменен либо принят новый акт | Q11: әкімшілік акт жойылды немесе жаңа әкімшілік акт қабылданды //адм. акт отменен либо принят новый акт | S11: әкімшілік акт жойылды немесе жаңа әкімшілік акт қабылданды // адм. акт отменен либо принят новый акт
A12: А | B12: Б | C12: 1 | D12: 2 | E12: 3 | F12: 4 | G12: 5 | H12: 6 | I12: 7 | J12: 8 | K12: 9 | L12: 10 | M12: 11 | N12: 12 | O12: 13 | P12: 14 | Q12: 15 | R12: 16 | S12: 17 | T12: 18
B13: Центральный аппарат МЭ РК | C13: =прил15!H10 -> 1860 | D13: 518 | E13: =прил15!Q10 -> 588 | F13: 1162 | G13: 265 | H13: 162 | I13: =прил15!I10 -> 94 | J13: 0 | K13: 0 | L13: 194 | M13: =N13+P13+R13 -> 174 | N13: 174 | O13: 2 | P13: 0 | Q13: 0 | R13: 0 | S13: 0 | T13: 0
B14: Комитет атомного и энергетического надзора и контроля | C14: =прил15!H11 -> 133 | D14: 32 | E14: =прил15!Q11 -> 19 | F14: 32 | G14: 3 | H14: 2 | I14: =прил15!I11 -> 1 | J14: 0 | K14: 0 | L14: 121 | M14: =N14+P14+R14 -> 115 | N14: 115 | O14: 2 | P14: 0 | Q14: 0 | R14: 0 | S14: 0 | T14: 0
B15: Территориальный департамент КАЭНК по г.Астана | C15: =прил15!H12 -> 96 | D15: 65 | E15: =прил15!Q12 -> 47 | F15: 57 | G15: 137 | H15: 0 | I15: =прил15!I12 -> 33 | J15: 0 | K15: 0 | L15: 6 | M15: =N15+P15+R15 -> 4 | N15: 4 | O15: 0 | P15: 0 | Q15: 0 | R15: 0 | S15: 0 | T15: 0
B16: Территориальный департамент КАЭНК по г.Алматы | C16: =прил15!H13 -> 703 | D16: 109 | E16: =прил15!Q13 -> 490 | F16: 929 | G16: 0 | H16: 0 | I16: =прил15!I13 -> 18 | J16: 0 | K16: 0 | L16: 22 | M16: =N16+P16+R16 -> 20 | N16: 20 | O16: 0 | P16: 0 | Q16: 0 | R16: 0 | S16: 0 | T16: 0
B17: Территориальный департамент КАЭНК по г.Шымкент | C17: =прил15!H14 -> 83 | D17: 68 | E17: =прил15!Q14 -> 25 | F17: 3 | G17: 65 | H17: 0 | I17: =прил15!I14 -> 8 | J17: 0 | K17: 0 | L17: 1 | M17: =N17+P17+R17 -> 0 | N17: 0 | O17: 0 | P17: 0 | Q17: 0 | R17: 0 | S17: 0 | T17: 0
B18: Территориальный департамент КАЭНК по Акмолинской области | C18: =прил15!H15 -> 123 | D18: 30 | E18: =прил15!Q15 -> 45 | F18: 41 | G18: 63 | H18: 2 | I18: =прил15!I15 -> 13 | J18: 0 | K18: 0 | L18: 2 | M18: =N18+P18+R18 -> 2 | N18: 2 | O18: 0 | P18: 0 | Q18: 0 | R18: 0 | S18: 0 | T18: 0
B19: Территориальный департамент КАЭНК по Алматинской области | C19: =прил15!H16 -> 435 | D19: 57 | E19: =прил15!Q16 -> 290 | F19: 427 | G19: 18 | H19: 0 | I19: =прил15!I16 -> 1 | J19: 0 | K19: 0 | L19: 2 | M19: =N19+P19+R19 -> 2 | N19: 2 | O19: 0 | P19: 0 | Q19: 0 | R19: 0 | S19: 0 | T19: 0
B20: Территориальный департамент КАЭНК по Актюбинской области | C20: =прил15!H17 -> 62 | D20: 45 | E20: =прил15!Q17 -> 35 | F20: 70 | G20: 7 | H20: 0 | I20: =прил15!I17 -> 19 | J20: 0 | K20: 0 | L20: 2 | M20: =N20+P20+R20 -> 2 | N20: 2 | O20: 0 | P20: 0 | Q20: 0 | R20: 0 | S20: 0 | T20: 0
B21: Территориальный департамент КАЭНК по Атырауской области | C21: =прил15!H18 -> 65 | D21: 17 | E21: =прил15!Q18 -> 41 | F21: 90 | G21: 18 | H21: 1 | I21: =прил15!I18 -> 16 | J21: 0 | K21: 0 | L21: 3 | M21: =N21+P21+R21 -> 3 | N21: 3 | O21: 0 | P21: 0 | Q21: 0 | R21: 0 | S21: 0 | T21: 0
B22: Территориальный департамент КАЭНК по Павлодарской области | C22: =прил15!H19 -> 77 | D22: 14 | E22: =прил15!Q19 -> 56 | F22: 25 | G22: 91 | H22: 0 | I22: =прил15!I19 -> 3 | J22: 0 | K22: 0 | L22: 0 | M22: =N22+P22+R22 -> 0 | N22: 0 | O22: 0 | P22: 0 | Q22: 0 | R22: 0 | S22: 0 | T22: 0
B23: Территориальный департамент КАЭНК по Восточно-Казахстанской области | C23: =прил15!H20 -> 110 | D23: 19 | E23: =прил15!Q20 -> 74 | F23: 121 | G23: 36 | H23: 0 | I23: =прил15!I20 -> 13 | J23: 0 | K23: 0 | L23: 2 | M23: =N23+P23+R23 -> 2 | N23: 2 | O23: 0 | P23: 0 | Q23: 0 | R23: 0 | S23: 0 | T23: 0
B24: Территориальный департамент КАЭНК по Северо-Казахстанской области | C24: =прил15!H21 -> 44 | D24: 16 | E24: =прил15!Q21 -> 20 | F24: 12 | G24: 35 | H24: 0 | I24: =прил15!I21 -> 5 | J24: 0 | K24: 0 | L24: 0 | M24: =N24+P24+R24 -> 0 | N24: 0 | O24: 0 | P24: 0 | Q24: 0 | R24: 0 | S24: 0 | T24: 0
... B41: ТОО "Расчетно-финасовый центр по поддержке возобновляемых источников энергии" | C41: =прил15!H38 -> 30 | D41: 14 | E41: =прил15!Q38 -> 10 | F41: 21 | G41: 0 | H41: 0 | I41: =прил15!I38 -> 0 | J41: 0 | K41: 0 | L41: 0 | M41: =N41+P41+R41 -> 0 | N41: 0 | O41: 0 | P41: 0 | Q41: 0 | R41: 0 | S41: 0 | T41: 0
B42: 1-тоқсанның қорытындысы // Итого за 1 квартал | C42: 3736 | D42: 366 | E42: 989 | F42: 736 | G42: 253 | H42: 37 | I42: 153 | J42: 0 | K42: 0 | L42: 91 | M42: 80 | N42: 80 | O42: 0 | P42: 0 | Q42: 0 | R42: 0 | S42: 0 | T42: 0
B43: 2-тоқсанның қорытындысы // Итого за 2 квартал | C43: 4680 | D43: 1326 | E43: 1359 | F43: 1027 | G43: 332 | H43: 64 | I43: 316 | J43: 1 | K43: 1 | L43: 155 | M43: 139 | N43: 139 | O43: 2 | P43: 0 | Q43: 0 | R43: 0 | S43: 0 | T43: 0
B44: 1 жартыжылдық қорытындысы//Итого за 1 полугодие | C44: 8416 | D44: 1692 | E44: 2348 | F44: 1763 | G44: 585 | H44: 101 | I44: 469 | J44: 0 | K44: 0 | L44: 246 | M44: 219 | N44: 219 | O44: 2 | P44: 0 | Q44: 0 | R44: 0 | S44: 0 | T44: 0
B45: 3-тоқсанның қорытындысы // Итого за 3 квартал | C45: =прил15!H42 -> 4559 | D45: 1326 | E45: 2127 | F45: 3428 | G45: 1068 | H45: 170 | I45: 316 | J45: 0 | K45: 0 | L45: 375 | M45: =M15+M16+M17+M18+M19+M20+M21+M22+M23+M24+M25+M26+M27+M28+M29+M30+M31+M32+M33+M34+M35+M36+M37+M38+M39+M40+M41+M42+M43 -> 271 | N45: 341 | O45: 4 | P45: 0 | Q45: 0 | R45: 0 | S45: 0 | T45: 0
B46: 9 айыдың қорытындысы//Итого за 9 месяцев | C46: =C42+C43+C45 -> 12975 | D46: =D42+D43+D45 -> 3018 | E46: =E42+E43+E45 -> 4475 | F46: =F42+F43+F45 -> 5191 | G46: =G42+G43+G45 -> 1653 | H46: =H42+H43+H45 -> 271 | I46: =I42+I43+I45 -> 785 | J46: 1 | K46: =K42+K43+K45 -> 1 | L46: =L42+L43+L45 -> 621 | M46: =M42+M43+M45 -> 490 | N46: =N42+N43+N45 -> 560 | O46: =O42+O43+O45 -> 6 | P46: =P42+P43+P45 -> 0 | Q46: =Q42+Q43+Q45 -> 0 | R46: =R42+R43+R45 -> 0 | ... T46: =T42+T43+T45 -> 0
B47: 4-тоқсанның қорытындысы // Итого за 4 квартал
B48: 12 айыдың қорытындысы//Итого за 12 месяцев
B50: 1 кестенің 6-бағаны 2-кестенің 1-бағанымен сәйкес келу керек // графа 6 таблицы 1 идентична с графой 1 таблицы 2
B51: 1-кестенің 15-бағаны 2-кестенің 3-бағанымен сәйкес келу керек // графа 15 таблицы 1 идентична с графой 3 таблицы 2
B53: 10-баған 11-бағаннан артық немесе тен болу тиіс // графа 10 должно быть больше или равно графе 11
B54: 12,14,16 бағаналардың сомалары 11 бағаны беру тиіс // графа 11 равно сумме граф 12, 14, 16

Sheet прил17
B1: 2026 жылдың 3 тоқсаны бойынша жеке және заңды тұлғалардың өтініштері бойынша | R1: № 3 кесте
B2: Қазақстан Республикасы Үкіметі Аппаратының тапсырмалары бойынша есеп | S2: табл № 3
B3: Отчет по рассмотрению поручений, данных Аппаратом Правительства РК
B4: по обращениям физических и юридических лиц за 3 квартал 2026 года МЭРК
A6: № п/п | B6: МО атауы // наименование государственных органов | C6: берілген тапсырмаларының барлығы // всего дано поручений | D6: оның ішінде: // в том числе | H6: орындалды // исполнено | L6: переадесовано в подведомственные организации | N6: орындалмаған // не исполнено | O6: орындалуда // на исполнении | R6: бақылаудан алынды // снято с контроля | S6: тәртіптік жауапқа тартылған // привлечено к дисциплинарной ответственности
D7: ҚР Премьер-Министрі // Премьер-Министром РК | E7: ҚР Премьер-министрінің орынбасарымен // Заместителем Премьер-Министра РК | F7: ҚР Үкіметі аппаратының Басшысымен // Руководителем Аппарата Правительства РК | G7: ҚР Үкіметі аппараты Басшысының орынбасары // Заместителем Руководителя Аппарата Правительства РК | H7: Барлығы // всего | I7: оның ішінде: // в том числе: | O7: Барлығы // всего | P7: оның ішінде: // в том числе:
I8: мерзімі ұзартуымен // с продлением срока | J8: мерзімі бұзылуымен // с нарушением срока | K8: сапасыз // некачественно | L8: с нарушением срока | M8: в срок | P8: мерзімі ұзартуымен // с продлением срока | Q8: қайта тапсырма берілген // даны повторные поручения
A9: А | B9: Б | C9: 1 | D9: 2 | E9: 3 | F9: 4 | G9: 5 | H9: 6 | I9: 7 | J9: 8 | K9: 9 | L9: 10 | M9: 11 | N9: 12 | O9: 13 | P9: 14 | Q9: 15 | R9: 16 | S9: 17
B10: Центральный аппарат МЭ РК | C10: 25 | D10: 3 | E10: 0 | F10: 0 | G10: 15 | H10: 19 | I10: 0 | J10: 0 | K10: 0 | L10: 0 | M10: 0 | N10: 0 | O10: 6 | P10: 0 | Q10: 0 | R10: 13 | S10: 0
B11: Комитет атомного и энергетического надзора и контроля | C11: 0 | D11: 0 | E11: 0 | F11: 0 | G11: 0 | H11: 0 | I11: 0 | J11: 0 | K11: 0 | L11: 0 | M11: 0 | N11: 0 | O11: 0 | P11: 0 | Q11: 0 | R11: 0 | S11: 0
B12: Территориальный департамент КАЭНК по Акмолинской области | C12: 0 | D12: 0 | E12: 0 | F12: 0 | G12: 0 | H12: 0 | I12: 0 | J12: 0 | K12: 0 | L12: 0 | M12: 0 | N12: 0 | O12: 0 | P12: 0 | Q12: 0 | R12: 0 | S12: 0
B13: Территориальный департамент КАЭНК по Актюбинской области | C13: 0 | D13: 0 | E13: 0 | F13: 0 | G13: 0 | H13: 0 | I13: 0 | J13: 0 | K13: 0 | L13: 0 | M13: 0 | N13: 0 | O13: 0 | P13: 0 | Q13: 0 | R13: 0 | S13: 0
B14: Территориальный департамент КАЭНК по Алматинской области | C14: 0 | D14: 0 | E14: 0 | F14: 0 | G14: 0 | H14: 0 | I14: 0 | J14: 0 | K14: 0 | L14: 0 | M14: 0 | N14: 0 | O14: 0 | P14: 0 | Q14: 0 | R14: 0 | S14: 0
B15: Территориальный департамент КАЭНК по Атырауской области | C15: 0 | D15: 0 | E15: 0 | F15: 0 | G15: 0 | H15: 0 | I15: 0 | J15: 0 | K15: 0 | L15: 0 | M15: 0 | N15: 0 | O15: 0 | P15: 0 | Q15: 0 | R15: 0 | S15: 0
B16: Территориальный департамент КАЭНК по Восточно-Казахстанской области | C16: 0 | D16: 0 | E16: 0 | F16: 0 | G16: 0 | H16: 0 | I16: 0 | J16: 0 | K16: 0 | L16: 0 | M16: 0 | N16: 0 | O16: 0 | P16: 0 | Q16: 0 | R16: 0 | S16: 0
B17: Территориальный департамент КАЭНК по Жамбылской области | C17: 0 | D17: 0 | E17: 0 | F17: 0 | G17: 0 | H17: 0 | I17: 0 | J17: 0 | K17: 0 | L17: 0 | M17: 0 | N17: 0 | O17: 0 | P17: 0 | Q17: 0 | R17: 0 | S17: 0
B18: Территориальный департамент КАЭНК по Западно-Казахстанской области | C18: 0 | D18: 0 | E18: 0 | F18: 0 | G18: 0 | H18: 0 | I18: 0 | J18: 0 | K18: 0 | L18: 0 | M18: 0 | N18: 0 | O18: 0 | P18: 0 | Q18: 0 | R18: 0 | S18: 0
B19: Территориальный департамент КАЭНК по Карагандинской области | C19: 0 | D19: 0 | E19: 0 | F19: 0 | G19: 0 | H19: 0 | I19: 0 | J19: 0 | K19: 0 | L19: 0 | M19: 0 | N19: 0 | O19: 0 | P19: 0 | Q19: 0 | R19: 0 | S19: 0
B20: Территориальный департамент КАЭНК по Костанайской области | C20: 0 | D20: 0 | E20: 0 | F20: 0 | G20: 0 | H20: 0 | I20: 0 | J20: 0 | K20: 0 | L20: 0 | M20: 0 | N20: 0 | O20: 0 | P20: 0 | Q20: 0 | R20: 0 | S20: 0
B21: Территориальный департамент КАЭНК по Кызылординской области | C21: 0 | D21: 0 | E21: 0 | F21: 0 | G21: 0 | H21: 0 | I21: 0 | J21: 0 | K21: 0 | L21: 0 | M21: 0 | N21: 0 | O21: 0 | P21: 0 | Q21: 0 | R21: 0 | S21: 0
... B40: 2-тоқсанның қорытысы // Итого за 2 квартал | C40: 14 | D40: 0 | E40: 4 | F40: 0 | G40: 6 | H40: 11 | I40: 1 | J40: 1 | K40: 0 | L40: 0 | M40: 0 | N40: 0 | O40: 3 | P40: 0 | Q40: 0 | R40: 7 | S40: 0
B41: 1 жартыжылдықтың қорытындысы// Итого за 1 полугодие | C41: =C39+C40 -> 44 | D41: =D39+D40 -> 4 | E41: =E39+E40 -> 14 | F41: =F39+F40 -> 1 | G41: =G39+G40 -> 12 | H41: =H39+H40 -> 22 | I41: =I39+I40 -> 2 | J41: =J39+J40 -> 2 | ... S41: =S39+S40 -> 0
B42: 3-тоқсанның қорытысы // Итого за 3 квартал | C42: 25 | D42: 3 | E42: 0 | F42: 0 | G42: 15 | H42: 19 | I42: 0 | J42: 0 | K42: 0 | L42: 0 | M42: 0 | N42: 0 | O42: 6 | P42: 0 | Q42: 0 | R42: 13 | S42: 0
B43: 9 айдын қорытындысы// Итого за 9 месяцев | C43: =C39+C40+C42 -> 69 | D43: =D39+D40+D42 -> 7 | E43: =E39+E40+E42 -> 14 | F43: =F39+F40+F42 -> 1 | G43: =G39+G40+G42 -> 27 | H43: =H39+H40+H42 -> 41 | I43: =I39+I40+I42 -> 2 | J43: =J39+J40+J42 -> 2 | ... S43: =S39+S40+S42 -> 0
B44: 4-тоқсанның қорытысы // Итого за 4 квартал
B45: 12 айдын қорытындысы// Итого за 12 месяцев
B47: 1тоқсан бойынша = 1-бағаннан 3-бағанды алып тастаған жағдайды 10-баған мен 11-банның сомасы шығу керек. // для данных 1 квартала = графа 1 минус графа 6 равно графа 10 плюс графа 11
B48: 2 тоқсан бойынша = 1 тоқсанның соңында қаралуда қалған тапсырмаларға (10 мен 11 бағандары) 2 тоқсанда берілген тапсырма қосылады (1-баған), кейін орындалғаны алынып тасталады (6-баған). 2-тоқсанның соңында орындалуға қалған тапсырмалары 10 мен 11 бағанында көрсетіледі.
B49: по данным 2 квартала - к остаткам на конец 1 квартала (10 и 11 графы) прибавляются поручения данные во 2 квартале, минусуются поручения, исполненные во 2 квартале, в том числе и остатки 1 квартала. Таким образом остаток должен равен сумме граф 10 и 11 по второму кварталу.
B50: 3 тоқсан бойынша 2-тоқсан бойынша есебі бірдей - 2 тоқсанның соңында қаралуда қалған тапсырмаларға (10 мен 11 бағандары) 3 тоқсанда берілген тапсырма қосылады (1-баған), кейін орындалғаны алынып тасталады, 1,2 тоқсанның орындалғаны бар болса, (6-баған). 3-тоқсанның соңында орындалуға қалған тапсырмалары 10 мен 11 бағанында көрсетіледі. // такие же действия по 3 кварталу - к остаткам на конец 2 квартала (10 и 11 графы) прибавляются поручения данные в 3 квартале, минусуются поручения, исполненные в 3 квартале, в том числе и остатки 1 и 2 квартала. Таким образом остаток должен равен сумме граф 10 и 11 по третьему кварталу.
B51: 4 тоқсан бойынша 3-тоқсан бойынша есебі бірдей - 3 тоқсанның соңында қаралуда қалған тапсырмаларға (10 мен 11 бағандары) 4 тоқсанда берілген тапсырма қосылады (1-баған), кейін орындалғаны алынып тасталады, 1,2,3 тоқсанның тапсырмалары бар болса (6-баған). 4-тоқсанның соңында орындалуға қалған тапсырмалары 10 мен 11 бағанында көрсетіледі. // тоже самое по 4 кварталу - к остаткам на конец 3 квартала (10 и 11 графы) прибавляются поручения данные в 4 квартале, минусуются поручения, исполненные в 4 квартале, в том числе и остатки 1, 2, 3 квартала. Таким образом остаток должен равен сумме граф 10 и 11 по четвертому кварталу.
B52: 1-жартыжылдық, 9 айлық, жылдық есебі 1 тоқсан бойынша есебімен бірдей. // подсчет за 1 полугодие, 9 месяцев и год одинков как в 1 квартале.
B53: орындау мерзімінде орындалмай, қаралуда қалған (мерзімі бұзылған) тапсырмалар 10-бағанында көрсетіледі // в графе 10 показываются данные по поручениям , находящиеся на исполнении, но не исполненные в срок (нарушенные)
B54: мерзімі жетпеген, орындалудағы тапсырмалар 11-бағанында көрсетіледі. // в графе 11 показываются данные по поручениям, находящиеся на исполнении в пределах срока

Sheet прил18
B1: 2026 жылдың 3 тоқсаны бойынша жеке және заңды тұлғаларды жеке қабулдау туралы есеп | N1: № 4 кесте
B2: Отчет по приему физических и юридических лиц за 3 квартал 2026 года МЭ РК | N2: табл № 4
A4: № п/п | B4: МО атауылары, ведомстволық бағыныстағы ұйымдары, аудандық әкімдіктері // Наименование ГО, ведомственных подразделений // районных акиматов | C4: қабылдау жүргізілген саны // проведено приемов | I4: жеке тұлға мен заңды тұлғалардың өкілдерінің қабылданған саны // принято граждан и представителей юридических лиц | L4: өтініштері бойынша қабылданған шешімдері // принятое решение по обращению | N4: Азаматтарды бірыңғай күні қабылдау // Единый день приема граждан
C5: Барлығы // всего | D5: оның ішінде: // в том числе | I5: Барлығы // всего | J5: оның ішінде: // в том числе | L5: қабылдау барысында шешілген // разрешено в ходе приема | M5: қабылдау барысында қабылданған өтініштер // принято письменных обращений по итогам приема | N5: қабылданған азаматтар // принято граждан | O5: жеке қабылдау барысында шешілген // разрешено в ходе приема | P5: жеке қабылдауда қабылданған өтініштер // принято письменных обращений по итогам приема
D6: Министр/облыс, республикалық маңызы бар қала, астана Әкімдері // Министром/Акимом области, города республиканского значения, столицы | E6: Вице-министр, облыс, республикалық маңызы бар қала, астана Әкімдер орынбасарлары // Вице-министрами/Заместителями акима области, города республиканского значения, столицы | F6: Қала, аудан әкімдері // Аким города/района | G6: Қала, аудан әкімдерінің орынбасарлары // Заместителями акима города/района | H6: Басқа сатыдағы басшылар // Руководителями других уровней | J6: жеке тұлғалар // физических лиц | K6: заңды тұлғалардың өкілдері // представителей юридических лиц
A7: А | B7: Б | C7: 1 | D7: 2 | E7: 3 | F7: 4 | G7: 5 | H7: 6 | I7: 7 | J7: 8 | K7: 9 | L7: 10 | M7: 11 | N7: 12 | O7: 13 | P7: 14
B8: Центральный аппарат МЭ РК | C8: 12 | D8: 8 | E8: 4 | F8: 0 | G8: 0 | H8: 0 | I8: 21 | J8: 12 | K8: 9 | L8: 0 | M8: 0 | N8: 0 | O8: 0 | P8: 0
B9: Комитет атомного и энергетического надзора и контроля | C9: 0 | D9: 0 | E9: 0 | F9: 0 | G9: 0 | H9: 0 | I9: 0 | J9: 0 | K9: 0 | L9: 0 | M9: 0 | N9: 0 | O9: 0 | P9: 0
B10: Территориальный департамент КАЭНК по г.Астана | C10: 0 | D10: 0 | E10: 0 | F10: 0 | G10: 0 | H10: 0 | I10: 0 | J10: 0 | K10: 0 | L10: 0 | M10: 0 | N10: 0 | O10: 0 | P10: 0
B11: Территориальный департамент КАЭНК по г.Алматы | C11: 0 | D11: 0 | E11: 0 | F11: 0 | G11: 0 | H11: 0 | I11: 0 | J11: 0 | K11: 0 | L11: 0 | M11: 0 | N11: 0 | O11: 0 | P11: 0
B12: Территориальный департамент КАЭНК по г.Шымкент | C12: 0 | D12: 0 | E12: 0 | F12: 0 | G12: 0 | H12: 0 | I12: 0 | J12: 0 | K12: 0 | L12: 0 | M12: 0 | N12: 0 | O12: 0 | P12: 0
B13: Территориальный департамент КАЭНК по Акмолинской области | C13: 0 | D13: 0 | E13: 0 | F13: 0 | G13: 0 | H13: 0 | I13: 0 | J13: 0 | K13: 0 | L13: 0 | M13: 0 | N13: 0 | O13: 0 | P13: 0
B14: Территориальный департамент КАЭНК по Алматинской области | C14: 0 | D14: 0 | E14: 0 | F14: 0 | G14: 0 | H14: 0 | I14: 0 | J14: 0 | K14: 0 | L14: 0 | M14: 0 | N14: 0 | O14: 0 | P14: 0
B15: Территориальный департамент КАЭНК по Актюбинской области | C15: 0 | D15: 0 | E15: 0 | F15: 0 | G15: 0 | H15: 0 | I15: 0 | J15: 0 | K15: 0 | L15: 0 | M15: 0 | N15: 0 | O15: 0 | P15: 0
B16: Территориальный департамент КАЭНК по Атырауской области | C16: 0 | D16: 0 | E16: 0 | F16: 0 | G16: 0 | H16: 0 | I16: 0 | J16: 0 | K16: 0 | L16: 0 | M16: 0 | N16: 0 | O16: 0 | P16: 0
B17: Территориальный департамент КАЭНК по Павлодарской области | C17: 0 | D17: 0 | E17: 0 | F17: 0 | G17: 0 | H17: 0 | I17: 0 | J17: 0 | K17: 0 | L17: 0 | M17: 0 | N17: 0 | O17: 0 | P17: 0
B18: Территориальный департамент КАЭНК по Восточно-Казахстанской области | C18: 0 | D18: 0 | E18: 0 | F18: 0 | G18: 0 | H18: 0 | I18: 0 | J18: 0 | K18: 0 | L18: 0 | M18: 0 | N18: 0 | O18: 0 | P18: 0
B19: Территориальный департамент КАЭНК по Северо-Казахстанской области | C19: 0 | D19: 0 | E19: 0 | F19: 0 | G19: 0 | H19: 0 | I19: 0 | J19: 0 | K19: 0 | L19: 0 | M19: 0 | N19: 0 | O19: 0 | P19: 0
... B40: 3-тоқсанның қорытысы // Итого за 3 квартал | C40: 12 | D40: 8 | E40: 4 | F40: 0 | G40: 0 | H40: 0 | I40: 22 | J40: 13 | K40: 9 | L40: 1 | M40: 0 | N40: 0 | O40: 0 | P40: 0
B41: 9 айы қорытындысы//Итого за 9 месяцев | C41: =C37+C38+C40 -> 31 | D41: =D37+D38+D40 -> 17 | E41: =E37+E38+E40 -> 13 | F41: =F37+F38+F40 -> 0 | G41: =G37+G38+G40 -> 0 | H41: =H37+H38+H40 -> 5 | I41: =I37+I38+I40 -> 55 | J41: =J37+J38+J40 -> 38 | ... P41: =P37+P38+P40 -> 0
B42: 4-тоқсан қорытындысы/Итого за 4 квартал
B43: 12 айы қорытындысы//Итого за 12 месяцев
B45: 1-кестенің 4-бағаны 4- кестенің 11-бағанымен сәйкес келу керек // графа 4 таблицы 1 идентичны с графой 11 таблицы 4
B47: 2,3,4,5,6 бағаналардың сомасы 1-бағаны мәліметіне сәйкес болу тиіс // графа 1 равно сумме граф 2, 3, 4, 5, 6
B48: 8 мен 9-бағаналардың сомасы 7-бағаның мәліметіне сәйкес болу тиіс // графа 7 равно сумме граф 8 и 12
B49: 12-бағаның мәліметтері 7-бағаның ішінде болу тиіс // графа 12 в том числе из графы 7
B50: 13-бағаның мәліметтері 10-бағаның ішінде болу тиіс // графа 13 в том числе из графы 10
B51: 14-бағаның мәліметтері 11-бағаның ішінде болу тиіс // графа 14 в том числе из графы 11

Sheet прил19
B1: 2026 жылдың 3 тоқсаны бойынша Qlik талдамалық жүйесінің деректері негізінде анықталған ТОП-3 өзекті проблемалар жөніндегі есеп
B2: Отчет по ТОП-3 актуальных проблем, выявляемых на основе даных аналитической системы Qlik за 3 квартал 2026 года МЭ РК
B4: № п/п | C4: Мемлекеттік органдардың атауы/Наименование госорганов | D4: ТОП-3 мәселе / саны / % / ТОП-3 вопроса / количество / % | H4: ТОП-3 / саны / алдыңғы кезеңнің % / ТОП-3 / количество / % предыдущего периода | K4: Өзекті мәселелердің өзгеру серпіні/Динамика изменения актуальных вопросов | L4: Өтініш берушілер көтеретін проблемаларды шешу жөніндегі шаралар/Меры по решению проблем, поднимаемых заявителями
D5: Өтініштердің барлығы/Всего обращений | E5: ТОП-1 | F5: ТОП-2 | G5: ТОП-3 | H5: ТОП-1 | I5: ТОП-2 | J5: ТОП-3
B6: А | C6: Б | D6: 1 | E6: 2 | F6: 3 | G6: 4 | H6: 7 | I6: 8 | J6: 9 | K6: 10 | L6: 11
B7: 1 | C7: Министерство энергетики РК | D7: 3441 | E7: электроэнергетика/1250/36,3% | F7: Контроль и надзор в области использования атомной и электроэнергии/571/16,6% | G7: недропользование/497/14,4% | H7: электроэнергетика/1490/42,84% | I7: недропользование/510/14,62% | J7: нефтяная промышленность/294/8,43% | K7: Снижение количества вопросов в категории "Электроэнергетика" на 6,14%, в категории "Недропользование" практически на прежнем уровне. Рост вопросов в категории "Контроль и надзор в области использования атомной и электроэнергии" связан с ростом количества обращений в территориальных департаментах Комитета государственного энергетического контроля и надзора, кроме того, территориальные департаменты начали более точно выбирать категорию и характеры вопросов. Также рост связан вопросами, возникающими при подготовке к отопительному сезону. | L7: В целях решения поднимаемых проблем даются разъяснения вопросов по тарифам и подготовки к отопительному сезону, качества энергоснабжения и т.д., территориальным департаментами Комитета государственного энергетического надзора и контроля проводятся проверки в необходимых случаях.
