Workbook
Name Print_Area_0: Абылайханский!$A$1:$R$58
Name Print_Area_0: Атамекен!$A$1:$R$58
Name Print_Area_0: Веденовский!$A$1:$R$58
Name Print_Area_0: 'всего по с.о'!$A$1:$R$58
Name Print_Area_0: Зеленоборский!$A$1:$R$58
Name Print_Area_0: Златопольский!$A$1:$R$58
Name Print_Area_0: Катаркольский!$A$1:$R$58
Name Print_Area_0: Кенесаринский!$A$1:$R$57
Name Print_Area_0: қаңтар!$A$1:$J$109
Name Print_Area_0: 'п. Бурабай '!$A$1:$R$60
Name Print_Area_0: Урумкайский!$A$1:$R$58
Name Print_Area_0: Успеноюрьевский!$A$1:$R$58
Name Print_Area_0: 'форма со'!$A$1:$R$58
Name Print_Area_0: Щучинск!$A$1:$R$58

Sheet қаңтар
D1: ФОРМУ НЕ ИЗМЕНЯТЬ. СТРОКИ, СТОЛБЦЫ, ФОРМУЛЫ НЕ СКРЫВАТЬ, НЕ УДАЛЯТЬ
P2: Приложение № 1
E3: Катаркөл ауылдық округі бойынша 2023-2026 жылдарға арналған бюджеттің атқарылуы туралы есеп
A6: САНАТЫ | F6: нақты 01.01.2023 | G6: нақты 01.01.2024 | H6: нақты 01.01.2025 | I6: 01.01.2026 жыл
B7: ЖІКТЕЛІМ
C8: КІШІ ЖІКТЕЛІМ
D9: ЕРЕКШЕЛІГІ | I9: жоспар | J9: нақты
E10: КІРІСТЕР | F10: =F11+F53+F99 -> 1842.4 | G10: =G11+G53+G99 -> 795.2 | H10: =H11+H53+H99 -> 2702.6 | I10: =I11+I53+I99 -> 16205.9 | J10: =J11+J53+J99 -> 1773.511
A11: 1 | E11: САЛЫҚ ТҮСІМДЕРІ | F11: =F12+F16+F19+F31+F47+F50 -> 1173 | G11: =G12+G16+G19+G31+G47+G50 -> 640.4 | H11: =H12+H16+H19+H31+H47+H50 -> 2547.2 | I11: =I12+I16+I19+I31+I47+I50 -> 15779.9 | J11: =J12+J16+J19+J31+J47+J50 -> 316.233
A12: 1 | B12: 1 | E12: Табыс салығы | F12: =F14 -> 129.7 | G12: =G14 -> 24.7 | H12: =H14 -> 1795.4 | I12: 14640.9 | J12: =J14 -> -61.207
A13: 1 | B13: 1 | C13: 2 | E13: Жеке табыс салығы | F13: =F15+F14 -> 129.7 | G13: =G15+G14 -> 24.7 | H13: =H15+H14 -> 1795.4 | I13: =I15+I14 -> 14640.9 | J13: =J15+J14 -> -61.207
A14: 1 | B14: 1 | C14: 2 | D14: 2 | E14: Төлем көзінен салық салынбайтын табыстардан алынатын жеке табыс салығы | F14: 129.7 | G14: 24.7 | H14: 1795.4 | I14: 14640.9 | J14: -61.207
A15: 1 | B15: 1 | C15: 2 | D15: 5 | E15: Төлем көзінен салық салынбайтын шетел азаматтарының табыстарынан алынатын жеке табыс салығы | F15: 0 | G15: 0 | H15: 0 | I15: 0 | J15: 0
A16: 1 | B16: 3 | E16: Әлеуметтік салық | F16: =F17 -> 0 | G16: =G17 -> 0 | H16: =H17 -> 0 | I16: =I17 -> 0 | J16: =J17 -> 0
A17: 1 | B17: 3 | C17: 1 | E17: Әлеуметтік салық | F17: 0 | G17: 0 | H17: 0 | I17: 0 | J17: 0
A18: 1 | B18: 3 | C18: 1 | D18: 1 | E18: Әлеуметтік салық | F18: 0 | G18: 0 | H18: 0 | I18: 0 | J18: 0
A19: 1 | B19: 4 | E19: Меншікке салынатын салық | F19: =F20+F24+F26 -> 1035.3 | G19: =G20+G24+G26 -> 608 | H19: =H20+H24+H26 -> 743.3 | I19: =I20+I23+I26+I29 -> 1139 | J19: =J20+J24+J26 -> 377.09
A20: 1 | B20: 4 | C20: 1 | E20: Мүлікке салынатын салық | F20: =F22+F21 -> 29.2 | G20: =G22+G21 -> 17.8 | H20: =H22+H21 -> 24.5 | I20: =I22+I21 -> 67 | J20: =J22+J21 -> 26.679
A21: 1 | B21: 4 | C21: 1 | D21: 1 | E21: Заңды тұлғалар мен жеке кәсіпкерлердің мүлкіне салынатын салық | F21: 0 | G21: 0 | H21: 0 | I21: 0 | J21: 0
A22: 1 | B22: 4 | C22: 1 | D22: 2 | E22: Жеке тұлғалардың мүлкіне салынатын салық | F22: 29.2 | G22: 17.8 | H22: 24.5 | I22: 67 | J22: 26.679
A23: 1 | B23: 4 | C23: 3 | E23: Жер салығы | F23: =F25+F24 -> 129.4 | G23: =G25+G24 -> 1.6 | H23: =H25+H24 -> 146.8 | I23: =I25+I24 -> 487 | J23: =J25+J24 -> 0.1
A24: 1 | B24: 4 | C24: 3 | D24: 2 | E24: Жер салығы | F24: 129.4 | G24: 1.6 | H24: 146.8 | I24: 487 | J24: 0.1
A25: 1 | B25: 4 | C25: 3 | D25: 9 | E25: Жеке тұлғалардан алынатын жер салығын қоспағанда, жер салығы (КБК алып тасталды 01.01.2019) | F25: 0 | G25: 0 | H25: 0 | I25: 0 | J25: 0
A26: 1 | B26: 4 | C26: 4 | E26: Көлік құралдарына салынатын салық | F26: =SUM(F27:F28) -> 876.7 | G26: =SUM(G27:G28) -> 588.6 | H26: =SUM(H27:H28) -> 572 | I26: =SUM(I27:I28) -> 578 | J26: =SUM(J27:J28) -> 350.311
A27: 1 | B27: 4 | C27: 4 | D27: 1 | E27: Заңды тұлғалардан көлік құралдарына салынатын салық | F27: -22.8 | G27: 0 | H27: 0.1 | I27: 11 | J27: 0.05
A28: 1 | B28: 4 | C28: 4 | D28: 2 | E28: Жеке тұлғалардан көлік құралдарына салынатын салық | F28: 899.5 | G28: 588.6 | H28: 571.9 | I28: 567 | J28: 350.261
A29: 1 | B29: 4 | C29: 5 | E29: Біріңғай жер салығы | I29: 7 | J29: 0
A30: 1 | B30: 4 | C30: 5 | D30: 1 | E30: Біріңғай жер салығы | I30: 7 | J30: 0
A31: 1 | B31: 5 | E31: Тауарларға, жұмыстарға және қызметтерге салынатын ішкі салықтар | F31: =F32+F36+F38+F45 -> 8 | G31: =G32+G36+G38+G45 -> 7.7 | H31: =H32+H36+H38+H45 -> 8.5 | I31: =I32+I36+I38+I45 -> 0 | J31: =J32+J36+J38+J45 -> 0.35
A32: 1 | B32: 5 | C32: 2 | E32: Акциздер
A33: 1 | B33: 5 | C33: 2 | D33: 74 | E33: Все виды спирта и (или) виноматериала, алкогольной продукции, произведенных на территории Республики Казахстан
A34: 1 | B34: 5 | C34: 2 | D34: 75 | E34: Табачные изделия, легковые автомобили (кроме автомобилей с ручным управлением или адаптером ручного управления, специально предназначенных для инвалидов), произведенные на территории Республики Казахстан
A35: 1 | B35: 5 | C35: 2 | D35: 84 | E35: Қазақстан Республикасының аумағында өндірілген бензин (авиациялықты қоспағанда) және дизель отыны
A36: 1 | B36: 5 | C36: 3 | E36: Табиғи және басқа ресурстарды пайдаланғаны үшін түсімдер | F36: 8 | G36: 7.7 | H36: 8.5 | I36: 0 | J36: 0.35
A37: 1 | B37: 5 | C37: 3 | D37: 15 | E37: Жер учаскелерін пайдаланғаны үшін төлем | F37: 8 | G37: 7.7 | H37: 8.5 | I37: 0 | J37: 0.35
A38: 1 | B38: 5 | C38: 4 | E38: Кәсіпкерлік және кәсіптік қызметті жүргізгені үшін алымдар
A39: 1 | B39: 5 | C39: 4 | D39: 2 | E39: Жекелеген қызмет түрлерімен айналысу құқығы үшін лицензиялық алым
A40: 1 | B40: 5 | C40: 4 | D40: 4 | E40: Аукциондардан алым
A41: 1 | B41: 5 | C41: 4 | D41: 25 | E41: Плата за размещение наружной (визуальной) рекламы на открытом пространстве за пределами помещений в городе областного значения, за исключением платы за размещение наружной (визуальной) рекламы на объектах стационарного размещения рекламы в полосе отвода автомобильных дорог общего пользования районного значения, на открытом пространстве за пределами помещений в городе районного значения, селе, поселке
A42: 1 | B42: 5 | C42: 4 | D42: 29 | E42: Жергілікті бюджетке есептелетін тіркеу алымы
...

Sheet районный бюджет
D1: ФОРМУ НЕ ИЗМЕНЯТЬ. СТРОКИ, СТОЛБЦЫ, ФОРМУЛЫ НЕ СКРЫВАТЬ, НЕ УДАЛЯТЬ
P2: Приложение № 1
E3: Распределение доходов бюджета на 2020 год по районному бюджету Бурабайского района
F4: по состоянию на 31.01.2020 г.
A6: КАТЕГОРИЯ | F6: План года | G6: План года по месяцам
B7: КЛАСС
C8: ПОДКЛАСС
D9: СПЕЦИФИКА | G9: январь | H9: февраль | I9: март | J9: апрель | K9: май | L9: июнь | M9: июль | N9: август | O9: сентябрь | P9: октябрь | Q9: ноябрь | R9: декабрь
E10: ДОХОДЫ | F10: =F11+F51+F93 -> 2980574 | G10: =G11+G51+G93 -> 23481 | H10: =H11+H51+H93 -> 402103 | I10: =I11+I51+I93 -> 408650 | J10: =J11+J51+J93 -> 409718 | K10: =K11+K51+K93 -> 266502 | L10: =L11+L51+L93 -> 26966 | M10: =M11+M51+M93 -> 206716 | ... R10: =R11+R51+R93 -> 372162
A11: 1 | E11: HАЛОГОВЫЕ ПОСТУПЛЕHИЯ | F11: =F12+F16+F19+F30+F45+F48 -> 2839130 | G11: =G12+G16+G19+G30+G45+G48 -> 16054 | H11: =H12+H16+H19+H30+H45+H48 -> 392384.2 | I11: =I12+I16+I19+I30+I45+I48 -> 397232.8 | J11: =J12+J16+J19+J30+J45+J48 -> 399510 | K11: =K12+K16+K19+K30+K45+K48 -> 256545 | L11: =L12+L16+L19+L30+L45+L48 -> 25007 | M11: =M12+M16+M19+M30+M45+M48 -> 194321 | ... R11: =R12+R16+R19+R30+R45+R48 -> 353403
A12: 1 | B12: 1 | E12: Подоходный налог | F12: =F13 -> 24290 | G12: =G13 -> 1027 | H12: =H13 -> 2573 | I12: =I13 -> 2790 | J12: =J13 -> 1400 | K12: =K13 -> 2700 | L12: =L13 -> 2550 | M12: =M13 -> 2550 | ... R12: =R13 -> 1000
A13: 1 | B13: 1 | C13: 2 | E13: Индивидуальный подоходный налог | F13: =SUM(F14:F15) -> 24290 | G13: =SUM(G14:G15) -> 1027 | H13: =SUM(H14:H15) -> 2573 | I13: =SUM(I14:I15) -> 2790 | J13: =SUM(J14:J15) -> 1400 | K13: =SUM(K14:K15) -> 2700 | L13: =SUM(L14:L15) -> 2550 | M13: =SUM(M14:M15) -> 2550 | ... R13: =SUM(R14:R15) -> 1000
A14: 1 | B14: 1 | C14: 2 | D14: 2 | E14: Индивидуальный подоходный налог с доходов, не облагаемых у источника выплаты | F14: =SUM(G14:R14) -> 0
A15: 1 | B15: 1 | C15: 2 | D15: 5 | E15: Индивидуальный подоходный налог с доходов иностранных граждан, не облагаемых у источника выплаты | F15: =SUM(G15:R15) -> 24290 | G15: 1027 | H15: 2573 | I15: 2790 | J15: 1400 | K15: 2700 | L15: 2550 | M15: 2550 | N15: 2450 | O15: 2450 | P15: 1800 | Q15: 1000 | R15: 1000
A16: 1 | B16: 3 | E16: Социальный налог | F16: =F17 -> 1647934 | G16: =G17 -> 7845 | H16: =H17 -> 165030 | I16: =I17 -> 353603 | J16: =J17 -> 372560 | K16: =K17 -> 20795 | L16: =L17 -> 9000 | M16: =M17 -> 161457 | ... R16: =R17 -> 276480
A17: 1 | B17: 3 | C17: 1 | E17: Социальный налог | F17: =SUM(F18) -> 1647934 | G17: =SUM(G18) -> 7845 | H17: =SUM(H18) -> 165030 | I17: =SUM(I18) -> 353603 | J17: =SUM(J18) -> 372560 | K17: =SUM(K18) -> 20795 | L17: =SUM(L18) -> 9000 | M17: =SUM(M18) -> 161457 | ... R17: =SUM(R18) -> 276480
A18: 1 | B18: 3 | C18: 1 | D18: 1 | E18: Социальный налог | F18: =SUM(G18:R18) -> 1647934 | G18: 7845 | H18: 165030 | I18: 353603 | J18: 372560 | K18: 20795 | L18: 9000 | M18: 161457 | N18: 25868 | O18: 129686 | P18: 115610 | Q18: 10000 | R18: 276480
A19: 1 | B19: 4 | E19: Налоги на собственность | F19: =F20+F23+F25+F28 -> 940566 | G19: =G20+G23+G25+G28 -> 2233 | H19: =H20+H23+H25+H28 -> 199881.2 | I19: =I20+I23+I25+I28 -> 23000 | J19: =J20+J23+J25+J28 -> 17000 | K19: =K20+K23+K25+K28 -> 210000 | L19: =L20+L23+L25+L28 -> 4000 | M19: =M20+M23+M25+M28 -> 20000 | ... R19: =R20+R23+R25+R28 -> 41311.8
A20: 1 | B20: 4 | C20: 1 | E20: Налоги на имущество | F20: =SUM(F21:F22) -> 940566 | G20: =SUM(G21:G22) -> 2233 | H20: =SUM(H21:H22) -> 199881.2 | I20: =SUM(I21:I22) -> 23000 | J20: =SUM(J21:J22) -> 17000 | K20: =SUM(K21:K22) -> 210000 | L20: =SUM(L21:L22) -> 4000 | M20: =SUM(M21:M22) -> 20000 | ... R20: =SUM(R21:R22) -> 41311.8
A21: 1 | B21: 4 | C21: 1 | D21: 1 | E21: Налог на имущество юридических лиц и индивидуальных предпринимателей | F21: =SUM(G21:R21) -> 940566 | G21: 2233 | H21: 199881.2 | I21: 23000 | J21: 17000 | K21: 210000 | L21: 4000 | M21: 20000 | N21: 202000 | O21: 22000 | P21: 5000 | Q21: 194140 | R21: 41311.8
A22: 1 | B22: 4 | C22: 1 | D22: 2 | E22: Налог на имущество физических лиц | F22: =SUM(G22:R22) -> 0
A23: 1 | B23: 4 | C23: 3 | E23: Земельный налог | F23: =SUM(F24:F24) -> 0 | G23: =SUM(G24:G24) -> 0 | H23: =SUM(H24:H24) -> 0 | I23: =SUM(I24:I24) -> 0 | J23: =SUM(J24:J24) -> 0 | K23: =SUM(K24:K24) -> 0 | L23: =SUM(L24:L24) -> 0 | M23: =SUM(M24:M24) -> 0 | ... R23: =SUM(R24:R24) -> 0
A24: 1 | B24: 4 | C24: 3 | D24: 2 | E24: Земельный налог | F24: =SUM(G24:R24) -> 0
A25: 1 | B25: 4 | C25: 4 | E25: Налог на транспортные средства | F25: =SUM(F26:F27) -> 0 | G25: =SUM(G26:G27) -> 0 | H25: =SUM(H26:H27) -> 0 | I25: =SUM(I26:I27) -> 0 | J25: =SUM(J26:J27) -> 0 | K25: =SUM(K26:K27) -> 0 | L25: =SUM(L26:L27) -> 0 | M25: =SUM(M26:M27) -> 0 | ... R25: =SUM(R26:R27) -> 0
A26: 1 | B26: 4 | C26: 4 | D26: 1 | E26: Налог на транспортные средства с юридических лиц | F26: =SUM(G26:R26) -> 0
A27: 1 | B27: 4 | C27: 4 | D27: 2 | E27: Налог на транспортные средства с физических лиц | F27: =SUM(G27:R27) -> 0
A28: 1 | B28: 4 | C28: 5 | E28: Единый земельный налог | F28: =F29 -> 0 | G28: =G29 -> 0 | H28: =H29 -> 0 | I28: =I29 -> 0 | J28: =J29 -> 0 | K28: =K29 -> 0 | L28: =L29 -> 0 | M28: =M29 -> 0 | ... R28: =R29 -> 0
A29: 1 | B29: 4 | C29: 5 | D29: 1 | E29: Единый земельный налог | F29: =SUM(G29:R29) -> 0
A30: 1 | B30: 5 | E30: Внутренние налоги на товары, работы и услуги | F30: =F31+F35+F37+F43 -> 202741 | G30: =G31+G35+G37+G43 -> 3505 | H30: =H31+H35+H37+H43 -> 22700 | I30: =I31+I35+I37+I43 -> 15400 | J30: =J31+J35+J37+J43 -> 6333.8 | K30: =K31+K35+K37+K43 -> 20850 | L30: =L31+L35+L37+L43 -> 9158 | M30: =M31+M35+M37+M43 -> 8114 | ... R30: =R31+R35+R37+R43 -> 32311.2
A31: 1 | B31: 5 | C31: 2 | E31: Акцизы | F31: =SUM(F32:F34) -> 14381 | G31: =SUM(G32:G34) -> 1115 | H31: =SUM(H32:H34) -> 850 | I31: =SUM(I32:I34) -> 800 | J31: =SUM(J32:J34) -> 900 | K31: =SUM(K32:K34) -> 1000 | L31: =SUM(L32:L34) -> 1200 | M31: =SUM(M32:M34) -> 1240 | ... R31: =SUM(R32:R34) -> 1259.2
A32: 1 | B32: 5 | C32: 2 | D32: 74 | E32: Все виды спирта и (или) виноматериала, алкогольной продукции, произведенных на территории Республики Казахстан | F32: =SUM(G32:R32) -> 0
A33: 1 | B33: 5 | C33: 2 | D33: 75 | E33: Табачные изделия, легковые автомобили (кроме автомобилей с ручным управлением или адаптером ручного управления, специально предназначенных для инвалидов), произведенные на территории Республики Казахстан | F33: =SUM(G33:R33) -> 0
A34: 1 | B34: 5 | C34: 2 | D34: 84 | E34: Бензин (за исключением авиационного) и дизельное топливо, произведенных на территории Республики Казахстан | F34: =SUM(G34:R34) -> 14381 | G34: 1115 | H34: 850 | I34: 800 | J34: 900 | K34: 1000 | L34: 1200 | M34: 1240 | N34: 1500 | O34: 1900 | P34: 1200 | Q34: 1416.8 | R34: 1259.2
A35: 1 | B35: 5 | C35: 3 | E35: Поступления за использование природных и других ресурсов | F35: =SUM(F36:F36) -> 99910 | G35: =SUM(G36:G36) -> 158 | H35: =SUM(H36:H36) -> 17000 | I35: =SUM(I36:I36) -> 1000 | J35: =SUM(J36:J36) -> 1600 | K35: =SUM(K36:K36) -> 14000 | L35: =SUM(L36:L36) -> 4308 | M35: =SUM(M36:M36) -> 1479.8 | ... R35: =SUM(R36:R36) -> 6902
A36: 1 | B36: 5 | C36: 3 | D36: 15 | E36: Плата за пользование земельными участками | F36: =SUM(G36:R36) -> 99910 | G36: 158 | H36: 17000 | I36: 1000 | J36: 1600 | K36: 14000 | L36: 4308 | M36: 1479.8 | N36: 22300 | O36: 10200 | P36: 1829 | Q36: 19133.2 | R36: 6902
A37: 1 | B37: 5 | C37: 4 | E37: Сборы за ведение предпринимательской и профессиональной деятельности | F37: =SUM(G37:R37) -> 80050 | G37: =SUM(G38:G42) -> 1816 | H37: =SUM(H38:H42) -> 3650 | I37: =SUM(I38:I42) -> 13300 | J37: =SUM(J38:J42) -> 3299.8 | K37: =SUM(K38:K42) -> 4450 | L37: =SUM(L38:L42) -> 3300 | M37: =SUM(M38:M42) -> 4944.2 | N37: =SUM(N38:N42) -> 3240 | ... R37: =SUM(R38:R42) -> 23900
A38: 1 | B38: 5 | C38: 4 | D38: 2 | E38: Лицензионный сбор за право занятия отдельными видами деятельности | F38: =SUM(G38:R38) -> 9450 | G38: 569 | H38: 1300 | I38: 1000 | J38: 300 | K38: 1746.8 | L38: 950 | M38: 1284.2 | N38: 1000 | O38: 250 | P38: 450 | Q38: 350 | R38: 250
A39: 1 | B39: 5 | C39: 4 | D39: 4 | E39: Сбор с аукционов | F39: =SUM(G39:R39) -> 0
A40: 1 | B40: 5 | C40: 4 | D40: 25 | E40: Плата за размещение наружной (визуальной) рекламы на открытом пространстве за пределами помещений в городе областного значения, за исключением платы за размещение наружной (визуальной) рекламы на объектах стационарного размещения рекламы в полосе отвода автомобильных дорог общего пользования районного значения, на открытом пространстве за пределами помещений в городе районного значения, селе, поселке | F40: =SUM(G40:R40) -> 0
A41: 1 | B41: 5 | C41: 4 | D41: 29 | E41: Регистрационный сбор, зачисляемый в местный бюджет | F41: =SUM(G41:R41) -> 3800 | G41: 71 | H41: 350 | I41: 300 | J41: 350 | K41: 529 | L41: 350 | M41: 360 | N41: 240 | O41: 350 | P41: 350 | Q41: 400 | R41: 150
...

Sheet всего по с.о
D1: ФОРМУ НЕ ИЗМЕНЯТЬ. СТРОКИ, СТОЛБЦЫ, ФОРМУЛЫ НЕ СКРЫВАТЬ, НЕ УДАЛЯТЬ
P2: Приложение № 1
E3: Распределение доходов бюджета на 2020 год по 11-ти сельским округам Бурабайского района
F4: по состоянию на 31.01.2020 г.
A6: КАТЕГОРИЯ | F6: План года | G6: План года по месяцам
B7: КЛАСС
C8: ПОДКЛАСС
D9: СПЕЦИФИКА | G9: январь | H9: февраль | I9: март | J9: апрель | K9: май | L9: июнь | M9: июль | N9: август | O9: сентябрь | P9: октябрь | Q9: ноябрь | R9: декабрь
E10: ДОХОДЫ | F10: =F11+F25+F54 -> 381927 | G10: =G11+G25+G54 -> 14860 | H10: =H11+H25+H54 -> 53257 | I10: =I11+I25+I54 -> 27293 | J10: =J11+J25+J54 -> 36179 | K10: =K11+K25+K54 -> 26853 | L10: =L11+L25+L54 -> 26749 | M10: =M11+M25+M54 -> 32530 | ... R10: =R11+R25+R54 -> 21485 | S10: =SUM(Щучинск:Успеноюрьевский!F10:F10)=F10 -> TRUE
A11: 1 | E11: HАЛОГОВЫЕ ПОСТУПЛЕHИЯ | F11: =F12+F15+F23 -> 372022 | G11: =G12+G15+G23 -> 14556 | H11: =H12+H15+H23 -> 52953 | I11: =I12+I15+I23 -> 26924 | J11: =J12+J15+J23 -> 35608 | K11: =K12+K15+K23 -> 25590 | L11: =L12+L15+L23 -> 25092 | M11: =M12+M15+M23 -> 30557 | ... R11: =R12+R15+R23 -> 21101 | S11: =SUM(Щучинск:Успеноюрьевский!F11:F11)=F11 -> TRUE
A12: 1 | B12: 1 | E12: Подоходный налог | F12: =F13 -> 184843 | G12: =G13 -> 5743 | H12: =H13 -> 36864 | I12: =I13 -> 15059 | J12: =J13 -> 15978 | K12: =K13 -> 10229 | L12: =L13 -> 12076 | M12: =M13 -> 15862 | ... R12: =R13 -> 12338 | S12: =SUM(Щучинск:Успеноюрьевский!F12:F12)=F12 -> TRUE
A13: 1 | B13: 1 | C13: 2 | E13: Индивидуальный подоходный налог | F13: =SUM(F14:F14) -> 184843 | G13: =SUM(G14:G14) -> 5743 | H13: =SUM(H14) -> 36864 | I13: =SUM(I14:I14) -> 15059 | J13: =SUM(J14:J14) -> 15978 | K13: =SUM(K14:K14) -> 10229 | L13: =SUM(L14:L14) -> 12076 | M13: =SUM(M14:M14) -> 15862 | N13: =SUM(N14:N14) -> 26197 | O13: =SUM(O14:O14) -> 18035 | P13: =SUM(P14:P14) -> 6065 | ... R13: =SUM(R14:R14) -> 12338 | S13: =SUM(Щучинск:Успеноюрьевский!F13:F13)=F13 -> TRUE
A14: 1 | B14: 1 | C14: 2 | D14: 2 | E14: Индивидуальный подоходный налог с доходов, не облагаемых у источника выплаты | F14: =SUM(G14:R14) -> 184843 | G14: =SUM(Щучинск:Успеноюрьевский!G14:G14) -> 5743 | H14: =SUM(Щучинск:Успеноюрьевский!H14:H14) -> 36864 | I14: =SUM(Щучинск:Успеноюрьевский!I14:I14) -> 15059 | J14: =SUM(Щучинск:Успеноюрьевский!J14:J14) -> 15978 | K14: =SUM(Щучинск:Успеноюрьевский!K14:K14) -> 10229 | L14: =SUM(Щучинск:Успеноюрьевский!L14:L14) -> 12076 | M14: =SUM(Щучинск:Успеноюрьевский!M14:M14) -> 15862 | N14: =SUM(Щучинск:Успеноюрьевский!N14:N14) -> 26197 | ... R14: =SUM(Щучинск:Успеноюрьевский!R14:R14) -> 12338 | S14: =SUM(Щучинск:Успеноюрьевский!F14:F14)=F14 -> TRUE
A15: 1 | B15: 4 | E15: Налоги на собственность | F15: =F16+F18+F20 -> 179991 | G15: =G16+G18+G20 -> 8328 | H15: =H16+H18+H20 -> 15438 | I15: =I16+I18+I20 -> 11762 | J15: =J16+J18+J20 -> 19556 | K15: =K16+K18+K20 -> 14526 | L15: =L16+L18+L20 -> 11586 | M15: =M16+M18+M20 -> 14431 | ... R15: =R16+R18+R20 -> 8604 | S15: =SUM(Щучинск:Успеноюрьевский!F15:F15)=F15 -> TRUE
A16: 1 | B16: 4 | C16: 1 | E16: Налоги на имущество | F16: =SUM(F17:F17) -> 15469 | G16: =SUM(G17:G17) -> 729 | H16: =SUM(H17:H17) -> 682 | I16: =SUM(I17:I17) -> 1086 | J16: =SUM(J17:J17) -> 2634 | K16: =SUM(K17:K17) -> 902 | L16: =SUM(L17:L17) -> 846 | M16: =SUM(M17:M17) -> 1156 | ... R16: =SUM(R17:R17) -> 571 | S16: =SUM(Щучинск:Успеноюрьевский!F16:F16)=F16 -> TRUE
A17: 1 | B17: 4 | C17: 1 | D17: 2 | E17: Налог на имущество физических лиц | F17: =SUM(G17:R17) -> 15469 | G17: =SUM(Щучинск:Успеноюрьевский!G17:G17) -> 729 | H17: =SUM(Щучинск:Успеноюрьевский!H17:H17) -> 682 | I17: =SUM(Щучинск:Успеноюрьевский!I17:I17) -> 1086 | J17: =SUM(Щучинск:Успеноюрьевский!J17:J17) -> 2634 | K17: =SUM(Щучинск:Успеноюрьевский!K17:K17) -> 902 | L17: =SUM(Щучинск:Успеноюрьевский!L17:L17) -> 846 | M17: =SUM(Щучинск:Успеноюрьевский!M17:M17) -> 1156 | N17: =SUM(Щучинск:Успеноюрьевский!N17:N17) -> 1540 | ... R17: =SUM(Щучинск:Успеноюрьевский!R17:R17) -> 571 | S17: =SUM(Щучинск:Успеноюрьевский!F17:F17)=F17 -> TRUE
A18: 1 | B18: 4 | C18: 3 | E18: Земельный налог | F18: =SUM(F19:F19) -> 80979 | G18: =SUM(G19:G19) -> 2167 | H18: =SUM(H19:H19) -> 10348 | I18: =SUM(I19:I19) -> 2683 | J18: =SUM(J19:J19) -> 9146 | K18: =SUM(K19:K19) -> 9337 | L18: =SUM(L19:L19) -> 2347 | M18: =SUM(M19:M19) -> 4533 | ... R18: =SUM(R19:R19) -> 3337 | S18: =SUM(Щучинск:Успеноюрьевский!F18:F18)=F18 -> TRUE
A19: 16 | B19: 4 | C19: 3 | D19: 2 | E19: Земельный налог | F19: =SUM(G19:R19) -> 80979 | G19: =SUM(Щучинск:Успеноюрьевский!G19:G19) -> 2167 | H19: =SUM(Щучинск:Успеноюрьевский!H19:H19) -> 10348 | I19: =SUM(Щучинск:Успеноюрьевский!I19:I19) -> 2683 | J19: =SUM(Щучинск:Успеноюрьевский!J19:J19) -> 9146 | K19: =SUM(Щучинск:Успеноюрьевский!K19:K19) -> 9337 | L19: =SUM(Щучинск:Успеноюрьевский!L19:L19) -> 2347 | M19: =SUM(Щучинск:Успеноюрьевский!M19:M19) -> 4533 | N19: =SUM(Щучинск:Успеноюрьевский!N19:N19) -> 6585 | ... R19: =SUM(Щучинск:Успеноюрьевский!R19:R19) -> 3337 | S19: =SUM(Щучинск:Успеноюрьевский!F19:F19)=F19 -> TRUE
A20: 1 | B20: 4 | C20: 4 | E20: Налог на транспортные средства | F20: =SUM(F21:F22) -> 83543 | G20: =G21+G22 -> 5432 | H20: =H21+H22 -> 4408 | I20: =I21+I22 -> 7993 | J20: =J21+J22 -> 7776 | K20: =K21+K22 -> 4287 | L20: =L21+L22 -> 8393 | M20: =M21+M22 -> 8742 | N20: =N21+N22 -> 13854 | ... R20: =R21+R22 -> 4696 | S20: =SUM(Щучинск:Успеноюрьевский!F20:F20)=F20 -> TRUE
A21: 1 | B21: 4 | C21: 4 | D21: 1 | E21: Налог на транспортные средства с юридических лиц | F21: =SUM(G21:R21) -> 38275 | G21: =SUM(Щучинск:Успеноюрьевский!G21:G21) -> 1950 | H21: =SUM(Щучинск:Успеноюрьевский!H21:H21) -> 1713 | I21: =SUM(Щучинск:Успеноюрьевский!I21:I21) -> 3732 | J21: =SUM(Щучинск:Успеноюрьевский!J21:J21) -> 1440 | K21: =SUM(Щучинск:Успеноюрьевский!K21:K21) -> 1380 | L21: =SUM(Щучинск:Успеноюрьевский!L21:L21) -> 5034 | M21: =SUM(Щучинск:Успеноюрьевский!M21:M21) -> 6530 | N21: =SUM(Щучинск:Успеноюрьевский!N21:N21) -> 10614 | ... R21: =SUM(Щучинск:Успеноюрьевский!R21:R21) -> 674 | S21: =SUM(Щучинск:Успеноюрьевский!F21:F21)=F21 -> TRUE
A22: 1 | B22: 4 | C22: 4 | D22: 2 | E22: Налог на транспортные средства с физических лиц | F22: =SUM(G22:R22) -> 45268 | G22: =SUM(Щучинск:Успеноюрьевский!G22:G22) -> 3482 | H22: =SUM(Щучинск:Успеноюрьевский!H22:H22) -> 2695 | I22: =SUM(Щучинск:Успеноюрьевский!I22:I22) -> 4261 | J22: =SUM(Щучинск:Успеноюрьевский!J22:J22) -> 6336 | K22: =SUM(Щучинск:Успеноюрьевский!K22:K22) -> 2907 | L22: =SUM(Щучинск:Успеноюрьевский!L22:L22) -> 3359 | M22: =SUM(Щучинск:Успеноюрьевский!M22:M22) -> 2212 | N22: =SUM(Щучинск:Успеноюрьевский!N22:N22) -> 3240 | ... R22: =SUM(Щучинск:Успеноюрьевский!R22:R22) -> 4022 | S22: =SUM(Щучинск:Успеноюрьевский!F22:F22)=F22 -> TRUE
A23: 1 | B23: 5 | C23: 4 | E23: Сборы за ведение предпринимательской и профессиональной деятельности | F23: =SUM(G23:R23) -> 7188 | G23: =SUM(G24:G24) -> 485 | H23: =SUM(H24:H24) -> 651 | I23: =SUM(I24:I24) -> 103 | J23: =SUM(J24:J24) -> 74 | K23: =SUM(K24:K24) -> 835 | L23: =SUM(L24:L24) -> 1430 | M23: =SUM(M24:M24) -> 264 | N23: =SUM(N24:N24) -> 1218 | ... R23: =SUM(R24:R24) -> 159 | S23: =SUM(Щучинск:Успеноюрьевский!F23:F23)=F23 -> TRUE
A24: 1 | B24: 5 | C24: 4 | D24: 30 | E24: Плата за размещение наружной (визуальной) рекламы на объектах стационарного размещения рекламы в полосе отвода автомобильных дорог общего пользования республиканского, областного и районного значения, проходящих через территории городов районного значения, сел, поселков, сельских округов и на открытом пространстве за пределами помещений в городе районного значения, селе, поселке | F24: =SUM(G24:R24) -> 7188 | G24: =SUM(Щучинск:Успеноюрьевский!G24:G24) -> 485 | H24: =SUM(Щучинск:Успеноюрьевский!H24:H24) -> 651 | I24: =SUM(Щучинск:Успеноюрьевский!I24:I24) -> 103 | J24: =SUM(Щучинск:Успеноюрьевский!J24:J24) -> 74 | K24: =SUM(Щучинск:Успеноюрьевский!K24:K24) -> 835 | L24: =SUM(Щучинск:Успеноюрьевский!L24:L24) -> 1430 | M24: =SUM(Щучинск:Успеноюрьевский!M24:M24) -> 264 | N24: =SUM(Щучинск:Успеноюрьевский!N24:N24) -> 1218 | ... R24: =SUM(Щучинск:Успеноюрьевский!R24:R24) -> 159 | S24: =SUM(Щучинск:Успеноюрьевский!F24:F24)=F24 -> TRUE
A25: 2 | E25: НЕHАЛОГОВЫЕ ПОСТУПЛЕHИЯ | F25: =F26+F37+F40+F43+F47 -> 9905 | G25: =G26+G37+G40+G43+G47 -> 304 | H25: =H26+H37+H40+H43+H47 -> 304 | I25: =I26+I37+I40+I43+I47 -> 369 | J25: =J26+J37+J40+J43+J47 -> 571 | K25: =K26+K37+K40+K43+K47 -> 1263 | L25: =L26+L37+L40+L43+L47 -> 1657 | M25: =M26+M37+M40+M43+M47 -> 1973 | ... R25: =R26+R37+R40+R43+R47 -> 384 | S25: =SUM(Щучинск:Успеноюрьевский!F25:F25)=F25 -> TRUE
A26: 2 | B26: 1 | E26: Доходы от государственной собственности | F26: =F27+F29+F31+F33 -> 97 | G26: =G27+G29+G31+G33 -> 9 | H26: =H27+H29+H31+H33 -> 9 | I26: =I27+I29+I31+I33 -> 9 | J26: =J27+J29+J31+J33 -> 6 | K26: =K27+K29+K31+K33 -> 9 | L26: =L27+L29+L31+L33 -> 8 | M26: =M27+M29+M31+M33 -> 7 | ... R26: =R27+R29+R31+R33 -> 9 | S26: =SUM(Щучинск:Успеноюрьевский!F26:F26)=F26 -> TRUE
A27: 2 | B27: 1 | C27: 1 | E27: Поступления части чистого дохода государственных предприятий | F27: =F28 -> 0 | G27: =G28 -> 0 | H27: =H28 -> 0 | I27: =I28 -> 0 | J27: =J28 -> 0 | K27: =K28 -> 0 | L27: =L28 -> 0 | M27: =M28 -> 0 | ... R27: =R28 -> 0 | S27: =SUM(Щучинск:Успеноюрьевский!F27:F27)=F27 -> TRUE
A28: 2 | B28: 1 | C28: 1 | D28: 2 | E28: Поступления части чистого дохода коммунальных государственных предприятий | F28: =SUM(G28:R28) -> 0 | G28: =SUM(Щучинск:Успеноюрьевский!G28:G28) -> 0 | H28: =SUM(Щучинск:Успеноюрьевский!H28:H28) -> 0 | I28: =SUM(Щучинск:Успеноюрьевский!I28:I28) -> 0 | J28: =SUM(Щучинск:Успеноюрьевский!J28:J28) -> 0 | K28: =SUM(Щучинск:Успеноюрьевский!K28:K28) -> 0 | L28: =SUM(Щучинск:Успеноюрьевский!L28:L28) -> 0 | M28: =SUM(Щучинск:Успеноюрьевский!M28:M28) -> 0 | N28: =SUM(Щучинск:Успеноюрьевский!N28:N28) -> 0 | ... R28: =SUM(Щучинск:Успеноюрьевский!R28:R28) -> 0 | S28: =SUM(Щучинск:Успеноюрьевский!F28:F28)=F28 -> TRUE
A29: 2 | B29: 1 | C29: 4 | E29: Доходы на доли участия в юридических лицах, находящиеся в государственной собственности | F29: =F30 -> 0 | G29: =G30 -> 0 | H29: =H30 -> 0 | I29: =I30 -> 0 | J29: =J30 -> 0 | K29: =K30 -> 0 | L29: =L30 -> 0 | M29: =M30 -> 0 | ... R29: =R30 -> 0 | S29: =SUM(Щучинск:Успеноюрьевский!F29:F29)=F29 -> TRUE
A30: 2 | B30: 1 | C30: 4 | D30: 2 | E30: Доходы на доли участия в юридических лицах, находящиеся в коммунальной собственности | F30: =SUM(G30:R30) -> 0 | G30: =SUM(Щучинск:Успеноюрьевский!G30:G30) -> 0 | H30: =SUM(Щучинск:Успеноюрьевский!H30:H30) -> 0 | I30: =SUM(Щучинск:Успеноюрьевский!I30:I30) -> 0 | J30: =SUM(Щучинск:Успеноюрьевский!J30:J30) -> 0 | K30: =SUM(Щучинск:Успеноюрьевский!K30:K30) -> 0 | L30: =SUM(Щучинск:Успеноюрьевский!L30:L30) -> 0 | M30: =SUM(Щучинск:Успеноюрьевский!M30:M30) -> 0 | N30: =SUM(Щучинск:Успеноюрьевский!N30:N30) -> 0 | ... R30: =SUM(Щучинск:Успеноюрьевский!R30:R30) -> 0 | S30: =SUM(Щучинск:Успеноюрьевский!F30:F30)=F30 -> TRUE
A31: 2 | B31: 1 | C31: 5 | E31: Доходы от аренды имущества, находящегося в государственной собственности | F31: =F32 -> 97 | G31: =G32 -> 9 | H31: =H32 -> 9 | I31: =I32 -> 9 | J31: =J32 -> 6 | K31: =K32 -> 9 | L31: =L32 -> 8 | M31: =M32 -> 7 | ... R31: =R32 -> 9 | S31: =SUM(Щучинск:Успеноюрьевский!F31:F31)=F31 -> TRUE
A32: 2 | B32: 1 | C32: 5 | D32: 10 | E32: Доходы от аренды имущества коммунальной собственности города районного значения, села, поселка, сельского округа | F32: =SUM(G32:R32) -> 97 | G32: =SUM(Щучинск:Успеноюрьевский!G32:G32) -> 9 | H32: =SUM(Щучинск:Успеноюрьевский!H32:H32) -> 9 | I32: =SUM(Щучинск:Успеноюрьевский!I32:I32) -> 9 | J32: =SUM(Щучинск:Успеноюрьевский!J32:J32) -> 6 | K32: =SUM(Щучинск:Успеноюрьевский!K32:K32) -> 9 | L32: =SUM(Щучинск:Успеноюрьевский!L32:L32) -> 8 | M32: =SUM(Щучинск:Успеноюрьевский!M32:M32) -> 7 | N32: =SUM(Щучинск:Успеноюрьевский!N32:N32) -> 8 | ... R32: =SUM(Щучинск:Успеноюрьевский!R32:R32) -> 9 | S32: =SUM(Щучинск:Успеноюрьевский!F32:F32)=F32 -> TRUE
A33: 2 | B33: 1 | C33: 7 | E33: Вознаграждения (интересы) по кредитам,выданным из государственного бюджета | F33: =SUM(F34:F36) -> 0 | G33: =SUM(G34:G36) -> 0 | H33: =SUM(H34:H36) -> 0 | I33: =SUM(I34:I36) -> 0 | J33: =SUM(J34:J36) -> 0 | K33: =SUM(K34:K36) -> 0 | L33: =SUM(L34:L36) -> 0 | M33: =SUM(M34:M36) -> 0 | ... R33: =SUM(R34:R36) -> 0 | S33: =SUM(Щучинск:Успеноюрьевский!F33:F33)=F33 -> TRUE
A34: 2 | B34: 1 | C34: 7 | D34: 6 | E34: Вознаграждения по бюджетным кредитам, выданным из местного бюджета специализированным организациям | F34: =SUM(G34:R34) -> 0 | G34: =SUM(Щучинск:Успеноюрьевский!G34:G34) -> 0 | H34: =SUM(Щучинск:Успеноюрьевский!H34:H34) -> 0 | I34: =SUM(Щучинск:Успеноюрьевский!I34:I34) -> 0 | J34: =SUM(Щучинск:Успеноюрьевский!J34:J34) -> 0 | K34: =SUM(Щучинск:Успеноюрьевский!K34:K34) -> 0 | L34: =SUM(Щучинск:Успеноюрьевский!L34:L34) -> 0 | M34: =SUM(Щучинск:Успеноюрьевский!M34:M34) -> 0 | N34: =SUM(Щучинск:Успеноюрьевский!N34:N34) -> 0 | ... R34: =SUM(Щучинск:Успеноюрьевский!R34:R34) -> 0 | S34: =SUM(Щучинск:Успеноюрьевский!F34:F34)=F34 -> TRUE
A35: 2 | B35: 1 | C35: 7 | D35: 13 | E35: Вознаграждения по бюджетным кредитам, выданным из местного бюджета физическим лицам | F35: =SUM(G35:R35) -> 0 | G35: =SUM(Щучинск:Успеноюрьевский!G35:G35) -> 0 | H35: =SUM(Щучинск:Успеноюрьевский!H35:H35) -> 0 | I35: =SUM(Щучинск:Успеноюрьевский!I35:I35) -> 0 | J35: =SUM(Щучинск:Успеноюрьевский!J35:J35) -> 0 | K35: =SUM(Щучинск:Успеноюрьевский!K35:K35) -> 0 | L35: =SUM(Щучинск:Успеноюрьевский!L35:L35) -> 0 | M35: =SUM(Щучинск:Успеноюрьевский!M35:M35) -> 0 | N35: =SUM(Щучинск:Успеноюрьевский!N35:N35) -> 0 | ... R35: =SUM(Щучинск:Успеноюрьевский!R35:R35) -> 0 | S35: =SUM(Щучинск:Успеноюрьевский!F35:F35)=F35 -> TRUE
A36: 2 | B36: 1 | C36: 7 | D36: 18 | E36: Вознаграждения по бюджетным кредитам, выданным из местного бюджета юридическим лицам, за исключением специализированных организаций | F36: =SUM(G36:R36) -> 0 | G36: =SUM(Щучинск:Успеноюрьевский!G36:G36) -> 0 | H36: =SUM(Щучинск:Успеноюрьевский!H36:H36) -> 0 | I36: =SUM(Щучинск:Успеноюрьевский!I36:I36) -> 0 | J36: =SUM(Щучинск:Успеноюрьевский!J36:J36) -> 0 | K36: =SUM(Щучинск:Успеноюрьевский!K36:K36) -> 0 | L36: =SUM(Щучинск:Успеноюрьевский!L36:L36) -> 0 | M36: =SUM(Щучинск:Успеноюрьевский!M36:M36) -> 0 | N36: =SUM(Щучинск:Успеноюрьевский!N36:N36) -> 0 | ... R36: =SUM(Щучинск:Успеноюрьевский!R36:R36) -> 0 | S36: =SUM(Щучинск:Успеноюрьевский!F36:F36)=F36 -> TRUE
A37: 2 | B37: 2 | E37: Поступления от реализации товаров (работ, услуг) государственными учреждениями, финансируемыми из государственного бюджета | F37: =F38 -> 0 | G37: =G38 -> 0 | H37: =H38 -> 0 | I37: =I38 -> 0 | J37: =J38 -> 0 | K37: =K38 -> 0 | L37: =L38 -> 0 | M37: =M38 -> 0 | ... R37: =R38 -> 0 | S37: =SUM(Щучинск:Успеноюрьевский!F37:F37)=F37 -> TRUE
A38: 2 | B38: 2 | C38: 1 | E38: Поступления от реализации товаров (работ, услуг) государственными учреждениями, финансируемыми из государственного бюджета | F38: =F39 -> 0 | G38: =G39 -> 0 | H38: =H39 -> 0 | I38: =I39 -> 0 | J38: =J39 -> 0 | K38: =K39 -> 0 | L38: =L39 -> 0 | M38: =M39 -> 0 | ... R38: =R39 -> 0 | S38: =SUM(Щучинск:Успеноюрьевский!F38:F38)=F38 -> TRUE
A39: 2 | B39: 2 | C39: 1 | D39: 2 | E39: Поступления от реализации товаров (работ, услуг) государственными учреждениями, финансируемыми из республиканского бюджета | F39: =G39+H39+I39+J39+K39+L39+M39+N39+O39+P39+Q39+R39 -> 0 | G39: =SUM(Щучинск:Успеноюрьевский!G39:G39) -> 0 | H39: =SUM(Щучинск:Успеноюрьевский!H39:H39) -> 0 | I39: =SUM(Щучинск:Успеноюрьевский!I39:I39) -> 0 | J39: =SUM(Щучинск:Успеноюрьевский!J39:J39) -> 0 | K39: =SUM(Щучинск:Успеноюрьевский!K39:K39) -> 0 | L39: =SUM(Щучинск:Успеноюрьевский!L39:L39) -> 0 | M39: =SUM(Щучинск:Успеноюрьевский!M39:M39) -> 0 | N39: =SUM(Щучинск:Успеноюрьевский!N39:N39) -> 0 | ... R39: =SUM(Щучинск:Успеноюрьевский!R39:R39) -> 0 | S39: =SUM(Щучинск:Успеноюрьевский!F39:F39)=F39 -> TRUE
A40: 2 | B40: 3 | E40: Поступления денег от проведения государственных закупок, организуемых государственными учреждениями, финансируемыми из государственного бюджета | F40: =F41 -> 0 | G40: =G41 -> 0 | H40: =H41 -> 0 | I40: =I41 -> 0 | J40: =J41 -> 0 | K40: =K41 -> 0 | L40: =L41 -> 0 | M40: =M41 -> 0 | ... R40: =R41 -> 0 | S40: =SUM(Щучинск:Успеноюрьевский!F40:F40)=F40 -> TRUE
A41: 2 | B41: 3 | C41: 1 | E41: Поступления денег от проведения государственных закупок, организуемых государственными учреждениями, финансируемыми из государственного бюджета | F41: =F42 -> 0 | G41: =G42 -> 0 | H41: =H42 -> 0 | I41: =I42 -> 0 | J41: =J42 -> 0 | K41: =K42 -> 0 | L41: =L42 -> 0 | M41: =M42 -> 0 | ... R41: =R42 -> 0 | S41: =SUM(Щучинск:Успеноюрьевский!F41:F41)=F41 -> TRUE
...

Sheet Щучинск
D1: ФОРМУ НЕ ИЗМЕНЯТЬ. СТРОКИ, СТОЛБЦЫ, ФОРМУЛЫ НЕ СКРЫВАТЬ, НЕ УДАЛЯТЬ
P2: Приложение № 1
E3: Распределение доходов бюджета на 2020 год по КГУ Аппарат акима города Щучинск Бурабайского района
F4: по состоянию на 31.01.2020 г.
A6: КАТЕГОРИЯ | F6: План года | G6: План года по месяцам
B7: КЛАСС
C8: ПОДКЛАСС
D9: СПЕЦИФИКА | G9: январь | H9: февраль | I9: март | J9: апрель | K9: май | L9: июнь | M9: июль | N9: август | O9: сентябрь | P9: октябрь | Q9: ноябрь | R9: декабрь
E10: ДОХОДЫ | F10: =F11+F25+F54 -> 309198 | G10: =G11+G25+G54 -> 11770 | H10: =H11+H25+H54 -> 49133 | I10: =I11+I25+I54 -> 19814 | J10: =J11+J25+J54 -> 32219 | K10: =K11+K25+K54 -> 21790 | L10: =L11+L25+L54 -> 17491 | M10: =M11+M25+M54 -> 26585 | ... R10: =R11+R25+R54 -> 16936
A11: 1 | E11: HАЛОГОВЫЕ ПОСТУПЛЕHИЯ | F11: =F12+F15+F23 -> 305607 | G11: =G12+G15+G23 -> 11471 | H11: =H12+H15+H23 -> 48834 | I11: =I12+I15+I23 -> 19515 | J11: =J12+J15+J23 -> 31921 | K11: =K12+K15+K23 -> 21491 | L11: =L12+L15+L23 -> 17191 | M11: =M12+M15+M23 -> 26286 | ... R11: =R12+R15+R23 -> 16637
A12: 1 | B12: 1 | E12: Подоходный налог | F12: =F13 -> 167323 | G12: =G13 -> 3674 | H12: =H13 -> 34877 | I12: =I13 -> 10434 | J12: =J13 -> 15461 | K12: =K13 -> 10000 | L12: =L13 -> 8604 | M12: =M13 -> 15709 | ... R12: =R13 -> 10674
A13: 1 | B13: 1 | C13: 2 | E13: Индивидуальный подоходный налог | F13: =SUM(F14:F14) -> 167323 | G13: =SUM(G14:G14) -> 3674 | H13: =SUM(H14) -> 34877 | I13: =SUM(I14:I14) -> 10434 | J13: =SUM(J14:J14) -> 15461 | K13: =SUM(K14:K14) -> 10000 | L13: =SUM(L14:L14) -> 8604 | M13: =SUM(M14:M14) -> 15709 | N13: =SUM(N14:N14) -> 25971 | O13: =SUM(O14:O14) -> 15974 | P13: =SUM(P14:P14) -> 5944 | ... R13: =SUM(R14:R14) -> 10674
A14: 1 | B14: 1 | C14: 2 | D14: 2 | E14: Индивидуальный подоходный налог с доходов, не облагаемых у источника выплаты | F14: =SUM(G14:R14) -> 167323 | G14: 3674 | H14: 34877 | I14: 10434 | J14: 15461 | K14: 10000 | L14: 8604 | M14: 15709 | N14: 25971 | O14: 15974 | P14: 5944 | Q14: 10001 | R14: 10674
A15: 1 | B15: 4 | E15: Налоги на собственность | F15: =F16+F18+F20 -> 132476 | G15: =G16+G18+G20 -> 7359 | H15: =H16+H18+H20 -> 13373 | I15: =I16+I18+I20 -> 9045 | J15: =J16+J18+J20 -> 16453 | K15: =K16+K18+K20 -> 10843 | L15: =L16+L18+L20 -> 7439 | M15: =M16+M18+M20 -> 10415 | ... R15: =R16+R18+R20 -> 5863
A16: 1 | B16: 4 | C16: 1 | E16: Налоги на имущество | F16: =SUM(F17:F17) -> 12481 | G16: =SUM(G17:G17) -> 709 | H16: =SUM(H17:H17) -> 650 | I16: =SUM(I17:I17) -> 1045 | J16: =SUM(J17:J17) -> 2564 | K16: =SUM(K17:K17) -> 750 | L16: =SUM(L17:L17) -> 540 | M16: =SUM(M17:M17) -> 945 | ... R16: =SUM(R17:R17) -> 504
A17: 1 | B17: 4 | C17: 1 | D17: 2 | E17: Налог на имущество физических лиц | F17: =SUM(G17:R17) -> 12481 | G17: 709 | H17: 650 | I17: 1045 | J17: 2564 | K17: 750 | L17: 540 | M17: 945 | N17: 1084 | O17: 1597 | P17: 1409 | Q17: 684 | R17: 504
A18: 1 | B18: 4 | C18: 3 | E18: Земельный налог | F18: =SUM(F19:F19) -> 64712 | G18: =SUM(G19:G19) -> 2045 | H18: =SUM(H19:H19) -> 9540 | I18: =SUM(I19:I19) -> 1543 | J18: =SUM(J19:J19) -> 8043 | K18: =SUM(K19:K19) -> 8093 | L18: =SUM(L19:L19) -> 941 | M18: =SUM(M19:M19) -> 3055 | ... R18: =SUM(R19:R19) -> 2405
A19: 16 | B19: 4 | C19: 3 | D19: 2 | E19: Земельный налог | F19: =SUM(G19:R19) -> 64712 | G19: 2045 | H19: 9540 | I19: 1543 | J19: 8043 | K19: 8093 | L19: 941 | M19: 3055 | N19: 5035 | O19: 5940 | P19: 6401 | Q19: 11671 | R19: 2405
A20: 1 | B20: 4 | C20: 4 | E20: Налог на транспортные средства | F20: =SUM(F21:F22) -> 55283 | G20: =G21+G22 -> 4605 | H20: =H21+H22 -> 3183 | I20: =I21+I22 -> 6457 | J20: =J21+J22 -> 5846 | K20: =K21+K22 -> 2000 | L20: =L21+L22 -> 5958 | M20: =M21+M22 -> 6415 | N20: =N21+N22 -> 11505 | ... R20: =R21+R22 -> 2954
A21: 1 | B21: 4 | C21: 4 | D21: 1 | E21: Налог на транспортные средства с юридических лиц | F21: =SUM(G21:R21) -> 30651 | G21: 1950 | H21: 1543 | I21: 3412 | J21: 905 | K21: 600 | L21: 4454 | M21: 5406 | N21: 10054 | O21: 1504 | P21: 100 | Q21: 219 | R21: 504
A22: 1 | B22: 4 | C22: 4 | D22: 2 | E22: Налог на транспортные средства с физических лиц | F22: =SUM(G22:R22) -> 24632 | G22: 2655 | H22: 1640 | I22: 3045 | J22: 4941 | K22: 1400 | L22: 1504 | M22: 1009 | N22: 1451 | O22: 1450 | P22: 1044 | Q22: 2043 | R22: 2450
A23: 1 | B23: 5 | C23: 4 | E23: Сборы за ведение предпринимательской и профессиональной деятельности | F23: =SUM(G23:R23) -> 5808 | G23: =SUM(G24:G24) -> 438 | H23: =SUM(H24:H24) -> 584 | I23: =SUM(I24:I24) -> 36 | J23: =SUM(J24:J24) -> 7 | K23: =SUM(K24:K24) -> 648 | L23: =SUM(L24:L24) -> 1148 | M23: =SUM(M24:M24) -> 162 | N23: =SUM(N24:N24) -> 1123 | ... R23: =SUM(R24:R24) -> 100
A24: 1 | B24: 5 | C24: 4 | D24: 30 | E24: Плата за размещение наружной (визуальной) рекламы на объектах стационарного размещения рекламы в полосе отвода автомобильных дорог общего пользования республиканского, областного и районного значения, проходящих через территории городов районного значения, сел, поселков, сельских округов и на открытом пространстве за пределами помещений в городе районного значения, селе, поселке | F24: =SUM(G24:R24) -> 5808 | G24: 438 | H24: 584 | I24: 36 | J24: 7 | K24: 648 | L24: 1148 | M24: 162 | N24: 1123 | O24: 145 | P24: 733 | Q24: 684 | R24: 100
A25: 2 | E25: НЕHАЛОГОВЫЕ ПОСТУПЛЕHИЯ | F25: =F26+F37+F40+F43+F47 -> 3591 | G25: =G26+G37+G40+G43+G47 -> 299 | H25: =H26+H37+H40+H43+H47 -> 299 | I25: =I26+I37+I40+I43+I47 -> 299 | J25: =J26+J37+J40+J43+J47 -> 298 | K25: =K26+K37+K40+K43+K47 -> 299 | L25: =L26+L37+L40+L43+L47 -> 300 | M25: =M26+M37+M40+M43+M47 -> 299 | ... R25: =R26+R37+R40+R43+R47 -> 299
A26: 2 | B26: 1 | E26: Доходы от государственной собственности | F26: =F27+F29+F31+F33 -> 51 | G26: =G27+G29+G31+G33 -> 4 | H26: =H27+H29+H31+H33 -> 4 | I26: =I27+I29+I31+I33 -> 4 | J26: =J27+J29+J31+J33 -> 3 | K26: =K27+K29+K31+K33 -> 4 | L26: =L27+L29+L31+L33 -> 5 | M26: =M27+M29+M31+M33 -> 4 | ... R26: =R27+R29+R31+R33 -> 4
A27: 2 | B27: 1 | C27: 1 | E27: Поступления части чистого дохода государственных предприятий | F27: =F28 -> 0 | G27: =G28 -> 0 | H27: =H28 -> 0 | I27: =I28 -> 0 | J27: =J28 -> 0 | K27: =K28 -> 0 | L27: =L28 -> 0 | M27: =M28 -> 0 | ... R27: =R28 -> 0
A28: 2 | B28: 1 | C28: 1 | D28: 2 | E28: Поступления части чистого дохода коммунальных государственных предприятий | F28: =SUM(G28:R28) -> 0
A29: 2 | B29: 1 | C29: 4 | E29: Доходы на доли участия в юридических лицах, находящиеся в государственной собственности | F29: =F30 -> 0 | G29: =G30 -> 0 | H29: =H30 -> 0 | I29: =I30 -> 0 | J29: =J30 -> 0 | K29: =K30 -> 0 | L29: =L30 -> 0 | M29: =M30 -> 0 | ... R29: =R30 -> 0
A30: 2 | B30: 1 | C30: 4 | D30: 2 | E30: Доходы на доли участия в юридических лицах, находящиеся в коммунальной собственности | F30: =SUM(G30:R30) -> 0
A31: 2 | B31: 1 | C31: 5 | E31: Доходы от аренды имущества, находящегося в государственной собственности | F31: =F32 -> 51 | G31: =G32 -> 4 | H31: =H32 -> 4 | I31: =I32 -> 4 | J31: =J32 -> 3 | K31: =K32 -> 4 | L31: =L32 -> 5 | M31: =M32 -> 4 | ... R31: =R32 -> 4
A32: 2 | B32: 1 | C32: 5 | D32: 10 | E32: Доходы от аренды имущества коммунальной собственности города районного значения, села, поселка, сельского округа | F32: =SUM(G32:R32) -> 51 | G32: 4 | H32: 4 | I32: 4 | J32: 3 | K32: 4 | L32: 5 | M32: 4 | N32: 5 | O32: 5 | P32: 5 | Q32: 4 | R32: 4
A33: 2 | B33: 1 | C33: 7 | E33: Вознаграждения (интересы) по кредитам,выданным из государственного бюджета | F33: =SUM(F34:F36) -> 0 | G33: =SUM(G34:G36) -> 0 | H33: =SUM(H34:H36) -> 0 | I33: =SUM(I34:I36) -> 0 | J33: =SUM(J34:J36) -> 0 | K33: =SUM(K34:K36) -> 0 | L33: =SUM(L34:L36) -> 0 | M33: =SUM(M34:M36) -> 0 | ... R33: =SUM(R34:R36) -> 0
A34: 2 | B34: 1 | C34: 7 | D34: 6 | E34: Вознаграждения по бюджетным кредитам, выданным из местного бюджета специализированным организациям | F34: =SUM(G34:R34) -> 0
A35: 2 | B35: 1 | C35: 7 | D35: 13 | E35: Вознаграждения по бюджетным кредитам, выданным из местного бюджета физическим лицам | F35: =SUM(G35:R35) -> 0
A36: 2 | B36: 1 | C36: 7 | D36: 18 | E36: Вознаграждения по бюджетным кредитам, выданным из местного бюджета юридическим лицам, за исключением специализированных организаций | F36: =SUM(G36:R36) -> 0
A37: 2 | B37: 2 | E37: Поступления от реализации товаров (работ, услуг) государственными учреждениями, финансируемыми из государственного бюджета | F37: =F38 -> 0 | G37: =G38 -> 0 | H37: =H38 -> 0 | I37: =I38 -> 0 | J37: =J38 -> 0 | K37: =K38 -> 0 | L37: =L38 -> 0 | M37: =M38 -> 0 | ... R37: =R38 -> 0
A38: 2 | B38: 2 | C38: 1 | E38: Поступления от реализации товаров (работ, услуг) государственными учреждениями, финансируемыми из государственного бюджета | F38: =F39 -> 0 | G38: =G39 -> 0 | H38: =H39 -> 0 | I38: =I39 -> 0 | J38: =J39 -> 0 | K38: =K39 -> 0 | L38: =L39 -> 0 | M38: =M39 -> 0 | ... R38: =R39 -> 0
A39: 2 | B39: 2 | C39: 1 | D39: 2 | E39: Поступления от реализации товаров (работ, услуг) государственными учреждениями, финансируемыми из республиканского бюджета | F39: =G39+H39+I39+J39+K39+L39+M39+N39+O39+P39+Q39+R39 -> 0
A40: 2 | B40: 3 | E40: Поступления денег от проведения государственных закупок, организуемых государственными учреждениями, финансируемыми из государственного бюджета | F40: =F41 -> 0 | G40: =G41 -> 0 | H40: =H41 -> 0 | I40: =I41 -> 0 | J40: =J41 -> 0 | K40: =K41 -> 0 | L40: =L41 -> 0 | M40: =M41 -> 0 | ... R40: =R41 -> 0
A41: 2 | B41: 3 | C41: 1 | E41: Поступления денег от проведения государственных закупок, организуемых государственными учреждениями, финансируемыми из государственного бюджета | F41: =F42 -> 0 | G41: =G42 -> 0 | H41: =H42 -> 0 | I41: =I42 -> 0 | J41: =J42 -> 0 | K41: =K42 -> 0 | L41: =L42 -> 0 | M41: =M42 -> 0 | ... R41: =R42 -> 0
...

Sheet п. Бурабай 
D1: ФОРМУ НЕ ИЗМЕНЯТЬ. СТРОКИ, СТОЛБЦЫ, ФОРМУЛЫ НЕ СКРЫВАТЬ, НЕ УДАЛЯТЬ
P2: Приложение № 1
E3: Распределение доходов бюджета на 2020 год по поселку Бурабай Бурабайского района
F4: по состоянию на 31.01.2020 г.
A6: КАТЕГОРИЯ | F6: План года | G6: План года по месяцам
B7: КЛАСС
C8: ПОДКЛАСС
D9: СПЕЦИФИКА | G9: январь | H9: февраль | I9: март | J9: апрель | K9: май | L9: июнь | M9: июль | N9: август | O9: сентябрь | P9: октябрь | Q9: ноябрь | R9: декабрь
E10: ДОХОДЫ | F10: =F11+F25+F54 -> 32271 | G10: =G11+G25+G54 -> 1144 | H10: =H11+H25+H54 -> 1681 | I10: =I11+I25+I54 -> 4856 | J10: =J11+J25+J54 -> 1104 | K10: =K11+K25+K54 -> 1138 | L10: =L11+L25+L54 -> 5728 | M10: =M11+M25+M54 -> 1581 | ... R10: =R11+R25+R54 -> 1748 | S10: =G10+H10+I10+J10+K10+L10+M10+N10+O10+P10+Q10+R10 -> 32271
A11: 1 | E11: HАЛОГОВЫЕ ПОСТУПЛЕHИЯ | F11: =F12+F15+F23 -> 28689 | G11: =G12+G15+G23 -> 1144 | H11: =H12+H15+H23 -> 1681 | I11: =I12+I15+I23 -> 4856 | J11: =J12+J15+J23 -> 904 | K11: =K12+K15+K23 -> 638 | L11: =L12+L15+L23 -> 4878 | M11: =M12+M15+M23 -> 331 | ... R11: =R12+R15+R23 -> 1748
A12: 1 | B12: 1 | E12: Подоходный налог | F12: 12000 | G12: =G13 -> 854 | H12: =H13 -> 687 | I12: =I13 -> 3749 | J12: =J13 -> 174 | K12: =K13 -> 0 | L12: =L13 -> 3038 | M12: =M13 -> 0 | N12: =N13 -> 0 | ... R12: =R13 -> 1418
A13: 1 | B13: 1 | C13: 2 | E13: Индивидуальный подоходный налог | F13: =SUM(F14:F14) -> 12000 | G13: =SUM(G14:G14) -> 854 | H13: =SUM(H14:H14) -> 687 | I13: =SUM(I14:I14) -> 3749 | J13: =SUM(J14:J14) -> 174 | K13: =SUM(K14:K14) -> 0 | L13: =SUM(L14:L14) -> 3038 | M13: =SUM(M14:M14) -> 0 | ... R13: =SUM(R14:R14) -> 1418
A14: 1 | B14: 1 | C14: 2 | D14: 2 | E14: Индивидуальный подоходный налог с доходов, не облагаемых у источника выплаты | F14: =SUM(G14:R14) -> 12000 | G14: 854 | H14: 687 | I14: 3749 | J14: 174 | K14: 0 | L14: 3038 | M14: 0 | N14: 0 | O14: 1766 | P14: 0 | Q14: 314 | R14: 1418
A15: 1 | B15: 4 | E15: Налоги на собственность | F15: =F16+F18+F20 -> 15754 | G15: =G16+G18+G20 -> 280 | H15: =H16+H18+H20 -> 964 | I15: =I16+I18+I20 -> 1077 | J15: =J16+J18+J20 -> 700 | K15: =K16+K18+K20 -> 488 | L15: =L16+L18+L20 -> 1595 | M15: =M16+M18+M20 -> 266 | ... R15: =R16+R18+R20 -> 308
A16: 1 | B16: 4 | C16: 1 | E16: Налоги на имущество | F16: =SUM(F17:F17) -> 2332 | G16: =SUM(G17:G17) -> 20 | H16: =SUM(H17:H17) -> 30 | I16: =SUM(I17:I17) -> 35 | J16: =SUM(J17:J17) -> 50 | K16: =SUM(K17:K17) -> 100 | L16: =SUM(L17:L17) -> 230 | M16: =SUM(M17:M17) -> 100 | ... R16: =SUM(R17:R17) -> 50
A17: 1 | B17: 4 | C17: 1 | D17: 2 | E17: Налог на имущество физических лиц | F17: =SUM(G17:R17) -> 2332 | G17: 20 | H17: 30 | I17: 35 | J17: 50 | K17: 100 | L17: 230 | M17: 100 | N17: 300 | O17: 497 | P17: 700 | Q17: 220 | R17: 50
A18: 1 | B18: 4 | C18: 3 | E18: Земельный налог | F18: =SUM(F19:F19) -> 5600 | G18: =SUM(G19:G19) -> 60 | H18: =SUM(H19) -> 500 | I18: =I19 -> 742 | J18: =SUM(J19:J19) -> 350 | K18: =SUM(K19:K19) -> 208 | L18: =SUM(L19:L19) -> 350 | M18: =SUM(M19:M19) -> 100 | N18: =SUM(N19:N19) -> 153 | O18: =SUM(O19:O19) -> 1516 | P18: =SUM(P19:P19) -> 735 | Q18: =SUM(Q19:Q19) -> 836 | R18: =SUM(R19:R19) -> 50
A19: 1 | B19: 4 | C19: 3 | D19: 2 | E19: Земельный налог | F19: =SUM(G19:R19) -> 5600 | G19: 60 | H19: 500 | I19: 742 | J19: 350 | K19: 208 | L19: 350 | M19: 100 | N19: 153 | O19: 1516 | P19: 735 | Q19: 836 | R19: 50
A20: 1 | B20: 4 | C20: 4 | E20: Налог на транспортные средства | F20: =SUM(F21:F22) -> 7822 | G20: =G21+G22 -> 200 | H20: =H21+H22 -> 434 | I20: =I21+I22 -> 300 | J20: =J21+J22 -> 300 | K20: =K21+K22 -> 180 | L20: =L22+L21 -> 1015 | M20: =M21+M22 -> 66 | N20: =N21+N22 -> 430 | O20: =O21+O22 -> 2093 | P20: =P21+P22 -> 1284 | Q20: =Q21+Q22 -> 1312 | R20: =R21+R22 -> 208
A21: 1 | B21: 4 | C21: 4 | D21: 1 | E21: Налог на транспортные средства с юридических лиц | F21: =SUM(G21:R21) -> 2924 | G21: 0 | H21: 150 | I21: 100 | J21: 100 | K21: 180 | L21: 285 | M21: 66 | N21: 150 | O21: 886 | P21: 468 | Q21: 479 | R21: 60
A22: 1 | B22: 4 | C22: 4 | D22: 2 | E22: Налог на транспортные средства с физических лиц | F22: =SUM(G22:R22) -> 4898 | G22: 200 | H22: 284 | I22: 200 | J22: 200 | K22: 0 | L22: 730 | M22: 0 | N22: 280 | O22: 1207 | P22: 816 | Q22: 833 | R22: 148
A23: 1 | B23: 5 | C23: 4 | E23: Сборы за ведение предпринимательской и профессиональной деятельности | F23: =SUM(G23:R23) -> 935 | G23: =SUM(G24:G24) -> 10 | H23: =SUM(H24:H24) -> 30 | I23: =SUM(I24:I24) -> 30 | J23: =SUM(J24:J24) -> 30 | K23: =SUM(K24:K24) -> 150 | L23: =SUM(L24:L24) -> 245 | M23: =SUM(M24:M24) -> 65 | N23: =SUM(N24:N24) -> 58 | ... R23: =SUM(R24:R24) -> 22
A24: 1 | B24: 5 | C24: 4 | D24: 30 | E24: Плата за размещение наружной (визуальной) рекламы на объектах стационарного размещения рекламы в полосе отвода автомобильных дорог общего пользования республиканского, областного и районного значения, проходящих через территории городов районного значения, сел, поселков, сельских округов и на открытом пространстве за пределами помещений в городе районного значения, селе, поселке | F24: =SUM(G24:R24) -> 935 | G24: 10 | H24: 30 | I24: 30 | J24: 30 | K24: 150 | L24: 245 | M24: 65 | N24: 58 | O24: 185 | P24: 40 | Q24: 70 | R24: 22
A25: 2 | E25: НЕHАЛОГОВЫЕ ПОСТУПЛЕHИЯ | F25: =F26+F37+F40+F43+F47 -> 3582 | G25: =G26+G37+G40+G43+G47 -> 0 | H25: =H26+H37+H40+H43+H47 -> 0 | I25: =I26+I37+I40+I43+I47 -> 0 | J25: =J26+J37+J40+J43+J47 -> 200 | K25: =K26+K37+K40+K43+K47 -> 500 | L25: =L26+L37+L40+L43+L47 -> 850 | M25: =M26+M37+M40+M43+M47 -> 1250 | ... R25: =R26+R37+R40+R43+R47 -> 0
A26: 2 | B26: 1 | E26: Доходы от государственной собственности | F26: =F27+F29+F31+F33 -> 0 | G26: =G27+G29+G31+G33 -> 0 | H26: =H27+H29+H31+H33 -> 0 | I26: =I27+I29+I31+I33 -> 0 | J26: =J27+J29+J31+J33 -> 0 | K26: =K27+K29+K31+K33 -> 0 | L26: =L27+L29+L31+L33 -> 0 | M26: =M27+M29+M31+M33 -> 0 | ... R26: =R27+R29+R31+R33 -> 0
A27: 2 | B27: 1 | C27: 1 | E27: Поступления части чистого дохода государственных предприятий | F27: =F28 -> 0 | G27: =G28 -> 0 | H27: =H28 -> 0 | I27: =I28 -> 0 | J27: =J28 -> 0 | K27: =K28 -> 0 | L27: =L28 -> 0 | M27: =M28 -> 0 | ... R27: =R28 -> 0
A28: 2 | B28: 1 | C28: 1 | D28: 2 | E28: Поступления части чистого дохода коммунальных государственных предприятий | F28: =SUM(G28:R28) -> 0
A29: 2 | B29: 1 | C29: 4 | E29: Доходы на доли участия в юридических лицах, находящиеся в государственной собственности | F29: =F30 -> 0 | G29: =G30 -> 0 | H29: =H30 -> 0 | I29: =I30 -> 0 | J29: =J30 -> 0 | K29: =K30 -> 0 | L29: =L30 -> 0 | M29: =M30 -> 0 | ... R29: =R30 -> 0
A30: 2 | B30: 1 | C30: 4 | D30: 2 | E30: Доходы на доли участия в юридических лицах, находящиеся в коммунальной собственности | F30: =SUM(G30:R30) -> 0
A31: 2 | B31: 1 | C31: 5 | E31: Доходы от аренды имущества, находящегося в государственной собственности | F31: =F32 -> 0 | G31: =G32 -> 0 | H31: =H32 -> 0 | I31: =I32 -> 0 | J31: =J32 -> 0 | K31: =K32 -> 0 | L31: =L32 -> 0 | M31: =M32 -> 0 | ... R31: =R32 -> 0
A32: 2 | B32: 1 | C32: 5 | D32: 10 | E32: Доходы от аренды имущества коммунальной собственности города районного значения, села, поселка, сельского округа | F32: =SUM(G32:R32) -> 0
A33: 2 | B33: 1 | C33: 7 | E33: Вознаграждения (интересы) по кредитам,выданным из государственного бюджета | F33: =SUM(F34:F36) -> 0 | G33: =SUM(G34:G36) -> 0 | H33: =SUM(H34:H36) -> 0 | I33: =SUM(I34:I36) -> 0 | J33: =SUM(J34:J36) -> 0 | K33: =SUM(K34:K36) -> 0 | L33: =SUM(L34:L36) -> 0 | M33: =SUM(M34:M36) -> 0 | ... R33: =SUM(R34:R36) -> 0
A34: 2 | B34: 1 | C34: 7 | D34: 6 | E34: Вознаграждения по бюджетным кредитам, выданным из местного бюджета специализированным организациям | F34: =SUM(G34:R34) -> 0
A35: 2 | B35: 1 | C35: 7 | D35: 13 | E35: Вознаграждения по бюджетным кредитам, выданным из местного бюджета физическим лицам | F35: =SUM(G35:R35) -> 0
A36: 2 | B36: 1 | C36: 7 | D36: 18 | E36: Вознаграждения по бюджетным кредитам, выданным из местного бюджета юридическим лицам, за исключением специализированных организаций | F36: =SUM(G36:R36) -> 0
A37: 2 | B37: 2 | E37: Поступления от реализации товаров (работ, услуг) государственными учреждениями, финансируемыми из государственного бюджета | F37: =F38 -> 0 | G37: =G38 -> 0 | H37: =H38 -> 0 | I37: =I38 -> 0 | J37: =J38 -> 0 | K37: =K38 -> 0 | L37: =L38 -> 0 | M37: =M38 -> 0 | ... R37: =R38 -> 0
A38: 2 | B38: 2 | C38: 1 | E38: Поступления от реализации товаров (работ, услуг) государственными учреждениями, финансируемыми из государственного бюджета | F38: =F39 -> 0 | G38: =G39 -> 0 | H38: =H39 -> 0 | I38: =I39 -> 0 | J38: =J39 -> 0 | K38: =K39 -> 0 | L38: =L39 -> 0 | M38: =M39 -> 0 | ... R38: =R39 -> 0
A39: 2 | B39: 2 | C39: 1 | D39: 2 | E39: Поступления от реализации товаров (работ, услуг) государственными учреждениями, финансируемыми из республиканского бюджета | F39: =G39+H39+I39+J39+K39+L39+M39+N39+O39+P39+Q39+R39 -> 0
A40: 2 | B40: 3 | E40: Поступления денег от проведения государственных закупок, организуемых государственными учреждениями, финансируемыми из государственного бюджета | F40: =F41 -> 0 | G40: =G41 -> 0 | H40: =H41 -> 0 | I40: =I41 -> 0 | J40: =J41 -> 0 | K40: =K41 -> 0 | L40: =L41 -> 0 | M40: =M41 -> 0 | ... R40: =R41 -> 0
A41: 2 | B41: 3 | C41: 1 | E41: Поступления денег от проведения государственных закупок, организуемых государственными учреждениями, финансируемыми из государственного бюджета | F41: =F42 -> 0 | G41: =G42 -> 0 | H41: =H42 -> 0 | I41: =I42 -> 0 | J41: =J42 -> 0 | K41: =K42 -> 0 | L41: =L42 -> 0 | M41: =M42 -> 0 | ... R41: =R42 -> 0
...

Sheet Абылайханский
D1: ФОРМУ НЕ ИЗМЕНЯТЬ. СТРОКИ, СТОЛБЦЫ, ФОРМУЛЫ НЕ СКРЫВАТЬ, НЕ УДАЛЯТЬ
P2: Приложение № 1
E3: Распределение доходов бюджета на 2020 год по Абылайханскому сельскому округу Бурабайского района
F4: по состоянию на 31.01.2020 г.
A6: КАТЕГОРИЯ | F6: План года | G6: План года по месяцам
B7: КЛАСС
C8: ПОДКЛАСС
D9: СПЕЦИФИКА | G9: январь | H9: февраль | I9: март | J9: апрель | K9: май | L9: июнь | M9: июль | N9: август | O9: сентябрь | P9: октябрь | Q9: ноябрь | R9: декабрь
E10: ДОХОДЫ | F10: =F11+F25+F54 -> 3098 | G10: =G11+G25+G54 -> 80 | H10: =H11+H25+H54 -> 82 | I10: =I11+I25+I54 -> 78 | J10: =J11+J25+J54 -> 104 | K10: =K11+K25+K54 -> 164 | L10: =L11+L25+L54 -> 240 | M10: =M11+M25+M54 -> 243 | ... R10: =R11+R25+R54 -> 580
A11: 1 | E11: HАЛОГОВЫЕ ПОСТУПЛЕHИЯ | F11: =F12+F15+F23 -> 2833 | G11: =G12+G15+G23 -> 80 | H11: =H12+H15+H23 -> 82 | I11: =I12+I15+I23 -> 78 | J11: =J12+J15+J23 -> 99 | K11: =K12+K15+K23 -> 114 | L11: =L12+L15+L23 -> 190 | M11: =M12+M15+M23 -> 223 | ... R11: =R12+R15+R23 -> 530
A12: 1 | B12: 1 | E12: Подоходный налог | F12: =F13 -> 500 | G12: =G13 -> 60 | H12: =H13 -> 60 | I12: =I13 -> 50 | J12: =J13 -> 50 | K12: =K13 -> 50 | L12: =L13 -> 50 | M12: =M13 -> 30 | ... R12: =R13 -> 20
A13: 1 | B13: 1 | C13: 2 | E13: Индивидуальный подоходный налог | F13: 500 | G13: 60 | H13: 60 | I13: 50 | J13: 50 | K13: 50 | L13: 50 | M13: 30 | N13: 30 | O13: 40 | P13: 40 | Q13: 20 | R13: 20
A14: 1 | B14: 1 | C14: 2 | D14: 2 | E14: Индивидуальный подоходный налог с доходов, не облагаемых у источника выплаты | F14: =SUM(G14:R14) -> 500 | G14: 60 | H14: 60 | I14: 50 | J14: 50 | K14: 50 | L14: 50 | M14: 30 | N14: 30 | O14: 40 | P14: 40 | Q14: 20 | R14: 20
A15: 1 | B15: 4 | E15: Налоги на собственность | F15: =F16+F18+F20 -> 2333 | G15: =G16+G18+G20 -> 20 | H15: =H16+H18+H20 -> 22 | I15: =I16+I18+I20 -> 28 | J15: =J16+J18+J20 -> 49 | K15: =K16+K18+K20 -> 64 | L15: =L16+L18+L20 -> 140 | M15: =M16+M18+M20 -> 193 | ... R15: =R16+R18+R20 -> 510
A16: 1 | B16: 4 | C16: 1 | E16: Налоги на имущество | F16: =SUM(G16:R16) -> 68 | G16: =SUM(G17) -> 0 | H16: =SUM(H17) -> 0 | I16: =SUM(I17) -> 1 | J16: =SUM(J17) -> 2 | K16: =SUM(K17) -> 2 | L16: =SUM(L17) -> 5 | M16: =SUM(M17) -> 8 | N16: =SUM(N17) -> 10 | ... R16: =SUM(R17) -> 10
A17: 1 | B17: 4 | C17: 1 | D17: 2 | E17: Налог на имущество физических лиц | F17: =SUM(G17:R17) -> 68 | G17: 0 | H17: 0 | I17: 1 | J17: 2 | K17: 2 | L17: 5 | M17: 8 | N17: 10 | O17: 10 | P17: 10 | Q17: 10 | R17: 10
A18: 1 | B18: 4 | C18: 3 | E18: Земельный налог | F18: 840 | G18: =SUM(G19:G19) -> 0 | H18: =SUM(H19:H19) -> 2 | I18: =SUM(I19:I19) -> 2 | J18: =SUM(J19:J19) -> 2 | K18: =SUM(K19:K19) -> 2 | L18: =SUM(L19:L19) -> 50 | M18: =SUM(M19:M19) -> 60 | N18: =SUM(N19:N19) -> 120 | ... R18: =SUM(R19:R19) -> 225
A19: 1 | B19: 4 | C19: 3 | D19: 2 | E19: Земельный налог | F19: =SUM(G19:R19) -> 840 | G19: 0 | H19: 2 | I19: 2 | J19: 2 | K19: 2 | L19: 50 | M19: 60 | N19: 120 | O19: 120 | P19: 120 | Q19: 137 | R19: 225
A20: 1 | B20: 4 | C20: 4 | E20: Налог на транспортные средства | F20: =SUM(F21:F22) -> 1425 | G20: =SUM(G21:G22) -> 20 | H20: =SUM(H21:H22) -> 20 | I20: =SUM(I21:I22) -> 25 | J20: =SUM(J21:J22) -> 45 | K20: =SUM(K21:K22) -> 60 | L20: =SUM(L21:L22) -> 85 | M20: =SUM(M21:M22) -> 125 | ... R20: =SUM(R21:R22) -> 275
A21: 1 | B21: 4 | C21: 4 | D21: 1 | E21: Налог на транспортные средства с юридических лиц | F21: =SUM(G21:R21) -> 0 | G21: 0 | H21: 0 | I21: 0 | J21: 0 | K21: 0 | L21: 0 | M21: 0 | N21: 0 | O21: 0 | P21: 0 | Q21: 0 | R21: 0
A22: 1 | B22: 4 | C22: 4 | D22: 2 | E22: Налог на транспортные средства с физических лиц | F22: 1425 | G22: 20 | H22: 20 | I22: 25 | J22: 45 | K22: 60 | L22: 85 | M22: 125 | N22: 150 | O22: 195 | P22: 200 | Q22: 225 | R22: 275
A23: 1 | B23: 5 | C23: 4 | E23: Сборы за ведение предпринимательской и профессиональной деятельности | F23: =SUM(G23:R23) -> 0 | G23: =SUM(G24:G24) -> 0 | H23: =SUM(H24:H24) -> 0 | I23: =SUM(I24:I24) -> 0 | J23: =SUM(J24:J24) -> 0 | K23: =SUM(K24:K24) -> 0 | L23: =SUM(L24:L24) -> 0 | M23: =SUM(M24:M24) -> 0 | N23: =SUM(N24:N24) -> 0 | ... R23: =SUM(R24:R24) -> 0
A24: 1 | B24: 5 | C24: 4 | D24: 30 | E24: Плата за размещение наружной (визуальной) рекламы на объектах стационарного размещения рекламы в полосе отвода автомобильных дорог общего пользования республиканского, областного и районного значения, проходящих через территории городов районного значения, сел, поселков, сельских округов и на открытом пространстве за пределами помещений в городе районного значения, селе, поселке | F24: =SUM(G24:R24) -> 0 | G24: 0 | H24: 0 | I24: 0 | J24: 0 | K24: 0 | L24: 0 | M24: 0 | N24: 0 | O24: 0 | P24: 0 | Q24: 0 | R24: 0
A25: 2 | E25: НЕHАЛОГОВЫЕ ПОСТУПЛЕHИЯ | F25: 265 | G25: =G26+G37+G40+G43+G47 -> 0 | H25: =H26+H37+H40+H43+H47 -> 0 | I25: =I26+I37+I40+I43+I47 -> 0 | J25: 5 | K25: 50 | L25: 50 | M25: 20 | N25: 10 | O25: 20 | P25: 50 | Q25: 10 | R25: 50
A26: 2 | B26: 1 | E26: Доходы от государственной собственности | F26: =F27+F29+F31+F33 -> 0 | G26: =G27+G29+G31+G33 -> 0 | H26: =H27+H29+H31+H33 -> 0 | I26: =I27+I29+I31+I33 -> 0 | J26: =J27+J29+J31+J33 -> 0 | K26: =K27+K29+K31+K33 -> 0 | L26: =L27+L29+L31+L33 -> 0 | M26: =M27+M29+M31+M33 -> 0 | ... R26: =R27+R29+R31+R33 -> 0
A27: 2 | B27: 1 | C27: 1 | E27: Поступления части чистого дохода государственных предприятий | F27: =F28 -> 0 | G27: =G28 -> 0 | H27: =H28 -> 0 | I27: =I28 -> 0 | J27: =J28 -> 0 | K27: =K28 -> 0 | L27: =L28 -> 0 | M27: =M28 -> 0 | ... R27: =R28 -> 0
A28: 2 | B28: 1 | C28: 1 | D28: 2 | E28: Поступления части чистого дохода коммунальных государственных предприятий | F28: =SUM(G28:R28) -> 0 | G28: 0 | H28: 0 | I28: 0 | J28: 0 | K28: 0 | L28: 0 | M28: 0 | N28: 0 | O28: 0 | P28: 0 | Q28: 0 | R28: 0
A29: 2 | B29: 1 | C29: 4 | E29: Доходы на доли участия в юридических лицах, находящиеся в государственной собственности | F29: =F30 -> 0 | G29: =G30 -> 0 | H29: =H30 -> 0 | I29: =I30 -> 0 | J29: =J30 -> 0 | K29: =K30 -> 0 | L29: =L30 -> 0 | M29: =M30 -> 0 | ... R29: =R30 -> 0
A30: 2 | B30: 1 | C30: 4 | D30: 2 | E30: Доходы на доли участия в юридических лицах, находящиеся в коммунальной собственности | F30: =SUM(G30:R30) -> 0 | G30: 0 | H30: 0 | I30: 0 | J30: 0 | K30: 0 | L30: 0 | M30: 0 | N30: 0 | O30: 0 | P30: 0 | Q30: 0 | R30: 0
A31: 2 | B31: 1 | C31: 5 | E31: Доходы от аренды имущества, находящегося в государственной собственности | F31: =F32 -> 0 | G31: =G32 -> 0 | H31: =H32 -> 0 | I31: =I32 -> 0 | J31: =J32 -> 0 | K31: =K32 -> 0 | L31: =L32 -> 0 | M31: =M32 -> 0 | ... R31: =R32 -> 0
A32: 2 | B32: 1 | C32: 5 | D32: 10 | E32: Доходы от аренды имущества коммунальной собственности города районного значения, села, поселка, сельского округа | F32: =SUM(G32:R32) -> 0 | G32: 0 | H32: 0 | I32: 0 | J32: 0 | K32: 0 | L32: 0 | M32: 0 | N32: 0 | O32: 0 | P32: 0 | Q32: 0 | R32: 0
A33: 2 | B33: 1 | C33: 7 | E33: Вознаграждения (интересы) по кредитам,выданным из государственного бюджета | F33: =SUM(F34:F36) -> 0 | G33: =SUM(G34:G36) -> 0 | H33: =SUM(H34:H36) -> 0 | I33: =SUM(I34:I36) -> 0 | J33: =SUM(J34:J36) -> 0 | K33: =SUM(K34:K36) -> 0 | L33: =SUM(L34:L36) -> 0 | M33: =SUM(M34:M36) -> 0 | ... R33: =SUM(R34:R36) -> 0
A34: 2 | B34: 1 | C34: 7 | D34: 6 | E34: Вознаграждения по бюджетным кредитам, выданным из местного бюджета специализированным организациям | F34: =SUM(G34:R34) -> 0 | G34: 0 | H34: 0 | I34: 0 | J34: 0 | K34: 0 | L34: 0 | M34: 0 | N34: 0 | O34: 0 | P34: 0 | Q34: 0 | R34: 0
A35: 2 | B35: 1 | C35: 7 | D35: 13 | E35: Вознаграждения по бюджетным кредитам, выданным из местного бюджета физическим лицам | F35: =SUM(G35:R35) -> 0 | G35: 0 | H35: 0 | I35: 0 | J35: 0 | K35: 0 | L35: 0 | M35: 0 | N35: 0 | O35: 0 | P35: 0 | Q35: 0 | R35: 0
A36: 2 | B36: 1 | C36: 7 | D36: 18 | E36: Вознаграждения по бюджетным кредитам, выданным из местного бюджета юридическим лицам, за исключением специализированных организаций | F36: =SUM(G36:R36) -> 0 | G36: 0 | H36: 0 | I36: 0 | J36: 0 | K36: 0 | L36: 0 | M36: 0 | N36: 0 | O36: 0 | P36: 0 | Q36: 0 | R36: 0
A37: 2 | B37: 2 | E37: Поступления от реализации товаров (работ, услуг) государственными учреждениями, финансируемыми из государственного бюджета | F37: =F38 -> 0 | G37: =G38 -> 0 | H37: =H38 -> 0 | I37: =I38 -> 0 | J37: =J38 -> 0 | K37: =K38 -> 0 | L37: =L38 -> 0 | M37: =M38 -> 0 | ... R37: =R38 -> 0
A38: 2 | B38: 2 | C38: 1 | E38: Поступления от реализации товаров (работ, услуг) государственными учреждениями, финансируемыми из государственного бюджета | F38: =F39 -> 0 | G38: =G39 -> 0 | H38: =H39 -> 0 | I38: =I39 -> 0 | J38: =J39 -> 0 | K38: =K39 -> 0 | L38: =L39 -> 0 | M38: =M39 -> 0 | ... R38: =R39 -> 0
A39: 2 | B39: 2 | C39: 1 | D39: 2 | E39: Поступления от реализации товаров (работ, услуг) государственными учреждениями, финансируемыми из республиканского бюджета | F39: =G39+H39+I39+J39+K39+L39+M39+N39+O39+P39+Q39+R39 -> 0 | G39: 0 | H39: 0 | I39: 0 | J39: 0 | K39: 0 | L39: 0 | M39: 0 | N39: 0 | O39: 0 | P39: 0 | Q39: 0 | R39: 0
A40: 2 | B40: 3 | E40: Поступления денег от проведения государственных закупок, организуемых государственными учреждениями, финансируемыми из государственного бюджета | F40: =F41 -> 0 | G40: =G41 -> 0 | H40: =H41 -> 0 | I40: =I41 -> 0 | J40: =J41 -> 0 | K40: =K41 -> 0 | L40: =L41 -> 0 | M40: =M41 -> 0 | ... R40: =R41 -> 0
