Workbook
Name _Hlk190451535: 'прилож 4 001 '!$A$18
Name _Hlk190451535: 'прилож 4 007'!$A$18

Sheet прилож 2
T4: 2-қосымша
J5: Бюджеттік сұранымды жасау, ұсыну, қарау қағидаларына
T6: нысан
A8: Бюджеттік бағдарламалар әкімшісінің қызмет паспорты
A9: 352 «Республикалық маңызы бар қала, астана бюджеті есебінен қаржыландырылатын ішкі істердің атқарушы органы»
A10: 2026–2028 жылдарға арналған
A11: бюджеттік бағдарламалар әкімшісінің коды мен атауы
A13: 1. Жетекшілік ететін саладағы/аядағы мемлекеттік саясаттың негізгі бағыттары:
A14: құқық бұзушылықтардың алдын алу және азаматтар үшін қауіпсіз орта қалыптастыру,
A15: өмір сүру сапасының жоғары деңгейі,
A16: мемлекеттік органдардың ашықтық (қолжетімділік) деңгейі,
A17: қоғамда заң мен тәртіп идеологиясын ілгерілетуге бағытталған цифрлық шешімдерді дамыту.
A19: 2. Бюджеттік бағдарламалар әкімшісі қызметінің нормативтік-құқықтық негізі:
A20: 2025 жылғы 15 наурыздағы №171-VIII Қазақстан Республикасының Бюджет кодексі;
A21: 2014 жылғы 23 сәуірдегі №199-V «Қазақстан Республикасының ішкі істер органдары туралы» Қазақстан Республикасының Заңы;
... A52: 5. Функцияларды, өкілеттіктерді, құзыреттерді іске асыруға жоспарланатын шығыстар көлемдерінің қысқаша сипаттамасын немесе Қазақстан Республикасының Мемлекеттік жоспарлау жүйесінің құжаттары:
A53: Функц. топ | B53: Бағдарлама | D53: Кіші бағдарлама | F53: Атауы | L53: Жоспарлы кезең
L54: 2026 ж. | O54: 2027 ж. | R54: 2028 ж.
A56: 03 | F56: Қоғамдық тәртіп, қауіпсіздік, құқықтық, сот, қылмыстық-атқару қызметі. | L56: =L57+L59+L61+L63 -> 41067766 | O56: =O57+O59+O61+O63 -> 37386723 | R56: =R57+R59+R61+R63 -> 38514303
B57: 001 | F57: Республикалық маңызы бар қала, астана аумағында қоғамдық тәртіп пен қауіпсіздікті қорғауды қамтамасыз ету саласындағы мемлекеттік саясатты іске асыру жөніндегі қызметтер. | L57: =L58 -> 36135649 | O57: =O58 -> 33956422 | R57: =R58 -> 34911561
D58: 015 | F58: Жергілікті бюджет қаражаты есебінен. | L58: 36135649 | O58: 33956422 | R58: 34911561
B59: 003 | F59: Қоғамдық тәртіпті қорғауға қатысатын азаматтарды көтермелеу. | L59: =L60 -> 28121 | O59: =O60 -> 29808 | R59: =R60 -> 31597
D60: 015 | F60: Жергілікті бюджет қаражаты есебінен. | L60: 28121 | O60: 29808 | R60: 31597
B61: 004 | F61: Астана қаласында нашақорлық пен есірткі бизнесінің профилактикасы жөніндегі қызметтер. | L61: =L62 -> 59201 | O61: =O62 -> 62753 | R61: =R62 -> 66518
D62: 015 | F62: Жергілікті бюджет қаражаты есебінен. | L62: 59201 | O62: 62753 | R62: 66518
B63: 007 | F63: Мемлекеттік органның күрделі шығыстары | L63: =L64 -> 4844795 | O63: =O64 -> 3337740 | R63: =R64 -> 3504627
D64: 015 | F64: Жергілікті бюджет қаражаты есебінен. | L64: 4844795 | O64: 3337740 | R64: 3504627
B65: Итог: | L65: =L56 -> 41067766 | O65: =O56 -> 37386723 | R65: =R56 -> 38514303
A67: Шығыстар Полиция департаменті аппараты мен бөлімшелерінің аттестатталған құрамының, мемлекеттік қызметшілердің, азаматтық қызметкерлердің және техникалық персоналдың еңбекақы қорына, тұрғын үй төлемдерін төлеуге, өзге де қорларды сатып алуға, нысанды киім-кешекке, жанар-жағармай материалдарына, жабдықтарға, байланыс қызметтеріне, коммуналдық қызметтерге, ақпараттандыру саласындағы қызметтерге, сондай-ақ өзге де қызметтер мен жұмыстарды төлеуге (арнайы жабдыққа техникалық қолдау көрсету, ғимараттарға ағымдағы жөндеу жүргізу, компьютерлік және кеңсе техникасын, көлік құралдарын жөндеу, үй-жайларды жалға алу және т.б.) бағытталады. Сонымен қатар, Нашақорлықпен күрестің халықаралық күніне арналған акцияларды, спорттық-бұқаралық іс-шараларды, конкурстарды өткізуге, антинаркотикалық жарнаманы тұрақты негізде орналастыруға, астана халқының есірткіге тартылуының алдын алу бойынша ақпараттық-профилактикалық жұмыстарды жүргізуге қаражат көзделген. Полиция департаменті бөлімшелерін материалдық-техникалық жарақтандыру, ғимараттар мен үй-жайларға күрделі жөндеу жүргізу, сондай-ақ полиция қызметіне озық цифрлық құралдарды енгізу де көзделеді.
A69: Полиция департаменті бастығының орынбасары ______________________Байсабыр А.К.
A70: (қолы) (тегі, аты, әкесінің аты (ол болған жағдайда)
A72: Бас бухгалтер/қаржы-экономикалық бөлімінің бастығы _____________________Құрманбекова А.А.
A73: (қолы) (тегі, аты, әкесінің аты (ол болған жағдайда)

Sheet прилож 3
E5: 3-қосымша
C6: Бюджеттік сұранымды жасау, ұсыну, қарау қағидаларына
D7: нысан
A8: Бюджеттік бағдарламалар паспорттары бойынша агрегатталған жалпылама ақпарат
A9: 352 «Республикалық маңызы бар қала, астана бюджеті есебінен қаржыландырылатын ішкі істердің атқарушы органы»
A10: 2026–2028 жылдарға арналған
A11: бюджеттік бағдарламалар әкімшісінің коды мен атауы
G12: мың теңге
A13: Көрсеткіштердің атауы | B13: Факт 2024 ж | C13: 2025 жылғы есепті кезең | E13: Жоспарлы кезең
C14: Бекітілген | D14: Нақтыланған | E14: 2026 жыл | F14: 2027 жыл | G14: 2028 жыл
A15: Жоғары тұрған құжаттардан туындайтын нысаналы индикаторға немесе қойылған міндетке қол жеткізу үшін қажеттіліктің жалпы сомасы. | B15: =B16 -> 27154899 | C15: =C16 -> 32 288 727,0 | D15: =D16 -> 36051278 | E15: =E16+E21 -> 41067766 | F15: =F16 -> 37 386 723,0 | G15: =G16 -> 38 514 303,0
A16: Бюджеттік бағдарламалар әкімшісінің шығыстары лимиттерінің жалпы сомасы, оның ішінде: | B16: 27154899 | C16: 32 288 727,0 | D16: 36051278 | E16: 36038988 | F16: 37 386 723,0 | G16: 38 514 303,0
A17: тұрақты сипаттағы шартсыз базалық шығыстар | B17: х | C17: х | D17: х | E17: 33 142 670,0 | F17: 34048983 | G17: 35 009 676,0
A18: жаңа бастамаларға арналған шығыстар | B18: х | C18: х | D18: х | E18: 0 | F18: 0 | G18: 0
A19: макроэкономикалық және әлеуметтік көрсеткіштердің өзгеруіне байланысты емес және қолданыстағы бюджеттік бағдарламалар шеңберінде бюджет қаражатын жұмсаудың қосымша бағыттарын (орындалатын мемлекеттік функциялардың, өкілеттіктер мен құзыреттердің және көрсетілетін мемлекеттік қызметтердің көлемін кеңейту) көздейтін шартсыз базалық шығыстарды ұлғайту | B19: х | C19: х | D19: х | E19: 2 896 318,0 | F19: 3 337 740,0 | G19: 3 504 627,0
A20: Қазақстан Республикасы Президентінің бастамаларына резерв және Қазақстан Республикасы Үкіметінің резервін немесе жергілікті атқарушы органның резервін қалыптастыру | B20: х | C20: х | D20: х | E20: 0 | F20: 0 | G20: 0
A21: Жалпы қажеттілік сомасының жеткізілген лимиттер сомасынан айырмашылығы | B21: х | C21: х | D21: х | E21: 5028778 | F21: х | G21: х
A22: Бюджеттік бағдардамалардың жалпы саны, оның ішінде: | B22: 4 | C22: 4 | D22: 4 | E22: 4 | F22: 4 | G22: 4
A23: ағымдағы бюджеттік бағдарламалар | B23: 4 | C23: 4 | D23: 4 | E23: 4 | F23: 4 | G23: 4
A24: бюджеттік даму бағдарламалары | B24: х | C24: х | D24: х | E24: х | F24: х | G24: х
A25: Нысаналы индикаторлардың жалпы саны | B25: 4 | C25: 4 | D25: 4 | E25: 3 | F25: 3 | G25: 3
A26: Түпкілікті нәтижелердің жалпы саны | B26: 4 | C26: 4 | D26: 4 | E26: 4 | F26: 4 | G26: 4
A28: Полиция департаменті бастығының орынбасары ______________________Байсабыр А.К.
A29: (қолы) (тегі, аты, әкесінің аты (ол болған жағдайда)
A31: Бас бухгалтер/қаржы-экономикалық бөлімінің бастығы ___________________Құрманбекова А.А.
A32: (қолы) (тегі, аты, әкесінің аты (ол болған жағдайда)

Sheet прилож 4 001 
S4: 4-қосымша
M5: ҚР Ішкі істер министрлігі Астана қаласының Полиция департаменті мемлекеттік мекемесінің бастығымен
R6: «Бекітілген»
A7: приказом начальника Государственного учреждения | I7: 202__ ж. «_____»___________№ ____ бұйрыққа 1 қосымша
J8: «ҚР ҚР Ішкі істер министрлігі Астана қаласының Полиция департаменті мемлекеттік мекемесінің бастығының 2025 жылғы 25 желтоқсандағы №136 бұйрығына
T9: 1 қосымша
A12: Бюджеттік бағдарламаның паспорты
A13: 352 «Республикалық маңызы бар қала, астана бюджеті есебінен қаржыландырылатын ішкі істердің атқарушы органы»
A14: 2026–2028 жылдарға арналған
A15: бюджеттік бағдарламалар әкімшісінің коды мен атауы
A16: Бюджеттік бағдарламаның коды мен атауы: 352 001 «Республикалық маңызы бар қаланың, астананың аумағында қоғамдық тәртіпті және қауіпсіздікті сақтауды қамтамасыз ету саласындағы мемлекеттік саясатты іске асыру жөніндегі қызметтер».
A17: Мемлекеттік органдар функцияларының тізіліміне сәйкес мемлекеттік орган функциясының (функцияларының) коды мен атауы: -
A18: Мемлекеттік көрсетілетін қызметтер тізіліміне сәйкес мемлекеттік көрсетілетін қызметтің коды мен атауы: -
A19: Сипаттама (негіздеме), оның ішінде ағымдағы мәртебе: Астана қаласы Полиция департаментінің қылмыстар мен әкімшілік құқық бұзушылықтардың алдын алу, анықтау, жолын кесу, қылмыстарды ашу және тергеу, жол қозғалысы қауіпсіздігін қамтамасыз етуді мемлекеттік қадағалау және бақылау жөніндегі қызметінің жұмыс істеуін қамтамасыз ету, визалық жұмысты жүзеге асыру, шетел азаматтарының және азаматтығы жоқ адамдардың Қазақстан Республикасының аумағында болу қағидаларын сақтауын бақылау. Қоғамдық тәртiптi нығайту және азаматтардың өмiрi мен денсаулығы қауiпсiздiгiнiң қажеттi деңгейiн қолдау.
A20: Бюджеттік бағдарламаның түрі:
A21: мазмұнына байланысты: Мемлекеттік функцияларды, өкілеттіктерді жүзеге асыру және олардан туындайтын мемлекеттік қызметтерді көрсету.
A22: мемлекеттік басқару деңгейіне қарай: Облыстық, республикалық маңызы бар қала, астана.
A23: іске асыру тәсіліне байланысты: Жеке
A24: Ағымдағы/даму: Ағымдағы бюджеттік бағдарлама
A26: Көрсеткіштердің атауы | J26: Факт 2024 ж | L26: 2025 жылғы ағымдағы жоспар | P26: Жоспарлы кезең
L27: Бекітілген | N27: Нақтыланған | P27: 2026 жыл | R27: 2027 жыл | T27: 2028 жыл
A28: Мемлекеттік жоспарлау жүйесі құжаттарының, бюджеттік бағдарлама әкімшісінің қызметінің көрсеткіштерін белгілейтін меншікті құжаттардың нысаналы индикаторы:
A29: 1) Жол-көлік оқиғалары нәтижесіндегі өлім-жітім, % | J29: 11.8 | L29: 11.7 | N29: 11.7 | P29: 11.6 | R29: 11.5 | T29: 11.4
A30: 2) Әйелдер мен балаларға қатысты халық деңгейінің төмендеуі базалық 2022 жылға), %. | J30: 3 | L30: 5 | N30: 5 | P30: 7 | R30: 9 | T30: 10
A31: 3) Қасақана кісі өлтіру құрбандары санынынң, 100 мың адамға | J31: 2.4 | L31: 2.3 | N31: 2.3 | P31: 2.2 | R31: 2.1 | T31: 2
A32: Түпкілікті нәтиже: Көшелерде жасалған қылмыстардың үлес салмағын төмендету, % | J32: 11.1 | L32: 12.9 | N32: 12.9 | P32: 14.3 | R32: 15 | T32: 16
A33: Бюджеттік бағдарламаның түпкілікті нәтижесінің нысаналы индикаторлардан ауытқуы | J33: х | L33: х | N33: х | P33: х | R33: х | T33: х
A34: Мемлекеттік жоспарлау жүйесінің құжаттарына, бюджеттік бағдарлама әкімшісінің қызметінің көрсеткіштерін белгілейтін меншікті құжаттарға сәйкес бюджет қаражатына қажеттілік | J34: х | L34: х | N34: х | P34: 36135649 | R34: х | T34: х
A35: Жоспар | J35: 23383961 | L35: 29179776 | N35: 32233525 | P35: 33055348 | R35: 33956422 | T35: 34911561
A36: Нысаналы индикаторларға қол жеткізу үшін жоспарланған қаражаттан ауытқуы | J36: 0 | L36: 0 | N36: 0 | P36: =P34-P35 -> 3080301 | R36: 0 | T36: 0
A38: Бюджеттік кіші бағдарламаның коды мен атауы: 352 001 «Республикалық маңызы бар қаланың, астананың аумағында қоғамдық тәртіпті және қауіпсіздікті сақтауды қамтамасыз ету саласындағы мемлекеттік саясатты іске асыру жөніндегі қызметтер».
A39: 2026 жыл - | C39: =P34 -> 36135649 | E39: мың теңге
A41: Іс-шаралар, барлығы, оның ішінде | F41: Іс-шара көрсеткіші | H41: Мемлекеттік жоспарлау жүйелері құжатының көрсеткіші | K41: Ауытқу | M41: Шығындар (себептер)
A42: Астана қаласы Полиция департаменті аппаратының және құрылымдық бөлімшелерінің штат саны, бірлік | F42: 3329 | H42: 3329 | K42: =P36 -> 3080301 | M42: Қосымша 1 303 735 мың теңге бөлінді, оның ішінде:135 924 мың теңге – лизингтегі автокөліктерге КАСКО және азаматтық-құқықтық жауапкершілікті сақтандыру қызметтеріне; 717 811 мың теңге – лизинг бойынша 223 автомашинаға жанар-жағармай материалдарын (ЖЖМ) сатып алуға; 450 000 мың теңге – Астана қаласы ПД-нің Тәуелсіздік көшесі, 1 мекенжайындағы әкімшілік ғимаратына ағымдағы жөндеу жүргізуге. Қосымша 1 215 024 мың теңге бөлінді, оның ішінде: 250 000 мың теңге – Астана қаласы әкімінің 2026 жылғы 8 мамырдағы № 514-19 өкіміне сәйкес ПД жеке құрамын ынталандыруға; 476 356 мың теңге – жалдау ақысының орташа құнының қымбаттауына байланысты тұрғын үй төлемдеріне; 157 372 мың теңге – ПД арнайы мекемелеріндегі тамақтануға жұмсалатын шығындарды ұлғайтуға; 85 187 мың теңге – НҰРА ауданы ПБ қызметкерлерін орналастыру үшін ғимаратты 3 айға жалға алуға; 45 066 мың теңге – «Азаматтық қару иелерін есепке алуды және бақылауды автоматтандыру» бағдарламалық жасақтамасына қол жеткізуге; 20 083 мың теңге – кеңсе техникасы мен әртүрлі жиһаздарды сатып алуға; 180 960 мың теңге – 007 бюджеттік бағдарламасынан белсенді қорғаныс құралдарын сатып алуға. Қосымша 561 542 мың теңге бөлінді, оның ішінде: 476 355 мың теңге – жалдау ақысының орташа құнының қымбаттауына және қызметкерлер санының ұлғаюына байланысты тұрғын үй төлемдеріне; 85 187 мың теңге – НҰРА ауданы ПБ қызметкерлерін орналастыру үшін ғимаратты 3 айға жалға алуға
A43: Жасалған қылмыстардың саны, бірлік | F43: 18852 | H43: 18852
A44: Көшелерде жасалған қылмыстардың саны, бірлік | F44: 2705 | H44: 2705
A45: Жол-көлік оқиғалары салдарынан болатын өлім-жітім, % | F45: 11.6 | H45: 11.6
A46: Әйелдер мен балаларға қатысты халық деңгейінің төмендеуі (базалық 2022 жылға қатысты), %. | F46: 7 | H46: 7
A49: 2027 жыл - | C49: =M51 -> 33956422 | E49: =E39 -> мың теңге
A50: =A41 -> Іс-шаралар, барлығы, оның ішінде | F50: =F41 -> Іс-шара көрсеткіші | H50: =H41 -> Мемлекеттік жоспарлау жүйелері құжатының көрсеткіші | K50: =K41 -> Ауытқу | M50: Шығындар | O50: Себептер
...

Sheet прилож 4 007
S5: 4-қосымша
J6: ҚР Ішкі істер министрлігі Астана қаласының Полиция департаменті мемлекеттік мекемесінің бастығымен
R7: «Бекітілген»
A8: приказом начальника Государственного учреждения | I8: 202__ ж. «_____»___________№ ____ бұйрыққа 2 қосымша
J9: «ҚР ҚР Ішкі істер министрлігі Астана қаласының Полиция департаменті мемлекеттік мекемесінің бастығының 2025 жылғы 25 желтоқсандағы №136 бұйрығына
T10: 4 қосымша
A12: Бюджеттік бағдарламаның паспорты
A13: 352 «Республикалық маңызы бар қала, астана бюджеті есебінен қаржыландырылатын ішкі істердің атқарушы органы»
A14: 2026–2028 жылдарға арналған
A15: бюджеттік бағдарламалар әкімшісінің коды мен атауы
A16: Бюджеттік бағдарламаның коды мен атауы: 352 007 « Мемлекеттік органның күрделі шығыстары »
A17: Мемлекеттік органдар функцияларының тізіліміне сәйкес мемлекеттік орган функциясының (функцияларының) коды мен атауы: -
A18: Мемлекеттік көрсетілетін қызметтер тізіліміне сәйкес мемлекеттік көрсетілетін қызметтің коды мен атауы: -
A19: Сипаттама (негіздеме), оның ішінде ағымдағы мәртебе: Полиция департаментiнiң бөлiмшелерiн материалдық-техникалық жарақтандыру, ғимараттарға, үй-жайларға күрделi жөндеу жүргiзу. Полиция жұмысына озық цифрлық құралдарды енгізу.
A20: Бюджеттік бағдарламаның түрі:
A21: мазмұнына байланысты: Күрделі шығыстарды жүзеге асыру.
A22: мемлекеттік басқару деңгейіне қарай: Облыстық, республикалық маңызы бар қала, астана.
A23: іске асыру тәсіліне байланысты: Жеке
A24: Ағымдағы/даму: Ағымдағы бюджеттік бағдарлама
A26: Көрсеткіштердің атауы | J26: Факт 2024 ж | L26: 2025 жылғы ағымдағы жоспар | P26: ='прилож 4 001 '!P26:U26 -> Жоспарлы кезең
L27: ='прилож 4 001 '!L27:M27 -> Бекітілген | N27: ='прилож 4 001 '!N27:O27 -> Нақтыланған | P27: ='прилож 4 001 '!P27:Q27 -> 2026 жыл | R27: ='прилож 4 001 '!R27:S27 -> 2027 жыл | T27: ='прилож 4 001 '!T27:U27 -> 2028 жыл
A28: Мемлекеттік жоспарлау жүйесі құжаттарының, бюджеттік бағдарлама әкімшісінің қызметінің көрсеткіштерін белгілейтін меншікті құжаттардың нысаналы индикаторы:
A29: 1) Жол-көлік оқиғалары нәтижесіндегі өлім-жітім, % | J29: 11.8 | L29: 11.7 | N29: 11.7 | P29: 11.6 | R29: 11.5 | T29: 11.4
A30: Сатып алынған автокөлік құралдарының саны | J30: 51 | L30: 63 | N30: 69 | P30: 9 | R30: 30 | T30: 30
A31: 223 бірлік түрлі автокөлік сатып алуға қаржы лизинг қызметтері | J31: х | L31: х | N31: х | P31: 1 | R31: 1 | T31: 1
A32: ЖСҚ әзірлеу | J32: 4 | L32: х | N32: 1 | P32: 1 | R32: х | T32: х
A33: Үй-жайларды, ғимараттар мен құрылыстарды, беру құрылғыларын сатып алу саны | J33: 3 | L33: х | N33: 3 | P33: 1 | R33: х | T33: х
A34: Сатып алынған компьютерлік техниканың, байланыс құралдарының, АТҚЖ мүлкінің, арнайы жабдықтардың, материалдық емес активтердің және т.б. саны " | J34: 2337 | L34: 4055 | N34: 3007 | P34: 3303 | R34: 4200 | T34: 4525
A35: Соңғы нәтиже: Полиция департаментінің аппараты мен бөлімшелерінің материалдық-техникалық базасын нығайту, оларды көлік құралдарымен, байланыс құралдарымен, әртүрлі жабдықтармен және өзге де техникалық құралдармен жарақтандыру.
A36: ='прилож 4 001 '!A33:I33 -> Бюджеттік бағдарламаның түпкілікті нәтижесінің нысаналы индикаторлардан ауытқуы
A37: Мемлекеттік жоспарлау жүйесінің құжаттарына, бюджеттік бағдарлама әкімшісінің қызметінің көрсеткіштерін белгілейтін меншікті құжаттарға сәйкес бюджет қаражатына қажеттілік | J37: х | L37: х | N37: х | P37: 4844795 | R37: х | T37: х
A38: Жоспар | J38: 3693993.3 | L38: 3026572 | N38: 3735374 | P38: 2896318 | R38: 3337740 | T38: 3504627
A39: Нысаналы индикаторларға қол жеткізу үшін жоспарланған қаражаттан ауытқуы | J39: 0 | L39: 0 | N39: 0 | P39: =P37-P38 -> 1948477 | R39: 0 | T39: 0
A41: Бюджеттік кіші бағдарламаның коды мен атауы: 352 007 « Мемлекеттік органның күрделі шығыстары »
A42: 2026 жыл - | C42: =P37 -> 4844795 | E42: мың теңге
A44: ='прилож 4 001 '!A41:E41 -> Іс-шаралар, барлығы, оның ішінде | F44: ='прилож 4 001 '!F41:G41 -> Іс-шара көрсеткіші | H44: ='прилож 4 001 '!H41:J41 -> Мемлекеттік жоспарлау жүйелері құжатының көрсеткіші | K44: ='прилож 4 001 '!K41:L41 -> Ауытқу | M44: ='прилож 4 001 '!M41:U41 -> Шығындар (себептер)
A45: Сатып алынған автокөлік құралдарының саны | F45: 7 | H45: 9 | K45: =289689+47348+125257 -> 462294 | M45: Қосымша 289 689 мың теңге бөлінді, оның ішінде: 409 944 мың теңге – күзетілетін адамдар мен ресми делегацияларды алып жүру үшін 6 бірлік арнайы жеңіл автомобиль сатып алуға; 120 255 мың теңге – қаражатты қысқарту, БП 001 бойынша КАСКО қызметтеріне қайта бөлу. Лимитте 20 бірлік автокөлік көзделген болатын. Түзету нәтижесінде олардың саны 10 бірлікке дейін қысқартылды, оның ішінде: 3 бірлік – алып жүру үшін және 7 бірлік – патрульдеу үшін. Қосымша, бюджетті нақтылау шеңберінде алып жүру үшін 6 бірлік автокөлік бөлініп, нәтижесінде автокөліктің жалпы саны 16 бірлікті құрады. Қосымша 47 348 мың теңге бөлінді, оның ішінде: 195 000 мың теңге – арнайы жабдықтармен жарақтандырылған автомобиль базасында 1 бірлік жылжымалы криминалистикалық зертхана сатып алуға; 147 652 мың теңге – қаражатты қысқарту, БП 001 бойынша белсенді қорғаныс құралдарын сатып алуға қайта бөлу. Көрсеткіш бойынша автокөлік саны 16 бірлікті құрады. Түзету нәтижесінде саны 10 бірлікке дейін қысқартылды, оның ішінде: 3 бірлік – алып жүру үшін және 7 бірлік – патрульдеу үшін. Қосымша, бюджетті нақтылау шеңберінде 1 бірлік жылжымалы криминалистикалық зертхана бөлініп, нәтижесінде автокөліктің жалпы саны 7 бірлікті құрады. Сонымен қатар, мемлекеттік сатып алудың нәтижелері бойынша үнемделген қаражатты модульдік үлгідегі ғимарат пен АТВ құралдарын сатып алуға қайта бөлуге байланысты қаржыландыру көлемі 65 569 мың теңгеге азайтылды. Қосымша 125 257 мың теңге бөлінді, оның ішінде: күзетілетін адамдар мен ресми делегацияларды алып жүру үшін 2 бірлік арнайы жеңіл автомобиль сатып алуға. Өзгерістер енгізілгенге дейін автокөліктің саны 7 бірлікті құрады. Қосымша 2 бірлік сатып алынды, нәтижесінде автокөліктің жалпы саны 9 бірлікті құрады.
A47: Қаржылық лизинг қызметтері | F47: 1 | H47: 1 | K47: 912840 | M47: Қосымша 223 бірлік әртүрлі автокөлік құралдарын сатып алу бойынша қаржылық лизинг шеңберінде жергілікті бюджет есебінен алғашқы төлемді төлеуге қаражат бөлінді.
A48: =A32 -> ЖСҚ әзірлеу | F48: 1 | H48: 1 | K48: =H48-F48 -> 0
A49: =A33 -> Үй-жайларды, ғимараттар мен құрылыстарды, беру құрылғыларын сатып алу саны | F49: 1 | H49: 1 | K49: =H49-F49 -> 0
...
