Workbook

Sheet 001
G1: Бюджеттік сұранымды жасау, ұсыну және қарау қағидаларына №4-қосымша
B2: Бюджеттік бағдарлама паспорты
B3: 333 Шымкент қаласының жұмыспен қамту және әлеуметтік қорғау басқармасы
B4: бюджеттiк бағдарлама әкiмшiсiнiң коды және атауы
B5: 2026 - 2028 жылдарға арналған
B6: Бюджеттік бағдарламаның коды мен атауы: | C6: 001 - «Жергілікті деңгейде халық үшін жұмыспен қамтуды қамтамасыз ету және әлеуметтік бағдарламаларды іске асыру саласындағы мемлекеттік саясатты іске асыру жөніндегі қызметтер»
B7: Мемлекеттік органдар функцияларының тізіліміне сәйкес мемлекеттік орган функциясының (функцияларының) коды мен атауы: | C7: 06 - «Әлеуметтiк көмек және әлеуметтiк қамсыздандыру»
B8: Мемлекеттік көрсетілетін қызметтер тізіліміне сәйкес мемлекеттік көрсетілетін қызметтің коды мен атауы: | C8: -
B9: Сипаттама (негіздеме), оның ішінде ағымдағы мәртебе: | C9: Шымкент қаласының жұмыспен қамту және әлеуметтік қорғау басқармасының бюджетінің жобасын үш жылдық кезеңге әзірлеу, 56 мемлекеттік әкімшілік қызметкерлер мен 34 келісім шартпен жұмыс істейтін тех персонал қызметкерлердің толығымен еңбек жалақысын төлеу және барлық құрал жабдықтармен қамтамасыз ету, қызметкерлердің біліктілігін арттыру, байланыс қызметтеріне ақы төлеу, өзгеде қорларды сатып алу, жабдықтарды ағымдағы жөндеу, қызметтер мен жұмыстарды сатып алу.
B10: Бюджеттік бағдарламаның түрі:
B11: мазмұнына байланысты: | C11: Мемлекеттік функцияларды, өкілеттіктерді жүзеге асыруға және олардан туындайтын мемлекеттік қызметтерді көрсетуге бағытталған бюджеттік бағдарлама
B12: мемлекеттік басқару деңгейіне байланысты: | C12: Республикалық маңызы бар қаланың бюджеті
B13: іске асыру тәсіліне байланысты: | C13: Жеке
B14: ағымдағы/даму | C14: ағымдағы
H15: (мың теңге)
B16: Көрсеткіштердің атауы | C16: Факт 2024 жыл | D16: 2025 жылғы есепті кезең | F16: Жоспарлы кезең
D17: Бекітілген | E17: Нақтыланған | F17: 2026 жыл | G17: 2027 жыл | H17: 2028 жыл
B18: Мемлекеттік жоспарлау жүйесі құжаттарының, бюджеттік бағдарлама әкімшісінің қызметінің көрсеткіштерін белгілейтін меншікті құжаттардың нысаналы индикаторы:
B19: Бюджеттік бағдарламаның түпкілікті нәтижесі:
B20: Бюджеттік бағдарламаның түпкілікті нәтижесінің нысаналы индикаторлардан ауытқуы
B21: Мемлекеттік жоспарлау жүйесінің құжаттарына, бюджеттік бағдарлама әкімшісінің қызметінің көрсеткіштерін белгілейтін меншікті құжаттарға сәйкес бюджет қаражатына қажеттілік
B22: Жоспар | C22: 565649 | D22: 583076 | E22: 622816 | F22: 604076 | G22: 655088 | H22: 665166
B23: Нысаналы индикаторларға қол жеткізу үшін жоспардың жоспарланған қаражаттан ауытқуы
B25: Бюджеттік кіші бағдарламаның коды мен атауы: 015 «Жергілікті бюджет қаражаты есебінен»
B26: 2026 жылға 604 076,0 мың теңге
B27: Іс-шаралар, барлығы, оның ішінде | C27: Іс-шара көрсеткіші | D27: Мемлекеттік жоспарлау жүйелері құжатының көрсеткіші (бар болған жағдайда) | E27: Ауытқу (бар болған жағдайда)
B28: Басқарманың мемлекеттік әкімшілік қызметшілерінің штаттық бірліктерін ұстау | C28: 56
B29: Басқарманың штаттан тыс техникалық қызметшілерінің штаттық бірліктерін ұстау | C29: 34
B31: 2027 жылға 655 088,0 мың теңге
B32: Іс-шаралар, барлығы, оның ішінде | C32: Іс-шара көрсеткіші | D32: Мемлекеттік жоспарлау жүйелері құжатының көрсеткіші (бар болған жағдайда) | E32: Ауытқу (бар болған жағдайда)
B33: Басқарманың мемлекеттік әкімшілік қызметшілерінің штаттық бірліктерін ұстау | C33: 56
B34: Басқарманың штаттан тыс техникалық қызметшілерінің штаттық бірліктерін ұстау | C34: 34
B36: 2028 жылға 665 166,0 мың теңге
B37: Іс-шаралар, барлығы, оның ішінде | C37: Іс-шара көрсеткіші | D37: Мемлекеттік жоспарлау жүйелері құжатының көрсеткіші (бар болған жағдайда) | E37: Ауытқу (бар болған жағдайда)
B38: Басқарманың мемлекеттік әкімшілік қызметшілерінің штаттық бірліктерін ұстау | C38: 56
B39: Басқарманың штаттан тыс техникалық қызметшілерінің штаттық бірліктерін ұстау | C39: 34
B42: Басқарма басшысының орынбасары | D42: К. Калдыкараев
C43: (қолы)
B44: Шоғырландырылған қаржылық есептілікті қалыптастыру және бюджеттік жоспарлау бөлімінің басшысы | D44: К. Даулбаева
C45: (қолы)
...

Sheet 001-рус
F1: Приложение 4 к Правилам составления, представления, рассмотрения бюджетного запроса
B2: Паспорт бюджетной программы
B3: 333 Управление занятости и социальной защиты города Шымкента
B4: Код и наименование администратора бюджетных программ
B5: на 2026 - 2028 годы
B6: Код и наименование бюджетной программы: | C6: 001 - «Услуги по реализации государственной политики на местном уровне в области обеспечения занятости и реализации социальных программ для населения на местном уровне»
B7: Код и наименование функции (функций) государственного органа (в соответствии с реестром функций государственных органов): | C7: 06 - «Социальная помощь и социальное обеспечение»
B8: Код и наименование государственной услуги (в соответствии с реестром государственных услуг): | C8: -
B9: Описание (обоснование), в том числе текущий статус: | C9: Разработка проекта бюджета Управления занятости и социальной защиты города Шымкента на трехлетний период, обеспечение полной выплаты заработной платы 56 государственным административным служащим и 34 техническим сотрудникам, работающим по трудовым договорам, а также обеспечение их всеми необходимыми оборудованием и материально-техническими средствами, повышение квалификации работников, оплата услуг связи, приобретение прочих материальных запасов, текущий ремонт оборудования, приобретение услуг и выполнение работ.
B10: Вид бюджетной программы:
B11: в зависимости от содержания: | C11: Бюджетная программа, направленная на осуществление государственных функций, полномочий и оказание вытекающих из них государственных услуг
B12: в зависимости от уровня государственного управления: | C12: Бюджет города республиканского значения
B13: в зависимости от способа реализации: | C13: Индивидуальная
B14: текущая/развития | C14: Текущий
H15: (тыс. тенге)
B16: Наименование показателей | C16: Факт 2024 год | D16: План текущего 2025 года | F16: Плановый период
D17: Утвержденный | E17: Уточненный | F17: 2026 год | G17: 2027 год | H17: 2028 год
B18: Целевой индикатор документов Системы государственного планирования, собственных документов, устанавливающих показатели деятельности администратора бюджетных программ:
B19: Конечный результат бюджетной программы:
B20: Отклонение конечного результата бюджетной программы от целевого индикатора
B21: Потребность в бюджетных средствах согласно документам Системы государственного планирования, собственных документов, устанавливающих показатели деятельности администратора бюджетных программ | K21: =SUM(K23-K22) -> 0
B22: План | C22: 565649 | D22: 583076 | E22: 622816 | F22: 604076 | G22: 655088 | H22: 665166 | K22: =F22+'026-рус'!F22+'003-рус'!F24+'004-рус'!F23+'007-рус'!F22+'008-рус'!F22+'009-рус'!F22+'015-рус'!F22+'053-рус'!F22+'013-рус'!F22+'023-рус'!F22+'066-рус'!F22+'034-рус'!F22+'076-рус'!F22+'077-рус'!F22+'032-рус'!F22+'002+-рус'!F22+'020-рус'!F22+'022-рус'!F22+'028-рус'!F22+'006-рус'!F22+'016-рус'!F22+'064-рус'!F22 -> 39951522
B23: Отклонение плана от запланированных средств для достижения целевых индикаторов | K23: 39951522
B25: Код и наименование бюджетной подпрограммы: 015 «За счет средств местного бюджета»
B26: на 2026 год 604 076,0 тыс. тенге
B27: Мероприятия, всего, в том числе: | C27: Показатель мероприятия | D27: Показатель документа Системы государственного планирования (при наличии) | E27: Отклонение (при наличии) | F27: Расходы тыс. тенге
B28: Содержание штатных единиц государственных административных служащих управления | C28: 56 | F28: 604076
B29: Содержание штатных единиц внештатных технических работников управления | C29: 34
B31: на 2027 год 655 088,0 тыс. тенге
B32: Мероприятия, всего, в том числе: | C32: Показатель мероприятия | D32: Показатель документа Системы государственного планирования (при наличии) | E32: Отклонение (при наличии) | F32: Расходы тыс. тенге
B33: Содержание штатных единиц государственных административных служащих управления | C33: 56 | F33: 655088
B34: Содержание штатных единиц внештатных технических работников управления | C34: 34
B36: на 2028 год 665 166,0 тыс. тенге
B37: Мероприятия, всего, в том числе: | C37: Показатель мероприятия | D37: Показатель документа Системы государственного планирования (при наличии) | E37: Отклонение (при наличии) | F37: Расходы тыс. тенге
B38: Содержание штатных единиц государственных административных служащих управления | C38: 56 | F38: 665166
B39: Содержание штатных единиц внештатных технических работников управления | C39: 34
B42: Заместитель руководителя управления | D42: К. Калдыкараев
C43: (подпись)
B44: Руководитель отдела формирование консолидированная финансовая отчетность и планирования бюджета | D44: К. Даулбаева
C45: (подпись)
...

Sheet 026
G1: Бюджеттік сұранымды жасау, ұсыну және қарау қағидаларына №4-қосымша
B2: Бюджеттік бағдарлама паспорты
B3: 333 Шымкент қаласының жұмыспен қамту және әлеуметтік қорғау басқармасы
B4: бюджеттiк бағдарлама әкiмшiсiнiң коды және атауы
B5: 2026 - 2028 жылдарға арналған
B6: Бюджеттік бағдарламаның коды мен атауы: | C6: 026 - «Мемлекеттік органның күрделі шығыстары»
B7: Мемлекеттік органдар функцияларының тізіліміне сәйкес мемлекеттік орган функциясының (функцияларының) коды мен атауы: | C7: 06 - «Әлеуметтiк көмек және әлеуметтiк қамсыздандыру»
B8: Мемлекеттік көрсетілетін қызметтер тізіліміне сәйкес мемлекеттік көрсетілетін қызметтің коды мен атауы: | C8: -
B9: Сипаттама (негіздеме), оның ішінде ағымдағы мәртебе: | C9: Мемлекеттік органның күрделі шығыстарын мақсатты орындау және материалдық техникалық базасын 100% қамтамасыз ету
B10: Бюджеттік бағдарламаның түрі:
B11: мазмұнына байланысты: | C11: Мемлекеттік функцияларды, өкілеттіктерді жүзеге асыруға және олардан туындайтын мемлекеттік қызметтерді көрсетуге бағытталған бюджеттік бағдарлама
B12: мемлекеттік басқару деңгейіне байланысты: | C12: Республикалық маңызы бар қаланың бюджеті
B13: іске асыру тәсіліне байланысты: | C13: Жеке
B14: ағымдағы/даму | C14: ағымдағы
H15: (мың теңге)
B16: Көрсеткіштердің атауы | C16: Факт 2024 жыл | D16: 2025 жылғы есепті кезең | F16: Жоспарлы кезең
D17: Бекітілген | E17: Нақтыланған | F17: 2026 жыл | G17: 2027 жыл | H17: 2028 жыл
B18: Мемлекеттік жоспарлау жүйесі құжаттарының, бюджеттік бағдарлама әкімшісінің қызметінің көрсеткіштерін белгілейтін меншікті құжаттардың нысаналы индикаторы:
B19: Бюджеттік бағдарламаның түпкілікті нәтижесі:
B20: Бюджеттік бағдарламаның түпкілікті нәтижесінің нысаналы индикаторлардан ауытқуы
B21: Мемлекеттік жоспарлау жүйесінің құжаттарына, бюджеттік бағдарлама әкімшісінің қызметінің көрсеткіштерін белгілейтін меншікті құжаттарға сәйкес бюджет қаражатына қажеттілік
B22: Жоспар | C22: 4469 | F22: 30385
B23: Нысаналы индикаторларға қол жеткізу үшін жоспардың жоспарланған қаражаттан ауытқуы
B25: Бюджеттік кіші бағдарламаның коды мен атауы: 015 «Жергілікті бюджет қаражаты есебінен»
B26: 2026 жылға 30 385,0 мың теңге
B27: Іс-шаралар, барлығы, оның ішінде | C27: Іс-шара көрсеткіші | D27: Мемлекеттік жоспарлау жүйелері құжатының көрсеткіші (бар болған жағдайда) | E27: Ауытқу (бар болған жағдайда)
B28: Компьютер жиынтығының саны | C28: 45
B29: Принтер МФУ саны | C29: 40
B30: Салқындатқыш (Кондиционер) саны | C30: 17
B33: Басқарма басшысының орынбасары | D33: К. Калдыкараев
C34: (қолы)
B35: Шоғырландырылған қаржылық есептілікті қалыптастыру және бюджеттік жоспарлау бөлімінің басшысы | D35: К. Даулбаева
C36: (қолы)
B37: Шоғырландырылған қаржылық есептілікті қалыптастыру және бюджеттік жоспарлау бөлімінің бас маманы | D37: Ж. Бейсембаева
C38: (қолы)

Sheet 026-рус
F1: Приложение 4 к Правилам составления, представления, рассмотрения бюджетного запроса
B2: Паспорт бюджетной программы
B3: 333 Управление занятости и социальной защиты города Шымкента
B4: Код и наименование администратора бюджетных программ
B5: на 2026 - 2028 годы
B6: Код и наименование бюджетной программы: | C6: 026 - «Капитальные расходы государственного органа»
B7: Код и наименование функции (функций) государственного органа (в соответствии с реестром функций государственных органов): | C7: 06 - «Социальная помощь и социальное обеспечение»
B8: Код и наименование государственной услуги (в соответствии с реестром государственных услуг): | C8: -
B9: Описание (обоснование), в том числе текущий статус: | C9: Целевое исполнение капитальных расходов государственного органа и 100% обеспечение материально-технической базы
B10: Вид бюджетной программы:
B11: в зависимости от содержания: | C11: Осуществление капитальных расходов
B12: в зависимости от уровня государственного управления: | C12: Бюджет города республиканского значения
B13: в зависимости от способа реализации: | C13: Индивидуальная
B14: текущая/развития | C14: Текущий
H15: (тыс. тенге)
B16: Наименование показателей | C16: Факт 2024 год | D16: План текущего 2025 года | F16: Плановый период
D17: Утвержденный | E17: Уточненный | F17: 2026 год | G17: 2027 год | H17: 2028 год
B18: Целевой индикатор документов Системы государственного планирования, собственных документов, устанавливающих показатели деятельности администратора бюджетных программ:
B19: Конечный результат бюджетной программы:
B20: Отклонение конечного результата бюджетной программы от целевого индикатора
B21: Потребность в бюджетных средствах согласно документам Системы государственного планирования, собственных документов, устанавливающих показатели деятельности администратора бюджетных программ
B22: План | C22: 4469 | F22: 30385
B23: Отклонение плана от запланированных средств для достижения целевых индикаторов
B25: Код и наименование бюджетной подпрограммы: 015 «За счет средств местного бюджета»
B26: на 2026 год 30 385,0 тыс. тенге
B27: Мероприятия, всего, в том числе: | C27: Показатель мероприятия | D27: Показатель документа Системы государственного планирования (при наличии) | E27: Отклонение (при наличии) | F27: Расходы тыс. тенге
B28: Количество комплектов компьютеров | C28: 45
B29: Количество Принтер МФУ | C29: 40
B30: Количество кондиционеров | C30: 17
B33: Заместитель руководителя управления | D33: К. Калдыкараев
C34: (подпись)
B35: Руководитель отдела формирование консолидированная финансовая отчетность и планирования бюджета | D35: К. Даулбаева
C36: (подпись)
B37: Главный специалист отдела формирование консолидированная финансовая отчетность и планирования бюджета | D37: Ж. Бейсембаева
C38: (подпись)

Sheet 003
G1: Бюджеттік сұранымды жасау, ұсыну және қарау қағидаларына №4-қосымша
B2: Бюджеттік бағдарлама паспорты
B3: 333 Шымкент қаласының жұмыспен қамту және әлеуметтік қорғау басқармасы
B4: бюджеттiк бағдарлама әкiмшiсiнiң коды және атауы
B5: 2026 - 2028 жылдарға арналған
B6: Бюджеттік бағдарламаның коды мен атауы: | C6: 003 - «Жұмыспен қамту бағдарламасы»
B7: Мемлекеттік органдар функцияларының тізіліміне сәйкес мемлекеттік орган функциясының (функцияларының) коды мен атауы: | C7: 06 - «Әлеуметтiк көмек және әлеуметтiк қамсыздандыру»
B8: Мемлекеттік көрсетілетін қызметтер тізіліміне сәйкес мемлекеттік көрсетілетін қызметтің коды мен атауы: | C8: 701004 - Жұмыспен қамтуға жәрдемдесудің белсенді шараларына қатысуға жолдамалар беру
B9: Сипаттама (негіздеме), оның ішінде ағымдағы мәртебе: | C9: Шығындар жұмыссыз азаматтарды еңбек нарығында сұранысқа ие мамандықтар бойынша оқытуға, жаңа бизнес-идеяларды іске асыруға арналған гранттар беруге, бағдарламаға қатысушыларға өтеусіз және қайтарымсыз мемлекеттік гранттар ұсынуға, сондай-ақ жұмыссыз азаматтарды әлеуметтік жұмыс орындарына, жастар практикасына, қоғамдық жұмыстарға және алғашқы жұмыс орындарына жұмысқа орналастыруға бағытталады. Сонымен қатар, халықты жұмыспен қамтуға жәрдемдесу бойынша іс-шаралар қолданыстағы заңнамаға және мемлекеттік жоспарлау жүйесінің құжаттарына сәйкес жүзеге асырылуда. Бағдарламаның орындалуына тұрақты мониторинг жүргізіліп, жұмыспен қамту шараларына қатысушылардың саны, жұмысқа орналасуы және құрылған жұмыс орындарының нәтижелілігі бағаланады.
B10: Бюджеттік бағдарламаның түрі:
B11: мазмұнына байланысты: | C11: Мемлекеттік функцияларды, өкілеттіктерді жүзеге асыруға және олардан туындайтын мемлекеттік қызметтерді көрсетуге бағытталған бюджеттік бағдарлама
B12: мемлекеттік басқару деңгейіне байланысты: | C12: Республикалық маңызы бар қаланың бюджеті
B13: іске асыру тәсіліне байланысты: | C13: Жеке
B14: ағымдағы/даму | C14: ағымдағы
H15: (мың теңге)
B16: Көрсеткіштердің атауы | C16: Факт 2024 жыл | D16: 2025 жылғы есепті кезең | F16: Жоспарлы кезең
D17: Бекітілген | E17: Нақтыланған | F17: 2026 жыл | G17: 2027 жыл | H17: 2028 жыл
B18: Мемлекеттік жоспарлау жүйесі құжаттарының, бюджеттік бағдарлама әкімшісінің қызметінің көрсеткіштерін белгілейтін меншікті құжаттардың нысаналы индикаторы:
B19: Жұмыссыздық деңгейі | C19: 0.048 | D19: 0.048 | E19: 0.048 | F19: 0.048 | G19: 0.048 | H19: 0.048
B20: Жұмысқа орналастырылған азаматтардың, оның ішінде жастардың саны | C20: 26 622 оның ішінде жастар 13 573 | D20: 23 202 оның ішінде жастар 13 534 | E20: 23 202 оның ішінде жастар 13 534 | F20: 23 202 оның ішінде жастар 15 710 | G20: 23 202 оның ішінде жастар 20 060 | H20: 23 202 оның ішінде жастар 20 302
B21: Бюджеттік бағдарламаның түпкілікті нәтижесі:
B22: Бюджеттік бағдарламаның түпкілікті нәтижесінің нысаналы индикаторлардан ауытқуы
B23: Мемлекеттік жоспарлау жүйесінің құжаттарына, бюджеттік бағдарлама әкімшісінің қызметінің көрсеткіштерін белгілейтін меншікті құжаттарға сәйкес бюджет қаражатына қажеттілік
B24: Жоспар | C24: 6695982 | D24: 9115744 | E24: 5380174 | F24: =7365937-1269350 -> 6096587 | G24: 8390697 | H24: 9130793
B25: Нысаналы индикаторларға қол жеткізу үшін жоспардың жоспарланған қаражаттан ауытқуы
B27: Бюджеттік кіші бағдарламаның коды мен атауы: 015 «Жергілікті бюджет қаражаты есебінен»
B28: 2026 жылға 6 096 587,0 мың теңге
B29: Іс-шаралар, барлығы, оның ішінде | C29: Іс-шара көрсеткіші | D29: Мемлекеттік жоспарлау жүйелері құжатының көрсеткіші (бар болған жағдайда) | E29: Ауытқу (бар болған жағдайда) | F29: Шығыстар сомасы мың тенге
B30: Қоғамдық жұмыстар | C30: 1403 | F30: =1699033 -> 1699033
B31: Қысқа мерзімдік кәсіптік оқыту | C31: 450 | F31: =136967 -> 136967
B32: Жұмыссызды жұмыс берушілердегі жұмыс орнында кәсіптік оқыту | C32: 160 | F32: =80349.3 -> 80349.3
B33: Ваучерлер беру | C33: 50 | F33: =1081.3 -> 1081.3
B34: Жастар практикасы | C34: 3575 | F34: =2783138 -> 2783138
B35: Күміс жас жобасы | C35: =1503-908 -> 595 | F35: =1896037-1269350 -> 626687
B36: Мемлекеттік гранттарды беру (400 АЕК) | C36: 340 | F36: =588200 -> 588200
B37: Әлеуметтік жұмыс орындары | C37: 170 | F37: 176460
B38: Әлеуметтік жұмыс орындары мүгедектігі бар адамдарды жұмысқа орналастыру үшін арнайы жұмыс орындарын ұйымдастыру | C38: 3 | F38: 4671
B40: 2027 жылға 8 390 697,0 мың теңге
B41: Іс-шаралар, барлығы, оның ішінде | C41: Іс-шара көрсеткіші | D41: Мемлекеттік жоспарлау жүйелері құжатының көрсеткіші (бар болған жағдайда) | E41: Ауытқу (бар болған жағдайда) | F41: Шығыстар сомасы мың тенге
B42: Қоғамдық жұмыстар | C42: 1403 | F42: 1809421
...

Sheet 003-рус
F1: Приложение 4 к Правилам составления, представления, рассмотрения бюджетного запроса
B2: Паспорт бюджетной программы
B3: 333 Управление занятости и социальной защиты города Шымкента
B4: Код и наименование администратора бюджетных программ
B5: на 2026 - 2028 годы
B6: Код и наименование бюджетной программы: | C6: 003 - «Программа занятости»
B7: Код и наименование функции (функций) государственного органа (в соответствии с реестром функций государственных органов): | C7: 06 - «Социальная помощь и социальное обеспечение»
B8: Код и наименование государственной услуги (в соответствии с реестром государственных услуг): | C8: 701004 - Выдача направлений для участия в активных мерах содействия занятости
B9: Описание (обоснование), в том числе текущий статус: | C9: Расходы направляются на обучение безработных граждан по востребованным на рынке труда профессиям, предоставление грантов на реализацию новых бизнес-идей, предоставление участникам программы безвозмездных и безвозвратных государственных грантов, а также на трудоустройство безработных граждан на социальные рабочие места, молодежную практику, общественные работы и первые рабочие места. Кроме того, мероприятия по содействию занятости населения реализуются в соответствии с действующим законодательством и документами Системы государственного планирования. Осуществляется постоянный мониторинг реализации программы, оцениваются количество участников мер содействия занятости, их трудоустройство и эффективность созданных рабочих мест.
B10: Вид бюджетной программы:
B11: в зависимости от содержания: | C11: Бюджетная программа, направленная на осуществление государственных функций, полномочий и оказание вытекающих из них государственных услуг
B12: в зависимости от уровня государственного управления: | C12: Бюджет города республиканского значения
B13: в зависимости от способа реализации: | C13: Индивидуальная
B14: текущая/развития | C14: Текущий
H15: (тыс. тенге)
B16: Наименование показателей | C16: Факт 2024 год | D16: План текущего 2025 года | F16: Плановый период
D17: Утвержденный | E17: Уточненный | F17: 2026 год | G17: 2027 год | H17: 2028 год
B18: Целевой индикатор документов Системы государственного планирования, собственных документов, устанавливающих показатели деятельности администратора бюджетных программ:
B19: Уровень безработицы | C19: 0.048 | D19: 0.048 | E19: 0.048 | F19: 0.048 | G19: 0.048 | H19: 0.048
B20: Количество трудоустроенных граждан, в том числе молодежи | C20: 26 622 в том числе молодежь 13 573 | D20: 23 202 в том числе молодежь 13 534 | E20: 23 202 в том числе молодежь 13 534 | F20: 23 202 в том числе молодежь 15 710 | G20: 23 202 в том числе молодежь 20 060 | H20: 23 202 в том числе молодежь 20 302
B21: Конечный результат бюджетной программы:
B22: Отклонение конечного результата бюджетной программы от целевого индикатора
B23: Потребность в бюджетных средствах согласно документам Системы государственного планирования, собственных документов, устанавливающих показатели деятельности администратора бюджетных программ
B24: План | C24: 6695982 | D24: 9115744 | E24: 5380174 | F24: =7365937-1269350 -> 6096587 | G24: 8390697 | H24: 9130793
B25: Отклонение плана от запланированных средств для достижения целевых индикаторов
B27: Код и наименование бюджетной подпрограммы: 015 «За счет средств местного бюджета»
B28: на 2026 год 6 096 587,0 тыс. тенге
B29: Мероприятия, всего, в том числе: | C29: Показатель мероприятия | D29: Показатель документа Системы государственного планирования (при наличии) | E29: Отклонение (при наличии) | F29: Расходы тыс. тенге
B30: Общественные работы | C30: =SUM('003'!C30) -> 1403 | F30: =SUM('003'!F30) -> 1699033
B31: Краткосрочное профессиональное обучение | C31: =SUM('003'!C31) -> 450 | F31: =SUM('003'!F31) -> 136967
B32: Профессиональное обучение безработных на рабочих местах у работодателей | C32: =SUM('003'!C32) -> 160 | F32: =SUM('003'!F32) -> 80349.3
B33: Выдача ваучеров | C33: =SUM('003'!C33) -> 50 | F33: =SUM('003'!F33) -> 1081.3
B34: Молодежная практика | C34: =SUM('003'!C34) -> 3575 | F34: =SUM('003'!F34) -> 2783138
B35: Проект «Серебряный возраст» | C35: =SUM('003'!C35) -> 595 | F35: =SUM('003'!F35) -> 626687
B36: Предоставление государственных грантов (400 МРП) | C36: =SUM('003'!C36) -> 340 | F36: =SUM('003'!F36) -> 588200
B37: Социальные рабочие места | C37: =SUM('003'!C37) -> 170 | F37: =SUM('003'!F37) -> 176460
B38: Организация специальных рабочих мест для трудоустройства лиц с инвалидностью в рамках социальных рабочих мест | C38: =SUM('003'!C38) -> 3 | F38: =SUM('003'!F38) -> 4671
B40: на 2027 год 8 390 697,0 тыс. тенге
B41: Мероприятия, всего, в том числе: | C41: Показатель мероприятия | D41: Показатель документа Системы государственного планирования (при наличии) | E41: Отклонение (при наличии) | F41: Расходы тыс. тенге
B42: Общественные работы | C42: 1403 | F42: 1809421
...

Sheet 004
G1: Бюджеттік сұранымды жасау, ұсыну және қарау қағидаларына №4-қосымша
B2: Бюджеттік бағдарлама паспорты
B3: 333 Шымкент қаласының жұмыспен қамту және әлеуметтік қорғау басқармасы
B4: бюджеттiк бағдарлама әкiмшiсiнiң коды және атауы
B5: 2026 - 2028 жылдарға арналған
B6: Бюджеттік бағдарламаның коды мен атауы: | C6: 004 - «Мемлекеттік атаулы әлеуметтік көмек»
B7: Мемлекеттік органдар функцияларының тізіліміне сәйкес мемлекеттік орган функциясының (функцияларының) коды мен атауы: | C7: 06 - «Әлеуметтiк көмек және әлеуметтiк қамсыздандыру»
B8: Мемлекеттік көрсетілетін қызметтер тізіліміне сәйкес мемлекеттік көрсетілетін қызметтің коды мен атауы: | C8: 704002 - "Мемлекеттік атаулы әлеуметтік көмек тағайындау"
B9: Сипаттама (негіздеме), оның ішінде ағымдағы мәртебе: | C9: Шығыстар жан басына шаққандағы орташа табысы кедейлік шегінен төмен халықты әлеуметтік қолдау үшін мемлекеттік атаулы әлеуметтік көмекті тағайындауға және төлеуге жіберіледі.
B10: Бюджеттік бағдарламаның түрі:
B11: мазмұнына байланысты: | C11: Мемлекеттік функцияларды, өкілеттіктерді жүзеге асыруға және олардан туындайтын мемлекеттік қызметтерді көрсетуге бағытталған бюджеттік бағдарлама
B12: мемлекеттік басқару деңгейіне байланысты: | C12: Республикалық маңызы бар қаланың бюджеті
B13: іске асыру тәсіліне байланысты: | C13: Жеке
B14: ағымдағы/даму | C14: ағымдағы
H15: (мың теңге)
B16: Көрсеткіштердің атауы | C16: Факт 2024 жыл | D16: 2025 жылғы есепті кезең | F16: Жоспарлы кезең
D17: Бекітілген | E17: Нақтыланған | F17: 2026 жыл | G17: 2027 жыл | H17: 2028 жыл
B18: Мемлекеттік жоспарлау жүйесі құжаттарының, бюджеттік бағдарлама әкімшісінің қызметінің көрсеткіштерін белгілейтін меншікті құжаттардың нысаналы индикаторы:
B19: Табысы ең төменгі күнкөріс деңгейінен /кедейлік шегінен төмен халықтың үлесі, % | C19: 0.056 | D19: 0.062 | E19: 0.062 | F19: 0.062 | G19: 0.06 | H19: 0.059
B20: Бюджеттік бағдарламаның түпкілікті нәтижесі:
B21: Бюджеттік бағдарламаның түпкілікті нәтижесінің нысаналы индикаторлардан ауытқуы
B22: Мемлекеттік жоспарлау жүйесінің құжаттарына, бюджеттік бағдарлама әкімшісінің қызметінің көрсеткіштерін белгілейтін меншікті құжаттарға сәйкес бюджет қаражатына қажеттілік
B23: Жоспар | C23: 5356543 | D23: 5710461 | E23: 3260741 | F23: 2634929 | G23: 4035172 | H23: 4240554
B24: Нысаналы индикаторларға қол жеткізу үшін жоспардың жоспарланған қаражаттан ауытқуы
B26: Бюджеттік кіші бағдарламаның коды мен атауы: 015 «Жергілікті бюджет қаражаты есебінен»
B27: 2026 жылға 2 634 929,0 мың теңге
B28: Іс-шаралар, барлығы, оның ішінде | C28: Іс-шара көрсеткіші | D28: Мемлекеттік жоспарлау жүйелері құжатының көрсеткіші (бар болған жағдайда) | E28: Ауытқу (бар болған жағдайда) | F28: Шығыстар сомасы мың тенге
B29: Атаулы әлеуметтік көмек алушылар саны | C29: =25500-13610 -> 11890 | F29: =3487439-1213604 -> 2273835
B30: Кепілдік берілген әлеуметтік топтама алушылар балалар саны | C30: =5566 -> 5566 | F30: =361094 -> 361094
B32: 2027 жылға 4 035 172,0 мың теңге
B33: Іс-шаралар, барлығы, оның ішінде | C33: Іс-шара көрсеткіші | D33: Мемлекеттік жоспарлау жүйелері құжатының көрсеткіші (бар болған жағдайда) | E33: Ауытқу (бар болған жағдайда) | F33: Шығыстар сомасы мың тенге
B34: Атаулы әлеуметтік көмек алушылар саны | C34: 39110 | F34: 3670045
B35: Кепілдік берілген әлеуметтік топтама алушылар балалар саны | C35: 5566 | F35: 365127
B37: 2028 жылға 4 240 554,0 мың теңге
B38: Іс-шаралар, барлығы, оның ішінде | C38: Іс-шара көрсеткіші | D38: Мемлекеттік жоспарлау жүйелері құжатының көрсеткіші (бар болған жағдайда) | E38: Ауытқу (бар болған жағдайда) | F38: Шығыстар сомасы мың тенге
B39: Атаулы әлеуметтік көмек алушылар саны | C39: 39110 | F39: 3853548
B40: Кепілдік берілген әлеуметтік топтама алушылар балалар саны | C40: 5566 | F40: 387006
B43: Басқарма басшысының орынбасары | D43: К. Калдыкараев
C44: (қолы)
B45: Шоғырландырылған қаржылық есептілікті қалыптастыру және бюджеттік жоспарлау бөлімінің басшысы | D45: К. Даулбаева
...

Sheet 004-рус
F1: Приложение 4 к Правилам составления, представления, рассмотрения бюджетного запроса
B2: Паспорт бюджетной программы
B3: 333 Управление занятости и социальной защиты города Шымкента
B4: Код и наименование администратора бюджетных программ
B5: на 2026 - 2028 годы
B6: Код и наименование бюджетной программы: | C6: 004 - «Государственная адресная социальная помощь»
B7: Код и наименование функции (функций) государственного органа (в соответствии с реестром функций государственных органов): | C7: 06 - «Социальная помощь и социальное обеспечение»
B8: Код и наименование государственной услуги (в соответствии с реестром государственных услуг): | C8: 704002 - "Назначение государственной адресной социальной помощи"
B9: Описание (обоснование), в том числе текущий статус: | C9: Расходы направляются на назначение и выплату государственной адресной социальной помощи для социальной поддержки населения, имеющего среднедушевой доход ниже черты бедности
B10: Вид бюджетной программы:
B11: в зависимости от содержания: | C11: Бюджетная программа, направленная на осуществление государственных функций, полномочий и оказание вытекающих из них государственных услуг
B12: в зависимости от уровня государственного управления: | C12: Бюджет города республиканского значения
B13: в зависимости от способа реализации: | C13: Индивидуальная
B14: текущая/развития | C14: Текущий
H15: (тыс. тенге)
B16: Наименование показателей | C16: Факт 2024 год | D16: План текущего 2025 года | F16: Плановый период
D17: Утвержденный | E17: Уточненный | F17: 2026 год | G17: 2027 год | H17: 2028 год
B18: Целевой индикатор документов Системы государственного планирования, собственных документов, устанавливающих показатели деятельности администратора бюджетных программ:
B19: Доля населения с доходами ниже прожиточного минимума / черты бедности, %. | C19: 0.056 | D19: 0.062 | E19: 0.062 | F19: 0.062 | G19: 0.06 | H19: 0.059
B20: Конечный результат бюджетной программы:
B21: Отклонение конечного результата бюджетной программы от целевого индикатора
B22: Потребность в бюджетных средствах согласно документам Системы государственного планирования, собственных документов, устанавливающих показатели деятельности администратора бюджетных программ
B23: План | C23: 5356543 | D23: 5710461 | E23: 3260741 | F23: 2634929 | G23: 4035172 | H23: 4240554
B24: Отклонение плана от запланированных средств для достижения целевых индикаторов
B26: Код и наименование бюджетной подпрограммы: 015 «За счет средств местного бюджета»
B27: на 2026 год 2 634 929,0 тыс. тенге
B28: Мероприятия, всего, в том числе: | C28: Показатель мероприятия | D28: Показатель документа Системы государственного планирования (при наличии) | E28: Отклонение (при наличии) | F28: Расходы тыс. тенге
B29: Количество получателей адресной социальной помощи АСП | C29: =SUM('004'!C29) -> 11890 | F29: =SUM('004'!F29) -> 2273835
B30: Количество детей получателей гарантированного социального пакета ГСП | C30: =SUM('004'!C30) -> 5566 | F30: =SUM('004'!F30) -> 361094
B32: на 2027 год 4 035 172,0 тыс. тенге
B33: Мероприятия, всего, в том числе: | C33: Показатель мероприятия | D33: Показатель документа Системы государственного планирования (при наличии) | E33: Отклонение (при наличии) | F33: Расходы тыс. тенге
B34: Количество получателей адресной социальной помощи АСП | C34: 39110 | F34: 3670045
B35: Количество детей получателей гарантированного социального пакета ГСП | C35: 5566 | F35: 365127
B37: на 2028 год 4 240 554,0 тыс. тенге
B38: Мероприятия, всего, в том числе: | C38: Показатель мероприятия | D38: Показатель документа Системы государственного планирования (при наличии) | E38: Отклонение (при наличии) | F38: Расходы тыс. тенге
B39: Количество получателей адресной социальной помощи АСП | C39: 39110 | F39: 3853548
B40: Количество детей получателей гарантированного социального пакета ГСП | C40: 5566 | F40: 387006
B43: Заместитель руководителя управления | D43: К. Калдыкараев
C44: (подпись)
B45: Руководитель отдела формирование консолидированная финансовая отчетность и планирования бюджета | D45: К. Даулбаева
...

Sheet 007
G1: Бюджеттік сұранымды жасау, ұсыну және қарау қағидаларына №4-қосымша
B2: Бюджеттік бағдарлама паспорты
B3: 333 Шымкент қаласының жұмыспен қамту және әлеуметтік қорғау басқармасы
B4: бюджеттiк бағдарлама әкiмшiсiнiң коды және атауы
B5: 2026 - 2028 жылдарға арналған
B6: Бюджеттік бағдарламаның коды мен атауы: | C6: 007 - «Тұрғын үйге көмек көрсету»
B7: Мемлекеттік органдар функцияларының тізіліміне сәйкес мемлекеттік орган функциясының (функцияларының) коды мен атауы: | C7: 06 - «Әлеуметтiк көмек және әлеуметтiк қамсыздандыру»
B8: Мемлекеттік көрсетілетін қызметтер тізіліміне сәйкес мемлекеттік көрсетілетін қызметтің коды мен атауы: | C8: 704007 - "Жергілікті өкілді органдардың шешімдері бойынша мұқтаж азаматтардың жекелеген санаттарына әлеуметтік көмек тағайындау"
B9: Сипаттама (негіздеме), оның ішінде ағымдағы мәртебе: | C9: Тұрғын үй көмегі аз қамтылған отбасыларға беріледі. Тұрғын үй көмегі тұрғын үйді (тұрғын үй ғимаратын) күтіп ұстау және коммуналдық қызметтерді пайдалану үшін төлем мөлшері арасындағы айырма ретінде айқындалады, рұқсат етілген шығыстардың белгіленген нормалар шегіндегі үлестің жалпы кірісінің 5 пайызында белгіленеді.
B10: Бюджеттік бағдарламаның түрі:
B11: мазмұнына байланысты: | C11: Мемлекеттік функцияларды, өкілеттіктерді жүзеге асыруға және олардан туындайтын мемлекеттік қызметтерді көрсетуге бағытталған бюджеттік бағдарлама
B12: мемлекеттік басқару деңгейіне байланысты: | C12: Республикалық маңызы бар қаланың бюджеті
B13: іске асыру тәсіліне байланысты: | C13: Жеке
B14: ағымдағы/даму | C14: ағымдағы
H15: (мың теңге)
B16: Көрсеткіштердің атауы | C16: Факт 2024 жыл | D16: 2025 жылғы есепті кезең | F16: Жоспарлы кезең
D17: Бекітілген | E17: Нақтыланған | F17: 2026 жыл | G17: 2027 жыл | H17: 2028 жыл
B18: Мемлекеттік жоспарлау жүйесі құжаттарының, бюджеттік бағдарлама әкімшісінің қызметінің көрсеткіштерін белгілейтін меншікті құжаттардың нысаналы индикаторы:
B19: Бюджеттік бағдарламаның түпкілікті нәтижесі:
B20: Бюджеттік бағдарламаның түпкілікті нәтижесінің нысаналы индикаторлардан ауытқуы
B21: Мемлекеттік жоспарлау жүйесінің құжаттарына, бюджеттік бағдарлама әкімшісінің қызметінің көрсеткіштерін белгілейтін меншікті құжаттарға сәйкес бюджет қаражатына қажеттілік
B22: Жоспар | C22: 16491 | D22: 34864 | E22: 8574 | F22: 11111 | G22: 12411 | H22: 14094
B23: Нысаналы индикаторларға қол жеткізу үшін жоспардың жоспарланған қаражаттан ауытқуы
B25: Бюджеттік кіші бағдарламаның коды мен атауы: 015 «Жергілікті бюджет қаражаты есебінен»
B26: 2026 жылға 11 111,0 мың теңге
B27: Іс-шаралар, барлығы, оның ішінде | C27: Іс-шара көрсеткіші | D27: Мемлекеттік жоспарлау жүйелері құжатының көрсеткіші (бар болған жағдайда) | E27: Ауытқу (бар болған жағдайда)
B28: Тұрғын үй көмегі тағайындалатын аз қамтылған отбасылар саны | C28: 136
B30: 2027 жылға 12 411,0 мың теңге
B31: Іс-шаралар, барлығы, оның ішінде | C31: Іс-шара көрсеткіші | D31: Мемлекеттік жоспарлау жүйелері құжатының көрсеткіші (бар болған жағдайда) | E31: Ауытқу (бар болған жағдайда)
B32: Тұрғын үй көмегі тағайындалатын аз қамтылған отбасылар саны | C32: 144
B34: 2028 жылға 14 094,0 мың теңге
B35: Іс-шаралар, барлығы, оның ішінде | C35: Іс-шара көрсеткіші | D35: Мемлекеттік жоспарлау жүйелері құжатының көрсеткіші (бар болған жағдайда) | E35: Ауытқу (бар болған жағдайда)
B36: Тұрғын үй көмегі тағайындалатын аз қамтылған отбасылар саны | C36: 155
B39: Басқарма басшысының орынбасары | D39: К. Калдыкараев
C40: (қолы)
B41: Шоғырландырылған қаржылық есептілікті қалыптастыру және бюджеттік жоспарлау бөлімінің басшысы | D41: К. Даулбаева
C42: (қолы)
B43: Әлеуметтік көмекті тағайындау және төлемдерін жүргізу бөлімінің басшысы м.у.а | D43: А. Байырбекова
C44: (қолы)

Sheet 007-рус
F1: Приложение 4 к Правилам составления, представления, рассмотрения бюджетного запроса
B2: Паспорт бюджетной программы
B3: 333 Управление занятости и социальной защиты города Шымкента
B4: Код и наименование администратора бюджетных программ
B5: на 2026 - 2028 годы
B6: Код и наименование бюджетной программы: | C6: 007 - «Оказание жилищной помощи»
B7: Код и наименование функции (функций) государственного органа (в соответствии с реестром функций государственных органов): | C7: 06 - «Социальная помощь и социальное обеспечение»
B8: Код и наименование государственной услуги (в соответствии с реестром государственных услуг): | C8: 704007 - "Назначение социальной помощи отдельным категориям нуждающихся граждан по решениям местных представительных органов"
B9: Описание (обоснование), в том числе текущий статус: | C9: Жилищная помощь предоставляется малообеспеченным семьям. Размер жилищной помощи определяется как разница между суммой расходов на содержание жилища (жилого здания) и оплату коммунальных услуг и долей расходов, установленной в размере 5% от совокупного дохода семьи в пределах утвержденных норм допустимых расходов
B10: Вид бюджетной программы:
B11: в зависимости от содержания: | C11: Бюджетная программа, направленная на осуществление государственных функций, полномочий и оказание вытекающих из них государственных услуг
B12: в зависимости от уровня государственного управления: | C12: Бюджет города республиканского значения
B13: в зависимости от способа реализации: | C13: Индивидуальная
B14: текущая/развития | C14: Текущий
H15: (тыс. тенге)
B16: Наименование показателей | C16: Факт 2024 год | D16: План текущего 2025 года | F16: Плановый период
D17: Утвержденный | E17: Уточненный | F17: 2026 год | G17: 2027 год | H17: 2028 год
B18: Целевой индикатор документов Системы государственного планирования, собственных документов, устанавливающих показатели деятельности администратора бюджетных программ:
B19: Конечный результат бюджетной программы:
B20: Отклонение конечного результата бюджетной программы от целевого индикатора
B21: Потребность в бюджетных средствах согласно документам Системы государственного планирования, собственных документов, устанавливающих показатели деятельности администратора бюджетных программ
B22: План | C22: 16491 | D22: 34864 | E22: 8574 | F22: 11111 | G22: 12411 | H22: 14094
B23: Отклонение плана от запланированных средств для достижения целевых индикаторов
B25: Код и наименование бюджетной подпрограммы: 015 «За счет средств местного бюджета»
B26: на 2026 год 11 111,0 тыс. тенге
B27: Мероприятия, всего, в том числе: | C27: Показатель мероприятия | D27: Показатель документа Системы государственного планирования (при наличии) | E27: Отклонение (при наличии) | F27: Расходы тыс. тенге
B28: Количество малообеспеченных семей, которым назначается жилищная помощь | C28: 136
B30: на 2027 год 12 411,0 тыс. тенге
B31: Мероприятия, всего, в том числе: | C31: Показатель мероприятия | D31: Показатель документа Системы государственного планирования (при наличии) | E31: Отклонение (при наличии) | F31: Расходы тыс. тенге
B32: Количество малообеспеченных семей, которым назначается жилищная помощь | C32: 144
B34: на 2028 год 14 094,0 тыс. тенге
B35: Мероприятия, всего, в том числе: | C35: Показатель мероприятия | D35: Показатель документа Системы государственного планирования (при наличии) | E35: Отклонение (при наличии) | F35: Расходы тыс. тенге
B36: Количество малообеспеченных семей, которым назначается жилищная помощь | C36: 155
B39: Заместитель руководителя управления | D39: К. Калдыкараев
C40: (подпись)
B41: Руководитель отдела формирование консолидированная финансовая отчетность и планирования бюджета | D41: К. Даулбаева
C42: (подпись)
B43: И.о руководитель отдела назначения и выплат по социальной помощи | D43: А. Байырбекова
C44: (подпись)

Sheet 008
F1: Бюджеттік сұранымды жасау, ұсыну және қарау қағидаларына №4-қосымша
B2: Бюджеттік бағдарлама паспорты
B3: 333 Шымкент қаласының жұмыспен қамту және әлеуметтік қорғау басқармасы
B4: бюджеттiк бағдарлама әкiмшiсiнiң коды және атауы
B5: 2026 - 2028 жылдарға арналған
B6: Бюджеттік бағдарламаның коды мен атауы: | C6: 008 - «Жергілікті өкілді органдардың шешімі бойынша азаматардың жекелеген санаттарына әлеуметтік көмек»
B7: Мемлекеттік органдар функцияларының тізіліміне сәйкес мемлекеттік орган функциясының (функцияларының) коды мен атауы: | C7: 06 - «Әлеуметтiк көмек және әлеуметтiк қамсыздандыру»
B8: Мемлекеттік көрсетілетін қызметтер тізіліміне сәйкес мемлекеттік көрсетілетін қызметтің коды мен атауы: | C8: 704007 - "Жергілікті өкілді органдардың шешімдері бойынша мұқтаж азаматтардың жекелеген санаттарына әлеуметтік көмек тағайындау"
B9: Сипаттама (негіздеме), оның ішінде ағымдағы мәртебе: | C9: Аз қамтамасыз етілген азаматтарға, бір реттік, ай сайынғы әлеуметтік және материалдық көмектер көрсету. Ардагерлерді санаторлық курорттық емделу орталықтарына жолдау.
B10: Бюджеттік бағдарламаның түрі:
B11: мазмұнына байланысты: | C11: Мемлекеттік функцияларды, өкілеттіктерді жүзеге асыруға және олардан туындайтын мемлекеттік қызметтерді көрсетуге бағытталған бюджеттік бағдарлама
B12: мемлекеттік басқару деңгейіне байланысты: | C12: Республикалық маңызы бар қаланың бюджеті
B13: іске асыру тәсіліне байланысты: | C13: Жеке
B14: ағымдағы/даму | C14: ағымдағы
H15: (мың теңге)
B16: Көрсеткіштердің атауы | C16: Факт 2024 жыл | D16: 2025 жылғы есепті кезең | F16: Жоспарлы кезең
D17: Бекітілген | E17: Нақтыланған | F17: 2026 жыл | G17: 2027 жыл | H17: 2028 жыл
B18: Мемлекеттік жоспарлау жүйесі құжаттарының, бюджеттік бағдарлама әкімшісінің қызметінің көрсеткіштерін белгілейтін меншікті құжаттардың нысаналы индикаторы:
B19: Бюджеттік бағдарламаның түпкілікті нәтижесі:
B20: Бюджеттік бағдарламаның түпкілікті нәтижесінің нысаналы индикаторлардан ауытқуы
B21: Мемлекеттік жоспарлау жүйесінің құжаттарына, бюджеттік бағдарлама әкімшісінің қызметінің көрсеткіштерін белгілейтін меншікті құжаттарға сәйкес бюджет қаражатына қажеттілік
B22: Жоспар | C22: 2295305 | D22: 2718600 | E22: 3525947 | F22: 4058373 | G22: 4241683 | H22: 4932680
B23: Нысаналы индикаторларға қол жеткізу үшін жоспардың жоспарланған қаражаттан ауытқуы
B25: Бюджеттік кіші бағдарламаның коды мен атауы: 015 «Жергілікті бюджет қаражаты есебінен»
B26: 2026 жылға 4 058 373,0 мың теңге
B27: Іс-шаралар, барлығы, оның ішінде | E27: Іс-шара көрсеткіші | F27: Мемлекеттік жоспарлау жүйелері құжатының көрсеткіші (бар болған жағдайда) | G27: Ауытқу (бар болған жағдайда) | H27: Шығыстар сомасы мың тенге
B28: Шекті шамасы 40 АЕК-ті құрайтын санаторийлік-курорттық емделуге жолдама беруге, Ұлы Отан соғысының ардагерлеріне; жеңілдіктер бойынша Ұлы Отан соғысының ардагерлеріне теңестірілген ардагерлерге; Қазақстандағы 1986 жылғы 17-18 желтоқсан оқиғасына қатысып, Қазақстан Республикасының "Жаппай саяси қуғын-сүргіндер құрбандарын ақтау туралы" Заңында белгіленген тәртіпке сәйкес ақталған тұлғаларға жасы бойынша зейнеткерлерге ұсынылады. | E28: 5500 | H28: 783875
B29: Мереке күндері мен атаулы күндерге әлеуметтік көмек азаматтардың келесі санаттарына ақшалай төлемдер түрінде жылына 1 рет көрсетіледі 50 АЕК мөлшерінде, 15 ақпан - Ауғанстан Демократиялық Республикасынан кеңестік әскерлерінің шектеулі контингентінің шығарылған күні; басқа мемлекеттердiң аумағындағы ұрыс қимылдарының ардагерлеріне; | E29: 1248 | H29: 269880
B30: 8 наурызда Халықаралық әйелдер күнiне 5 АЕК мөлшерінде, "Алтын алқа", "Күміс алқа" алқаларымен наградталған немесе бұрын "Батыр ана" атағын алған, І және II дәрежелі "Ана даңқы" ордендерімен наградталған аналарға | E30: 14487 | H30: 313281.38
B31: 26 сәуір - Чернобыль атом электр станциясы апатының құрбандарын еске алу күніне 45 АЕК мөлшерінде, - Чернобыль атом электр станциясындағы апаттың салдарынан мүгедек болған адамдар және мүгедектігі ата-анасының бірінің радиациялық сәуле алуымен генетикалық байланысты олардың балаларына; - 1986 – 1987 жылдары Чернобыль атом электр станциясындағы апаттың салдарларын жоюға қатысқан адамдарға; - 1988 – 1989 жылдары Чернобыль атом электр станциясындағы апаттың салдарларын жоюға қатысушылар қатарындағы, қоныс аудару күні құрсақта болған балаларды қоса алғанда, оқшаулау және көшіру аймақтарынан Қазақстан Республикасына қоныс аударылған (өз еркімен кеткен) адамдарға. | E31: 194 | H31: 37757.25
B32: 7 мамыр - Отан қорғаушы күніне. 45 АЕК мөлшерінде Ұлы Отан соғысының ардагерлеріне теңестірілген ардагерлерге | E32: 187 | H32: 36394.875
B33: 9 мамыр - Жеңіс күніне 1272 АЕК мөлшерінде: Ұлы Отан соғысының ардагерлеріне; | H33: 0
B34: 15 АЕК мөлшерінде, Еңбек ардагерлеріне | E34: 1229 | H34: 79731.375
B35: 15 АЕК мөлшерінде, Ұлы Отан соғысы мүгедектігі бар азаматтардың жесірлері | E35: 55 | H35: 3568.125
B36: 15 АЕК мөлшерінде, Қаза тапқан әскери қызметшiлердiң отбасыларына. | E36: 161 | H36: 10444.875
B37: 31 мамыр - Саяси қуғын-сүргін және ашаршылық құрбандарын еске алу күніне 5 АЕК мөлшерінде, Саяси қуғын-сүргін құрбандарына, саяси қуғын-сүргіннен зардап шеккен адамдарға | E37: 997 | H37: 21560.125
B38: 29 тамыз - Семей ядролық сынақ полигонының жабылған күніне 45 АЕК мөлшерінде, Семей ядролық сынақ полигонындағы ядролық сынақтардың салдарынан мүгедектік белгіленген адамдар, сондай-ақ ядролық сынақтарға тікелей қатысқан адамдарға | E38: 483 | H38: 94003.875
B39: 30 тамыз – Қазақстан Республикасының Конституциясы күніне 5 АЕК мөлшерінде, Мүгедектігі бар балаларға; | E39: 8238 | H39: 178146.75
B40: 20 АЕК мөлшерінде, Жетім балалар, ата-анасының қамқорлығынсыз қалған балаларға. | E40: 720 | H40: 62280
B41: 1 қазан – Қарттар күніне 3 АЕК мөлшерінде: 70 жасқа толған және одан асқан адамдарға; | E41: 41170 | H41: 534180.75
...

Sheet 008-рус
F1: Приложение 4 к Правилам составления, представления, рассмотрения бюджетного запроса
B2: Паспорт бюджетной программы
B3: 333 Управление занятости и социальной защиты города Шымкента
B4: Код и наименование администратора бюджетных программ
B5: на 2026 - 2028 годы
B6: Код и наименование бюджетной программы: | C6: 008 - «Социальная помощь отдельным категориям нуждающихся граждан по решениям местных представительных органов»
B7: Код и наименование функции (функций) государственного органа (в соответствии с реестром функций государственных органов): | C7: 06 - «Социальная помощь и социальное обеспечение»
B8: Код и наименование государственной услуги (в соответствии с реестром государственных услуг): | C8: 704007 - "Назначение социальной помощи отдельным категориям нуждающихся граждан по решениям местных представительных органов"
B9: Описание (обоснование), в том числе текущий статус: | C9: Оказание малообеспеченным гражданам единовременной и ежемесячной социальной и материальной помощи. Направление ветеранов на санаторно-курортное лечение.
B10: Вид бюджетной программы:
B11: в зависимости от содержания: | C11: Бюджетная программа, направленная на осуществление государственных функций, полномочий и оказание вытекающих из них государственных услуг
B12: в зависимости от уровня государственного управления: | C12: Бюджет города республиканского значения
B13: в зависимости от способа реализации: | C13: Индивидуальная
B14: текущая/развития | C14: Текущий
H15: (тыс. тенге)
B16: Наименование показателей | C16: Факт 2024 год | D16: План текущего 2025 года | F16: Плановый период
D17: Утвержденный | E17: Уточненный | F17: 2026 год | G17: 2027 год | H17: 2028 год
B18: Целевой индикатор документов Системы государственного планирования, собственных документов, устанавливающих показатели деятельности администратора бюджетных программ:
B19: Конечный результат бюджетной программы:
B20: Отклонение конечного результата бюджетной программы от целевого индикатора
B21: Потребность в бюджетных средствах согласно документам Системы государственного планирования, собственных документов, устанавливающих показатели деятельности администратора бюджетных программ
B22: План | C22: 2295305 | D22: 2718600 | E22: 3525947 | F22: 4058373 | G22: 4241683 | H22: 4932680
B23: Отклонение плана от запланированных средств для достижения целевых индикаторов
B25: Код и наименование бюджетной подпрограммы: 015 «За счет средств местного бюджета»
B26: на 2026 год 4 058 373,0 тыс. тенге
B27: Мероприятия, всего, в том числе: | E27: Показатель мероприятия | F27: Показатель документа Системы государственного планирования (при наличии) | G27: Отклонение (при наличии) | H27: Расходы тыс. тенге
B28: Путёвки на санаторно-курортное лечение с предельной стоимостью 40 МРП предоставляются: - ветеранам Великой Отечественной войны; - ветеранам, приравненным по льготам к ветеранам Великой Отечественной войны; - лицам, участвовавшим в событиях 17–18 декабря 1986 года в Казахстане и реабилитированным в порядке, установленном Законом Республики Казахстан «О реабилитации жертв массовых политических репрессий»; - пенсионерам по возрасту. | E28: 5500 | H28: 783875
B29: В праздничные и памятные даты социальная помощь предоставляется в виде денежных выплат один раз в год в размере 50 МРП следующим категориям граждан: 15 февраля — в День вывода ограниченного контингента советских войск из Демократической Республики Афганистан; ветеранам боевых действий на территории других государств. | E29: 1248 | H29: 269880
B30: Международный женский день – 8 марта: многодетным матерям, награжденным подвесками "Алтын алқа", "Күміс алқа" или получившим ранее звание "Мать-героиня", награжденным орденами "Материнская слава" І и ІІ степени – в размере 5 МРП; | E30: 14487 | H30: 313281.38
B31: Международный день памяти о чернобыльской катастрофе – 26 апреля: в размере 45 МРП; - лицам, которым инвалидность установлена вследствие катастрофы на Чернобыльской атомной электростанции и их детям, инвалидность которых генетически связана с радиационным облучением одного из родителей; - лицам, принимавшим участие в ликвидации последствий катастрофы на Чернобыльской атомной электростанции в 1986 – 1987 годах; - лицам из числа участников ликвидации последствий катастрофы на Чернобыльской атомной электростанции в 1988 – 1989 годах, эвакуированным (самостоятельно выехавшим) из зон отчуждения и отселения в Республику Казахстан, включая детей, которые на день эвакуации находились во внутриутробном состоянии. | E31: 194 | H31: 37757.25
B32: День защитника Отечества – 7 мая, в размере 45 МРП: Ветеранам, приравненным к ветеранам Великой Отечественной войны; | E32: 187 | H32: 36394.875
B33: День Победы – 9 мая, в размере 1 272 МРП: ветеранам Великой Отечественной войны; | H33: 0
B34: В размере 15 МРП Ветеранам труда | E34: 1229 | H34: 79731.375
B35: В размере 15 МРП, вдовам граждан с инвалидностью вследствие Великой Отечественной войны; | E35: 55 | H35: 3568.125
B36: В размере 15 МРП, Семьям погибших военнослужащих; | E36: 161 | H36: 10444.875
B37: Ко Дню памяти жертв политических репрессий и голода - 31 мая, в размере 5 МРП для жертв политических репрессий и лиц, пострадавших от политических репрессий. | E37: 997 | H37: 21560.125
B38: День закрытия Семипалатинского испытательного ядерного полигона - 29 августа – в размере 45 МРП: Лицам, которым инвалидность установлена вследствие ядерных испытаний, а также лицам, участвовавшим непосредственно в ядерных испытаниях на Семипалатинском испытательном ядерном полигоне; | E38: 483 | H38: 94003.875
B39: День Конституции РК – 30 августа в размере 5 МРП: Детям с инвалидностью; | E39: 8238 | H39: 178146.75
B40: в размере 20 МРП: Детям-сиротам, детям, оставшимся без попечения родителей; | E40: 720 | H40: 62280
B41: День пожилых людей – 1 октября в размере 3 МРП: лицам, достигшие 70 лет и старше; | E41: 41170 | H41: 534180.75
...

Sheet 009
G1: Бюджеттік сұранымды жасау, ұсыну және қарау қағидаларына №4-қосымша
B2: Бюджеттік бағдарлама паспорты
B3: 333 Шымкент қаласының жұмыспен қамту және әлеуметтік қорғау басқармасы
B4: бюджеттiк бағдарлама әкiмшiсiнiң коды және атауы
B5: 2026 - 2028 жылдарға арналған
B6: Бюджеттік бағдарламаның коды мен атауы: | C6: 009 - «Мүгедектігі бар адамдарды әлеуметтік қолдау»
B7: Мемлекеттік органдар функцияларының тізіліміне сәйкес мемлекеттік орган функциясының (функцияларының) коды мен атауы: | C7: 06 - «Әлеуметтiк көмек және әлеуметтiк қамсыздандыру»
B8: Мемлекеттік көрсетілетін қызметтер тізіліміне сәйкес мемлекеттік көрсетілетін қызметтің коды мен атауы: | C8: 01101009-2 - "Жүріп-тұруы қиын бірінші топтағы мүгедектігі бар адамдарды автокөлікпен тасымалдау (инватакси)" 705002 - "Мүгедектігі бар адамдарды протездік-ортопедиялық көмекпен қамтамасыз етуге құжаттарды ресімдеу" 705006 - "Мүгедектігі бар адамдарды арнаулы жүріп-тұру құралдарымен қамтамасыз етуге құжаттарды ресімдеу" 705007 - "Мүгедектігі бар адамдарды және мүгедектігі бар балаларды санаторийлік-курорттық емделумен қамтамасыз етуге құжаттарды рәсімдеу" 404001 - "Мүгедектігі бар балаларды үйде оқытуға жұмсалған шығындарды өтеу"
B9: Сипаттама (негіздеме), оның ішінде ағымдағы мәртебе: | C9: Мүгедектігі бар адамды абилитациялаудың және оңалтудың жеке бағдарламасына сәйкес мүгедектігі бар адамдарға тиісті қызметтерді көрсету арқылы, қажетті құрал жабдықтармен қамтамасыз ету, олардың тiршiлiк-тынысы мен қоғаммен етене араласуы үшiн тең мүмкiндiктер жасау,өмір сүру сапасын жақсарту.
B10: Бюджеттік бағдарламаның түрі:
B11: мазмұнына байланысты: | C11: Мемлекеттік функцияларды, өкілеттіктерді жүзеге асыруға және олардан туындайтын мемлекеттік қызметтерді көрсетуге бағытталған бюджеттік бағдарлама
B12: мемлекеттік басқару деңгейіне байланысты: | C12: Республикалық маңызы бар қаланың бюджеті
B13: іске асыру тәсіліне байланысты: | C13: Жеке
B14: ағымдағы/даму | C14: ағымдағы
H15: (мың теңге)
B16: Көрсеткіштердің атауы | C16: Факт 2024 жыл | D16: 2025 жылғы есепті кезең | F16: Жоспарлы кезең
D17: Бекітілген | E17: Нақтыланған | F17: 2026 жыл | G17: 2027 жыл | H17: 2028 жыл
B18: Мемлекеттік жоспарлау жүйесі құжаттарының, бюджеттік бағдарлама әкімшісінің қызметінің көрсеткіштерін белгілейтін меншікті құжаттардың нысаналы индикаторы:
B19: Бюджеттік бағдарламаның түпкілікті нәтижесі:
B20: Бюджеттік бағдарламаның түпкілікті нәтижесінің нысаналы индикаторлардан ауытқуы
B21: Мемлекеттік жоспарлау жүйесінің құжаттарына, бюджеттік бағдарлама әкімшісінің қызметінің көрсеткіштерін белгілейтін меншікті құжаттарға сәйкес бюджет қаражатына қажеттілік
B22: Жоспар | C22: 4156048 | D22: 5819180 | E22: 6524988 | F22: 6799040 | G22: 6401219 | H22: 6722448
B23: Нысаналы индикаторларға қол жеткізу үшін жоспардың жоспарланған қаражаттан ауытқуы
B25: Бюджеттік кіші бағдарламаның коды мен атауы: 015 «Жергілікті бюджет қаражаты есебінен»
B26: 2026 жылға 6 799 040,0 мың теңге
B27: Іс-шаралар, барлығы, оның ішінде | D27: Іс-шара көрсеткіші | E27: Мемлекеттік жоспарлау жүйелері құжатының көрсеткіші (бар болған жағдайда) | F27: Ауытқу (бар болған жағдайда) | G27: Шығыстар сомасы мың тенге
B28: Инватакси қызметіне ақы төлеу (автокөлік саны) | D28: 38 | G28: 294742
B29: Санаторлы курорттық емделуге жолданған адамдар саны | D29: 14500 | G29: 4807401
B30: Арнаулы жүріп тұру құралдар саны | D30: 1279 | G30: 314706
B31: Сурдотехникалық құралдар саны | D31: 650 | G31: 108383
B32: Тифлотехникалық құралдар саны | D32: 1797 | G32: 455668
B33: Үйден тәрбиеленіп оқытылатын мүгедектігі бар балаларды материалдық қамтамасыз ету (балалар саны) | D33: 950 | G33: 110936
B34: Протездік-ортопедиялық құралдар саны | D34: 8394 | G34: 707204
B36: 2027 жылға 6 401 219,0 мың теңге
B37: Іс-шаралар, барлығы, оның ішінде | D37: Іс-шара көрсеткіші | E37: Мемлекеттік жоспарлау жүйелері құжатының көрсеткіші (бар болған жағдайда) | F37: Ауытқу (бар болған жағдайда) | G37: Шығыстар сомасы мың тенге
B38: Инватакси қызметіне ақы төлеу (автокөлік саны) | D38: 38 | G38: 309479
B39: Санаторлы курорттық емделуге жолданған адамдар саны | D39: 14500 | G39: 4505041
B40: Арнаулы жүріп тұру құралдар саны | D40: 1279 | G40: 318570
B41: Сурдотехникалық құралдар саны | D41: 650 | G41: 115849
B42: Тифлотехникалық құралдар саны | D42: 1797 | G42: 482749
...

Sheet 009-рус
F1: Приложение 4 к Правилам составления, представления, рассмотрения бюджетного запроса
B2: Паспорт бюджетной программы
B3: 333 Управление занятости и социальной защиты города Шымкента
B4: Код и наименование администратора бюджетных программ
B5: на 2026 - 2028 годы
B6: Код и наименование бюджетной программы: | C6: 009 - «Социальная поддержка лиц с инвалидностью»
B7: Код и наименование функции (функций) государственного органа (в соответствии с реестром функций государственных органов): | C7: 06 - «Социальная помощь и социальное обеспечение»
B8: Код и наименование государственной услуги (в соответствии с реестром государственных услуг): | C8: 01101009-2. — «Перевозка автотранспортом лиц с инвалидностью первой группы, имеющих затруднения в передвижении (инватакси)» 705002 — «Оформление документов для обеспечения лиц с инвалидностью протезно-ортопедической помощью» 705006 — «Оформление документов для обеспечения лиц с инвалидностью специальными средствами передвижения» 705007 — «Оформление документов для обеспечения лиц с инвалидностью и детей с инвалидностью санаторно-курортным лечением» 404001 — «Возмещение затрат на обучение детей с инвалидностью на дому»
B9: Описание (обоснование), в том числе текущий статус: | C9: Обеспечение лиц с инвалидностью необходимыми средствами и оборудованием в соответствии с индивидуальной программой абилитации и реабилитации, предоставление им соответствующих услуг, создание равных возможностей для их жизнедеятельности и интеграции в общество, улучшение качества жизни.
B10: Вид бюджетной программы:
B11: в зависимости от содержания: | C11: Бюджетная программа, направленная на осуществление государственных функций, полномочий и оказание вытекающих из них государственных услуг
B12: в зависимости от уровня государственного управления: | C12: Бюджет города республиканского значения
B13: в зависимости от способа реализации: | C13: Индивидуальная
B14: текущая/развития | C14: Текущий
H15: (тыс. тенге)
B16: Наименование показателей | C16: Факт 2024 год | D16: План текущего 2025 года | F16: Плановый период
D17: Утвержденный | E17: Уточненный | F17: 2026 год | G17: 2027 год | H17: 2028 год
B18: Целевой индикатор документов Системы государственного планирования, собственных документов, устанавливающих показатели деятельности администратора бюджетных программ:
B19: Конечный результат бюджетной программы:
B20: Отклонение конечного результата бюджетной программы от целевого индикатора
B21: Потребность в бюджетных средствах согласно документам Системы государственного планирования, собственных документов, устанавливающих показатели деятельности администратора бюджетных программ
B22: План | C22: 4156048 | D22: 5819180 | E22: 6524988 | F22: 6799040 | G22: 6401219 | H22: 6722448
B23: Отклонение плана от запланированных средств для достижения целевых индикаторов
B25: Код и наименование бюджетной подпрограммы: 015 «За счет средств местного бюджета»
B26: на 2026 год 6 799 040,0 тыс. тенге
B27: Мероприятия, всего, в том числе: | D27: Показатель мероприятия | E27: Показатель документа Системы государственного планирования (при наличии) | F27: Отклонение (при наличии) | G27: Расходы тыс. тенге
B28: Оплата услуг инватакси (количество автомобилей) | D28: 38 | G28: 294742
B29: Количество лиц, направленных на санаторно-курортное лечение | D29: 14500 | G29: 4807401
B30: Количество специальных средств передвижения | D30: 1279 | G30: 314706
B31: Количество сурдотехнических средств | D31: 650 | G31: 108383
B32: Количество тифлотехнических средств | D32: 1797 | G32: 455668
B33: Материальное обеспечение детей с инвалидностью, воспитывающихся и обучающихся на дому (количество детей) | D33: 950 | G33: 110936
B34: Количество протезно-ортопедических средств | D34: 8394 | G34: 707204
B36: на 2027 год 6 401 219,0 тыс. тенге
B37: Мероприятия, всего, в том числе: | D37: Показатель мероприятия | E37: Показатель документа Системы государственного планирования (при наличии) | F37: Отклонение (при наличии) | G37: Расходы тыс. тенге
B38: Оплата услуг инватакси (количество автомобилей) | D38: 38 | G38: 309479
B39: Количество лиц, направленных на санаторно-курортное лечение | D39: 14500 | G39: 4505041
B40: Количество специальных средств передвижения | D40: 1279 | G40: 318570
B41: Количество сурдотехнических средств | D41: 650 | G41: 115849
B42: Количество тифлотехнических средств | D42: 1797 | G42: 482749
...

Sheet 015
G1: Бюджеттік сұранымды жасау, ұсыну және қарау қағидаларына №4-қосымша
B2: Бюджеттік бағдарлама паспорты
