Workbook
Name Print_Titles: Инвестплан!$21:$22
Name Print_Titles: 'План развития'!$23:$24

Sheet План развития
K2: Қазақстан Республикасы Премьер-Министрінің
K3: орынбасары – Мәдениет және ақпарат министрінің
K4: "___" _______ 2026 жылғы
K5: № ____-НҚ бұйрығына
K6: 1-қосымша
K9: Қазақстан Республикасы Премьер-Министрінің
K10: орынбасары – Мәдениет және ақпарат министрінің
K11: "30" желтоқсан 2025 жылғы
K12: № 699-НҚ бұйрығына
K13: 1-қосымша
H16: Қазақстан Республикасы Мәдениет және ақпарат министрлігінің
H17: 2026-2030 жылдарға арналған
H18: даму жоспары
B20: 1-бөлім. Кіріспе Министрліктің пайымы – үйлесімді мәдени орта, тиімді мемлекеттік ақпараттық саясат, қоғамдық келісім мен жалпыұлттық бірлік, мықты азаматтық қоғам, мемлекет пен халық арасындағы өзара іс-қимылдың тиімді тетіктері, жастардың бәсекеге қабілеттілігі мен әлеуметтік белсенділігін арттыру, отбасын институтыннығайту. Мәдениет және ақпарат министрлігі қоғамдық келісімді нығайтуға және креативті экономиканы қолдауға, сондай-ақ мәдени құндылықтар мен цифрландыруды тұрақты дамытуға ықпал ететін бірыңғай мәдени және ақпараттық кеңістікті дамытуға ұмтылады.
B21: 2-бөлім. Бағыттар, мақсаттар, нысаналы индикаторлар және ресурстар
B23: № | C23: Атауы | D23: Жауапты орындаушы | E23: Ақпарат көзі | F23: Өлшем бірлігі | G23: Аяқталу нысаны | H23: есепті жыл 2024 | I23: Ағымдағы 2025 жылға жоспар (нақты) | J23: Жоспарлау кезеңі
J24: 2026 | K24: 2027 | L24: 2028 | M24: 2029 | N24: 2030
B25: 1 | C25: 2 | D25: 3 | E25: 4 | F25: 5 | G25: 6 | H25: 7 | I25: 8 | J25: 9 | K25: 10 | L25: 11 | M25: 12 | N25: 13
B26: ҰЛТТЫҚ ЖОСПАРДЫ ЖҮЗЕГЕ АСЫРУ
B27: 1-БАҒЫТ. ЖОҒАРЫ ӨМІР САПАСЫ
B28: 1 | C28: 1-негізгі ұлттық индикатор. Халықтың туылған кезден бастап өмір сүрудің күтілетін ұзақтығы, жылдар | D28: ДСМ, Еңбекмині, ІІМ, ТСМ, ОАМ, ЭТРМ, СРжИМ, МАМ, ЖИЦДМ, ҒЖБМ, КМ, ЖАО | E28: СЖРА ҰСБ-ң ресми статистикалық ақапарат | F28: жыл саны | H28: =Инвестплан!H26 -> 75.5 | I28: =Инвестплан!I26 -> 75.8 | J28: =Инвестплан!J26 -> 76.1 | K28: =Инвестплан!K26 -> 76.44 | L28: =Инвестплан!L26 -> 76.7 | M28: =Инвестплан!M26 -> 77 | N28: =Инвестплан!N26 -> 77.3
B29: 1. | C29: 1-мақсат. Денсаулық сақтау саласында тиімді профилактиканы қамтамасыз ету және халық арасында салауатты өмір салтын ұстануды қалыптастыру
B30: 1) | C30: 1. Нысаналы индикатор. Салауатты өмір салтын ұстанатын Қазақстандықтардың үлесін арттыру | D30: ДСМ, МАМ, ТСМ, ОАМ | E30: ДСМ-нің әкімшілік деректері | H30: =Инвестплан!H28 -> 31 | I30: =Инвестплан!I28 -> 32 | J30: =Инвестплан!J28 -> 33 | K30: =Инвестплан!K28 -> 35 | L30: =Инвестплан!L28 -> 36 | M30: =Инвестплан!M28 -> 37 | N30: =Инвестплан!N28 -> 38
C31: Қаржылық ресурстар | F31: млн.тг | H31: 0 | I31: 0 | J31: 0 | K31: 0 | L31: 0 | M31: 0 | N31: 0
B32: 2-БАҒЫТ. ЖАҢА ӨСУ НҮКТЕЛЕРІ
B33: 2 | C33: 2-негізгі ұлттық индикатор. Инновациялар саласындағы белсенділік деңгейі. | D33: ЖИЦДМ, ЖАО, «Qazinnovations» ҰИАО» АҚ (келісім бойынша) | E33: Ресми стат. ақпарат – ҰСБ СЖРА | F33: % | H33: =Инвестплан!H34 -> 14.5 | I33: =Инвестплан!I34 -> 15.9 | J33: =Инвестплан!J34 -> 17.4 | K33: =Инвестплан!K34 -> 18.9 | L33: =Инвестплан!L34 -> 20.4 | M33: =Инвестплан!M34 -> 21.9 | N33: =Инвестплан!N34 -> 23.4
B34: 2. | C34: 2-мақсат. Шығармашылықты, өнертапқыштықты дамыту үшін қолайлы жағдайлар жасау, контрафактінің таралу деңгейін төмендету
B35: 2) | C35: 2-нысаналы индикатор. Қазақстан Республикасында зияткерлік меншік құқықтарын қорғау деңгейі | D35: Әділет мин | E35: әкімшілік деректері | F35: % | H35: =Инвестплан!H36 -> - | I35: =Инвестплан!I36 -> 60 | J35: =Инвестплан!J36 -> 61 | K35: =Инвестплан!K36 -> 62 | L35: =Инвестплан!L36 -> 63 | M35: =Инвестплан!M36 -> 64 | N35: 65
C36: Қаржылық ресурстар | F36: млн.тг | H36: 0 | I36: 0 | J36: 0 | K36: 0 | L36: 0 | M36: 0 | N36: 0
B37: 3-БАҒЫТ. ЭКОНОМИКА МЕН ҚОҒАМНЫҢ ӨТПЕЛІ ТҮРЛЕНУЛЕРІ
B38: 3 | C38: 3-негізгі ұлттық индикатор. World Justice Project құқық үстемдігі индексінің мәні (0-ден 1-ге дейінгі шәкіл бойынша). | D38: Әділет мин, Қаржымині, ЖАП, СЖҚІА, МАМ, ЖИЦДМ, Еңбекмині, ІІМ, СӘ, БП, ҰҚК, ҚМА, ЖАО | E38: World Justice Project | F38: балл | H38: =Инвестплан!H42 -> 0.55 | I38: =Инвестплан!I42 -> 0.56 | J38: =Инвестплан!J42 -> 0.57 | K38: =Инвестплан!K42 -> 0.58 | L38: =Инвестплан!L42 -> 0.59 | M38: =Инвестплан!M42 -> 0.6 | N38: 0.6
B39: 3. | C39: 3-мақсат. Мемлекеттік органдардың ашықтығы
B40: 3) | C40: 3-нысаналы индикатор. Мемлекеттік органдардың ашықтығының орташа көрсеткішін арттыру (2023 жылғы көрсеткіш – 86,3 негізінде). | D40: МАМ (Вице-министр Е.Кочетов) | E40: әкімшілік деректері | F40: балл | G40: бағалау жүргізу | H40: 0.3 | I40: =Инвестплан!I44 -> 0.7 | J40: =Инвестплан!J44 -> 0.9 | K40: =Инвестплан!K44 -> 1.1 | L40: =Инвестплан!L44 -> 1.2 | M40: =Инвестплан!M44 -> 1.3 | N40: 1.4
C41: Қаржылық ресурстар | F41: млн.тг | H41: не требуется
B42: 4. | C42: 4-мақсат. Қоғамдық өмірдің барлық салаларында тең жағдайлар мен мүмкіндіктерді қамтамасыз ету және азаматтық қоғамды дамыту
B43: 4) | C43: 4-нысаналы индикатор. Азаматтық қоғам институттары мен мемлекеттің өзара қарым-қатынасын оң бағалаған халық үлесі. | D43: МАМ (Вице-министр Е.Кочетов) | E43: Әлеуметтік зерттеу | F43: % | G43: Аналитикалық есеп | H43: =Инвестплан!H50 -> 66.9 | I43: =Инвестплан!I50 -> 66.11 | J43: =Инвестплан!J50 -> 69.16 | K43: =Инвестплан!K50 -> 69.67 | L43: =Инвестплан!L50 -> 69.69 | M43: =Инвестплан!M50 -> 69.96 | N43: =Инвестплан!N50 -> 70.56
C44: Қаржылық ресурстар | F44: млн.тг | H44: =Инвестплан!H60 -> 2343.6727 | I44: =Инвестплан!I60 -> 2055.503 | J44: =Инвестплан!J60 -> 2284.018 | K44: =Инвестплан!K60 -> 2511.073 | L44: =Инвестплан!L60 -> 2285.715 | M44: =Инвестплан!M60 -> 2642.21 | N44: =Инвестплан!N60 -> 2502.269
B45: 5. | C45: 5-мақсат. Гендерлік теңдік институтын нығайту
B46: 5) | C46: 5-нысаналы индикатор. Халықтың гендерлік теңдікті ілгерілету және әйелдердің мүмкіндіктерін кеңейту жөнінде қабылданып жатқан шаралар туралы хабардар болу деңгейі | D46: МАМ (Вице-министр Е.Кочетов), ОМО, ЖАО | E46: Әлеуметтік зерттеу | F46: % | G46: Аналитикалық есеп | H46: =Инвестплан!H62 -> 30 | I46: =Инвестплан!I62 -> 31 | J46: =Инвестплан!J62 -> 32 | K46: =Инвестплан!K62 -> 33 | L46: =Инвестплан!L62 -> 34 | M46: =Инвестплан!M62 -> 35 | N46: =Инвестплан!N62 -> 36
C47: Қаржылық ресурстар (РБ ) | F47: млн.тг | H47: =Инвестплан!H67 -> 186.659 | I47: =Инвестплан!I67 -> 142.086 | J47: =Инвестплан!J67 -> 643.43 | K47: =Инвестплан!K67 -> 1654.366 | L47: =Инвестплан!L67 -> 1364.646 | M47: =Инвестплан!M67 -> 1030.231 | N47: =Инвестплан!N67 -> 1030.231
...

Sheet Инвестплан
K3: Қазақстан Республикасы Премьер-Министрінің
K4: орынбасары – Мәдениет және ақпарат министрінің
K5: "___" _______ 2026 жылғы
L6: № ____-НҚ бұйрығына
K7: 2-қосымша
K10: Қазақстан Республикасы Премьер-Министрінің
K11: орынбасары – Мәдениет және ақпарат министрінің
K12: "30" желтоқсан 2025 жылғы бұйрығына
L13: № 699-НҚ бұйрығына
K14: 2-қосымша
H16: Мәдениет және ақпарат министрлігінің
H17: 2026-2030 жылдарға арналған
H18: инвестициялық жоспары
B21: № | C21: Атауы | D21: Жауапты орындаушы | E21: Ақпарат көзі | F21: Өлшем бірлігі | G21: Аяқталу нысаны | H21: 2024 есепті жыл | I21: 2025 Жоспар (нақты) | J21: Жоспарлау кезеңі | O21: Қаржыландыру көзі | P21: Код ББ, БББ
J22: 2026 | K22: 2027 | L22: 2028 | M22: 2029 | N22: 2030
B23: 1 | C23: 2 | D23: 3 | E23: 4 | F23: 5 | G23: 6 | H23: 7 | I23: 8 | J23: 9 | K23: 10 | L23: 11 | M23: 12 | N23: 13 | O23: 14 | P23: 15
B24: ҰЛТТЫҚ ЖОСПАРДЫ ЖҮЗЕГЕ АСЫРУ
B25: 1-БАҒЫТ. ЖОҒАРЫ ӨМІР САПАСЫ
B26: 1 | C26: 1-негізгі ұлттық индикатор. Халықтың туылған кезден бастап өмір сүрудің күтілетін ұзақтығы, жылдар | D26: ДСМ, Еңбекмині, ІІМ, ТСМ, ОАМ, ЭТРМ, СРжИМ, МАМ, ЖИЦДМ, ҒЖБМ, КМ, ЖАО | E26: СЖРА ҰСБ-ң ресми статистикалық ақапарат | F26: жыл саны | H26: 75.5 | I26: 75.8 | J26: 76.1 | K26: 76.44 | L26: 76.7 | M26: 77 | N26: 77.3
B27: 1. | C27: 1-мақсат. Денсаулық сақтау саласында тиімді профилактиканы қамтамасыз ету және халық арасында салауатты өмір салтын ұстануды қалыптастыру
B28: 1) | C28: 1.Нысаналы индикатор. Салауатты өмір салтын ұстанатын Қазақстандықтардың үлесін арттыру | D28: ДСМ, МАМ, ТСМ, ОАМ | E28: ДСМ-нің әкімшілік деректері | H28: 31 | I28: 32 | J28: 33 | K28: 35 | L28: 36 | M28: 37 | N28: 38
B29: Міндет. Созылмалы инфекциялық емес аурулардың алдын алу үшін мінез-құлықтық қауіп факторларын азайту арқылы халықтың денсаулығын нығайту
C30: Нәтиже көрсеткіші. Өзін-өзі өлтіруден болатын өлім-жітім | D30: ДСМ, ЕХӘҚМ, ІІМ, ОАМ | E30: СЖРА ҰСБ-ң ресми статистикалық ақапарат | F30: 100 мың халыққа шаққанда | H30: 7.5 | I30: 7.4 | J30: 7.3 | K30: 7.23 | L30: 7.1 | M30: 7 | N30: 6.8
C31: Іс-шара. Интернет кеңістігінде суицидке итермелейтін және насихаттайтын қажетсіз контентті шектеу және бұғаттау бойынша шараларды жүзеге асыру | D31: Ақпарат комитеті | E31: МАМ | F31: қабылданған шаралар саны | G31: ДСМ-ге есепті ақпарат | H31: Анықталуына қарай | I31: Анықталуына қарай | J31: Анықталуына қарай | K31: Анықталуына қарай | L31: Анықталуына қарай | M31: Анықталуына қарай | N31: Анықталуына қарай | O31: талап етілмейді | P31: талап етілмейді
C32: Қаржылық ресурстар | F32: млн.тг | H32: 0 | I32: 0 | J32: 0 | K32: 0 | L32: 0 | M32: 0 | N32: 0 | O32: талап етілмейді | P32: талап етілмейді
B33: 2-БАҒЫТ. ЖАҢА ӨСУ НҮКТЕЛЕРІ
B34: 2 | C34: 2-негізгі ұлттық индикатор. Инновациялар саласындағы белсенділік деңгейі. | D34: ЖИЦДМ, ЖАО, «Qazinnovations» ҰИАО» АҚ (келісім бойынша) | E34: Ресми стат. ақпарат – ҰСБ СЖРА | F34: % | H34: 14.5 | I34: 15.9 | J34: 17.4 | K34: 18.9 | L34: 20.4 | M34: 21.9 | N34: 23.4
B35: 2. | C35: 2-мақсат. Шығармашылықты, өнертапқыштықты дамыту үшін қолайлы жағдайлар жасау, контрафактінің таралу деңгейін төмендету
B36: 2) | C36: 2.Нысаналы индикатор. Қазақстан Республикасында зияткерлік меншік құқықтарын қорғау деңгейі | D36: Әділет мині | E36: Әкімшілік деректер | F36: % | H36: - | I36: 60 | J36: 61 | K36: 62 | L36: 63 | M36: 64 | N36: 65
B37: Міндет. Авторлардың, авторлық құқық иелерінің құқықтарын қорғауды және қорғауды қамтамасыз ету, сондай-ақ құқықтарды қорғау және қорғау әдістері туралы ақпаратқа рұқсат беру
C38: Нәтиже көрсеткіші. Зияткерлік меншік құқықтарын қорғау және қорғау мәселелері бойынша телеарналардағы сюжеттер/бағдарламалар саны | D38: Ақпарат комитеті | E38: Әкімшілік деректер | F38: бірлік | H38: - | I38: 15 | J38: 20 | K38: 25 | L38: 30 | M38: 35 | N38: 36
C39: Іс-шара. Телеарналарда зияткерлік меншік құқықтарын қорғау және қорғау мәселелері бойынша сюжеттер/бағдарламалар трансляциялау | D39: Ақпарат комитеті | E39: Әкімшілік деректер | F39: бірлік | G39: Әңгімелер/бағдарламалар | H39: - | I39: 15 | J39: 20 | K39: 25 | L39: 30 | M39: 35 | N39: 36 | O39: талап етілмейді | P39: талап етілмейді
C40: Қаржылық ресурстар | F40: млн.тг | I40: 0 | J40: 0 | K40: 0 | L40: 0 | M40: 0 | N40: 0 | O40: талап етілмейді | P40: талап етілмейді
B41: 3-БАҒЫТ. ЭКОНОМИКА МЕН ҚОҒАМНЫҢ ӨТПЕЛІ ТҮРЛЕНУЛЕРІ
B42: 3 | C42: 3-негізгі ұлттық индикатор. World Justice Project құқық үстемдігі индексінің мәні (0-ден 1-ге дейінгі шәкіл бойынша). | D42: Әділетмині, Қаржымині, ЖАП, СЖҚІА, МАМ, ЖИЦДМ, Еңбекмині, ІІМ, СӘ, БП, ҰҚК, ҚМА, ЖАО | E42: World Justice Project | F42: балл | H42: 0.55 | I42: 0.56 | J42: 0.57 | K42: 0.58 | L42: 0.59 | M42: 0.6 | N42: 0.6
B43: 3. | C43: 3-мақсат. Мемлекеттік органдардың ашықтығы
B44: 3) | C44: 3.Нысаналы индикатор. Мемлекеттік органдардың ашықтығының орташа көрсеткішін арттыру (2023 жылғы көрсеткіш – 86,3 негізінде). | D44: Мемлекет пен қоғам коммуникацияларын дамыту департаменті | E44: Әкімшілік деректер | F44: балл | H44: 0.3 | I44: 0.7 | J44: 0.9 | K44: 1.1 | L44: 1.2 | M44: 1.3 | N44: 1.4
B45: Міндет. Мемлекеттік органдардың ашықтығын қамтамасыз ету
C46: Нәтиже көрсеткіші. «Ашық үкімет» факторы бойынша елдің көрсеткішін арттыру | D46: ОМО | E46: World Justice Project | F46: балл | H46: 0.47 | I46: 0.5 | J46: 0.51 | K46: 0.52 | L46: 0.53 | M46: 0.54 | N46: 0.55
C47: Іс-шара. «Мемлекеттік органның ашықтығы» бағыты бойынша мемлекеттік органдардың қызметіне жедел бағалау жүргізу және оны жақсарту бойынша шаралар қабылдау | D47: Мемлекет пен қоғам коммуникацияларын дамыту департаменті | E47: Әкімшілік деректер | F47: саны | G47: бағалау жүргізу | H47: 1 | I47: 1 | J47: 1 | K47: 1 | L47: 1 | M47: 1 | N47: 1 | O47: талап етілмейді | P47: талап етілмейді
...

Sheet Карта рисков
C3: 3 бөлім. Басым және проблемалық аймақтар картасы
B5: № | C5: Атауы | D5: Өлшем бірлігі | E5: Негізгі мәні | F5: Нормативтік мәні | G5: Қажеттілік | H5: Жоспарлы кезең | M5: Ескерту
H6: 2026 | I6: 2027 | J6: 2028 | K6: 2029 | L6: 2030
B7: 1 | C7: 2 | D7: 3 | E7: 4 | F7: 5 | G7: 6 | H7: 7 | I7: 8 | J7: 9 | K7: 10 | L7: 11 | M7: 12
B8: 1 | C8: 4-нысаналы индикатор. Азаматтық қоғам институттары мен мемлекет арасындағы қарым-қатынасты оң бағалаған халықтың үлесі | D8: % | H8: =[4]Инвестплан!J37 -> 69.16 | I8: =[4]Инвестплан!K37 -> 69.67 | J8: =[4]Инвестплан!L37 -> 69.69 | K8: =[4]Инвестплан!M37 -> 69.96 | L8: =[4]Инвестплан!N37 -> 70.56
B9: 2 | C9: Іс-шара. Мемлекеттік қаржыландыру тетіктері шеңберінде ҮЕҰ жүзеге асыратын азаматтық қоғамды дамыту саласындағы әлеуметтік жобалар | D9: әлеуметтік жобалардың саны | E9: =[4]Инвестплан!I40 -> 24 | F9: =E9+H9+I9+J9+K9+L9 -> 111 | G9: =F9-E9 -> 87 | H9: =[4]Инвестплан!J40 -> 15 | I9: 20 | J9: 17 | K9: 20 | L9: =[4]Инвестплан!N40 -> 15
B10: 3 | C10: Іс-шара. Азаматтық қоғам институттары мен мемлекет қарым қатынастарды нығайтуға ықпал ететін шаралар кешенін жүзеге асыру | D10: Қызметтер саны | E10: =[4]Инвестплан!I42 -> 3 | F10: =H10+I10+J10+K10+L10 -> 13 | G10: =F10-E10 -> 10 | H10: =[4]Инвестплан!J42 -> 3 | I10: =[4]Инвестплан!K42 -> 3 | J10: =[4]Инвестплан!L42 -> 2 | K10: =[4]Инвестплан!M42 -> 3 | L10: =[4]Инвестплан!N42 -> 2
B11: 4 | C11: Іс-шара. Қоғамдық даму саласындағы іс-шараларды өткізу | D11: Қызметтер саны | E11: =[4]Инвестплан!I44 -> 3 | F11: =E11+H11+I11+J11+K11+L11 -> 18 | G11: =F11-E11 -> 15 | H11: =[4]Инвестплан!J44 -> 3 | I11: =[4]Инвестплан!K44 -> 3 | J11: =[4]Инвестплан!L44 -> 3 | K11: =[4]Инвестплан!M44 -> 3 | L11: =[4]Инвестплан!N44 -> 3
B12: 5 | C12: 5-нысаналы индикатор. Халықтың гендерлік теңдікті ілгерілету және әйелдердің мүмкіндіктерін кеңейту жөнінде қабылданып жатқан шаралар туралы хабардар болу деңгейі. | D12: % | H12: =[4]Инвестплан!J49 -> 32 | I12: =[4]Инвестплан!K49 -> 33 | J12: =[4]Инвестплан!L49 -> 34 | K12: =[4]Инвестплан!M49 -> 35 | L12: =[4]Инвестплан!N49 -> 36
B13: 6 | C13: Іс-шара. Еліміздің қоғамдық-саяси өмірінде әйелдердің рөлін арттыруға бағытталған жобаларды іске асыру, өзін-өзі дамыту үшін тең мүмкіндіктер жасау. | D13: МАМ жобаларының саны | E13: =[1]Инвестплан!I50 -> 1 | F13: =E13+H13+I13+J13+K13+L13 -> 18 | G13: =F13-E13 -> 17 | H13: =[1]Инвестплан!J50 -> 1 | I13: =[1]Инвестплан!K50 -> 4 | J13: =[1]Инвестплан!L50 -> 4 | K13: =[1]Инвестплан!M50 -> 4 | L13: =[1]Инвестплан!N50 -> 4
B14: 7 | C14: 6-нысаналы индикатор. Халықтың мәдениет саласындағы қызмет көрсету сапасына қанағаттанушылық деңгейі | D14: % | H14: =[1]Инвестплан!J59 -> 79.8 | I14: =[1]Инвестплан!K59 -> 80.85 | J14: =[1]Инвестплан!L59 -> 81.9 | K14: =[1]Инвестплан!M59 -> 82.95 | L14: =[1]Инвестплан!N59 -> 83
B15: 8 | C15: Іс-шара. Ел ішінде және шетелде мәдени іс-шараларды ұйымдастыру және өткізу | D15: Іс шаралар саны | E15: =[4]Инвестплан!I62 -> 33 | F15: =E15+H15+I15+J15+K15+L15 -> 164 | G15: =F15-E15 -> 131 | H15: =[1]Инвестплан!J60 -> 35 | I15: =[1]Инвестплан!K60 -> 25 | J15: =[1]Инвестплан!L60 -> 23 | K15: =[1]Инвестплан!M60 -> 24 | L15: =[1]Инвестплан!N60 -> 24
B16: 9 | C16: Іс-шара. Мәдениет және өнер саласындағы үкіметтік емес ұйымдар мен бірлестіктер үшін шығармашылық жобаларды жүзеге асыру | D16: Іс шаралар саны | E16: =[4]Инвестплан!I64 -> 6 | F16: =E16+H16+I16+J16+K16+L16 -> 16 | G16: =F16-E16 -> 10 | H16: =[4]Инвестплан!J64 -> 6 | I16: =[4]Инвестплан!K64 -> 1 | J16: =[4]Инвестплан!L64 -> 1 | K16: =[4]Инвестплан!M64 -> 1 | L16: =[4]Инвестплан!N64 -> 1
B17: 10 | C17: Іс-шара. Мәдениет және өнер саласындағы қайраткерлерге сыйлықтар мен стипендиялар тағайындау | D17: cаны | E17: =[1]Инвестплан!I64 -> 4 | F17: =E17+H17+I17+J17+K17+L17 -> 24 | G17: =F17-E17 -> 20 | H17: =[1]Инвестплан!J64 -> 4 | I17: =[1]Инвестплан!K64 -> 4 | J17: =[1]Инвестплан!L64 -> 4 | K17: =[1]Инвестплан!M64 -> 4 | L17: =[1]Инвестплан!N64 -> 4
B18: 11 | C18: Іс-шара. Отандық авторларды ынталандыруды қамтамасыз ету | D18: саны | E18: =[4]Инвестплан!I68 -> 300000 | F18: =E18+H18+I18+J18+K18+L18 -> 1800000 | G18: =F18-E18 -> 1500000 | H18: =[4]Инвестплан!J68 -> 300000 | I18: =[4]Инвестплан!K68 -> 300000 | J18: =[4]Инвестплан!L68 -> 300000 | K18: =[4]Инвестплан!M68 -> 300000 | L18: =[4]Инвестплан!N68 -> 300000
B19: 12 | C19: Іс-шара. 3 кітапхана мен Кітап палатасының қызметін қамтамасыз ету | D19: объектілер саны | E19: =[4]Инвестплан!I70 -> 4 | F19: =E19+H19+I19+J19+K19+L19 -> 24 | G19: =F19-E19 -> 20 | H19: =[4]Инвестплан!J70 -> 4 | I19: =[4]Инвестплан!K70 -> 4 | J19: =[4]Инвестплан!L70 -> 4 | K19: =[4]Инвестплан!M70 -> 4 | L19: =[4]Инвестплан!N70 -> 4
B20: 13 | C20: Іс-шара. Креативті индустрияларды дамыту жөніндегі шараларды іске асыру | D20: іс-шаралар саны | E20: 0 | F20: =E20+H20+I20+J20+K20+L20 -> #REF! | G20: =F20-E20 -> #REF! | H20: =#REF! -> #REF! | I20: =#REF! -> #REF! | J20: =#REF! -> #REF! | K20: =#REF! -> #REF! | L20: =#REF! -> #REF!
B21: 14 | C21: Іс-шара. Тарих және мәдениет ескерткіштерінде реставрациялық жұмыстар жүргізу және ғылыми-реставрациялық жұмыстарға ғылыми-жобалық құжаттамаларды әзірлеу | D21: саны | E21: =[4]Инвестплан!I76 -> 25 | F21: =E21+H21+I21+J21+K21+L21 -> 231 | G21: =F21-E21 -> 206 | H21: =[4]Инвестплан!J76 -> 18 | I21: =[4]Инвестплан!K76 -> 54 | J21: =[4]Инвестплан!L76 -> 46 | K21: =[4]Инвестплан!M76 -> 44 | L21: =[4]Инвестплан!N76 -> 44
B22: 15 | C22: Іс-шара. Тарихи-мәдени мұраны, оның ішінде ЮНЕСКО объектілерін сақтауға ықпал ететін шараларды іске асыру (объектілердің жай-күйіне мониторинг жүргізу, ескерткіштердің мәртебесін айқындау, ғылыми құжаттаманы дайындау және т.б.) | D22: бағыттар саны | E22: =[4]Инвестплан!I78 -> 6 | F22: =E22+H22+I22+J22+K22+L22 -> 36 | G22: =F22-E22 -> 30 | H22: =[4]Инвестплан!J78 -> 6 | I22: =[4]Инвестплан!K78 -> 6 | J22: =[4]Инвестплан!L78 -> 6 | K22: =[4]Инвестплан!M78 -> 6 | L22: =[4]Инвестплан!N78 -> 6
B23: 16 | C23: Іс-шара. Мәдениет объектілерін салу, реконструкциялау | D23: объектілер саны | E23: =[4]Инвестплан!I80 -> 1 | F23: 8 | G23: =F23-E23 -> 7 | H23: =[4]Инвестплан!J80 -> 4 | I23: 3 | J23: 0 | K23: 0 | L23: =[4]Инвестплан!N80 -> 0
B24: 17 | C24: Іс-шара. Тарихи-мәдени мұраны сақтауды қамтамассыз ету | D24: мекемелер саны | E24: =[4]Инвестплан!I82 -> 17 | F24: =E24+H24+I24+J24+K24+L24 -> 102 | G24: =F24-E24 -> 85 | H24: =[4]Инвестплан!J82 -> 17 | I24: =[4]Инвестплан!K82 -> 17 | J24: =[4]Инвестплан!L82 -> 17 | K24: =[4]Инвестплан!M82 -> 17 | L24: =[4]Инвестплан!N82 -> 17
B25: 18 | C25: Іс-шара. Қазақстан Республикасының шетелдегі мәдениет орталықтарының жұмыс істеуін қамтамасыз ету. | E25: =[1]Инвестплан!I82 -> 1 | F25: =E25+H25+I25+J25+K25+L25 -> 10 | G25: =F25-E25 -> 9 | H25: =[1]Инвестплан!J82 -> 1 | I25: =[1]Инвестплан!K82 -> 2 | J25: =[1]Инвестплан!L82 -> 2 | K25: =[1]Инвестплан!M82 -> 2 | L25: =[1]Инвестплан!N82 -> 2
B26: 19 | C26: Іс-шара. Архивтік құжаттар мен баспасөз архивінің сақталуын қамтамассыз ету | D26: қызмет/шығарылым саны | E26: =[4]Инвестплан!I86 -> 5 | F26: =E26+H26+I26+J26+K26+L26 -> 30 | G26: =F26-E26 -> 25 | H26: =[4]Инвестплан!J86 -> 5 | I26: =[4]Инвестплан!K86 -> 5 | J26: =[4]Инвестплан!L86 -> 5 | K26: =[4]Инвестплан!M86 -> 5 | L26: =[4]Инвестплан!N86 -> 5
B27: 20 | C27: Іс-шара. Театр-концерт ұйымдарының жұмыс істеуін қаматамассыз ету | D27: объектілер саны | E27: =[4]Инвестплан!I90 -> 16 | F27: =E27+H27+I27+J27+K27+L27 -> 96 | G27: =F27-E27 -> 80 | H27: =[4]Инвестплан!J90 -> 16 | I27: =[4]Инвестплан!K90 -> 16 | J27: =[4]Инвестплан!L90 -> 16 | K27: =[4]Инвестплан!M90 -> 16 | L27: 16
B28: 21 | C28: Іс-шара. "Мұхтар Әуезов атындағы Қазақ ұлттық драма театыры" РМК ғимаратын реконструкциялау | D28: % | E28: =[1]Инвестплан!I90 -> 8 | F28: =E28+H28+I28+J28+K28+L28 -> 108 | G28: =F28-E28 -> 100 | H28: =[1]Инвестплан!J90 -> 100 | I28: =[1]Инвестплан!K90 -> 0 | J28: =[1]Инвестплан!L90 -> 0 | K28: =[1]Инвестплан!M90 -> 0 | L28: =[1]Инвестплан!N90 -> 0
B29: 22 | C29: Іс-шара. Ұлттық фильмдерді өндіру және фильмдерді қазақ тіліне дубляждауды қамтамасыз ету | D29: саны | E29: =[4]Инвестплан!I97 -> 1 | F29: =E29+H29+I29+J29+K29+L29 -> 6 | G29: =F29-E29 -> 5 | H29: =[4]Инвестплан!J97 -> 1 | I29: =[4]Инвестплан!K97 -> 1 | J29: =[4]Инвестплан!L97 -> 1 | K29: =[4]Инвестплан!M97 -> 1 | L29: =[4]Инвестплан!N97 -> 1
B30: 23 | C30: Іс-шара. Анимациялық жобаларды өндіру | D30: саны | E30: =[4]Инвестплан!I99 -> 12 | F30: =E30+H30+I30+J30+K30+L30 -> 62 | G30: =F30-E30 -> 50 | H30: =[4]Инвестплан!J99 -> 10 | I30: =[4]Инвестплан!K99 -> 10 | J30: =[4]Инвестплан!L99 -> 10 | K30: =[4]Инвестплан!M99 -> 10 | L30: =[4]Инвестплан!N99 -> 10
B31: 24 | C31: Іс-шара. Халықаралық кинонарықтарға қатысу | D31: саны | E31: =[4]Инвестплан!I101 -> 5 | F31: =E31+H31+I31+J31+K31+L31 -> 40 | G31: =F31-E31 -> 35 | H31: =[4]Инвестплан!J101 -> 7 | I31: =[4]Инвестплан!K101 -> 7 | J31: =[4]Инвестплан!L101 -> 7 | K31: =[4]Инвестплан!M101 -> 7 | L31: =[4]Инвестплан!N101 -> 7
B32: 25 | C32: Іс-шара.Қазақстан Республикасының киноколлекциясын цифрландыру және реставрациялар жүргізу | D32: саны | E32: =[4]Инвестплан!I103 -> 20 | F32: =E32+H32+I32+J32+K32+L32 -> 80 | G32: =F32-E32 -> 60 | H32: =[4]Инвестплан!J103 -> 12 | I32: =[4]Инвестплан!K103 -> 12 | J32: =[4]Инвестплан!L103 -> 12 | K32: =[4]Инвестплан!M103 -> 12 | L32: =[4]Инвестплан!N103 -> 12
B33: 26 | C33: Іс-шара. Ономастикалық және геральдикалық қызметті қамтамасыз ету | D33: мекемелер саны | E33: =[4]Инвестплан!I107 -> 1 | F33: =E33+H33+I33+J33+K33+L33 -> 6 | G33: =F33-E33 -> 5 | H33: =[4]Инвестплан!J107 -> 1 | I33: =[4]Инвестплан!K107 -> 1 | J33: =[4]Инвестплан!L107 -> 1 | K33: =[4]Инвестплан!M107 -> 1 | L33: =[4]Инвестплан!N107 -> 1
B34: 27 | C34: Іс-шара. Азаматтар арасында патриоттық сананы дамыту бойынша іс-шаралар өткізу | D34: Іс шаралар саны | E34: =[4]Инвестплан!I111 -> 4 | F34: =E34+H34+I34+J34+K34+L34 -> 24 | G34: =F34-E34 -> 20 | H34: =[4]Инвестплан!J111 -> 4 | I34: =[4]Инвестплан!K111 -> 4 | J34: =[4]Инвестплан!L111 -> 4 | K34: =[4]Инвестплан!M111 -> 4 | L34: =[4]Инвестплан!N111 -> 4
B35: 28 | C35: Іс-шара. Ғылыми, қолданбалы және археологиялық зерттеулер жүргізу | D35: млн.тг | E35: =[4]Инвестплан!I115 -> 15 | F35: =E35+H35+I35+J35+K35+L35 -> 90 | G35: =F35-E35 -> 75 | H35: =[4]Инвестплан!J115 -> 15 | I35: =[4]Инвестплан!K115 -> 15 | J35: =[4]Инвестплан!L115 -> 15 | K35: =[4]Инвестплан!M115 -> 15 | L35: =[4]Инвестплан!N115 -> 15
B36: 29 | C36: 8 Нысаналы индикатор. Мемлекеттік білім беру тапсырысы негізінде мәдениет саласындағы жоғарғы және жоғарғы оқу орындарынан кейінгі білім беру, техникалық-кәсіби білім беру ұйымдары түлектерінің жұмысқа орналасу үлесі | H36: =[1]Инвестплан!J118 -> 55 | I36: =[1]Инвестплан!K118 -> 55.1 | J36: =[1]Инвестплан!L118 -> 55.2 | K36: =[1]Инвестплан!M118 -> 55.3 | L36: =[1]Инвестплан!N118 -> 55.4
B37: 30 | C37: Іс-шара. Екі мемлекеттік орта білім беру мекемесінде мәдениет пен өнер саласындағы дарынды балаларды оқыту және тәрбиелеу | D37: білім алушылардың саны | E37: =[4]Инвестплан!I119 -> 960 | F37: =E37+H37+I37+J37+K37+L37 -> 5760 | G37: =F37-E37 -> 4800 | H37: =[4]Инвестплан!J119 -> 960 | I37: =[4]Инвестплан!K119 -> 960 | J37: =[4]Инвестплан!L119 -> 960 | K37: =[4]Инвестплан!M119 -> 960 | L37: =[4]Инвестплан!N119 -> 960
B38: 31 | C38: Іс-шара. Техникалық, кәсіптік, орта білімнен кейінгі білім беру ұйымдарында мамандар даярлау және мәдениет пен өнер саласындағы білім алушыларға әлеуметтік қолдау көрсету | D38: білім мекемелерінің саны | E38: =[4]Инвестплан!I123 -> 4 | F38: =E38+H38+I38+J38+K38+L38 -> 24 | G38: =F38-E38 -> 20 | H38: =[4]Инвестплан!J123 -> 4 | I38: =[4]Инвестплан!K123 -> 4 | J38: =[4]Инвестплан!L123 -> 4 | K38: =[4]Инвестплан!M123 -> 4 | L38: =[4]Инвестплан!N123 -> 4
B39: 32 | C39: Іс-шара. Еңбек нарығында сұранысқа ие мәдениет және өнер саласында білікті кадрларды даярлауды қамтамасыз ету | D39: білім мекемелерінің саны | E39: =[4]Инвестплан!I127 -> 4 | F39: =E39+H39+I39+J39+K39+L39 -> 24 | G39: =F39-E39 -> 20 | H39: =[4]Инвестплан!J127 -> 4 | I39: =[4]Инвестплан!K127 -> 4 | J39: =[4]Инвестплан!L127 -> 4 | K39: =[4]Инвестплан!M127 -> 4 | L39: =[4]Инвестплан!N127 -> 4
B40: 33 | C40: Іс-шара. Хореография саласындағы оқу процесін қолдау | D40: мекемелер саны | E40: 0 | F40: =E40+H40+I40+J40+K40+L40 -> 4 | G40: =F40-E40 -> 4 | H40: =[1]Инвестплан!K125 -> 1 | I40: =[1]Инвестплан!L125 -> 1 | J40: =[1]Инвестплан!M125 -> 1 | K40: =[1]Инвестплан!N125 -> 1 | L40: =[1]Инвестплан!O125 -> 0
B41: 34 | C41: 9 Нысаналы индикатор. Халықтың мемлекеттік саясаттың БАҚ-та жария етілуіне қанағаттанушылық деңгейі | H41: =[1]Инвестплан!J129 -> 90.488792 | I41: =[1]Инвестплан!K129 -> 97.333255 | J41: =[1]Инвестплан!L129 -> 98.33716 | K41: =[1]Инвестплан!M129 -> 98.865255 | L41: =[1]Инвестплан!N129 -> 98.865255
B42: 35 | C42: Іс-шара. «Халықтың мемлекеттік саясатты бұқаралық ақпарат құралдарында көрсетуге қанағаттану деңгейі» және «Тұтынушылардың отандық ақпараттық өнімге сұраныс деңгейі» әлеуметтік зерттеу жүргізу | D42: саны | E42: =[4]Инвестплан!I131 -> 2 | F42: =E42+H42+I42+J42+K42+L42 -> 12 | G42: =F42-E42 -> 10 | H42: =[4]Инвестплан!J131 -> 2 | I42: =[4]Инвестплан!K131 -> 2 | J42: =[4]Инвестплан!L131 -> 2 | K42: =[4]Инвестплан!M131 -> 2 | L42: =[4]Инвестплан!N131 -> 2
B43: 36 | C43: Іс-шара. Мемлекеттік ақпараттық саясатты жүзеге асыру | D43: БАҚ бағытының саны | E43: =[4]Инвестплан!I133 -> 3 | F43: =E43+H43+I43+J43+K43+L43 -> 18 | G43: =F43-E43 -> 15 | H43: =[4]Инвестплан!J133 -> 3 | I43: =[4]Инвестплан!K133 -> 3 | J43: =[4]Инвестплан!L133 -> 3 | K43: =[4]Инвестплан!M133 -> 3 | L43: =[4]Инвестплан!N133 -> 3
...

Sheet ППИП
C3: 3-бөлім. 2026-2030 жылдарға арналған Мәдениет және ақпарат министрлігінің инвестициялық жобаларының болжамды тізбесі
B6: № | C6: Жобаның атауы | D6: Өлшем бірлігі | E6: Жалпы нәтиже / жобаның жалпы құны | F6: 2024 жылға нақты көрсеткіш | G6: 2025 жылға жоспар | H6: Болжам: | M6: Қалған қажеттілік | N6: Жұмыс орындарын құру | P6: Жоба бойынша құжаттама туралы ақпарат
H7: 2026 | I7: 2027 | J7: 2028 | K7: 2029 | L7: 2030 | N7: уақытша | O7: тұрақты
B8: 1 | C8: 2 | D8: 3 | E8: 4 | F8: 5 | G8: 6 | H8: 7 | I8: 8 | J8: 9 | K8: 10 | L8: 11 | M8: 12 | N8: 13 | O8: 14 | P8: 15
B9: 1.1. | C9: НЫСАНАЛЫ ИНДИКАТОР. Халықтың мәдениет саласындағы қызмет көрсету сапасына қанағаттанушылық деңгейі | D9: % | G9: 76 | H9: 77 | I9: 78 | J9: 79 | K9: 80 | L9: 81
B10: 1. | C10: Инвестициялық жоба 1. РМК "Мұхтар Әуезов атындағы Қазақ ұлттық драма театры" ғимаратын реконструкциялау | D10: % | E10: 100 | F10: 0.4 | G10: 0 | H10: 46539.2 | I10: 0 | J10: 0 | K10: 0 | L10: 0 | M10: 0 | N10: 600 | P10: Жоба келесі кезектілікпен іске асырылады: 1. ЖСҚ әзірлеу және бекіту (2023 жылғы 19 желтоқсандағы № 02-0185/23, сомасы 57 457 360 мың теңге) 2.ЖСҚ түзету (жоба құнын оңтайландыру жүргізу туралы тапсырма - Премьер-Министрдің Бірінші орынбасары Р.В. Склярдың 2025 жылғы 28 наурыздағы кеңес хаттамасы (2025 жылғы 02.04. №16-05/Б-469); ҚР ККМ-нің 2025 жылғы 14.05. № 01-05-21/Д-672/4//16-12/362-4,362-5 жоба құнын 10 582 179 мың теңгеге қысқарту туралы шешім қабылдау жөніндегі хаты) 3.ҚМЖ орындау
C11: 1) күтілетін нәтиже: театрларға келу саны мен спектакльдердің 3 есеге артуы | D11: млн.тг | E11: 100 | F11: 0.4 | G11: 0 | H11: 99.6 | I11: 0 | J11: 0 | K11: 0 | L11: 0 | M11: 0 | N11: 600
C12: 2) шығыстар, оның ішінде есебінен: | D12: млн.тг | E12: 46739.2 | F12: 200 | G12: 0 | H12: 46539.2 | I12: 0 | J12: 0 | K12: 0 | L12: 0
C13: РБ | D13: млн.тг | E13: 200 | F13: 200 | G13: 0 | H13: 0 | I13: 0 | J13: 0 | K13: 0 | L13: 0
C14: ЖБ | D14: млн.тг | E14: 0 | F14: 0 | G14: 0 | H14: 0 | I14: 0 | J14: 0 | K14: 0 | L14: 0 | T14: -
C15: Басқа көздер (Арнайы қор) | D15: млн.тг | E15: 46539.2 | F15: 0 | G15: 0 | H15: 46539.2 | I15: 0 | J15: 0 | K15: 0 | L15: 0
B16: 2. | C16: Инвестициялық жоба 2. Ортағасырлық архитектуралық стильдегі ежелгі БОЗОК қалашығының археологиялық орны негізінде ашық аспан астындағы ұлттық саябақтың қоршауын салу | D16: млн.тг | E16: 15221.901 | F16: 357.507 | G16: 606.256 | H16: 9086.255 | I16: 5171.883 | J16: 0 | K16: 0 | L16: 0 | N16: 150 | O16: 35 | P16: Жоба келесі кезектілікпен іске асырылады: ЖСҚ, жұмыс жобасы, пайдалануға енгізу актісі
C17: 1) күтілетін нәтиже: Тарихи-мәдени ескерткішті сақтау Туристік дестинацияны құру экономиканың сабақтас салаларын дамытуға ықпал ететін болады; Музей-қорық құрылысы балалар мен ересектердің білім беру ресурсын (тарих, археология, сәулет, биология) арттыруға ықпал ететін болады; Үркер тұрғын алабы мен Қараөткел кенті тұрғындарының өмір сүру сапасын жақсарту
C18: 2) шығыстар, оның ішінде есебінен: | D18: млн.тг | E18: 15221.901 | F18: 357.507 | G18: 606.256 | H18: 9086.255 | I18: 5171.883 | J18: 0 | K18: 0 | L18: 0
C19: РБ | D19: млн.тг | E19: 15221.901 | F19: 357.507 | G19: 606.256 | H19: 9086.255 | I19: 5171.883 | J19: 0 | K19: 0 | L19: 0
C20: ЖБ | D20: млн.тг | E20: 0 | F20: 0 | G20: 0 | H20: 0 | I20: 0 | J20: 0 | K20: 0 | L20: 0
C21: Басқа көздер | D21: млн.тг | E21: 0 | F21: 0 | G21: 0 | H21: 0 | I21: 0 | J21: 0 | K21: 0 | L21: 0
B22: 3. | C22: 3-инвестициялық жоба. Берел визит орталығын салу | D22: млн.тг | E22: 0 | F22: 0 | G22: 0 | H22: 0 | I22: 0 | J22: 0 | K22: 0 | L22: 0 | P22: Жоба келесі кезектілікпен іске асырылады: Мемлекеттік сараптамасы бар ЖСҚ, пайдалануға енгізу актісі
C23: 1) күтілетін нәтиже: тарихи-мәдени мұраны сақтау және танымал ету | H23: МИЖ әзірлеу | I23: 0 | J23: 0 | K23: 0
C24: 2) шығыстар, оның ішінде есебінен: | D24: млн.тг | E24: 0 | F24: 0 | G24: 0 | H24: 0 | I24: 0 | J24: 0 | K24: 0 | L24: 0
C25: РБ | D25: млн.тг | E25: 0 | F25: 0 | G25: 0 | H25: 0 | I25: 0 | J25: 0 | K25: 0 | L25: 0
C26: ЖБ | D26: млн.тг | E26: 0 | F26: 0 | G26: 0 | H26: 0 | I26: 0 | J26: 0 | K26: 0 | L26: 0
C27: Басқа көздер | D27: млн.тг | E27: 0 | F27: 0 | G27: 0 | H27: 0 | I27: 0 | J27: 0 | K27: 0 | L27: 0
B28: 4. | C28: 4-инвестициялық жоба. Гауһар-ана визит орталығын салу | D28: млн.тг | E28: 44.325 | F28: 0 | G28: 0 | H28: 44.325 | I28: 0 | J28: 0 | K28: 0 | L28: 0 | N28: 10 | O28: 14 | P28: пайдалануға енгізу актісі
C29: 1) күтілетін нәтиже: 2026 жылы туристер ағынын 32%-ға арттыру. 2025 жылғы деректер бойынша туристер саны 76 230 адамды құрады
C30: 2) шығыстар, оның ішінде есебінен: | D30: млн.тг | E30: 44.325 | F30: 0 | G30: 0 | H30: 44.325 | I30: 0 | J30: 0 | K30: 0 | L30: 0
C31: РБ | D31: млн.тг | E31: 44.325 | F31: 0 | G31: 0 | H31: 44.325 | I31: 0 | J31: 0 | K31: 0 | L31: 0
C32: ЖБ | D32: млн.тг | E32: 0 | F32: 0 | G32: 0 | H32: 0 | I32: 0 | J32: 0 | K32: 0 | L32: 0
C33: Басқа көздер | D33: млн.тг | E33: 0 | F33: 0 | G33: 0 | H33: 0 | I33: 0 | J33: 0 | K33: 0 | L33: 0
B34: 5. | C34: 5-инвестициялық жоба. Сауран визит орталығын салу | D34: млн.тг | E34: 194.41 | F34: 0 | G34: 0 | H34: 194.41 | I34: 0 | J34: 0 | K34: 0 | L34: 0 | P34: пайдалануға енгізу актісі
C35: 1) күтілетін нәтиже: 2026 жылы туристер ағынын 34%-ға арттыру. 2025 жылғы деректер бойынша туристер саны 10 133 адамды құрады
C36: 2) шығыстар, оның ішінде есебінен: | D36: млн.тг | E36: 194.41 | F36: 0 | G36: 0 | H36: 194.41 | I36: 0 | J36: 0 | K36: 0 | L36: 0
C37: РБ | D37: млн.тг | E37: 194.41 | F37: 0 | G37: 0 | H37: 194.41 | I37: 0 | J37: 0 | K37: 0 | L37: 0
C38: ЖБ | D38: млн.тг | E38: 0 | F38: 0 | G38: 0 | H38: 0 | I38: 0 | J38: 0 | K38: 0 | L38: 0
C39: Басқа көздер | D39: млн.тг | E39: 0 | F39: 0 | G39: 0 | H39: 0 | I39: 0 | J39: 0 | K39: 0 | L39: 0
B40: 6. | C40: 6-инвестициялық жоба. Есік визит орталығын салу | D40: млн.тг | E40: 754.42759 | F40: 0 | G40: 0 | H40: 292.315 | I40: 462.11259 | J40: 0 | K40: 0 | L40: 0 | P40: пайдалануға енгізу актісі
C41: 1) күтілетін нәтиже: 2026 жылға қарай 2025 жылмен салыстырғанда туристер қызығушылығының 4 есеге артуы күтіледі, оның ішінде жергілікті туристер 4,2 есеге және шетелдік туристер 3 есеге артады;
C42: 2) шығыстар, оның ішінде есебінен: | D42: млн.тг | E42: 0 | F42: 0 | G42: 0 | H42: 0 | I42: 0 | J42: 0 | K42: 0 | L42: 0
C43: РБ | D43: млн.тг | E43: 754.42759 | F43: 0 | G43: 0 | H43: 292.315 | I43: 462.11259 | J43: 0 | K43: 0 | L43: 0
C44: ЖБ | D44: млн.тг | E44: 0 | F44: 0 | G44: 0 | H44: 0 | I44: 0 | J44: 0 | K44: 0 | L44: 0
...
