Workbook
Name BuiltIn_Print_Titles: #N/A
Name BuiltIn_Print_Titles___0: #N/A
Name comm: [1]Commutations!$A$8:$I$125
Name contribution: #REF!
Name DelKreditor: #REF!,#REF!
Name delstr: #REF!,#REF!,#REF!
Name DELVD: #REF!,#REF!,#REF!,#REF!,#REF!,#REF!,#REF!,#REF!,#REF!,#REF!,#REF!,#REF!,#REF!,#REF!,#REF!,#REF!,#REF!
Name DelVd1: #REF!,#REF!,#REF!,#REF!,#REF!,#REF!,#REF!,#REF!,#REF!,#REF!,#REF!,#REF!
Name DelZaim: #REF!
Name Excel_BuiltIn_Print_Titles_1: [2]Акколь!$A$1:$C$65535,[2]Акколь!$A$8:$IV$13
Name femsal: #REF!
Name incometax: #REF!
Name kazlxly: [1]Parameters!$J$7:$L$120
Name malesal: #REF!
Name o: #REF!
Name pensagefemale: #REF!
Name pensagemale: #REF!
Name rr: [1]Parameters!$C$2
Name v: [1]Commutations!$C$3
Name z: #REF!
Name А1: #REF!
Name Всего_накоплений_женщины: #REF!
Name Всего_накоплений_мужчины: #REF!
Name ги: #REF!
Name дата: #REF!
Name лор: #REF!
Name новпр: #REF!
Name новые: #REF!
Name нооа: #REF!
Name пр: #REF!
Name про: #REF!
Name проги: #REF!
Name р2_графа1_сравн_пред_гр7: #REF!
Name р2_графа7_контроль: #REF!
Name рр1: '[3]р1 СНГ'!#REF!
Name текущ: #REF!

Sheet данные ЦРТР
B2: БЖЗҚ-ға міндетті зейнетақы жарналарын кем дегенде бір рет аударған салымшылардың саны
B4: 2025
B5: кезең | C5: адам, саны
B6: 1 тоқсан | C6: 5581045

Sheet СОСС 5%
B2: 5% социальные отчисления АО "ГФСС" за 2013-2015
B5: № | C5: период | D5: сумма | E5: кол-во, чел. | F5: средний размер, тенге | G5: Среднемесячный доход, тенге
C6: 2013 год
B7: 1 | C7: январь | D7: =[4]Лист1!$B$5*1000000 -> 1.2357264e+10 | E7: =[4]Лист1!$B$6*1000 -> 2838642 | F7: =D7/E7 -> 4353.2309 | G7: =F7*5 -> 21766.154
B8: 2 | C8: февраль | D8: =[4]Лист1!$C$5*1000000 -> 1.6861401e+10 | E8: =[4]Лист1!$C$6*1000 -> 3876617 | F8: =D8/E8 -> 4349.5142 | G8: =F8*5 -> 21747.571
B9: 3 | C9: март | D9: =[4]Лист1!$D$5*1000000 -> 1.5587252e+10 | E9: =[4]Лист1!$D$6*1000 -> 3702720 | F9: =D9/E9 -> 4209.6761 | G9: =F9*5 -> 21048.381
B10: 4 | C10: апрель | D10: =[4]Лист1!$E$5*1000000 -> 1.7056292e+10 | E10: =[4]Лист1!$E$6*1000 -> 3873234 | F10: =D10/E10 -> 4403.6307 | G10: =F10*5 -> 22018.153
B11: 5 | C11: май | D11: =[4]Лист1!$F$5*1000000 -> 1.7791353e+10 | E11: =[4]Лист1!$F$6*1000 -> 4082706 | F11: =D11/E11 -> 4357.7356 | G11: =F11*5 -> 21788.678
B12: 6 | C12: июнь | D12: =[4]Лист1!$G$5*1000000 -> 1.6748636e+10 | E12: =[4]Лист1!$G$6*1000 -> 3748436 | F12: =D12/E12 -> 4468.1664 | G12: =F12*5 -> 22340.832
B13: 7 | C13: июль | D13: =[4]Лист1!$I$5*1000000 -> 1.6850543e+10 | E13: =[4]Лист1!$I$6*1000 -> 3831829 | F13: =D13/E13 -> 4397.5196 | G13: =F13*5 -> 21987.598
B14: 8 | C14: август | D14: =[4]Лист1!$J$5*1000000 -> 1.6686147e+10 | E14: =[4]Лист1!$J$6*1000 -> 3847933 | F14: =D14/E14 -> 4336.3922 | G14: =F14*5 -> 21681.961
B15: 9 | C15: сентябрь | D15: =[4]Лист1!$K$5*1000000 -> 1.6146971e+10 | E15: =[4]Лист1!$K$6*1000 -> 3769918 | F15: =D15/E15 -> 4283.1093 | G15: =F15*5 -> 21415.547
B16: 10 | C16: октябрь | D16: =[4]Лист1!$M$5*1000000 -> 1.7666727e+10 | E16: =[4]Лист1!$M$6*1000 -> 4016965 | F16: =D16/E16 -> 4398.0286 | G16: =F16*5 -> 21990.143
B17: 11 | C17: ноябрь | D17: =[4]Лист1!$N$5*1000000 -> 1.80628e+10 | E17: =[4]Лист1!$N$6*1000 -> 4085328 | F17: =D17/E17 -> 4421.383 | G17: =F17*5 -> 22106.915
B18: 12 | C18: декабрь | D18: =[4]Лист1!$O$5*1000000 -> 2.1109534e+10 | E18: =[4]Лист1!$O$6*1000 -> 4068380 | F18: =D18/E18 -> 5188.6831 | G18: =F18*5 -> 25943.415
B19: 13 | C19: Итого за 2013 год | D19: =SUM(D7:D18) -> 2.0292492e+11 | E19: =[4]Лист1!$P$6*1000 -> 6511778 | F19: =SUM(F7:F18)/12 -> 4430.5891 | G19: =F19*5 -> 22152.946
C20: 2014 год
B21: 1 | C21: январь | D21: =[4]Лист1!$Q$5*1000000 -> 1.5234752e+10 | E21: =[4]Лист1!$Q$6*1000 -> 3226005 | F21: =D21/E21 -> 4722.4824 | G21: =F21*5 -> 23612.412
B22: 2 | C22: февраль | D22: =[4]Лист1!$R$5*1000000 -> 1.8088132e+10 | E22: =[4]Лист1!$R$6*1000 -> 3962105 | F22: =D22/E22 -> 4565.2834 | G22: =F22*5 -> 22826.417
B23: 3 | C23: март | D23: =[4]Лист1!$S$5*1000000 -> 1.6915646e+10 | E23: =[4]Лист1!$S$6*1000 -> 3814013 | F23: =D23/E23 -> 4435.1308 | G23: =F23*5 -> 22175.654
B24: 4 | C24: апрель | D24: =[4]Лист1!$T$5*1000000 -> 17818462212 | E24: =[4]Лист1!$T$6*1000 -> 3842785 | F24: =D24/E24 -> 4636.8616 | G24: =F24*5 -> 23184.308
B25: 5 | C25: май | D25: =[4]Лист1!$U$5*1000000 -> 1.8485481e+10 | E25: =[4]Лист1!$U$6*1000 -> 3935863 | F25: =D25/E25 -> 4696.6779 | G25: =F25*5 -> 23483.389
B26: 6 | C26: июнь | D26: =[4]Лист1!$V$5*1000000 -> 1.946196e+10 | E26: =[4]Лист1!$V$6*1000 -> 3920288 | F26: =D26/E26 -> 4964.4211 | G26: =F26*5 -> 24822.105
B27: 7 | C27: июль | D27: =[4]Лист1!$X$5*1000000 -> 1.948783e+10 | E27: =[4]Лист1!$X$6*1000 -> 3935432 | F27: =D27/E27 -> 4951.8909 | G27: =F27*5 -> 24759.455
B28: 8 | C28: август | D28: =[4]Лист1!$Y$5*1000000 -> 2.0110734e+10 | E28: =[4]Лист1!$Y$6*1000 -> 3987086 | F28: =D28/E28 -> 5043.968 | G28: =F28*5 -> 25219.84
B29: 9 | C29: сентябрь | D29: =[4]Лист1!$Z$5*1000000 -> 1.8144505e+10 | E29: =[4]Лист1!$Z$6*1000 -> 3877907 | F29: =D29/E29 -> 4678.9428 | G29: =F29*5 -> 23394.714
B30: 10 | C30: октябрь | D30: =[4]Лист1!$AB$5*1000000 -> 1.96003e+10 | E30: =[4]Лист1!$AB$6*1000 -> 4052538 | F30: =D30/E30 -> 4836.5493 | G30: =F30*5 -> 24182.747
B31: 11 | C31: ноябрь | D31: =[4]Лист1!$AC$5*1000000 -> 1.8108816e+10 | E31: =[4]Лист1!$AC$6*1000 -> 3808745 | F31: =D31/E31 -> 4754.5361 | G31: =F31*5 -> 23772.68
B32: 12 | C32: декабрь | D32: =[4]Лист1!$AD$5*1000000 -> 2.3732757e+10 | E32: =[4]Лист1!$AD$6*1000 -> 4139779 | F32: =D32/E32 -> 5732.8561 | G32: =F32*5 -> 28664.28
B33: 13 | C33: Итого за 2014 год | D33: =SUM(D21:D32) -> 2.2518938e+11 | E33: =[4]Лист1!$AE$6*1000 -> 6575479 | F33: =SUM(F21:F32)/12 -> 4834.9667 | G33: =F33*5 -> 24174.833
C34: 2015 год
B35: 1 | C35: январь | D35: =[4]Лист1!$AF$5*1000000 -> 1.6587062e+10 | E35: =[4]Лист1!$AF$6*1000 -> #VALUE! | F35: =D35/E35 -> #VALUE! | G35: =F35*5 -> #VALUE!
B36: 2 | C36: февраль | D36: =[4]Лист1!$AG$5*1000000 -> 2.1851113e+10 | E36: =[4]Лист1!$AG$6*1000 -> #VALUE! | F36: =D36/E36 -> #VALUE! | G36: =F36*5 -> #VALUE!
B37: 3 | C37: март | D37: =[4]Лист1!$AH$5*1000000 -> 1.8900146e+10 | E37: =[4]Лист1!$AH$6*1000 -> #VALUE! | F37: =D37/E37 -> #VALUE! | G37: =F37*5 -> #VALUE!
B38: 4 | C38: апрель | D38: =[4]Лист1!$AI$5*1000000 -> 1.9651036e+10 | E38: =[4]Лист1!$AI$6*1000 -> #VALUE! | F38: =D38/E38 -> #VALUE! | G38: =F38*5 -> #VALUE!
B39: 5 | C39: май | D39: =[4]Лист1!$AJ$5*1000000 -> 1.8829388e+10 | E39: =[4]Лист1!$AJ$6*1000 -> #VALUE! | F39: =D39/E39 -> #VALUE! | G39: =F39*5 -> #VALUE!
B40: 6 | C40: июнь | D40: =[4]Лист1!$AK$5*1000000 -> 2.0307065e+10 | E40: =[4]Лист1!$AK$6*1000 -> #VALUE! | F40: =D40/E40 -> #VALUE! | G40: =F40*5 -> #VALUE!
B41: 6 | C41: июль
B42: 6 | C42: август
B43: 6 | C43: сентябрь
B44: 6 | C44: октябрь
B45: 6 | C45: ноябрь
B46: 6 | C46: декабрь
B47: 7 | C47: июль
B48: 13 | C48: Итого за 2015 год
