Workbook
Name \E: #REF!
Name \E: #REF!
Name \E: #REF!
Name \E: #REF!
Name \E: #REF!
Name \E: #REF!
Name __: NA()
Name ____: #REF!
Name ____: #REF!
Name ____: #REF!
Name _____________________________________________________________________xlnm.Print_Area_1: [1]консалт!#REF!
Name _____________________________________________________________________xlnm.Print_Area_1: [1]консалт!#REF!
Name _____________________________________________________________________xlnm.Print_Area_1: [1]консалт!#REF!
Name ___________________________________________________________________xlnm.Print_Area_1: [1]консалт!#REF!
Name ___________________________________________________________________xlnm.Print_Area_1: [1]консалт!#REF!
Name ___________________________________________________________________xlnm.Print_Area_1: [1]консалт!#REF!
Name _________________________________________________________________xlnm.Print_Area_1: [1]консалт!#REF!
Name _________________________________________________________________xlnm.Print_Area_1: [1]консалт!#REF!
Name _________________________________________________________________xlnm.Print_Area_1: [1]консалт!#REF!
Name ________________________________________________________________xlnm.Print_Area_1: [1]консалт!#REF!
Name ________________________________________________________________xlnm.Print_Area_1: [1]консалт!#REF!
Name ________________________________________________________________xlnm.Print_Area_1: [1]консалт!#REF!
Name _______________________________________________________________xlnm.Print_Area_1: [1]консалт!#REF!
Name _______________________________________________________________xlnm.Print_Area_1: [1]консалт!#REF!
Name _______________________________________________________________xlnm.Print_Area_1: [1]консалт!#REF!
Name ______________________________________________________________xlnm.Database: #N/A
Name ______________________________________________________________xlnm.Database_1: #N/A
Name ______________________________________________________________xlnm.Print_Area_1: [1]консалт!#REF!
Name ______________________________________________________________xlnm.Print_Area_1: [1]консалт!#REF!
Name ______________________________________________________________xlnm.Print_Area_1: [1]консалт!#REF!
Name _____________________________________________________________xlnm.Database: #N/A
Name _____________________________________________________________xlnm.Database_1: #N/A
Name _____________________________________________________________xlnm.Print_Area_1: [1]консалт!#REF!
Name _____________________________________________________________xlnm.Print_Area_1: [1]консалт!#REF!
Name _____________________________________________________________xlnm.Print_Area_1: [1]консалт!#REF!
Name ____________________________________________________________xlnm.Database: #N/A
Name ____________________________________________________________xlnm.Database_1: #N/A
Name ____________________________________________________________xlnm.Print_Area_1: [1]консалт!#REF!
Name ____________________________________________________________xlnm.Print_Area_1: [1]консалт!#REF!
Name ____________________________________________________________xlnm.Print_Area_1: [1]консалт!#REF!
Name ___________________________________________________________xlnm.Database: #N/A
Name ___________________________________________________________xlnm.Database_1: #N/A
Name ___________________________________________________________xlnm.Print_Area_1: [1]консалт!#REF!
Name ___________________________________________________________xlnm.Print_Area_1: [1]консалт!#REF!
Name ___________________________________________________________xlnm.Print_Area_1: [1]консалт!#REF!
Name __________________________________________________________xlnm.Database: #N/A
Name __________________________________________________________xlnm.Database_1: #N/A
Name __________________________________________________________xlnm.Print_Area_1: [1]консалт!#REF!
Name __________________________________________________________xlnm.Print_Area_1: [1]консалт!#REF!
Name __________________________________________________________xlnm.Print_Area_1: [1]консалт!#REF!
Name _________________________________________________________xlnm.Database: #N/A
Name _________________________________________________________xlnm.Database_1: #N/A
Name _________________________________________________________xlnm.Print_Area_1: [1]консалт!#REF!
Name _________________________________________________________xlnm.Print_Area_1: [1]консалт!#REF!
Name _________________________________________________________xlnm.Print_Area_1: [1]консалт!#REF!
Name ________________________________________________________xlnm.Database: #N/A
Name ________________________________________________________xlnm.Database_1: #N/A
Name ________________________________________________________xlnm.Print_Area_1: [1]консалт!#REF!
Name ________________________________________________________xlnm.Print_Area_1: [1]консалт!#REF!
Name ________________________________________________________xlnm.Print_Area_1: [1]консалт!#REF!

Sheet  СВОД рус
A2: Информация по проекту бюджета Министерства транспорта РК на 2026-2028 годы
G3: тыс. тенге | J3: тыс. тенге
A4: Программа | B4: Подпрограмма | C4: Наименование | D4: Утв. бюджет на 2025 год | E4: Поддержано | H4: Дополнительная заявка | K4: Примечание
E5: 2026 год | F5: 2027 | G5: 2028 | H5: 2026 год | I5: 2027 год | J5: 2028 год | M5: 2025 утвержденный | N5: разница +/- | O5: 2026 утвержденный | P5: разница +/-
A6: 1 | B6: 2 | C6: 3 | D6: 4 | E6: 5 | F6: 6 | G6: 7 | H6: 8 | I6: 9 | J6: 10 | K6: 8
D7: =D9-D8 -> 457807985
C8: Без ЛРТ, ТОХ, аэропортов и метро | D8: =D9-D73-D96-D237-D475-D385 -> 695711805
A9: ВСЕГО по Министерству: | D9: =D10+D16+D70+D72+D73+D81+D382+D388+D390+D474+D475+D478+D499+D389+D385+D552 -> 1153519790 | E9: =E10+E16+E70+E72+E73+E81+E382+E388+E390+E474+E475+E478+E499+E389+E385+E552 -> 858871952 | F9: =F10+F16+F70+F72+F73+F81+F382+F388+F390+F474+F475+F478+F499+F389+F385+F552 -> 5.4849382e+08 | G9: =G10+G16+G70+G72+G73+G81+G382+G388+G390+G474+G475+G478+G499+G389+G385+G552 -> 5.6568526e+08 | H9: =H10+H16+H70+H72+H73+H81+H382+H388+H390+H474+H475+H478+H499+H389+H385+H552 -> 68891092 | I9: =I10+I16+I70+I72+I73+I81+I382+I388+I390+I474+I475+I478+I499+I389+I385+I552 -> 0 | J9: =J10+J16+J70+J72+J73+J81+J382+J388+J390+J474+J475+J478+J499+J389+J385+J552 -> 0 | K9: =K10+K16+K70+K72+K73+K81+K382+K388+K390+K474+K475+K478+K499+K389+K385+K552 -> 0 | L9: =669974096-E9 -> -188897856
A10: 001 | C10: Формирование и реализация политики государства в области транспорта и коммуникаций | D10: =SUM(D11:D15) -> 12603445 | E10: =SUM(E11:E15) -> 11943803 | F10: =SUM(F11:F15) -> 10296063 | G10: =SUM(G11:G15) -> 10297353
B11: 100 | C11: Обеспечение деятельности уполномоченного органа в области транспорта и коммуникаций | D11: 1719842 | E11: 1991993 | F11: 1422517 | G11: 1422807
B12: 104 | C12: Обеспечение функционирования информационных систем и информационно-техническое обеспечение государственных органов | D12: ='по комитетам'!E8 -> 1304815 | E12: 1527992 | F12: 730881 | G12: 731881
B13: 105 | C13: Содержание административных зданий | D13: 2162737 | E13: 1184185 | F13: 915002 | G13: 915002
B14: 111 | C14: Капитальные расходы Министерства транспорта Республики Казахстан | D14: ='по комитетам'!E10 -> 781649
B15: 123 | C15: Текущие административные расходы | D15: 6634402 | E15: 7239633 | F15: 7227663 | G15: 7227663.4
A16: 003 | C16: Развитие автомобильных дорог на республиканском уровне | D16: =D17+D24+D44+D51 -> 177919610 | E16: =E17+E24+E44+E51 -> 42435146 | F16: =F17+F24+F44+F51 -> 13503668 | G16: =G17+G24+G44+G51 -> 1156266 | M16: 45743344 | N16: =#REF!-M16 -> #REF! | O16: 49254091 | P16: =#REF!-O16 -> #REF!
B17: 004 | C17: За счет внешних займов | D17: ='по комитетам'!E20 -> 72250000 | E17: 6675435 | F17: ='по комитетам'!G20 -> 0 | G17: ='по комитетам'!H20 -> 0
C18: Реконструкция автомобильной дороги республиканского значения «Узынагаш - Отар» | D18: ='СП МТ'!D23 -> 5100000 | E18: ='по комитетам'!F21 -> 5707750 | F18: ='по комитетам'!G21 -> 0 | G18: ='по комитетам'!H21 -> 0
C19: Реконструкция и проектно-изыскательские работы коридора Центр-Юг «Астана - Караганда - Балхаш - Курты - Капшагай - Алматы» участок «Курты - Бурылбайтал» | D19: ='СП МТ'!D24 -> 2911464 | E19: ='по комитетам'!F22 -> 0 | F19: ='по комитетам'!G22 -> 0 | G19: ='по комитетам'!H22 -> 0
C20: Реконструкция и проектно-изыскательские работы коридора Центр-Юг «Астана - Караганда - Балхаш - Курты - Капшагай - Алматы» участок «Балхаш - Бурылбайтал» | D20: ='СП МТ'!D25 -> 22970750 | E20: ='по комитетам'!F23 -> 3655000 | F20: ='по комитетам'!G23 -> 0 | G20: ='по комитетам'!H23 -> 0
C21: Реконструкция автомобильной дороги республиканского значения «Гр. РФ (на Орск) - Актобе - Атырау - гр. РФ (на Астрахань)» участок «Кандыагаш - Макат» | D21: ='СП МТ'!D26 -> 909546 | F21: ='по комитетам'!G24 -> 0 | G21: ='по комитетам'!H24 -> 0
C22: Реконструкция и проектно-изыскательские работы международного транзитного коридора «Западная Европа - Западный Китай» | D22: ='СП МТ'!D27 -> 1530000 | F22: ='по комитетам'!G25 -> 0 | G22: ='по комитетам'!H25 -> 0
C23: Строительство Восточного обхода г.Туркестан | D23: ='СП МТ'!D28 -> 12363414 | F23: ='по комитетам'!G26 -> 0 | G23: ='по комитетам'!H26 -> 0
B24: 005 | C24: За счет внутренних источников | D24: =SUM(D25:D43) -> 0 | E24: 32097089 | F24: 13503668 | G24: 1156266
C25: РП «Реконструкция автомобильной дороги республиканского значения М-51 «гр. РФ (на Челябинск)-гр. РФ (на Новосибирск) через г.г. Петропавловск, Омск» км 465-525 на участке транзитного коридора «Щучинск-Кокшетау-Петропавловск- гр. РФ, II участок км 496-465» Корректировка сметной документации | D25: ='СП МТ'!D30 -> 0 | F25: ='по комитетам'!G28 -> 0 | G25: ='по комитетам'!H28 -> 0
C26: Реконструкция и проектно-изыскательские работы автомобильной дороги руспубликанского значения "Астана-Петропавловск" транзитного коридора "Боровое-Кокшетау-Петропавловск-граница РФ" | D26: ='СП МТ'!D31 -> 0 | F26: ='по комитетам'!G29 -> 0 | G26: ='по комитетам'!H29 -> 0
C27: Реконструкция и проектно-изыскательские работы коридора Центр-Восток "Астана- Павлодар- Калбатау- Усть-Каменогорск", в том числе Восточный обход г.Павлодар | D27: ='СП МТ'!D32 -> 0 | F27: ='по комитетам'!G30 -> 0 | G27: ='по комитетам'!H30 -> 0
C28: Строительство моста через р.Иртыш на автомобильной дороге республиканского значения "Кызылорда-Павлодар-Успенка-гр. РФ" км 1381 | D28: ='СП МТ'!D33 -> 0 | F28: ='по комитетам'!G31 -> 0 | G28: ='по комитетам'!H31 -> 0
C29: Реконструкция и проектно-изыскательские работы коридора Центр-Юг "Астана- Караганда-Балхаш-Курты-Капшагай-Алматы" | D29: ='СП МТ'!D34 -> 0 | F29: ='по комитетам'!G32 -> 0 | G29: ='по комитетам'!H32 -> 0
C30: Реконструкция и проектно-изыскательские работы автомобильной дороги руспубликанского значения "Усть-Каменогорск- Зыряновск- Большенарымское- Катон-Карагай- Рахмановские ключи" | D30: ='СП МТ'!D35 -> 0 | F30: ='по комитетам'!G33 -> 0 | G30: ='по комитетам'!H33 -> 0
C31: Реконструкция и проектно-изыскательские работы автомобильной дороги республиканского значения "Карабутак-Комсомольское-Денисовка-Рудный-Костанай" | D31: ='СП МТ'!D36 -> 0 | F31: ='по комитетам'!G34 -> 0 | G31: ='по комитетам'!H34 -> 0
C32: Реконструкция и проектно-изыскательские работы автомобильной дороги республиканского значения "Ушарал-Достык" | D32: ='СП МТ'!D37 -> 0 | F32: ='по комитетам'!G35 -> 0 | G32: ='по комитетам'!H35 -> 0
C33: Реконструкция и проектно-изыскательские работы автомобильной дороги республиканского значения "Кызылорда - Павлодар - Успенка - гр. РФ" участок "Жезказган-Караганды" | D33: ='СП МТ'!D38 -> 0 | F33: ='по комитетам'!G36 -> 0 | G33: ='по комитетам'!H36 -> 0
C34: Реконструкция и проектно-изыскательские работы автомобильной дороги республиканского значения «Атырау - Уральск» | D34: ='СП МТ'!D39 -> 0 | F34: ='по комитетам'!G37 -> 0 | G34: ='по комитетам'!H37 -> 0
C35: Реконструкция и проектно-изыскательские работы автомобильной дороги республиканского значения "Гр. РФ (на Орск) - Актобе - Атырау -гр. РФ ( на Астрахань)" | D35: ='СП МТ'!D40 -> 0 | F35: ='по комитетам'!G38 -> 0 | G35: ='по комитетам'!H38 -> 0
C36: Реконструкция и проектно-изыскательские работы автомобильной дороги республиканского значения "Уральск-Оренбург" участок "Подстепное-Федоровка- гр РФ. (на Илек)" протяженностью 144 км | D36: ='СП МТ'!D41 -> 0 | F36: ='по комитетам'!G39 -> 0 | G36: ='по комитетам'!H39 -> 0
... C40: Строительство мостового перехода через Бухтарминское водохранилище в Куручмском районе ВКО | D40: ='СП МТ'!D45 -> 0 | F40: ='по комитетам'!G43 -> 0 | G40: ='по комитетам'!H43 -> 0
C41: Строительство мостовых переходов через р. Урал на автомобильной дороге республиканского значения М-32 «Граница РФ (на Самару) – Шымкент, через Уральск, Актобе, Кызылорду | D41: ='СП МТ'!D46 -> 0 | E41: ='по комитетам'!F44 -> 0 | F41: ='по комитетам'!G44 -> 0 | G41: ='по комитетам'!H44 -> 0
C42: Реконструкция автодороги "Каражал-Атасу", 0-28 км | D42: ='СП МТ'!D47 -> 0 | F42: ='по комитетам'!G45 -> 0 | G42: ='по комитетам'!H45 -> 0
C43: Реконструкция и проектно-изыскательские работы автомобильной дороги «Актобе-Карабутак-Улгайсын» | D43: ='СП МТ'!D48 -> 0 | E43: ='по комитетам'!F46 -> 14000000 | F43: ='по комитетам'!G46 -> 13503668 | G43: ='по комитетам'!H46 -> 1156266
B44: 016 | C44: За счет софинансирования внешних займов из республиканского бюджета | D44: =SUM(D45:D50) -> 4860106 | E44: 3662622 | F44: ='по комитетам'!G47 -> 0 | G44: ='по комитетам'!H47 -> 0
...

Sheet СВОД гос
A2: Көлік министрлігінің 2026-2028 жылдарға арналған республикалық бюджет бойынша ақпарат
G3: мын теңге
A4: ББ | B4: КБ | C4: Атауы | D4: 2025 жыл РБ | E4: Қолдау тапты | H4: КМ ұсынысы (ЖСТ) | K4: Ескерту
E5: 2026 жыл | F5: 2027 жыл | G5: 2028 жыл | H5: 2026 жыл | I5: 2027 жыл | J5: 2028 жыл
A6: 1 | B6: 2 | C6: 3 | D6: 4 | E6: 5 | F6: 6 | G6: 7 | H6: 8 | I6: 9 | J6: 10 | K6: 11
D7: =D9-D8 -> -952411880
D8: 2105931670
A9: Барлығы Министрлік бойынша: | D9: =D10+D16+D65+D67+D68+D76+D354+D360+D362+D446+D447+D450+D471+D361+D357+D524 -> 1153519790 | E9: =E10+E16+E65+E67+E68+E76+E354+E360+E362+E446+E447+E450+E471+E361+E357+E524 -> 858871952 | F9: =F10+F16+F65+F67+F68+F76+F354+F360+F362+F446+F447+F450+F471+F361+F357+F524 -> 5.4849382e+08 | G9: =G10+G16+G65+G67+G68+G76+G354+G360+G362+G446+G447+G450+G471+G361+G357+G524 -> 5.6568526e+08 | H9: =H10+H16+H65+H67+H68+H76+H354+H360+H362+H446+H447+H450+H471+H361+H357+H524 -> 0 | I9: =I10+I16+I65+I67+I68+I76+I354+I360+I362+I446+I447+I450+I471+I361+I357+I524 -> 0 | J9: =J10+J16+J65+J67+J68+J76+J354+J360+J362+J446+J447+J450+J471+J361+J357+J524 -> 0
A10: 001 | C10: Көлік және коммуникация саласындағы мемлекеттік саясатты қалыптастыру және іске асыру | D10: =' СВОД рус'!D10 -> 12603445 | E10: =' СВОД рус'!E10 -> 11943803 | F10: =' СВОД рус'!F10 -> 10296063 | G10: =' СВОД рус'!G10 -> 10297353
B11: 100 | C11: Көлік және коммуникация саласындағы уәкілетті органның қызметін қамтамасыз ету | D11: =' СВОД рус'!D11 -> 1719842 | E11: =' СВОД рус'!E11 -> 1991993 | F11: =' СВОД рус'!F11 -> 1422517 | G11: =' СВОД рус'!G11 -> 1422807
B12: 104 | C12: Ақпараттық жүйелердің жұмыс істеуін қамтамасыз ету және мемлекеттік органдарды ақпараттық-техникалық қамтамасыз ету | D12: =' СВОД рус'!D12 -> 1304815 | E12: =' СВОД рус'!E12 -> 1527992 | F12: =' СВОД рус'!F12 -> 730881 | G12: =' СВОД рус'!G12 -> 731881
B13: 105 | C13: Әкімшілік ғимараттарды күтіп-ұстау | D13: =' СВОД рус'!D13 -> 2162737 | E13: =' СВОД рус'!E13 -> 1184185 | F13: =' СВОД рус'!F13 -> 915002 | G13: =' СВОД рус'!G13 -> 915002
B14: 111 | C14: Қазақстан Республикасы Көлік министрлігінің күрделі шығыстары | D14: =' СВОД рус'!D14 -> 781649 | E14: =' СВОД рус'!E14 -> 0 | F14: =' СВОД рус'!F14 -> 0 | G14: =' СВОД рус'!G14 -> 0
B15: 123 | C15: Ағымдағы әкімшілік шығыстар | D15: =' СВОД рус'!D15 -> 6634402 | E15: =' СВОД рус'!E15 -> 7239633 | F15: =' СВОД рус'!F15 -> 7227663 | G15: =' СВОД рус'!G15 -> 7227663.4
A16: 003 | C16: Республикалық деңгейде автомобиль жолдарын дамыту | D16: =' СВОД рус'!D16 -> 177919610 | E16: =' СВОД рус'!E16 -> 42435146 | F16: =' СВОД рус'!F16 -> 13503668 | G16: =' СВОД рус'!G16 -> 1156266
B17: 004 | C17: Cыртқы қарыздар есебiнен | D17: =' СВОД рус'!D17 -> 72250000 | E17: =' СВОД рус'!E17 -> 6675435 | F17: =' СВОД рус'!F17 -> 0 | G17: =' СВОД рус'!G17 -> 0
C18: Реконструкция автомобильной дороги республиканского значения «Узынагаш - Отар» | D18: =' СВОД рус'!D18 -> 5100000 | E18: =' СВОД рус'!E18 -> 5707750 | F18: =' СВОД рус'!F18 -> 0 | G18: =' СВОД рус'!G18 -> 0
C19: Реконструкция и проектно-изыскательские работы коридора Центр-Юг «Астана - Караганда - Балхаш - Курты - Капшагай - Алматы» участок «Курты - Бурылбайтал» | D19: =' СВОД рус'!D19 -> 2911464 | E19: =' СВОД рус'!E19 -> 0 | F19: =' СВОД рус'!F19 -> 0 | G19: =' СВОД рус'!G19 -> 0
C20: Реконструкция и проектно-изыскательские работы коридора Центр-Юг «Астана - Караганда - Балхаш - Курты - Капшагай - Алматы» участок «Балхаш - Бурылбайтал» | D20: =' СВОД рус'!D20 -> 22970750 | E20: =' СВОД рус'!E20 -> 3655000 | F20: =' СВОД рус'!F20 -> 0 | G20: =' СВОД рус'!G20 -> 0
C21: Реконструкция автомобильной дороги республиканского значения «Гр. РФ (на Орск) - Актобе - Атырау - гр. РФ (на Астрахань)» участок «Кандыагаш - Макат» | D21: =' СВОД рус'!D21 -> 909546 | E21: =' СВОД рус'!E21 -> 0 | F21: =' СВОД рус'!F21 -> 0 | G21: =' СВОД рус'!G21 -> 0
C22: Реконструкция и проектно-изыскательские работы международного транзитного коридора «Западная Европа - Западный Китай» | D22: =' СВОД рус'!D22 -> 1530000 | E22: =' СВОД рус'!E22 -> 0 | F22: =' СВОД рус'!F22 -> 0 | G22: =' СВОД рус'!G22 -> 0
C23: Строительство Восточного обхода г.Туркестан | D23: =' СВОД рус'!D23 -> 12363414 | E23: =' СВОД рус'!E23 -> 0 | F23: =' СВОД рус'!F23 -> 0 | G23: =' СВОД рус'!G23 -> 0
B24: 005 | C24: Ішкі көздер есебінен | D24: =' СВОД рус'!D24 -> 0 | E24: =' СВОД рус'!E24 -> 32097089 | F24: =' СВОД рус'!F24 -> 13503668 | G24: =' СВОД рус'!G24 -> 1156266
C25: РП «Реконструкция автомобильной дороги республиканского значения М-51 «гр. РФ (на Челябинск)-гр. РФ (на Новосибирск) через г.г. Петропавловск, Омск» км 465-525 на участке транзитного коридора «Щучинск-Кокшетау-Петропавловск- гр. РФ, II участок км 496-465» Корректировка сметной документации | D25: =' СВОД рус'!D25 -> 0 | E25: =' СВОД рус'!E25 -> 0 | F25: =' СВОД рус'!F25 -> 0 | G25: =' СВОД рус'!G25 -> 0
C26: Реконструкция и проектно-изыскательские работы автомобильной дороги руспубликанского значения "Астана-Петропавловск" транзитного коридора "Боровое-Кокшетау-Петропавловск-граница РФ" | D26: =' СВОД рус'!D26 -> 0 | E26: =' СВОД рус'!E26 -> 0 | F26: =' СВОД рус'!F26 -> 0 | G26: =' СВОД рус'!G26 -> 0
C27: Реконструкция и проектно-изыскательские работы коридора Центр-Восток "Астана- Павлодар- Калбатау- Усть-Каменогорск", в том числе Восточный обход г.Павлодар | D27: =' СВОД рус'!D27 -> 0 | E27: =' СВОД рус'!E27 -> 0 | F27: =' СВОД рус'!F27 -> 0 | G27: =' СВОД рус'!G27 -> 0
C28: Строительство моста через р.Иртыш на автомобильной дороге республиканского значения "Кызылорда-Павлодар-Успенка-гр. РФ" км 1381 | D28: =' СВОД рус'!D28 -> 0 | E28: =' СВОД рус'!E28 -> 0 | F28: =' СВОД рус'!F28 -> 0 | G28: =' СВОД рус'!G28 -> 0
C29: Реконструкция и проектно-изыскательские работы коридора Центр-Восток "Астана- Караганда-Балхаш-Курты-Капшагай-Алматы" | D29: =' СВОД рус'!D29 -> 0 | E29: =' СВОД рус'!E29 -> 0 | F29: =' СВОД рус'!F29 -> 0 | G29: =' СВОД рус'!G29 -> 0
C30: Реконструкция и проектно-изыскательские работы автомобильной дороги руспубликанского значения "Усть-Каменогорск- Зыряновск- Большенарымское- Катон-Карагай- Рахмановские ключи" | D30: =' СВОД рус'!D30 -> 0 | E30: =' СВОД рус'!E30 -> 0 | F30: =' СВОД рус'!F30 -> 0 | G30: =' СВОД рус'!G30 -> 0
C31: Реконструкция и проектно-изыскательские работы автомобильной дороги республиканского значения "Карабутак-Комсомольское-Денисовка-Рудный-Костанай" | D31: =' СВОД рус'!D31 -> 0 | E31: =' СВОД рус'!E31 -> 0 | F31: =' СВОД рус'!F31 -> 0 | G31: =' СВОД рус'!G31 -> 0
C32: Реконструкция и проектно-изыскательские работы автомобильной дороги республиканского значения "Ушарал-Достык" | D32: =' СВОД рус'!D32 -> 0 | E32: =' СВОД рус'!E32 -> 0 | F32: =' СВОД рус'!F32 -> 0 | G32: =' СВОД рус'!G32 -> 0
C33: Реконструкция и проектно-изыскательские работы автомобильной дороги республиканского значения "Кызылорда - Павлодар - Успенка - гр. РФ" участок "Жезказган-Караганды" | D33: =' СВОД рус'!D33 -> 0 | E33: =' СВОД рус'!E33 -> 0 | F33: =' СВОД рус'!F33 -> 0 | G33: =' СВОД рус'!G33 -> 0
C34: Реконструкция и проектно-изыскательские работы автомобильной дороги республиканского значения «Атырау - Уральск» | D34: =' СВОД рус'!D34 -> 0 | E34: =' СВОД рус'!E34 -> 0 | F34: =' СВОД рус'!F34 -> 0 | G34: =' СВОД рус'!G34 -> 0
C35: Реконструкция и проектно-изыскательские работы автомобильной дороги республиканского значения "Гр. РФ (на Орск) - Актобе - Атырау -гр. РФ ( на Астрахань)" | D35: =' СВОД рус'!D35 -> 0 | E35: =' СВОД рус'!E35 -> 0 | F35: =' СВОД рус'!F35 -> 0 | G35: =' СВОД рус'!G35 -> 0
C36: Реконструкция и проектно-изыскательские работы автомобильной дороги республиканского значения "Уральск-Оренбург" участок "Подстепное-Федоровка- гр РФ. (на Илек)" протяженностью 144 км | D36: =' СВОД рус'!D36 -> 0 | E36: =' СВОД рус'!E36 -> 0 | F36: =' СВОД рус'!F36 -> 0 | G36: =' СВОД рус'!G36 -> 0
C37: Реконструкция и проектно-изыскательские работы автомобильной дороги республиканского значения "Семей - Усть-Каменогорск" протяженностью 195 км" | D37: =' СВОД рус'!D37 -> 0 | E37: =' СВОД рус'!E37 -> 0 | F37: =' СВОД рус'!F37 -> 0 | G37: =' СВОД рус'!G37 -> 0
C38: Реконструкция и проектно-изыскательские работы автомобильной дороги «Актобе-Карабутак-Улгайсын» | D38: =' СВОД рус'!D43 -> 0 | E38: =' СВОД рус'!E38 -> 0 | F38: =' СВОД рус'!F38 -> 0 | G38: =' СВОД рус'!G38 -> 0
B39: 016 | C39: Республикалық бюджеттен сыртқы қарыздарды қоса қаржыландыру есебінен | D39: =' СВОД рус'!D44 -> 4860106 | E39: =' СВОД рус'!E44 -> 3662622 | F39: =' СВОД рус'!F44 -> 0 | G39: =' СВОД рус'!G44 -> 0
C40: Реконструкция автомобильной дороги республиканского значения «Узынагаш - Отар» | D40: =' СВОД рус'!D45 -> 2170954 | E40: =' СВОД рус'!E40 -> 0 | F40: =' СВОД рус'!F40 -> 0 | G40: =' СВОД рус'!G40 -> 0
C41: Реконструкция и проектно-изыскательские работы коридора Центр-Юг «Астана - Караганда - Балхаш - Курты - Капшагай - Алматы» участок «Курты - Бурылбайтал» | D41: =' СВОД рус'!D46 -> 1050000 | E41: =' СВОД рус'!E41 -> 0 | F41: =' СВОД рус'!F41 -> 0 | G41: =' СВОД рус'!G41 -> 0
...

Sheet  СВОД рус (3)
A2: Информация по проекту бюджета Министерства транспорта РК на 2026-2028 годы
G3: тыс. тенге
A4: Программа | B4: Подпрограмма | C4: Наименование | D4: Утв. бюджет на 2025 год | E4: Предложение МТ | H4: Примечание
E5: 2026 год | F5: 2027 год | G5: 2028 год | J5: 2025 утвержденный | K5: разница +/- | L5: 2026 утвержденный | M5: разница +/-
A6: 1 | B6: 2 | C6: 3 | D6: 4 | E6: 5 | F6: 7 | G6: 9 | H6: 8
C7: Без ЦТ | E7: =E10+E16+E70+E72+E73+E80+E81+E89+E380+E383+E386+E387+E388+E472+E473+E475+E496+E549 -> 837631275 | F7: =F10+F16+F70+F72+F73+F80+F81+F89+F380+F383+F386+F387+F388+F472+F473+F475+F496+F549 -> 5.4849382e+08 | G7: =G10+G16+G70+G72+G73+G80+G81+G89+G380+G383+G386+G387+G388+G472+G473+G475+G496+G549 -> 5.6568526e+08
C8: ЦТ | D8: =D82+D94+D235+D379 -> 92412624 | E8: =E82+E94+E235+E379 -> 46526920 | F8: =F82+F94+F235+F379 -> 54215599 | G8: =G82+G94+G235+G379 -> 17532212
A9: ВСЕГО по Министерству: | D9: =D10+D16+D70+D72+D73+D79+D380+D386+D388+D472+D473+D475+D496+D387+D383+D549 -> 1153717864 | E9: =E10+E16+E70+E72+E73+E79+E380+E386+E388+E472+E473+E475+E496+E387+E383+E549 -> 884158195 | F9: =F10+F16+F70+F72+F73+F79+F380+F386+F388+F472+F473+F475+F496+F387+F383+F549 -> 6.0270942e+08 | G9: =G10+G16+G70+G72+G73+G79+G380+G386+G388+G472+G473+G475+G496+G387+G383+G549 -> 5.8321747e+08 | H9: =H10+H16+H70+H72+H73+H79+H380+H386+H388+H472+H473+H475+H496+H387+H383+H549 -> #VALUE!
A10: 001 | C10: Формирование и реализация политики государства в области транспорта и коммуникаций | D10: =SUM(D11:D15) -> 13051817 | E10: =SUM(E11:E15) -> 10827650 | F10: =SUM(F11:F15) -> 10296063 | G10: =SUM(G11:G15) -> 10297353
B11: 100 | C11: Обеспечение деятельности уполномоченного органа в области транспорта и коммуникаций | D11: ='по комитетам'!E7 -> 1686238 | E11: ='по комитетам'!F7 -> 1611564 | F11: ='по комитетам'!G7 -> 1422517 | G11: ='по комитетам'!H7 -> 1422807
B12: 104 | C12: Обеспечение функционирования информационных систем и информационно-техническое обеспечение государственных органов | D12: ='по комитетам'!E8 -> 1304815 | E12: ='по комитетам'!F8 -> 1064596 | F12: ='по комитетам'!G8 -> 730881 | G12: ='по комитетам'!H8 -> 731881
B13: 105 | C13: Содержание административных зданий | D13: ='по комитетам'!E9 -> 2734713 | E13: ='по комитетам'!F9 -> 911857 | F13: ='по комитетам'!G9 -> 915002 | G13: ='по комитетам'!H9 -> 915002
B14: 111 | C14: Капитальные расходы Министерства транспорта Республики Казахстан | D14: ='по комитетам'!E10 -> 781649 | E14: ='по комитетам'!F10 -> 0 | F14: ='по комитетам'!G10 -> 0 | G14: ='по комитетам'!H10 -> 0
B15: 123 | C15: Текущие административные расходы | D15: ='по комитетам'!E11 -> 6544402 | E15: ='по комитетам'!F11 -> 7239633 | F15: ='по комитетам'!G11 -> 7227663 | G15: ='по комитетам'!H11 -> 7227663.4
A16: 003 | C16: Развитие автомобильных дорог на республиканском уровне | D16: =D17+D24+D44+D51 -> 181388263 | E16: =E17+E24+E44+E51 -> 48549503 | F16: =F17+F24+F44+F51 -> 13503668 | G16: =G17+G24+G44+G51 -> 1156266 | J16: 45743344 | K16: =#REF!-J16 -> #REF! | L16: 49254091 | M16: =#REF!-L16 -> #REF!
B17: 004 | C17: За счет внешних займов | D17: ='по комитетам'!E20 -> 72250000 | E17: =SUM(E18:E23) -> 9362750 | F17: ='по комитетам'!G20 -> 0 | G17: ='по комитетам'!H20 -> 0
C18: Реконструкция автомобильной дороги республиканского значения «Узынагаш - Отар» | D18: ='СП МТ'!D23 -> 5100000 | E18: ='по комитетам'!F21 -> 5707750 | F18: ='по комитетам'!G21 -> 0 | G18: ='по комитетам'!H21 -> 0
C19: Реконструкция и проектно-изыскательские работы коридора Центр-Юг «Астана - Караганда - Балхаш - Курты - Капшагай - Алматы» участок «Курты - Бурылбайтал» | D19: ='СП МТ'!D24 -> 2911464 | E19: ='по комитетам'!F22 -> 0 | F19: ='по комитетам'!G22 -> 0 | G19: ='по комитетам'!H22 -> 0
C20: Реконструкция и проектно-изыскательские работы коридора Центр-Юг «Астана - Караганда - Балхаш - Курты - Капшагай - Алматы» участок «Балхаш - Бурылбайтал» | D20: ='СП МТ'!D25 -> 22970750 | E20: ='по комитетам'!F23 -> 3655000 | F20: ='по комитетам'!G23 -> 0 | G20: ='по комитетам'!H23 -> 0
C21: Реконструкция автомобильной дороги республиканского значения «Гр. РФ (на Орск) - Актобе - Атырау - гр. РФ (на Астрахань)» участок «Кандыагаш - Макат» | D21: ='СП МТ'!D26 -> 909546 | F21: ='по комитетам'!G24 -> 0 | G21: ='по комитетам'!H24 -> 0
C22: Реконструкция и проектно-изыскательские работы международного транзитного коридора «Западная Европа - Западный Китай» | D22: ='СП МТ'!D27 -> 1530000 | F22: ='по комитетам'!G25 -> 0 | G22: ='по комитетам'!H25 -> 0
C23: Строительство Восточного обхода г.Туркестан | D23: ='СП МТ'!D28 -> 12363414 | F23: ='по комитетам'!G26 -> 0 | G23: ='по комитетам'!H26 -> 0
B24: 005 | C24: За счет внутренних источников | D24: =SUM(D25:D43) -> 0 | E24: ='по комитетам'!F27 -> 37534503 | F24: ='по комитетам'!G27 -> 13503668 | G24: ='по комитетам'!H27 -> 1156266
C25: РП «Реконструкция автомобильной дороги республиканского значения М-51 «гр. РФ (на Челябинск)-гр. РФ (на Новосибирск) через г.г. Петропавловск, Омск» км 465-525 на участке транзитного коридора «Щучинск-Кокшетау-Петропавловск- гр. РФ, II участок км 496-465» Корректировка сметной документации | D25: ='СП МТ'!D30 -> 0 | F25: ='по комитетам'!G28 -> 0 | G25: ='по комитетам'!H28 -> 0
C26: Реконструкция и проектно-изыскательские работы автомобильной дороги руспубликанского значения "Астана-Петропавловск" транзитного коридора "Боровое-Кокшетау-Петропавловск-граница РФ" | D26: ='СП МТ'!D31 -> 0 | F26: ='по комитетам'!G29 -> 0 | G26: ='по комитетам'!H29 -> 0
C27: Реконструкция и проектно-изыскательские работы коридора Центр-Восток "Астана- Павлодар- Калбатау- Усть-Каменогорск", в том числе Восточный обход г.Павлодар | D27: ='СП МТ'!D32 -> 0 | F27: ='по комитетам'!G30 -> 0 | G27: ='по комитетам'!H30 -> 0
C28: Строительство моста через р.Иртыш на автомобильной дороге республиканского значения "Кызылорда-Павлодар-Успенка-гр. РФ" км 1381 | D28: ='СП МТ'!D33 -> 0 | F28: ='по комитетам'!G31 -> 0 | G28: ='по комитетам'!H31 -> 0
C29: Реконструкция и проектно-изыскательские работы коридора Центр-Юг "Астана- Караганда-Балхаш-Курты-Капшагай-Алматы" | D29: ='СП МТ'!D34 -> 0 | F29: ='по комитетам'!G32 -> 0 | G29: ='по комитетам'!H32 -> 0
C30: Реконструкция и проектно-изыскательские работы автомобильной дороги руспубликанского значения "Усть-Каменогорск- Зыряновск- Большенарымское- Катон-Карагай- Рахмановские ключи" | D30: ='СП МТ'!D35 -> 0 | F30: ='по комитетам'!G33 -> 0 | G30: ='по комитетам'!H33 -> 0
C31: Реконструкция и проектно-изыскательские работы автомобильной дороги республиканского значения "Карабутак-Комсомольское-Денисовка-Рудный-Костанай" | D31: ='СП МТ'!D36 -> 0 | F31: ='по комитетам'!G34 -> 0 | G31: ='по комитетам'!H34 -> 0
C32: Реконструкция и проектно-изыскательские работы автомобильной дороги республиканского значения "Ушарал-Достык" | D32: ='СП МТ'!D37 -> 0 | F32: ='по комитетам'!G35 -> 0 | G32: ='по комитетам'!H35 -> 0
C33: Реконструкция и проектно-изыскательские работы автомобильной дороги республиканского значения "Кызылорда - Павлодар - Успенка - гр. РФ" участок "Жезказган-Караганды" | D33: ='СП МТ'!D38 -> 0 | F33: ='по комитетам'!G36 -> 0 | G33: ='по комитетам'!H36 -> 0
C34: Реконструкция и проектно-изыскательские работы автомобильной дороги республиканского значения «Атырау - Уральск» | D34: ='СП МТ'!D39 -> 0 | F34: ='по комитетам'!G37 -> 0 | G34: ='по комитетам'!H37 -> 0
C35: Реконструкция и проектно-изыскательские работы автомобильной дороги республиканского значения "Гр. РФ (на Орск) - Актобе - Атырау -гр. РФ ( на Астрахань)" | D35: ='СП МТ'!D40 -> 0 | F35: ='по комитетам'!G38 -> 0 | G35: ='по комитетам'!H38 -> 0
C36: Реконструкция и проектно-изыскательские работы автомобильной дороги республиканского значения "Уральск-Оренбург" участок "Подстепное-Федоровка- гр РФ. (на Илек)" протяженностью 144 км | D36: ='СП МТ'!D41 -> 0 | F36: ='по комитетам'!G39 -> 0 | G36: ='по комитетам'!H39 -> 0
... C40: Строительство мостового перехода через Бухтарминское водохранилище в Куручмском районе ВКО | D40: ='СП МТ'!D45 -> 0 | F40: ='по комитетам'!G43 -> 0 | G40: ='по комитетам'!H43 -> 0
C41: Строительство мостовых переходов через р. Урал на автомобильной дороге республиканского значения М-32 «Граница РФ (на Самару) – Шымкент, через Уральск, Актобе, Кызылорду | D41: ='СП МТ'!D46 -> 0 | E41: ='по комитетам'!F44 -> 0 | F41: ='по комитетам'!G44 -> 0 | G41: ='по комитетам'!H44 -> 0
C42: Реконструкция автодороги "Каражал-Атасу", 0-28 км | D42: ='СП МТ'!D47 -> 0 | F42: ='по комитетам'!G45 -> 0 | G42: ='по комитетам'!H45 -> 0
C43: Реконструкция и проектно-изыскательские работы автомобильной дороги «Актобе-Карабутак-Улгайсын» | D43: ='СП МТ'!D48 -> 0 | E43: ='по комитетам'!F46 -> 14000000 | F43: ='по комитетам'!G46 -> 13503668 | G43: ='по комитетам'!H46 -> 1156266
B44: 016 | C44: За счет софинансирования внешних займов из республиканского бюджета | D44: =SUM(D45:D50) -> 4860106 | E44: =SUM(E45:E50) -> 1652250 | F44: ='по комитетам'!G47 -> 0 | G44: ='по комитетам'!H47 -> 0
...

Sheet СП МТ
A1: Информация по проекту бюджета Министерства транспорта РК на 2025-2027 годы
A2: тыс. тенге
A3: Программа | B3: Подпрограмма | C3: Наименование | D3: Скор-ный бюджет на 2024 год | E3: 2025 год | H3: 2026 год | J3: 2027 год | L3: Примечание
E4: Заявка | F4: Утвержденный | G4: Лимит МТ | H4: Заявка | I4: Лимит | J4: Заявка | K4: Лимит
A5: ВСЕГО по Министерству: | D5: =D6+D14+D474+D493++D506+D509+D512 -> 758920289 | E5: =E6+E14+E474+E493++E506+E509+E512 -> 1.9385556e+09 | F5: =F6+F14+F474+F493+F506+F509+F512 -> 408044515 | G5: =G6+G14+G474+G493+G506+G509+G512 -> 4.0804452e+08 | H5: =H6+H14+H474+H493++H506+H509+H512 -> 1.7176605e+09 | I5: =I6+I14+I474+I493++I506+I509+I512 -> 3.9782363e+08 | J5: =J6+J14+J474+J493++J506+J509+J512 -> 1.7059727e+09 | K5: =K6+K14+K474+K493++K506+K509+K512 -> 3.9782363e+08 | N5: =G5-408044515 -> 0.15000004
A6: 001 | C6: Формирование и реализация политики государства в области транспорта и коммуникаций | D6: =SUM(D7:D11) -> 10800252 | E6: =SUM(E7:E11) -> 15878818 | F6: =SUM(F7:F11) -> 9286805 | G6: =SUM(G7:G11) -> 13905934 | H6: =SUM(H7:H11) -> 11635140 | I6: =SUM(I7:I11) -> 7461189.2 | J6: =SUM(J7:J11) -> 11947972 | K6: =SUM(K7:K11) -> 7559667.4
B7: 100 | C7: Обеспечение деятельности уполномоченного органа в области транспорта и коммуникаций | D7: 881606 | E7: 994768 | F7: 905319 | G7: 997572 | H7: 1006358 | I7: =H7*15.22% -> 153167.69 | J7: 1015972 | K7: =J7*17.23% -> 175051.98
B8: 104 | C8: Обеспечение функционирования информационных систем и информационно-техническое обеспечение государственных органов | D8: 1002160 | E8: 1649322 | F8: 978204 | G8: 1175716 | H8: 1391481 | I8: =H8*15.22% -> 211783.41 | J8: 1454948 | K8: =J8*17.23% -> 250687.54
B9: 105 | C9: Содержание здания административно-технологического комплекса «Transport tower» | D9: 1668673 | E9: 4814642 | F9: 591334 | G9: 4814642 | H9: 776410 | I9: =H9*15.22% -> 118169.6 | J9: 815230 | K9: =J9*17.23% -> 140464.13
B10: 111 | C10: Капитальные расходы Министерства транспорта Республики Казахстан | D10: 450529 | E10: 747205 | F10: 21940 | G10: 373602 | H10: 629478 | I10: =H10*15.22% -> 95806.552 | J10: 645396 | K10: =J10*17.23% -> 111201.73
B11: 123 | C11: Текущие административные расходы | D11: 6797284 | E11: 7672881 | F11: =6544402+245606 -> 6790008 | G11: 6544402 | H11: 7831413 | I11: 6882262 | J11: 8016426 | K11: 6882262
E12: =E14-E13 -> 1.0290305e+08 | F12: =F14-F13 -> -830667549 | G12: =G14-G13 -> -8.2795871e+08 | H12: =H14-H13 -> 1.1041398e+08 | J12: =J14-J13 -> 66647229
E13: 1133967317 | F13: 1133967317 | G13: 1133967317 | H13: 1211419318 | J13: 1241575003
A14: Комитет автомобильных дорог | D14: =D15+D21+D71+D314+D315+D399+D419 -> 591846904 | E14: =E15+E21+E71+E314+E315+E399+E419 -> 1.2368704e+09 | F14: =F15+F21+F71+F314+F315+F399+F419 -> 303299768 | G14: =G15+G21+G71+G314+G315+G399+G419 -> 3.0600861e+08 | H14: =H15+H21+H71+H314+H315+H399+H419 -> 1.3218333e+09 | I14: =I15+I21+I71+I314+I315+I399+I419 -> 3.5474906e+08 | J14: =J15+J21+J71+J314+J315+J399+J419 -> 1.3082222e+09 | K14: =K15+K21+K71+K314+K315+K399+K419 -> 3.4888603e+08
A15: 001 | C15: Формирование и реализация политики государства в области транспорта и коммуникаций | D15: =D16+D17+D18+D19+D20 -> 0
B16: 100 | C16: Обеспечение деятельности уполномоченного органа в области транспорта и коммуникаций
B17: 104 | C17: Обеспечение функционирования информационных систем и информационно-техническое обеспечение государственных органов
B18: 105 | C18: Содержание здания административно-технологического комплекса «Transport tower»
B19: 111 | C19: Капитальные расходы Министерства транспорта Республики Казахстан
B20: 123 | C20: Текущие административные расходы
A21: 003 | C21: Развитие автомобильных дорог на республиканском уровне | D21: =D22+D29+D49+D56 -> 149938659 | E21: =E22+E29+E49+E56 -> 241890065 | F21: =F22+F29+F49+F56 -> 45743344 | G21: =G22+G29+G49+G56 -> 45743344 | H21: =H22+H29+H49+H56 -> 144136907 | I21: =I22+I29+I49+I56 -> 21911122 | J21: =J22+J29+J49+J56 -> 183518233 | K21: =K22+K29+K49+K56 -> 31620192 | N21: =G21-F21 -> -0.35
B22: 004 | C22: За счет внешних займов | D22: =SUM(D23:D28) -> 45785174 | E22: =SUM(E23:E28) -> 72250000 | F22: 6238031 | G22: 12289624 | H22: =SUM(H23:H28) -> 0 | I22: =H22*15.22% -> 0 | J22: =SUM(J23:J28) -> 0
C23: Реконструкция автомобильной дороги республиканского значения «Узынагаш - Отар» | D23: 5100000 | E23: 21250000
C24: Реконструкция и проектно-изыскательские работы коридора Центр-Юг «Астана - Караганда - Балхаш - Курты - Капшагай - Алматы» участок «Курты - Бурылбайтал» | D24: 2911464 | E24: 24650000
C25: Реконструкция и проектно-изыскательские работы коридора Центр-Юг «Астана - Караганда - Балхаш - Курты - Капшагай - Алматы» участок «Балхаш - Бурылбайтал» | D25: 22970750 | E25: 26350000
C26: Реконструкция автомобильной дороги республиканского значения «Гр. РФ (на Орск) - Актобе - Атырау - гр. РФ (на Астрахань)» участок «Кандыагаш - Макат» | D26: 909546
C27: Реконструкция и проектно-изыскательские работы международного транзитного коридора «Западная Европа - Западный Китай» | D27: 1530000
C28: Строительство Восточного обхода г.Туркестан | D28: 12363414
B29: 005 | C29: За счет внутренних источников | D29: =SUM(D30:D48) -> 0 | E29: =SUM(E30:E48) -> 156890065 | F29: 1088485 | G29: 30641184 | H29: =SUM(H30:H48) -> 144136907 | I29: =H29*15.22%-26515 -> 21911122 | J29: =SUM(J30:J48) -> 183518233 | K29: =J29*17.23% -> 31620192
C30: РП «Реконструкция автомобильной дороги республиканского значения М-51 «гр. РФ (на Челябинск)-гр. РФ (на Новосибирск) через г.г. Петропавловск, Омск» км 465-525 на участке транзитного коридора «Щучинск-Кокшетау-Петропавловск- гр. РФ, II участок км 496-465» Корректировка сметной документации
C31: Реконструкция и проектно-изыскательские работы автомобильной дороги руспубликанского значения "Астана-Петропавловск" транзитного коридора "Боровое-Кокшетау-Петропавловск-граница РФ"
C32: Реконструкция и проектно-изыскательские работы коридора Центр-Восток "Астана- Павлодар- Калбатау- Усть-Каменогорск", в том числе Восточный обход г.Павлодар
C33: Строительство моста через р.Иртыш на автомобильной дороге республиканского значения "Кызылорда-Павлодар-Успенка-гр. РФ" км 1381 | E33: 17642741
C34: Реконструкция и проектно-изыскательские работы коридора Центр-Юг "Астана- Караганда-Балхаш-Курты-Капшагай-Алматы"
C35: Реконструкция и проектно-изыскательские работы автомобильной дороги руспубликанского значения "Усть-Каменогорск- Зыряновск- Большенарымское- Катон-Карагай- Рахмановские ключи" | E35: 12918630
C36: Реконструкция и проектно-изыскательские работы автомобильной дороги республиканского значения "Карабутак-Комсомольское-Денисовка-Рудный-Костанай"
C37: Реконструкция и проектно-изыскательские работы автомобильной дороги республиканского значения "Ушарал-Достык" | E37: 4495552
C38: Реконструкция и проектно-изыскательские работы автомобильной дороги республиканского значения "Кызылорда - Павлодар - Успенка - гр. РФ" участок "Жезказган-Караганды"
C39: Реконструкция и проектно-изыскательские работы автомобильной дороги республиканского значения «Атырау - Уральск» | E39: 270000 | H39: 566584 | J39: 70000000
C40: Реконструкция и проектно-изыскательские работы автомобильной дороги республиканского значения "Гр. РФ (на Орск) - Актобе - Атырау -гр. РФ ( на Астрахань)"
...

Sheet по комитетам
A1: Информация по проекту бюджета Министерства транспорта РК на 2026-2028 годы
H2: тыс. тенге
A3: Программа | B3: Подпрограмма | C3: Наименование | E3: Скор-ный бюджет на 2025 год | F3: Поддержка МФ | I3: Примечание
F4: 2026 год | G4: 2027 год | H4: 2028 год
A5: ВСЕГО по Министерству: | E5: =E12+E561+E584+E605+E612 -> 1153717864 | F5: =F12+F561+F584+F605+F612 -> 887631275 | G5: =G12+G561+G584+G605+G612 -> 5.4849382e+08 | H5: =H12+H561+H584+H605+H612 -> 5.6568526e+08 | I5: Имеются | J5: Не хватает | K5: 739586309 | L5: 548493817 | M5: 584796646
A6: 001 | C6: Формирование и реализация политики государства в области транспорта и коммуникаций | E6: =E7+E8+E9+E10+E11 -> 13051817 | F6: =SUM(F7:F11) -> 10827650 | G6: =SUM(G7:G11) -> 10296063 | H6: =SUM(H7:H11) -> 10297353 | K6: =F5-K5 -> 148044966 | L6: =G5-L5 -> -0.029999971 | M6: =H5-M5 -> -19111388
B7: 100 | C7: Обеспечение деятельности уполномоченного органа в области транспорта и коммуникаций | E7: =E14+E563+E586+E607+E614 -> 1686238 | F7: =F14+F563+F586+F607+F614-O7 -> 1611564 | G7: =G14+G563+G586+G607+G614-P7 -> 1422517 | H7: =H14+H563+H586+H607+H614-Q7 -> 1422807 | K7: 1611564 | L7: 1422517 | M7: 1422807
B8: 104 | C8: Обеспечение функционирования информационных систем и информационно-техническое обеспечение государственных органов | E8: =E15+E564+E587+E608+E615 -> 1304815 | F8: =F15+F564+F587+F608+F615-O8 -> 1064596 | G8: =G15+G564+G587+G608+G615-P8 -> 730881 | H8: =H15+H564+H587+H608+H615-Q8 -> 731881 | K8: 1064596 | L8: 730881 | M8: 731881
B9: 105 | C9: Содержание здания административно-технологического комплекса «Transport tower» | E9: =E16+E565+E609+E616 -> 2734713 | F9: =F16+F565+F588+F609+F616-O9 -> 911857 | G9: =G16+G565+G588+G609+G616-P9 -> 915002 | H9: =H16+H565+H588+H609+H616-Q9 -> 915002 | K9: 911857 | L9: 915002 | M9: 915002
B10: 111 | C10: Капитальные расходы Министерства транспорта Республики Казахстан | E10: =E17+E566+E588+E610+E617 -> 781649
B11: 123 | C11: Текущие административные расходы | E11: =E18+E567+E589+E611+E618 -> 6544402 | F11: 7239633 | G11: 7227663 | H11: 7227663.4
A12: Комитет автомобильных дорог | E12: =E13+E19+E73+E383+E384+E468+E494 -> 605063151 | F12: =F13+F19+F73+F383+F384+F468+F494 -> 555353127 | G12: =G13+G19+G73+G383+G384+G468+G494 -> 349627218 | H12: =H13+H19+H73+H383+H384+H468+H494 -> 339312602
A13: 001 | C13: Формирование и реализация политики государства в области транспорта и коммуникаций | E13: =E14+E15+E16+E17+E18 -> 638880 | F13: =F14+F15+F16+F17+F18 -> 695371 | G13: =G14+G15+G16+G17+G18 -> 517844 | H13: =H14+H15+H16+H17+H18 -> 515626
B14: 100 | C14: Обеспечение деятельности уполномоченного органа в области транспорта и коммуникаций | E14: 154751 | F14: 211724 | G14: 34197 | H14: 31979
B15: 104 | C15: Обеспечение функционирования информационных систем и информационно-техническое обеспечение государственных органов | E15: 28386 | F15: 9718 | G15: 9718 | H15: 9718
B16: 105 | C16: Содержание административных зданий
B17: 111 | C17: Капитальные расходы Министерства транспорта Республики Казахстан | E17: 14818
B18: 123 | C18: Текущие административные расходы | E18: 440925 | F18: 473929 | G18: 473929 | H18: 473929
A19: 003 | C19: Развитие автомобильных дорог на республиканском уровне | E19: =E20+E27+E47+E54 -> 181388263 | F19: =F20+F27+F47+F54 -> 48549503 | G19: =G20+G27+G47+G54 -> 13503668 | H19: =H20+H27+H47+H54 -> 1156266
B20: 004 | C20: За счет внешних займов | E20: =SUM(E21:E26) -> 72250000 | F20: =SUM(F21:F26) -> 9362750 | G20: =SUM(G21:G26) -> 0 | H20: =SUM(H21:H26) -> 0
C21: Реконструкция автомобильной дороги республиканского значения «Узынагаш - Отар» | D21: Ұзынағаш-Отар Республикалық маңызы бар автомобиль жолын қайта жаңарту | E21: 21250000 | F21: 5707750 | I21: гэ, приказ, ил, оз, эз, согл займ
C22: Реконструкция и проектно-изыскательские работы коридора Центр-Юг «Астана - Караганда - Балхаш - Курты - Капшагай - Алматы» участок «Курты - Бурылбайтал» | E22: 24650000
C23: Реконструкция и проектно-изыскательские работы коридора Центр-Юг «Астана - Караганда - Балхаш - Курты - Капшагай - Алматы» участок «Балхаш - Бурылбайтал» | D23: Астана-Қарағанды-Балқаш - Құрты - Қапшағай - Алматы Орталық - Оңтүстік дәлізін "Балқаш - Бурылбайтал"учаскесін қайта жаңарту және жобалау - іздестіру жұмыстары | E23: 26350000 | F23: 3655000 | I23: гэ, приказ, ил, оз, эз, согл займ
C24: Реконструкция автомобильной дороги республиканского значения «Гр. РФ (на Орск) - Актобе - Атырау - гр. РФ (на Астрахань)» участок «Кандыагаш - Макат» | E24: 0 | F24: 0
C25: Реконструкция и проектно-изыскательские работы международного транзитного коридора «Западная Европа - Западный Китай» | E25: 0 | F25: 0
C26: Строительство Восточного обхода г.Туркестан | E26: 0 | F26: 0
B27: 005 | C27: За счет внутренних источников | E27: =SUM(E28:E46) -> 0 | F27: =SUM(F28:F46) -> 37534503 | G27: =SUM(G28:G46) -> 13503668 | H27: =SUM(H28:H46) -> 1156266
C28: РП «Реконструкция автомобильной дороги республиканского значения М-51 «гр. РФ (на Челябинск)-гр. РФ (на Новосибирск) через г.г. Петропавловск, Омск» км 465-525 на участке транзитного коридора «Щучинск-Кокшетау-Петропавловск-гр. РФ, II участок км 496-465» Корректировка сметной документации | E28: 0 | F28: 0
C29: «Реконструкция автомобильной дороги республиканского значения М-51 «гр. РФ (на Челябинск)-гр. РФ (на Новосибирск) через г.г. Петропавловск, Омск» км 465-525 на участке транзитного коридора «Щучинск-Кокшетау-Петропавловск-гр. РФ, II участок км 496-465». Корректировка сметной документации»" | D29: «Республикалық маңызы бар «Щучинск – Көкшетау – Петропавл – РФ шекарасы» транзиттік дәлізі учаскесінде 465-525 км Петропавл, Омск қалалары арқылы РФ шекарасы (Челябинскіге) - РФ шекарасы (Новосибирскке) М-51 автомобиль жолын реконструкциялау», II учаске, 496-465 км». Сметалық құжаттаманы түзету» | F29: 927459 | I29: гэ, приказ, отраслевое заключение | J29: Эконом заключение, информ лист
C30: «Реконструкция коридора Центр - Восток «Астана – Павлодар – Калбатау – Усть - Каменогорск», участок автомобильной дороги «Павлодар - Семей» км 419-432. «Строительство ДЭУ-62 (производственная база)» | D30: "Орталық – Шығыс дәлізі «Астана – Павлодар – Қалбатау – Өскемен», 419-432 км «Павлодар – Семей» автомобиль жолының учаскесін реконструкциялау. «ЖПУ-62 салу (өндірістік база)» | E30: 0 | F30: 38850 | I30: гэ, приказ, отраслевое закл, эконом закл, пояснительная записка | J30: информ лист
C31: "Строительство моста через р. Иртыш на автомобильной дороге республиканского значения «Кызылорда-Павлодар_x0002_Успенка-гр.РФ» км1381". Корректировка | D31: «1381 км «Қызылорда – Павлодар – Успенка – РФ шекарасы» республикалық маңызы бар автомобиль жолында Ертіс өзені арқылы өтетін көпір салу». Түзету жоба | E31: 0 | F31: 18959080 | I31: ГЭ, приказ, отраслевое закл, эконом закл, информ лист
C32: Реконструкция и проектно-изыскательские работы коридора Центр-Юг "Астана- Караганда-Балхаш-Курты-Капшагай-Алматы" | E32: 0 | F32: 0
C33: Реконструкция автомобильной дороги руспубликанского значения "Усть-Каменогорск- Зыряновск- Большенарымское- Катон-Карагай- Рахмановские ключи" | D33: «Өскемен – Зыряновск – Үлкен Нарын – Катон-Қарағай – Рахман қайнары» республикалық маңызы бар автомобиль жолын реконструкциялау | E33: 0 | F33: 989857 | I33: ГЭ, приказ, отраслевое закл, ТЭО, пояснительная записка | J33: Эконом заключение, информ лист
C34: Реконструкция и проектно-изыскательские работы автомобильной дороги республиканского значения "Карабутак-Комсомольское-Денисовка-Рудный-Костанай" | E34: 0 | F34: 0
C35: Реконструкция и проектно-изыскательские работы автомобильной дороги республиканского значения "Ушарал-Достык" | E35: 0 | F35: 0
C36: Реконструкция и проектно-изыскательские работы автомобильной дороги республиканского значения "Кызылорда - Павлодар - Успенка - гр. РФ" участок "Жезказган-Караганды" | E36: 0 | F36: 0
C37: Реконструкция и проектно-изыскательские работы автомобильной дороги республиканского значения «Атырау - Уральск» | E37: 0 | F37: 0
C38: Реконструкция и проектно-изыскательские работы автомобильной дороги республиканского значения "Гр. РФ (на Орск) - Актобе - Атырау -гр. РФ ( на Астрахань)" | E38: 0 | F38: 0
C39: Реконструкция и проектно-изыскательские работы автомобильной дороги республиканского значения «Подстепное - Федоровка - гр. РФ» 0-144 км | D39: Республикалық маңызы бар "Подстепное - Федоровка - гр. РФ " 0-144 км | E39: 0 | F39: 2619257 | I39: ГЭ, приказ, отраслевое закл, ТЭО, эконом закл | J39: информ лист
C40: Реконструкция и проектно-изыскательские работы автомобильной дороги республиканского значения "Семей - Усть-Каменогорск" протяженностью 195 км" | E40: 0 | F40: 0
...

Sheet по комитетам (2)
A1: Информация по проекту бюджета Министерства транспорта РК на 2026-2028 годы
G2: тыс. тенге
A3: Программа | B3: Подпрограмма | C3: Наименование | D3: Скор-ный бюджет на 2025 год | E3: Поддержка МФ | H3: Примечание
E4: 2026 год | F4: 2027 год | G4: 2028 год
A5: ВСЕГО по Министерству: | D5: =D12+D549+D570+D588+D595 -> 605063151 | E5: =E12+E549+E570+E588+E595 -> 421247206 | F5: =F12+F549+F570+F588+F595 -> 349627218 | G5: =G12+G549+G570+G588+G595 -> 358423990 | H5: Имеются | I5: Не хватает | J5: 669974096 | K5: 548624202 | L5: 584930948
A6: 001 | C6: Формирование и реализация политики государства в области транспорта и коммуникаций | D6: =D7+D8+D9+D10+D11 -> 638880 | E6: =SUM(E7:E11) -> 10877207 | F6: =SUM(F7:F11) -> 10426448 | G6: =SUM(G7:G11) -> 10431655 | J6: =E5-J5 -> -248726890 | K6: =F5-K5 -> -198996984 | L6: =G5-L5 -> -226506958
B7: 100 | C7: Обеспечение деятельности уполномоченного органа в области транспорта и коммуникаций | D7: =D14+D551+D572+D590+D597 -> 154751 | E7: 1642007 | F7: 1452553 | G7: 1458479
B8: 104 | C8: Обеспечение функционирования информационных систем и информационно-техническое обеспечение государственных органов | D8: =D15+D552+D573+D591+D598 -> 28386 | E8: 1070904 | F8: 831230 | G8: 830511
B9: 105 | C9: Содержание здания административно-технологического комплекса «Transport tower» | D9: =D16+D553+D592+D599 -> 0 | E9: 924663 | F9: 915002 | G9: 915002
B10: 111 | C10: Капитальные расходы Министерства транспорта Республики Казахстан | D10: =D17+D554+D574+D593+D600 -> 14818
B11: 123 | C11: Текущие административные расходы | D11: =D18+D555+D575+D594+D601 -> 440925 | E11: 7239633 | F11: 7227663 | G11: 7227663.4
A12: Комитет автомобильных дорог | D12: =D13+D19+D73+D383+D384+D468+D494 -> 605063151 | E12: =E13+E19+E73+E383+E384+E468+E494 -> 421247206 | F12: =F13+F19+F73+F383+F384+F468+F494 -> 349627218 | G12: =G13+G19+G73+G383+G384+G468+G494 -> 358423990
A13: 001 | C13: Формирование и реализация политики государства в области транспорта и коммуникаций | D13: =D14+D15+D16+D17+D18 -> 638880 | E13: =E14+E15+E16+E17+E18 -> 695371 | F13: =F14+F15+F16+F17+F18 -> 517844 | G13: =G14+G15+G16+G17+G18 -> 515626
B14: 100 | C14: Обеспечение деятельности уполномоченного органа в области транспорта и коммуникаций | D14: 154751 | E14: 211724 | F14: 34197 | G14: 31979
B15: 104 | C15: Обеспечение функционирования информационных систем и информационно-техническое обеспечение государственных органов | D15: 28386 | E15: 9718 | F15: 9718 | G15: 9718
B16: 105 | C16: Содержание административных зданий
B17: 111 | C17: Капитальные расходы Министерства транспорта Республики Казахстан | D17: 14818
B18: 123 | C18: Текущие административные расходы | D18: 440925 | E18: 473929 | F18: 473929 | G18: 473929
A19: 003 | C19: Развитие автомобильных дорог на республиканском уровне | D19: =D20+D27+D47+D54 -> 181388263 | E19: =E20+E27+E47+E54 -> 48549503 | F19: =F20+F27+F47+F54 -> 13503668 | G19: =G20+G27+G47+G54 -> 1156266
B20: 004 | C20: За счет внешних займов | D20: =SUM(D21:D26) -> 72250000 | E20: =SUM(E21:E26) -> 9362750 | F20: =SUM(F21:F26) -> 0 | G20: =SUM(G21:G26) -> 0
C21: Реконструкция автомобильной дороги республиканского значения «Узынагаш - Отар» | D21: 21250000 | E21: 5707750 | H21: гэ, приказ, ил, оз, эз, согл займ
C22: Реконструкция и проектно-изыскательские работы коридора Центр-Юг «Астана - Караганда - Балхаш - Курты - Капшагай - Алматы» участок «Курты - Бурылбайтал» | D22: 24650000
C23: Реконструкция и проектно-изыскательские работы коридора Центр-Юг «Астана - Караганда - Балхаш - Курты - Капшагай - Алматы» участок «Балхаш - Бурылбайтал» | D23: 26350000 | E23: 3655000 | H23: гэ, приказ, ил, оз, эз, согл займ
C24: Реконструкция автомобильной дороги республиканского значения «Гр. РФ (на Орск) - Актобе - Атырау - гр. РФ (на Астрахань)» участок «Кандыагаш - Макат» | D24: 0 | E24: 0
C25: Реконструкция и проектно-изыскательские работы международного транзитного коридора «Западная Европа - Западный Китай» | D25: 0 | E25: 0
C26: Строительство Восточного обхода г.Туркестан | D26: 0 | E26: 0
B27: 005 | C27: За счет внутренних источников | D27: =SUM(D28:D46) -> 0 | E27: =SUM(E28:E46) -> 37534503 | F27: =SUM(F28:F46) -> 13503668 | G27: =SUM(G28:G46) -> 1156266
C28: РП «Реконструкция автомобильной дороги республиканского значения М-51 «гр. РФ (на Челябинск)-гр. РФ (на Новосибирск) через г.г. Петропавловск, Омск» км 465-525 на участке транзитного коридора «Щучинск-Кокшетау-Петропавловск-гр. РФ, II участок км 496-465» Корректировка сметной документации | D28: 0 | E28: 0
C29: Реконструкция и проектно-изыскательские работы автомобильной дороги руспубликанского значения "Астана-Петропавловск" транзитного коридора "Боровое-Кокшетау-Петропавловск-граница РФ" | E29: 927459 | H29: гэ, приказ, отраслевое заключение | I29: Эконом заключение, информ лист
C30: Реконструкция и проектно-изыскательские работы коридора Центр-Восток "Астана- Павлодар- Калбатау- Усть-Каменогорск", в том числе Восточный обход г.Павлодар | D30: 0 | E30: 38850 | H30: гэ, приказ, отраслевое закл, эконом закл, пояснительная записка | I30: информ лист
C31: Строительство моста через р.Иртыш на автомобильной дороге республиканского значения "Кызылорда-Павлодар-Успенка-гр. РФ" км 1381 | D31: 0 | E31: 18959080 | H31: ГЭ, приказ, отраслевое закл, эконом закл, информ лист
C32: Реконструкция и проектно-изыскательские работы коридора Центр-Юг "Астана- Караганда-Балхаш-Курты-Капшагай-Алматы" | D32: 0 | E32: 0
C33: Реконструкция и проектно-изыскательские работы автомобильной дороги руспубликанского значения "Усть-Каменогорск- Зыряновск- Большенарымское- Катон-Карагай- Рахмановские ключи" | D33: 0 | E33: 989857 | H33: ГЭ, приказ, отраслевое закл, ТЭО, пояснительная записка | I33: Эконом заключение, информ лист
C34: Реконструкция и проектно-изыскательские работы автомобильной дороги республиканского значения "Карабутак-Комсомольское-Денисовка-Рудный-Костанай" | D34: 0 | E34: 0
C35: Реконструкция и проектно-изыскательские работы автомобильной дороги республиканского значения "Ушарал-Достык" | D35: 0 | E35: 0
C36: Реконструкция и проектно-изыскательские работы автомобильной дороги республиканского значения "Кызылорда - Павлодар - Успенка - гр. РФ" участок "Жезказган-Караганды" | D36: 0 | E36: 0
C37: Реконструкция и проектно-изыскательские работы автомобильной дороги республиканского значения «Атырау - Уральск» | D37: 0 | E37: 0
C38: Реконструкция и проектно-изыскательские работы автомобильной дороги республиканского значения "Гр. РФ (на Орск) - Актобе - Атырау -гр. РФ ( на Астрахань)" | D38: 0 | E38: 0
C39: Реконструкция и проектно-изыскательские работы автомобильной дороги республиканского значения "Уральск-Оренбург" участок "Подстепное-Федоровка- гр РФ. (на Илек)" протяженностью 144 км | D39: 0 | E39: 2619257 | H39: ГЭ, приказ, отраслевое закл, ТЭО, эконом закл | I39: информ лист
C40: Реконструкция и проектно-изыскательские работы автомобильной дороги республиканского значения "Семей - Усть-Каменогорск" протяженностью 195 км" | D40: 0 | E40: 0
...

Sheet по комитетам 1 cтр
A1: Информация по проекту бюджета Министерства транспорта РК на 2026-2028 годы
G2: тыс. тенге
A3: Программа | B3: Подпрограмма | C3: Наименование | D3: Скор-ный бюджет на 2025 год | E3: Поддержка МФ | H3: Примечание
E4: 2026 год | F4: 2027 год | G4: 2028 год
A5: ВСЕГО по Министерству: | D5: =D12+D549+D570+D589+D596 -> 1153717864 | E5: =E12+E549+E570+E589+E596 -> 669974096 | F5: =F12+F549+F570+F589+F596 -> 548624202 | G5: =G12+G549+G570+G589+G596 -> 584930948 | J5: 758035254 | K5: =D5-J5 -> 395682610
A6: 001 | C6: Формирование и реализация политики государства в области транспорта и коммуникаций | D6: =D7+D8+D9+D10+D11 -> 13051817 | E6: =E7+E8+E9+E10+E11 -> 17886404 | F6: =SUM(F7:F11) -> 14802805 | G6: =SUM(G7:G11) -> 14995366
B7: 100 | C7: Обеспечение деятельности уполномоченного органа в области транспорта и коммуникаций | D7: =D14+D551+D572+D591+D598 -> 1686238 | E7: 1983594 | F7: 1769186 | G7: 1793081
B8: 104 | C8: Обеспечение функционирования информационных систем и информационно-техническое обеспечение государственных органов | D8: =D15+D552+D573+D592+D599 -> 1304815 | E8: 1850319 | F8: 1581385 | G8: 1640509
B9: 105 | C9: Содержание здания административно-технологического комплекса «Transport tower» | D9: =D16+D553+D593+D600 -> 2734713 | E9: 2892050 | F9: 1112282 | G9: 1167000
B10: 111 | C10: Капитальные расходы Министерства транспорта Республики Казахстан | D10: =D17+D554+D574+D594+D601 -> 781649 | E10: 3145525 | F10: 2280115 | G10: 2280115
B11: 123 | C11: Текущие административные расходы | D11: =D18+D555+D575+D595+D602 -> 6544402 | E11: 8014916 | F11: 8059837 | G11: 8114661
A12: Комитет автомобильных дорог | D12: 605063151 | E12: 429488329 | F12: 344804874 | G12: 352200420
A13: 001 | C13: Формирование и реализация политики государства в области транспорта и коммуникаций | D13: =D14+D15+D16+D17+D18 -> 638880 | E13: 908415 | F13: 917094 | G13: 917094
B14: 100 | C14: Обеспечение деятельности уполномоченного органа в области транспорта и коммуникаций | D14: 154751 | E14: 115473 | F14: 119615 | G14: 119615
B15: 104 | C15: Обеспечение функционирования информационных систем и информационно-техническое обеспечение государственных органов | D15: 28386 | E15: 28237 | F15: 29466 | G15: 29466
B16: 105 | C16: Содержание административных зданий
B17: 111 | C17: Капитальные расходы Министерства транспорта Республики Казахстан | D17: 14818 | E17: 63667 | F17: 50995 | G17: 50995
B18: 123 | C18: Текущие административные расходы | D18: 440925 | E18: 701038 | F18: 717018 | G18: 717018
A19: 003 | C19: Развитие автомобильных дорог на республиканском уровне | D19: =D20+D27+D47+D54 -> 181388263 | E19: =E20+E27+E47+E54 -> 51815841 | F19: =F20+F27+F47+F54 -> 20460229 | G19: =G20+G27+G47+G54 -> 20460229
B20: 004 | C20: За счет внешних займов | D20: =SUM(D21:D26) -> 72250000 | E20: =SUM(E21:E26) -> 9362750 | F20: =SUM(F21:F26) -> 0 | G20: =SUM(G21:G26) -> 0
C21: Реконструкция автомобильной дороги республиканского значения «Узынагаш - Отар» | D21: 21250000 | E21: 5707750
C22: Реконструкция и проектно-изыскательские работы коридора Центр-Юг «Астана - Караганда - Балхаш - Курты - Капшагай - Алматы» участок «Курты - Бурылбайтал» | D22: 24650000
C23: Реконструкция и проектно-изыскательские работы коридора Центр-Юг «Астана - Караганда - Балхаш - Курты - Капшагай - Алматы» участок «Балхаш - Бурылбайтал» | D23: 26350000 | E23: 3655000
C24: Реконструкция автомобильной дороги республиканского значения «Гр. РФ (на Орск) - Актобе - Атырау - гр. РФ (на Астрахань)» участок «Кандыагаш - Макат» | D24: 0 | E24: 0
C25: Реконструкция и проектно-изыскательские работы международного транзитного коридора «Западная Европа - Западный Китай» | D25: 0 | E25: 0
C26: Строительство Восточного обхода г.Туркестан | D26: 0 | E26: 0
B27: 005 | C27: За счет внутренних источников | D27: =SUM(D28:D46) -> 0 | E27: 40800841 | F27: 20460229 | G27: 20460229
C28: РП «Реконструкция автомобильной дороги республиканского значения М-51 «гр. РФ (на Челябинск)-гр. РФ (на Новосибирск) через г.г. Петропавловск, Омск» км 465-525 на участке транзитного коридора «Щучинск-Кокшетау-Петропавловск-гр. РФ, II участок км 496-465» Корректировка сметной документации | D28: 0 | E28: 0
C29: Реконструкция и проектно-изыскательские работы автомобильной дороги руспубликанского значения "Астана-Петропавловск" транзитного коридора "Боровое-Кокшетау-Петропавловск-граница РФ"
C30: Реконструкция и проектно-изыскательские работы коридора Центр-Восток "Астана- Павлодар- Калбатау- Усть-Каменогорск", в том числе Восточный обход г.Павлодар | D30: 0 | E30: 0
C31: Строительство моста через р.Иртыш на автомобильной дороге республиканского значения "Кызылорда-Павлодар-Успенка-гр. РФ" км 1381 | D31: 0 | E31: 0
C32: Реконструкция и проектно-изыскательские работы коридора Центр-Юг "Астана- Караганда-Балхаш-Курты-Капшагай-Алматы" | D32: 0 | E32: 0
C33: Реконструкция и проектно-изыскательские работы автомобильной дороги руспубликанского значения "Усть-Каменогорск- Зыряновск- Большенарымское- Катон-Карагай- Рахмановские ключи" | D33: 0 | E33: 0
C34: Реконструкция и проектно-изыскательские работы автомобильной дороги республиканского значения "Карабутак-Комсомольское-Денисовка-Рудный-Костанай" | D34: 0 | E34: 0
C35: Реконструкция и проектно-изыскательские работы автомобильной дороги республиканского значения "Ушарал-Достык" | D35: 0 | E35: 0
