Workbook
Name _№: #REF!
Name _№: #REF!
Name _№: #REF!
Name _№: #REF!
Name _№: #REF!
Name _№: #REF!
Name _№: #REF!
Name _№: #REF!
Name _№: #REF!
Name _№: #REF!
Name BuiltIn_Print_Titles: #N/A
Name BuiltIn_Print_Titles___0: #N/A
Name АБП: '[1]Служебный ФКРБ'!$A$2:$A$131
Name Администратор_бюджетных_программ: #REF!
Name Администратор_бюджетных_программ: #REF!
Name Администратор_бюджетных_программ: #REF!
Name Администратор_бюджетных_программ: #REF!
Name Администратор_бюджетных_программ: #REF!
Name Администратор_бюджетных_программ: #REF!
Name Администратор_бюджетных_программ: #REF!
Name Администратор_бюджетных_программ: #REF!
Name Администратор_бюджетных_программ: #REF!
Name Администратор_бюджетных_программ: #REF!
Name вав: '[2]Тип пункта плана'!$A$1:$A$3
Name ВидПредмета: '[1]Вид предмета'!$A$1:$A$3
Name Всего_накоплений_женщины: #REF!
Name Всего_накоплений_женщины: #REF!
Name Всего_накоплений_женщины: #REF!
Name Всего_накоплений_женщины: #REF!
Name Всего_накоплений_женщины: #REF!
Name Всего_накоплений_женщины: #REF!
Name Всего_накоплений_женщины: #REF!
Name Всего_накоплений_женщины: #REF!
Name Всего_накоплений_женщины: #REF!
Name Всего_накоплений_женщины: #REF!
Name Всего_накоплений_мужчины: #REF!
Name Всего_накоплений_мужчины: #REF!
Name Всего_накоплений_мужчины: #REF!
Name Всего_накоплений_мужчины: #REF!
Name Всего_накоплений_мужчины: #REF!
Name Всего_накоплений_мужчины: #REF!
Name Всего_накоплений_мужчины: #REF!
Name Всего_накоплений_мужчины: #REF!
Name Всего_накоплений_мужчины: #REF!
Name Всего_накоплений_мужчины: #REF!
Name гз: '[2]Вид предмета'!$A$1:$A$3
Name Год: [1]Год!$A$1:$A$3
Name Источник: '[1]Источник финансирования'!$A$1:$A$6
Name июнь: [2]Месяцы!$A$1:$A$13
Name КАТО: #REF!
Name КАТО: #REF!
Name КАТО: #REF!
Name КАТО: #REF!
Name КАТО: #REF!
Name КАТО: #REF!
Name КАТО: #REF!
Name КАТО: #REF!
Name КАТО: #REF!
Name КАТО: #REF!
Name Код: #REF!

Sheet 1.02.
F1: 2026 жылғы қаңтар айына арналған талдау
A3: Әкім шісі | B3: ММ коды | C3: Бағдарлама | D3: Кіші бағда лама | E3: Ерекшілік | F3: Шығыстардың атауы | G3: 2026 жылға арналған қаржы жоспары | H3: Жыл басынан бастап қаржыландыру жоспары | J3: Жыл басынан бері қабылданған міндеттемелердің жалпы сомасы | K3: Орындалған міндеттемелер | N3: 30.02.2026 қалдық | O3: % игерілуі | P3: Өтелмеген қабылданған міндеттемелер | Q3: Жвл басынан берң қабылданбаған міндеттемелер көлемі (міндеттемелер жоспарына қатысты қалған қаражат) | R3: ожидаемое освоение до конца года | S3: Жоспардан ауытқу , орындалудың күтілімі
H4: міндеттемелер | I4: төлемдер | K4: Бұрын төленген айлар | L4: ғымдағы ай үшін | M4: Жыл басынан бері
A5: 256 | F5: Облыстың жұмыспен қамтуды үйлестіру және әлеуметтік бағдарламалар басқармасы | G5: =G6+G99+G119+G142+G168+G192+G216+G262 -> 17032809 | H5: =H6+H99+H119+H142+H168+H192+H216+H262 -> 760798 | I5: =I6+I99+I119+I142+I168+I192+I216+I262 -> 531663 | J5: =J6+J99+J119+J142+J168+J192+J216+J262 -> 523590.88 | K5: =K6+K99+K119+K142+K168+K192+K216+K262 -> 0 | L5: =L6+L99+L119+L142+L168+L192+L216+L262 -> 522433.2 | M5: =M6+M99+M119+M142+M168+M192+M216+M262 -> 522433.2 | N5: =N6+N99+N119+N142+N168+N192+N216+N262 -> 9229.7963 | O5: =M5/I5*100 -> 98.263976 | P5: =J5-M5 -> 1157.6794 | Q5: =H5-J5 -> 237207.12 | R5: 1103576 | S5: =G5-M5 -> 16510376
B6: 1261 | F6: "Жұмыспен қамтуды үйлестіру және бюджеттік бағдарламалар басқармасы" ММ | G6: =G7+G13+G34+G38+G41+G44+G92+G96 -> 5070963 | H6: =H7+H13+H34+H38+H41+H44+H92+H96 -> 510063 | I6: =I7+I13+I34+I38+I41+I44+I92+I96 -> 305392 | J6: =J7+J13+J34+J38+J41+J44+J92+J96 -> 305263.96 | K6: =K7+K13+K34+K38+K41+K44+K92+K96 -> 0 | L6: =L7+L13+L34+L38+L41+L44+L92+L96 -> 305263.96 | M6: =M7+M13+M34+M38+M41+M44+M92+M96 -> 305263.96 | N6: =N7+N13+N34+N38+N41+N44+N92+N96 -> 128.03509 | O6: =M6/I6*100 -> 99.958075 | P6: =J6-M6 -> 0 | Q6: =H6-J6 -> 204799.04 | R6: 1103577 | S6: =G6-M6 -> 4765699
C7: 003 | F7: Мүгедектігі бар адамдарға әлеуметтік қолдау | G7: =G8+G10 -> 2180255 | H7: =H8+H10 -> 166745 | I7: =I8+I10 -> 165000 | J7: =J8+J10 -> 164988.71 | K7: =K8+K10 -> 0 | L7: =L8+L10 -> 164988.71 | M7: =M8+M10 -> 164988.71 | N7: =N8+N10 -> 11.29227 | O7: =M7/I7*100 -> 99.993156 | P7: =J7-M7 -> 0 | Q7: =H7-J7 -> 1756.2923 | R7: 1103578 | S7: =G7-M7 -> 2015266.3
D8: 102 | F8: Мүгедектігі бар адамды оңалтудың жеке бағдарламасына сәйкес мүгедектігі бар адамдардың және мүгедектігі бар балалардың санаторлық-курорттық емделуін қамтамасыз ету | G8: =G9 -> 2014974 | H8: =H9 -> 150000 | I8: =I9 -> 150000 | J8: =J9 -> 150000 | K8: =K9 -> 0 | L8: =L9 -> 150000 | M8: =M9 -> 150000 | N8: =N9 -> 0 | O8: =M8/I8*100 -> 100 | P8: =J8-M8 -> 0 | Q8: =H8-J8 -> 0 | R8: 1103579 | S8: =G8-M8 -> 1864974
E9: 322 | F9: Жеке тұлғаларға берілетін трансферттер | G9: 2014974 | H9: 150000 | I9: 150000 | J9: =M9 -> 150000 | L9: 150000 | M9: =K9+L9 -> 150000 | N9: =I9-M9 -> 0 | O9: =M9/I9*100 -> 100 | P9: =J9-M9 -> 0 | Q9: =H9-J9 -> 0 | R9: 1103580 | S9: =G9-M9 -> 1864974 | T9: =G9-J9 -> 1864974
D10: 106 | F10: Протездеу,үйрету жөнінде медициналық қызметтер көрсету протездік-ортопедиялық құралдарымен және оларды пайдалануды қамтамасыз ету | G10: =G11+G12 -> 165281 | H10: =H11+H12 -> 16745 | I10: =I11+I12 -> 15000 | J10: =J11+J12 -> 14988.708 | K10: =K11+K12 -> 0 | L10: =L11+L12 -> 14988.708 | M10: =M11+M12 -> 14988.708 | N10: =N11+N12 -> 11.29227 | O10: =M10/I10*100 -> 99.924718 | P10: =J10-M10 -> 0 | Q10: =H10-J10 -> 1756.2923 | R10: 1103581 | S10: =G10-M10 -> 150292.29 | T10: =G10-J10 -> 150292.29
E11: 159 | F11: Өзге де қызметтер мен жұмыстарға ақы төлеу | G11: 1745 | H11: 1745 | J11: =M11 -> 0 | M11: =K11+L11 -> 0 | N11: =I11-M11 -> 0 | O11: =M11/I11*100 -> #DIV/0! | P11: =J11-M11 -> 0 | Q11: =H11-J11 -> 1745 | R11: 1103582 | S11: =G11-M11 -> 1745 | T11: =G11-J11 -> 1745
E12: 322 | F12: Жеке тұлғаларға берілетін трансферттер | G12: 163536 | H12: 15000 | I12: 15000 | J12: =M12 -> 14988.708 | L12: 14988.708 | M12: =K12+L12 -> 14988.708 | N12: =I12-M12 -> 11.29227 | O12: =M12/I12*100 -> 99.924718 | P12: =J12-M12 -> 0 | Q12: =H12-J12 -> 11.29227 | R12: 1103583 | S12: =G12-M12 -> 148547.29 | T12: =G12-J12 -> 148547.29
C13: 001 | F13: Жергілікті деңгейде жұмыспен қамтуды қамтамасыз ету және халық үшін әлеуметтік бағдарламаларды іске асыру саласында мемлекеттік саясатты іске асыру жөніндегі қызметтер | G13: =G14 -> 260651 | H13: =H14 -> 15392 | I13: =I14 -> 15392 | J13: =J14 -> 15275.257 | K13: =K14 -> 0 | L13: =L14 -> 15275.257 | M13: =M14 -> 15275.257 | N13: =N14 -> 116.74282 | O13: =M13/I13*100 -> 99.241536 | P13: =J13-M13 -> 0 | Q13: =H13-J13 -> 116.74282 | R13: 1103584 | S13: =G13-M13 -> 245375.74 | T13: =G13-J13 -> 245375.74
D14: 015 | F14: Жергілікті бюджет қаражаты есебінен | G14: =SUM(G15:G33) -> 260651 | H14: =SUM(H15:H33) -> 15392 | I14: =SUM(I15:I33) -> 15392 | J14: =SUM(J15:J33) -> 15275.257 | K14: =SUM(K15:K33) -> 0 | L14: =SUM(L15:L33) -> 15275.257 | M14: =SUM(M15:M33) -> 15275.257 | N14: =SUM(N15:N33) -> 116.74282 | O14: =M14/I14*100 -> 99.241536 | P14: =J14-M14 -> 0 | Q14: =H14-J14 -> 116.74282 | R14: 1103585 | S14: =G14-M14 -> 245375.74 | T14: =G14-J14 -> 245375.74
E15: 111 | F15: Еңбек ақы | G15: 121539 | H15: 10000 | I15: 10000 | J15: =M15 -> 10000 | L15: 10000 | M15: =K15+L15 -> 10000 | N15: =I15-M15 -> 0 | O15: =M15/I15*100 -> 100 | P15: =J15-M15 -> 0 | Q15: =H15-J15 -> 0 | R15: 1103586 | S15: =G15-M15 -> 111539 | T15: =G15-J15 -> 111539
E16: 112 | F16: Қосымша ақшалай төлімдер | G16: 17318 | J16: =M16 -> 0 | M16: =K16+L16 -> 0 | N16: =I16-M16 -> 0 | O16: =M16/I16*100 -> #DIV/0! | P16: =J16-M16 -> 0 | Q16: =H16-J16 -> 0 | R16: 1103587 | S16: =G16-M16 -> 17318 | T16: =G16-J16 -> 17318
E17: 113 | F17: Өтемақы төлемдері | G17: 20256 | H17: 814 | I17: 814 | J17: =M17 -> 813.428 | L17: 813.428 | M17: =K17+L17 -> 813.428 | N17: =I17-M17 -> 0.572 | O17: =M17/I17*100 -> 99.92973 | P17: =J17-M17 -> 0 | Q17: =H17-J17 -> 0.572 | R17: 1103588 | S17: =G17-M17 -> 19442.572 | T17: =G17-J17 -> 19442.572
E18: 116 | F18: Жұмыс берушінің міндетті зейнетақы жарналары | G18: 4860 | H18: 300 | I18: 300 | J18: =M18 -> 275.508 | L18: 275.508 | M18: =K18+L18 -> 275.508 | N18: =I18-M18 -> 24.492 | O18: =M18/I18*100 -> 91.836 | P18: =J18-M18 -> 0 | Q18: =H18-J18 -> 24.492 | R18: 1103589 | S18: =G18-M18 -> 4584.492 | T18: =G18-J18 -> 4584.492
E19: 121 | F19: Әлеуметтік салық | G19: 8331 | H19: 528 | I19: 528 | J19: =M19 -> 528 | L19: 528 | M19: =K19+L19 -> 528 | N19: =I19-M19 -> 0 | O19: =M19/I19*100 -> 100 | P19: =J19-M19 -> 0 | Q19: =H19-J19 -> 0 | R19: 1103590 | S19: =G19-M19 -> 7803 | T19: =G19-J19 -> 7803
E20: 122 | F20: Мемлекеттік әлеуметтік сақтандыру қорына әлеуметтік аударымдар | G20: 6943 | H20: 440 | I20: 440 | J20: =M20 -> 440 | L20: 440 | M20: =K20+L20 -> 440 | N20: =I20-M20 -> 0 | O20: =M20/I20*100 -> 100 | P20: =J20-M20 -> 0 | Q20: =H20-J20 -> 0 | R20: 1103591 | S20: =G20-M20 -> 6503 | T20: =G20-J20 -> 6503
E21: 123 | F21: Міндетті сақтандыру жарналары | G21: 63 | J21: =M21 -> 0 | M21: =K21+L21 -> 0 | N21: =I21-M21 -> 0 | O21: =M21/I21*100 -> #DIV/0! | P21: =J21-M21 -> 0 | Q21: =H21-J21 -> 0 | R21: 1103592 | S21: =G21-M21 -> 63 | T21: =G21-J21 -> 63
E22: 124 | F22: Міндетті әлеуметтік медициналық сақтандыруға аударымдар | G22: 4166 | H22: 300 | I22: 300 | J22: =M22 -> 245.426 | L22: 245.426 | M22: =K22+L22 -> 245.426 | N22: =I22-M22 -> 54.574 | O22: =M22/I22*100 -> 81.808667 | P22: =J22-M22 -> 0 | Q22: =H22-J22 -> 54.574 | R22: 1103593 | S22: =G22-M22 -> 3920.574 | T22: =G22-J22 -> 3920.574
E23: 131 | F23: Техникалық персоналдың еңбегіне ақы төлеу | G23: 19333 | H23: 1200 | I23: 1200 | J23: =M23 -> 1200 | L23: 1200 | M23: =K23+L23 -> 1200 | N23: =I23-M23 -> 0 | O23: =M23/I23*100 -> 100 | P23: =J23-M23 -> 0 | Q23: =H23-J23 -> 0 | R23: 1103594 | S23: =G23-M23 -> 18133 | T23: =G23-J23 -> 18133
E24: 135 | F24: Техникалық персонал бойынша жұмыс берушілердің жарналары | G24: 3129 | H24: 135 | I24: 135 | J24: =M24 -> 135 | L24: 135 | M24: =K24+L24 -> 135 | N24: =I24-M24 -> 0 | O24: =M24/I24*100 -> 100 | P24: =J24-M24 -> 0 | Q24: =H24-J24 -> 0 | R24: 1103595 | S24: =G24-M24 -> 2994 | T24: =G24-J24 -> 2994
E25: 136 | F25: Техникалық персоналдың ел ішіндегі іс сапарлары мен қызметтік сапарлары | J25: =M25 -> 0 | M25: =K25+L25 -> 0 | N25: =I25-M25 -> 0 | O25: =M25/I25*100 -> #DIV/0! | P25: =J25-M25 -> 0 | Q25: =H25-J25 -> 0 | R25: 1103596 | S25: =G25-M25 -> 0 | T25: =G25-J25 -> 0
E26: 144 | F26: Отын, жанар-жағар май материалдарын сатып алу | G26: 2075 | J26: =M26 -> 0 | M26: =K26+L26 -> 0 | N26: =I26-M26 -> 0 | O26: =M26/I26*100 -> #DIV/0! | P26: =J26-M26 -> 0 | Q26: =H26-J26 -> 0 | R26: 1103597 | S26: =G26-M26 -> 2075 | T26: =G26-J26 -> 2075
E27: 149 | F27: Өзге де қорларды сатып алу | G27: 4170 | J27: =M27 -> 0 | M27: =K27+L27 -> 0 | N27: =I27-M27 -> 0 | O27: =M27/I27*100 -> #DIV/0! | P27: =J27-M27 -> 0 | Q27: =H27-J27 -> 0 | R27: 1103598 | S27: =G27-M27 -> 4170 | T27: =G27-J27 -> 4170
E28: 151 | F28: Коммуналдық қызметтерге ақы төлеу | G28: 10733 | H28: 1275 | I28: 1275 | J28: =M28 -> 1274.5352 | L28: 1274.5352 | M28: =K28+L28 -> 1274.5352 | N28: =I28-M28 -> 0.46482 | O28: =M28/I28*100 -> 99.963544 | P28: =J28-M28 -> 0 | Q28: =H28-J28 -> 0.46482 | R28: 1103599 | S28: =G28-M28 -> 9458.4648 | T28: =G28-J28 -> 9458.4648
E29: 152 | F29: Байланыс қызметтерiне ақы төлеу | G29: 7302 | J29: =M29 -> 0 | M29: =K29+L29 -> 0 | N29: =I29-M29 -> 0 | O29: =M29/I29*100 -> #DIV/0! | P29: =J29-M29 -> 0 | Q29: =H29-J29 -> 0 | R29: 1103600 | S29: =G29-M29 -> 7302 | T29: =G29-J29 -> 7302
E30: 158 | F30: Ақпараттандыру саласындағы жұмыстар мен қызметтерге ақы төлеу | G30: 730 | J30: =M30 -> 0 | M30: =K30+L30 -> 0 | N30: =I30-M30 -> 0 | O30: =M30/I30*100 -> #DIV/0! | P30: =J30-M30 -> 0 | Q30: =H30-J30 -> 0 | R30: 1103601 | S30: =G30-M30 -> 730 | T30: =G30-J30 -> 730
E31: 159 | F31: Өзге де қызметтер мен жұмыстарға ақы төлеу | G31: 2649 | J31: =M31 -> 0 | M31: =K31+L31 -> 0 | N31: =I31-M31 -> 0 | O31: =M31/I31*100 -> #DIV/0! | P31: =J31-M31 -> 0 | Q31: =H31-J31 -> 0 | R31: 1103602 | S31: =G31-M31 -> 2649 | T31: =G31-J31 -> 2649
E32: 161 | F32: Ел iшiндегi iссапарлар мен қызметтiк сапарлар | G32: 27054 | H32: 400 | I32: 400 | J32: =M32 -> 363.36 | L32: 363.36 | M32: =K32+L32 -> 363.36 | N32: =I32-M32 -> 36.64 | O32: =M32/I32*100 -> 90.84 | P32: =J32-M32 -> 0 | Q32: =H32-J32 -> 36.64 | R32: 1103603 | S32: =G32-M32 -> 26690.64 | T32: =G32-J32 -> 26690.64
E33: 169 | F33: Өзге де ағымдағы шығындар | J33: =M33 -> 0 | M33: =K33+L33 -> 0 | N33: =I33-M33 -> 0 | O33: =M33/I33*100 -> #DIV/0! | P33: =J33-M33 -> 0 | Q33: =H33-J33 -> 0 | R33: 1103604 | S33: =G33-M33 -> 0 | T33: =G33-J33 -> 0
C34: 007 | F34: Мемлекеттік органның күрделі шығыстары | G34: =G35+G36+G37 -> 0 | H34: =H35+H36+H37 -> 0 | I34: =I35+I36+I37 -> 0 | J34: =J35+J36+J37 -> 0 | K34: =K35+K36+K37 -> 0 | L34: =L35+L36+L37 -> 0 | M34: =M35+M36+M37 -> 0 | N34: =N35+N36+N37 -> 0 | O34: =M34/I34*100 -> #DIV/0! | P34: =J34-M34 -> 0 | Q34: =H34-J34 -> 0 | R34: 1103605 | S34: =G34-M34 -> 0 | T34: =G34-J34 -> 0
E35: 413 | F35: Көлік құралдарын сатып алу | M35: =K35+L35 -> 0 | O35: =M35/I35*100 -> #DIV/0! | P35: =J35-M35 -> 0 | Q35: =H35-J35 -> 0 | R35: 1103606 | S35: =G35-M35 -> 0 | T35: =G35-J35 -> 0
E36: 414 | F36: Машиналар, жабдықтар, өндірістік және шаруашылық мүккамал құралдарын сатып алу | J36: =M36 -> 0 | M36: =K36+L36 -> 0 | N36: =I36-M36 -> 0 | O36: =M36/I36*100 -> #DIV/0! | P36: =J36-M36 -> 0 | Q36: =H36-J36 -> 0 | R36: 1103607 | S36: =G36-M36 -> 0 | T36: =G36-J36 -> 0
E37: 419 | F37: Басқа негізгі құралдарды сатып алу | J37: =M37 -> 0 | M37: =K37+L37 -> 0 | N37: =I37-M37 -> 0 | O37: =M37/I37*100 -> #DIV/0! | P37: =J37-M37 -> 0 | Q37: =H37-J37 -> 0 | R37: 1103608 | S37: =G37-M37 -> 0
C38: 018 | F38: Үкіметтік емес ұйымдарда мемлекеттік әлеуметтік тапсырысты орналастыру | G38: =G39 -> 10400 | H38: =H39 -> 0 | I38: =I39 -> 0 | J38: =J39 -> 0 | K38: =K39 -> 0 | L38: =L39 -> 0 | M38: =M39 -> 0 | N38: =N39 -> 0 | O38: =M38/I38*100 -> #DIV/0! | P38: =J38-M38 -> 0 | Q38: =H38-J38 -> 0 | R38: 1103609 | S38: =G38-M38 -> 10400 | T38: =G38-J38 -> 10400
D39: 000 | G39: =G40 -> 10400 | H39: =H40 -> 0 | I39: =I40 -> 0 | J39: =J40 -> 0 | M39: =M40 -> 0 | N39: =N40 -> 0 | O39: =M39/I39*100 -> #DIV/0! | P39: =J39-M39 -> 0 | Q39: =H39-J39 -> 0 | R39: 1103610 | S39: =G39-M39 -> 10400 | T39: =G39-J39 -> 10400
E40: 155 | F40: Мемлекеттік әлеуметтік тапсырыс шеңберінде көрсетілетін қызметтерге ақы төлеу | G40: 10400 | H40: 0 | I40: 0 | J40: =M40 -> 0 | M40: =K40+L40 -> 0 | N40: =I40-M40 -> 0 | O40: =M40/I40*100 -> #DIV/0! | P40: =J40-M40 -> 0 | Q40: =H40-J40 -> 0 | R40: 1103611 | S40: =G40-M40 -> 10400 | T40: =G40-J40 -> 10400
C41: 031 | F41: Жергілікті атқарушы органдар төлейтін міндетті әлеуметтік медициналық сақтандыруға мемлекеттің жарналарына әлеуметтік медициналық сақтандыру қорына берілетін трансферттер | G41: =G42 -> 1064315 | H41: =H42 -> 0 | I41: =I42 -> 0 | J41: =J42 -> 0 | M41: =M42 -> 0 | N41: =N42 -> 0 | O41: =M41/I41*100 -> #DIV/0! | P41: =J41-M41 -> 0 | Q41: =H41-J41 -> 0 | R41: 1103612 | S41: =G41-M41 -> 1064315
...

Sheet 1.03.
F1: 2026 жылғы ақпан айына арналған талдау
A3: Әкім шісі | B3: ММ коды | C3: Бағдарлама | D3: Кіші бағда лама | E3: Ерекшілік | F3: Шығыстардың атауы | G3: 2026 жылға арналған қаржы жоспары | H3: Жыл басынан бастап қаржыландыру жоспары | J3: Жыл басынан бері қабылданған міндеттемелердің жалпы сомасы | K3: Орындалған міндеттемелер | N3: 30.02.2026 қалдық | O3: % игерілуі | P3: Өтелмеген қабылданған міндеттемелер | Q3: Жвл басынан берң қабылданбаған міндеттемелер көлемі (міндеттемелер жоспарына қатысты қалған қаражат) | R3: ожидаемое освоение до конца года | S3: Жоспардан ауытқу , орындалудың күтілімі
H4: міндеттемелер | I4: төлемдер | K4: Бұрын төленген айлар | L4: ғымдағы ай үшін | M4: Жыл басынан бері
A5: 256 | F5: Облыстың жұмыспен қамтуды үйлестіру және әлеуметтік бағдарламалар басқармасы | G5: =G6+G99+G119+G142+G168+G192+G216+G264 -> 17032809 | H5: =H6+H99+H119+H142+H168+H192+H216+H264 -> 2043774 | I5: =I6+I99+I119+I142+I168+I192+I216+I264 -> 1470903.4 | J5: =J6+J99+J119+J142+J168+J192+J216+J264 -> 1804501.5 | K5: =K6+K99+K119+K142+K168+K192+K216+K264 -> 522433.2 | L5: =L6+L99+L119+L142+L168+L192+L216+L264 -> 943053.58 | M5: =M6+M99+M119+M142+M168+M192+M216+M264 -> 1465486.8 | N5: =N6+N99+N119+N142+N168+N192+N216+N264 -> 5416.6188 | O5: =M5/I5*100 -> 99.631749 | P5: =J5-M5 -> 339014.68 | Q5: =H5-J5 -> 239272.54 | R5: 1103576 | S5: =G5-M5 -> 15567322
B6: 1261 | F6: "Жұмыспен қамтуды үйлестіру және бюджеттік бағдарламалар басқармасы" ММ | G6: =G7+G13+G34+G38+G41+G44+G92+G96 -> 5070963 | H6: =H7+H13+H34+H38+H41+H44+H92+H96 -> 745617.3 | I6: =I7+I13+I34+I38+I41+I44+I92+I96 -> 534657.6 | J6: =J7+J13+J34+J38+J41+J44+J92+J96 -> 551368.98 | K6: ='1.02.'!M6 -> 305263.96 | L6: =L7+L13+L34+L38+L41+L44+L92+L96 -> 225160.74 | M6: =M7+M13+M34+M38+M41+M44+M92+M96 -> 530424.71 | N6: =N7+N13+N34+N38+N41+N44+N92+N96 -> 4232.8902 | O6: =M6/I6*100 -> 99.208299 | P6: =J6-M6 -> 20944.269 | Q6: =H6-J6 -> 194248.32 | R6: 1103577 | S6: =G6-M6 -> 4540538.3
C7: 003 | F7: Мүгедектігі бар адамдарға әлеуметтік қолдау | G7: =G8+G10 -> 2180255 | H7: =H8+H10 -> 276745 | I7: =I8+I10 -> 275000 | J7: =J8+J10 -> 275753.77 | K7: ='1.02.'!M7 -> 164988.71 | L7: =L8+L10 -> 109575.06 | M7: =M8+M10 -> 274563.77 | N7: =N8+N10 -> 436.23025 | O7: =M7/I7*100 -> 99.841371 | P7: =J7-M7 -> 1190 | Q7: =H7-J7 -> 991.23025 | R7: 1103578 | S7: =G7-M7 -> 1905691.2
D8: 102 | F8: Мүгедектігі бар адамды оңалтудың жеке бағдарламасына сәйкес мүгедектігі бар адамдардың және мүгедектігі бар балалардың санаторлық-курорттық емделуін қамтамасыз ету | G8: =G9 -> 2014974 | H8: =H9 -> 250000 | I8: =I9 -> 250000 | J8: =J9 -> 250000 | K8: ='1.02.'!M8 -> 150000 | L8: =L9 -> 100000 | M8: =M9 -> 250000 | N8: =N9 -> 0 | O8: =M8/I8*100 -> 100 | P8: =J8-M8 -> 0 | Q8: =H8-J8 -> 0 | R8: 1103579 | S8: =G8-M8 -> 1764974
E9: 322 | F9: Жеке тұлғаларға берілетін трансферттер | G9: 2014974 | H9: 250000 | I9: 250000 | J9: =M9 -> 250000 | K9: ='1.02.'!M9 -> 150000 | L9: 100000 | M9: =K9+L9 -> 250000 | N9: =I9-M9 -> 0 | O9: =M9/I9*100 -> 100 | P9: =J9-M9 -> 0 | Q9: =H9-J9 -> 0 | R9: 1103580 | S9: =G9-M9 -> 1764974 | T9: =G9-J9 -> 1764974
D10: 106 | F10: Протездеу,үйрету жөнінде медициналық қызметтер көрсету протездік-ортопедиялық құралдарымен және оларды пайдалануды қамтамасыз ету | G10: =G11+G12 -> 165281 | H10: =H11+H12 -> 26745 | I10: =I11+I12 -> 25000 | J10: =J11+J12 -> 25753.77 | K10: ='1.02.'!M10 -> 14988.708 | L10: =L11+L12 -> 9575.062 | M10: =M11+M12 -> 24563.77 | N10: =N11+N12 -> 436.23025 | O10: =M10/I10*100 -> 98.255079 | P10: =J10-M10 -> 1190 | Q10: =H10-J10 -> 991.23025 | R10: 1103581 | S10: =G10-M10 -> 140717.23 | T10: =G10-J10 -> 139527.23
E11: 159 | F11: Өзге де қызметтер мен жұмыстарға ақы төлеу | G11: 1745 | H11: 1745 | J11: 1190 | K11: ='1.02.'!M11 -> 0 | M11: =K11+L11 -> 0 | N11: =I11-M11 -> 0 | O11: =M11/I11*100 -> #DIV/0! | P11: =J11-M11 -> 1190 | Q11: =H11-J11 -> 555 | R11: 1103582 | S11: =G11-M11 -> 1745 | T11: =G11-J11 -> 555
E12: 322 | F12: Жеке тұлғаларға берілетін трансферттер | G12: 163536 | H12: 25000 | I12: 25000 | J12: =M12 -> 24563.77 | K12: ='1.02.'!M12 -> 14988.708 | L12: 9575.062 | M12: =K12+L12 -> 24563.77 | N12: =I12-M12 -> 436.23025 | O12: =M12/I12*100 -> 98.255079 | P12: =J12-M12 -> 0 | Q12: =H12-J12 -> 436.23025 | R12: 1103583 | S12: =G12-M12 -> 138972.23 | T12: =G12-J12 -> 138972.23
C13: 001 | F13: Жергілікті деңгейде жұмыспен қамтуды қамтамасыз ету және халық үшін әлеуметтік бағдарламаларды іске асыру саласында мемлекеттік саясатты іске асыру жөніндегі қызметтер | G13: =G14 -> 260651 | H13: =H14 -> 59657 | I13: =I14 -> 52129.6 | J13: =J14 -> 58089.209 | K13: ='1.02.'!M13 -> 15275.257 | L13: =L14 -> 35286.303 | M13: =M14 -> 50561.56 | N13: =N14 -> 1568.0397 | O13: =M13/I13*100 -> 96.992036 | P13: =J13-M13 -> 7527.6484 | Q13: =H13-J13 -> 1567.7914 | R13: 1103584 | S13: =G13-M13 -> 210089.44 | T13: =G13-J13 -> 202561.79
D14: 015 | F14: Жергілікті бюджет қаражаты есебінен | G14: =SUM(G15:G33) -> 260651 | H14: =SUM(H15:H33) -> 59657 | I14: =SUM(I15:I33) -> 52129.6 | J14: =SUM(J15:J33) -> 58089.209 | K14: ='1.02.'!M14 -> 15275.257 | L14: =SUM(L15:L33) -> 35286.303 | M14: =SUM(M15:M33) -> 50561.56 | N14: =SUM(N15:N33) -> 1568.0397 | O14: =M14/I14*100 -> 96.992036 | P14: =J14-M14 -> 7527.6484 | Q14: =H14-J14 -> 1567.7914 | R14: 1103585 | S14: =G14-M14 -> 210089.44 | T14: =G14-J14 -> 202561.79
E15: 111 | F15: Еңбек ақы | G15: 121539 | H15: 20000 | I15: 20000 | J15: =M15 -> 19989.049 | K15: ='1.02.'!M15 -> 10000 | L15: 9989.049 | M15: =K15+L15 -> 19989.049 | N15: =I15-M15 -> 10.951 | O15: =M15/I15*100 -> 99.945245 | P15: =J15-M15 -> 0 | Q15: =H15-J15 -> 10.951 | R15: 1103586 | S15: =G15-M15 -> 101549.95 | T15: =G15-J15 -> 101549.95
E16: 112 | F16: Қосымша ақшалай төлімдер | G16: 17318 | H16: 15907.6 | I16: 15907.6 | J16: =M16 -> 14418.853 | K16: ='1.02.'!M16 -> 0 | L16: 14418.853 | M16: =K16+L16 -> 14418.853 | N16: =I16-M16 -> 1488.747 | O16: =M16/I16*100 -> 90.641285 | P16: =J16-M16 -> 0 | Q16: =H16-J16 -> 1488.747 | R16: 1103587 | S16: =G16-M16 -> 2899.147 | T16: =G16-J16 -> 2899.147
E17: 113 | F17: Өтемақы төлемдері | G17: 20256 | H17: 3401.2 | I17: 3401.2 | J17: =M17 -> 3401.172 | K17: ='1.02.'!M17 -> 813.428 | L17: 2587.744 | M17: =K17+L17 -> 3401.172 | N17: =I17-M17 -> 0.028 | O17: =M17/I17*100 -> 99.999177 | P17: =J17-M17 -> 0 | Q17: =H17-J17 -> 0.028 | R17: 1103588 | S17: =G17-M17 -> 16854.828 | T17: =G17-J17 -> 16854.828
E18: 116 | F18: Жұмыс берушінің міндетті зейнетақы жарналары | G18: 4860 | H18: 1001.3 | I18: 1001.3 | J18: =M18 -> 982.168 | K18: ='1.02.'!M18 -> 275.508 | L18: 706.66 | M18: =K18+L18 -> 982.168 | N18: =I18-M18 -> 19.132 | O18: =M18/I18*100 -> 98.089284 | P18: =J18-M18 -> 0 | Q18: =H18-J18 -> 19.132 | R18: 1103589 | S18: =G18-M18 -> 3877.832 | T18: =G18-J18 -> 3877.832
E19: 121 | F19: Әлеуметтік салық | G19: 8331 | H19: 2095 | I19: 2095 | J19: =M19 -> 2095 | K19: ='1.02.'!M19 -> 528 | L19: 1567 | M19: =K19+L19 -> 2095 | N19: =I19-M19 -> 0 | O19: =M19/I19*100 -> 100 | P19: =J19-M19 -> 0 | Q19: =H19-J19 -> 0 | R19: 1103590 | S19: =G19-M19 -> 6236 | T19: =G19-J19 -> 6236
E20: 122 | F20: Мемлекеттік әлеуметтік сақтандыру қорына әлеуметтік аударымдар | G20: 6943 | H20: 1256.6 | I20: 1256.6 | J20: =M20 -> 1253.953 | K20: ='1.02.'!M20 -> 440 | L20: 813.953 | M20: =K20+L20 -> 1253.953 | N20: =I20-M20 -> 2.647 | O20: =M20/I20*100 -> 99.789352 | P20: =J20-M20 -> 0 | Q20: =H20-J20 -> 2.647 | R20: 1103591 | S20: =G20-M20 -> 5689.047 | T20: =G20-J20 -> 5689.047
E21: 123 | F21: Міндетті сақтандыру жарналары | G21: 63 | J21: =M21 -> 0 | K21: ='1.02.'!M21 -> 0 | M21: =K21+L21 -> 0 | N21: =I21-M21 -> 0 | O21: =M21/I21*100 -> #DIV/0! | P21: =J21-M21 -> 0 | Q21: =H21-J21 -> 0 | R21: 1103592 | S21: =G21-M21 -> 63 | T21: =G21-J21 -> 63
E22: 124 | F22: Міндетті әлеуметтік медициналық сақтандыруға аударымдар | G22: 4166 | H22: 912.4 | I22: 912.4 | J22: =M22 -> 866.254 | K22: ='1.02.'!M22 -> 245.426 | L22: 620.828 | M22: =K22+L22 -> 866.254 | N22: =I22-M22 -> 46.146 | O22: =M22/I22*100 -> 94.94235 | P22: =J22-M22 -> 0 | Q22: =H22-J22 -> 46.146 | R22: 1103593 | S22: =G22-M22 -> 3299.746 | T22: =G22-J22 -> 3299.746
E23: 131 | F23: Техникалық персоналдың еңбегіне ақы төлеу | G23: 19333 | H23: 2400 | I23: 2400 | J23: =M23 -> 2400 | K23: ='1.02.'!M23 -> 1200 | L23: 1200 | M23: =K23+L23 -> 2400 | N23: =I23-M23 -> 0 | O23: =M23/I23*100 -> 100 | P23: =J23-M23 -> 0 | Q23: =H23-J23 -> 0 | R23: 1103594 | S23: =G23-M23 -> 16933 | T23: =G23-J23 -> 16933
E24: 135 | F24: Техникалық персонал бойынша жұмыс берушілердің жарналары | G24: 3129 | H24: 270 | I24: 270 | J24: =M24 -> 270 | K24: ='1.02.'!M24 -> 135 | L24: 135 | M24: =K24+L24 -> 270 | N24: =I24-M24 -> 0 | O24: =M24/I24*100 -> 100 | P24: =J24-M24 -> 0 | Q24: =H24-J24 -> 0 | R24: 1103595 | S24: =G24-M24 -> 2859 | T24: =G24-J24 -> 2859
E25: 136 | F25: Техникалық персоналдың ел ішіндегі іс сапарлары мен қызметтік сапарлары | J25: =M25 -> 0 | K25: ='1.02.'!M25 -> 0 | M25: =K25+L25 -> 0 | N25: =I25-M25 -> 0 | O25: =M25/I25*100 -> #DIV/0! | P25: =J25-M25 -> 0 | Q25: =H25-J25 -> 0 | R25: 1103596 | S25: =G25-M25 -> 0 | T25: =G25-J25 -> 0
E26: 144 | F26: Отын, жанар-жағар май материалдарын сатып алу | G26: 2075 | J26: =M26 -> 0 | K26: ='1.02.'!M26 -> 0 | M26: =K26+L26 -> 0 | N26: =I26-M26 -> 0 | O26: =M26/I26*100 -> #DIV/0! | P26: =J26-M26 -> 0 | Q26: =H26-J26 -> 0 | R26: 1103597 | S26: =G26-M26 -> 2075 | T26: =G26-J26 -> 2075
E27: 149 | F27: Өзге де қорларды сатып алу | G27: 4170 | J27: =M27 -> 0 | K27: ='1.02.'!M27 -> 0 | M27: =K27+L27 -> 0 | N27: =I27-M27 -> 0 | O27: =M27/I27*100 -> #DIV/0! | P27: =J27-M27 -> 0 | Q27: =H27-J27 -> 0 | R27: 1103598 | S27: =G27-M27 -> 4170 | T27: =G27-J27 -> 4170
E28: 151 | F28: Коммуналдық қызметтерге ақы төлеу | G28: 10733 | H28: 2575.4 | I28: 2575.4 | J28: =M28 -> 2575.3453 | K28: ='1.02.'!M28 -> 1274.5352 | L28: 1300.8101 | M28: =K28+L28 -> 2575.3453 | N28: =I28-M28 -> 0.05473 | O28: =M28/I28*100 -> 99.997875 | P28: =J28-M28 -> 0 | Q28: =H28-J28 -> 0.05473 | R28: 1103599 | S28: =G28-M28 -> 8157.6547 | T28: =G28-J28 -> 8157.6547
E29: 152 | F29: Байланыс қызметтерiне ақы төлеу | G29: 7302 | H29: 5416.5 | I29: 338.1 | J29: 5416.4144 | K29: ='1.02.'!M29 -> 0 | L29: 338.1 | M29: =K29+L29 -> 338.1 | N29: =I29-M29 -> 0 | O29: =M29/I29*100 -> 100 | P29: =J29-M29 -> 5078.3144 | Q29: =H29-J29 -> 0.08564 | R29: 1103600 | S29: =G29-M29 -> 6963.9 | T29: =G29-J29 -> 1885.5856
E30: 158 | F30: Ақпараттандыру саласындағы жұмыстар мен қызметтерге ақы төлеу | G30: 730 | H30: 730 | I30: 122 | J30: 730 | K30: ='1.02.'!M30 -> 0 | L30: 121.666 | M30: =K30+L30 -> 121.666 | N30: =I30-M30 -> 0.334 | O30: =M30/I30*100 -> 99.72623 | P30: =J30-M30 -> 608.334 | Q30: =H30-J30 -> 0 | R30: 1103601 | S30: =G30-M30 -> 608.334 | T30: =G30-J30 -> 0
E31: 159 | F31: Өзге де қызметтер мен жұмыстарға ақы төлеу | G31: 2649 | H31: 2291 | I31: 450 | J31: 2291 | K31: ='1.02.'!M31 -> 0 | L31: 450 | M31: =K31+L31 -> 450 | N31: =I31-M31 -> 0 | O31: =M31/I31*100 -> 100 | P31: =J31-M31 -> 1841 | Q31: =H31-J31 -> 1e-05 | R31: 1103602 | S31: =G31-M31 -> 2199 | T31: =G31-J31 -> 358.00001
E32: 161 | F32: Ел iшiндегi iссапарлар мен қызметтiк сапарлар | G32: 27054 | H32: 1400 | I32: 1400 | J32: =M32 -> 1400 | K32: ='1.02.'!M32 -> 363.36 | L32: 1036.64 | M32: =K32+L32 -> 1400 | N32: =I32-M32 -> 0 | O32: =M32/I32*100 -> 100 | P32: =J32-M32 -> 0 | Q32: =H32-J32 -> 0 | R32: 1103603 | S32: =G32-M32 -> 25654 | T32: =G32-J32 -> 25654
E33: 169 | F33: Өзге де ағымдағы шығындар | J33: =M33 -> 0 | K33: ='1.02.'!M33 -> 0 | M33: =K33+L33 -> 0 | N33: =I33-M33 -> 0 | O33: =M33/I33*100 -> #DIV/0! | P33: =J33-M33 -> 0 | Q33: =H33-J33 -> 0 | R33: 1103604 | S33: =G33-M33 -> 0 | T33: =G33-J33 -> 0
C34: 007 | F34: Мемлекеттік органның күрделі шығыстары | G34: =G35+G36+G37 -> 0 | H34: =H35+H36+H37 -> 0 | I34: =I35+I36+I37 -> 0 | J34: =J35+J36+J37 -> 0 | K34: ='1.02.'!M34 -> 0 | L34: =L35+L36+L37 -> 0 | M34: =M35+M36+M37 -> 0 | N34: =N35+N36+N37 -> 0 | O34: =M34/I34*100 -> #DIV/0! | P34: =J34-M34 -> 0 | Q34: =H34-J34 -> 0 | R34: 1103605 | S34: =G34-M34 -> 0 | T34: =G34-J34 -> 0
E35: 413 | F35: Көлік құралдарын сатып алу | K35: ='1.02.'!M35 -> 0 | M35: =K35+L35 -> 0 | O35: =M35/I35*100 -> #DIV/0! | P35: =J35-M35 -> 0 | Q35: =H35-J35 -> 0 | R35: 1103606 | S35: =G35-M35 -> 0 | T35: =G35-J35 -> 0
E36: 414 | F36: Машиналар, жабдықтар, өндірістік және шаруашылық мүккамал құралдарын сатып алу | J36: =M36 -> 0 | K36: ='1.02.'!M36 -> 0 | M36: =K36+L36 -> 0 | N36: =I36-M36 -> 0 | O36: =M36/I36*100 -> #DIV/0! | P36: =J36-M36 -> 0 | Q36: =H36-J36 -> 0 | R36: 1103607 | S36: =G36-M36 -> 0 | T36: =G36-J36 -> 0
E37: 419 | F37: Басқа негізгі құралдарды сатып алу | J37: =M37 -> 0 | K37: ='1.02.'!M37 -> 0 | M37: =K37+L37 -> 0 | N37: =I37-M37 -> 0 | O37: =M37/I37*100 -> #DIV/0! | P37: =J37-M37 -> 0 | Q37: =H37-J37 -> 0 | R37: 1103608 | S37: =G37-M37 -> 0
C38: 018 | F38: Үкіметтік емес ұйымдарда мемлекеттік әлеуметтік тапсырысты орналастыру | G38: =G39 -> 10400 | H38: =H39 -> 0 | I38: =I39 -> 0 | J38: =J39 -> 0 | K38: ='1.02.'!M38 -> 0 | L38: =L39 -> 0 | M38: =M39 -> 0 | N38: =N39 -> 0 | O38: =M38/I38*100 -> #DIV/0! | P38: =J38-M38 -> 0 | Q38: =H38-J38 -> 0 | R38: 1103609 | S38: =G38-M38 -> 10400 | T38: =G38-J38 -> 10400
D39: 000 | G39: =G40 -> 10400 | H39: =H40 -> 0 | I39: =I40 -> 0 | J39: =J40 -> 0 | K39: ='1.02.'!M39 -> 0 | M39: =M40 -> 0 | N39: =N40 -> 0 | O39: =M39/I39*100 -> #DIV/0! | P39: =J39-M39 -> 0 | Q39: =H39-J39 -> 0 | R39: 1103610 | S39: =G39-M39 -> 10400 | T39: =G39-J39 -> 10400
E40: 155 | F40: Мемлекеттік әлеуметтік тапсырыс шеңберінде көрсетілетін қызметтерге ақы төлеу | G40: 10400 | H40: 0 | I40: 0 | J40: =M40 -> 0 | K40: ='1.02.'!M40 -> 0 | M40: =K40+L40 -> 0 | N40: =I40-M40 -> 0 | O40: =M40/I40*100 -> #DIV/0! | P40: =J40-M40 -> 0 | Q40: =H40-J40 -> 0 | R40: 1103611 | S40: =G40-M40 -> 10400 | T40: =G40-J40 -> 10400
C41: 031 | F41: Жергілікті атқарушы органдар төлейтін міндетті әлеуметтік медициналық сақтандыруға мемлекеттің жарналарына әлеуметтік медициналық сақтандыру қорына берілетін трансферттер | G41: =G42 -> 1064315 | H41: =H42 -> 2153.3 | I41: =I42 -> 2153.3 | J41: =J42 -> 0 | K41: ='1.02.'!M41 -> 0 | M41: =M42 -> 0 | N41: =N42 -> 2153.3 | O41: =M41/I41*100 -> 0 | P41: =J41-M41 -> 0 | Q41: =H41-J41 -> 2153.3 | R41: 1103612 | S41: =G41-M41 -> 1064315
...

Sheet 1.04.
F1: 2026 жылғы наурыз айына арналған талдау
A3: Әкім шісі | B3: ММ коды | C3: Бағдарлама | D3: Кіші бағда лама | E3: Ерекшілік | F3: Шығыстардың атауы | G3: 2026 жылға арналған қаржы жоспары | H3: Жыл басынан бастап қаржыландыру жоспары | J3: Жыл басынан бері қабылданған міндеттемелердің жалпы сомасы | K3: Орындалған міндеттемелер | N3: 30.02.2026 қалдық | O3: % игерілуі | P3: Өтелмеген қабылданған міндеттемелер | Q3: Жвл басынан берң қабылданбаған міндеттемелер көлемі (міндеттемелер жоспарына қатысты қалған қаражат) | R3: ожидаемое освоение до конца года | S3: Жоспардан ауытқу , орындалудың күтілімі
H4: міндеттемелер | I4: төлемдер | K4: Бұрын төленген айлар | L4: ғымдағы ай үшін | M4: Жыл басынан бері
A5: 256 | F5: Облыстың жұмыспен қамтуды үйлестіру және әлеуметтік бағдарламалар басқармасы | G5: =G6+G108+G129+G152+G178+G202+G226+G275 -> 17032809 | H5: =H6+H108+H129+H152+H178+H202+H226+H275 -> 3090595.9 | I5: =I6+I108+I129+I152+I178+I202+I226+I275 -> 2375789.6 | J5: =J6+J108+J129+J152+J178+J202+J226+J275 -> 2904870 | K5: =K6+K108+K129+K152+K178+K202+K226+K275 -> 568624.86 | L5: =L6+L108+L129+L152+L178+L202+L226+L275 -> 892895.79 | M5: =M6+M108+M129+M152+M178+M202+M226+M275 -> 2358382.6 | N5: =N6+N108+N129+N152+N178+N202+N226+N275 -> 17407.033 | O5: =M5/I5*100 -> 99.267316 | P5: =J5-M5 -> 546487.46 | Q5: =H5-J5 -> 185725.87 | R5: 1103576 | S5: =G5-M5 -> 14674426
B6: 1261 | F6: "Жұмыспен қамтуды үйлестіру және бюджеттік бағдарламалар басқармасы" ММ | G6: =G7+G13+G34+G38+G41+G44+G101+G105 -> 5070963 | H6: =H7+H13+H34+H38+H41+H44+H101+H105 -> 909586.7 | I6: =I7+I13+I34+I38+I41+I44+I101+I105 -> 821716.3 | J6: =J7+J13+J34+J38+J41+J44+J101+J105 -> 832222.35 | K6: ='1.02.'!M6 -> 305263.96 | L6: =L7+L13+L34+L38+L41+L44+L101+L105 -> 282402.26 | M6: =M7+M13+M34+M38+M41+M44+M101+M105 -> 812826.97 | N6: =N7+N13+N34+N38+N41+N44+N101+N105 -> 8889.3277 | O6: =M6/I6*100 -> 98.9182 | P6: =J6-M6 -> 19395.383 | Q6: =H6-J6 -> 77364.345 | R6: 1103577 | S6: =G6-M6 -> 4258136
C7: 003 | F7: Мүгедектігі бар адамдарға әлеуметтік қолдау | G7: =G8+G10 -> 2050255 | H7: =H8+H10 -> 336745 | I7: =I8+I10 -> 336190 | J7: =J8+J10 -> 335864.41 | K7: ='1.02.'!M7 -> 164988.71 | L7: =L8+L10 -> 61300.636 | M7: =M8+M10 -> 335864.41 | N7: =N8+N10 -> 325.59379 | O7: =M7/I7*100 -> 99.903152 | P7: =J7-M7 -> 0 | Q7: =H7-J7 -> 880.59379 | R7: 1103578 | S7: =G7-M7 -> 1714390.6
D8: 102 | F8: Мүгедектігі бар адамды оңалтудың жеке бағдарламасына сәйкес мүгедектігі бар адамдардың және мүгедектігі бар балалардың санаторлық-курорттық емделуін қамтамасыз ету | G8: =G9 -> 2014974 | H8: =H9 -> 310000 | I8: =I9 -> 310000 | J8: =J9 -> 310000 | K8: ='1.02.'!M8 -> 150000 | L8: =L9 -> 60000 | M8: =M9 -> 310000 | N8: =N9 -> 0 | O8: =M8/I8*100 -> 100 | P8: =J8-M8 -> 0 | Q8: =H8-J8 -> 0 | R8: 1103579 | S8: =G8-M8 -> 1704974
E9: 322 | F9: Жеке тұлғаларға берілетін трансферттер | G9: 2014974 | H9: 310000 | I9: 310000 | J9: =M9 -> 310000 | K9: ='1.03.'!M9 -> 250000 | L9: 60000 | M9: =K9+L9 -> 310000 | N9: =I9-M9 -> 0 | O9: =M9/I9*100 -> 100 | P9: =J9-M9 -> 0 | Q9: =H9-J9 -> 0 | R9: 1103580 | S9: =G9-M9 -> 1704974 | T9: =G9-J9 -> 1704974
D10: 106 | F10: Протездеу,үйрету жөнінде медициналық қызметтер көрсету протездік-ортопедиялық құралдарымен және оларды пайдалануды қамтамасыз ету | G10: =G11+G12 -> 35281 | H10: =H11+H12 -> 26745 | I10: =I11+I12 -> 26190 | J10: =J11+J12 -> 25864.406 | K10: ='1.02.'!M10 -> 14988.708 | L10: =L11+L12 -> 1300.6365 | M10: =M11+M12 -> 25864.406 | N10: =N11+N12 -> 325.59379 | O10: =M10/I10*100 -> 98.756801 | P10: =J10-M10 -> 0 | Q10: =H10-J10 -> 880.59379 | R10: 1103581 | S10: =G10-M10 -> 9416.5938 | T10: =G10-J10 -> 9416.5938
E11: 159 | F11: Өзге де қызметтер мен жұмыстарға ақы төлеу | G11: 1745 | H11: 1745 | I11: 1190 | J11: 1190 | K11: ='1.03.'!M11 -> 0 | L11: 1190 | M11: =K11+L11 -> 1190 | N11: =I11-M11 -> 0 | O11: =M11/I11*100 -> 100 | P11: =J11-M11 -> 0 | Q11: =H11-J11 -> 555 | R11: 1103582 | S11: =G11-M11 -> 555 | T11: =G11-J11 -> 555
E12: 322 | F12: Жеке тұлғаларға берілетін трансферттер | G12: =163536-130000 -> 33536 | H12: 25000 | I12: 25000 | J12: =M12 -> 24674.406 | K12: ='1.03.'!M12 -> 24563.77 | L12: 110.63646 | M12: =K12+L12 -> 24674.406 | N12: =I12-M12 -> 325.59379 | O12: =M12/I12*100 -> 98.697625 | P12: =J12-M12 -> 0 | Q12: =H12-J12 -> 325.59379 | R12: 1103583 | S12: =G12-M12 -> 8861.5938 | T12: =G12-J12 -> 8861.5938
C13: 001 | F13: Жергілікті деңгейде жұмыспен қамтуды қамтамасыз ету және халық үшін әлеуметтік бағдарламаларды іске асыру саласында мемлекеттік саясатты іске асыру жөніндегі қызметтер | G13: =G14 -> 260651 | H13: =H14 -> 80491 | I13: =I14 -> 74276.9 | J13: =J14 -> 79701.949 | K13: ='1.02.'!M13 -> 15275.257 | L13: =L14 -> 20850.828 | M13: =M14 -> 71412.388 | N13: =N14 -> 2864.5118 | O13: =M13/I13*100 -> 96.143469 | P13: =J13-M13 -> 8289.5605 | Q13: =H13-J13 -> 789.0513 | R13: 1103584 | S13: =G13-M13 -> 189238.61 | T13: =G13-J13 -> 180949.05
D14: 015 | F14: Жергілікті бюджет қаражаты есебінен | G14: =SUM(G15:G33) -> 260651 | H14: =SUM(H15:H33) -> 80491 | I14: =SUM(I15:I33) -> 74276.9 | J14: =SUM(J15:J33) -> 79701.949 | K14: ='1.02.'!M14 -> 15275.257 | L14: =SUM(L15:L33) -> 20850.828 | M14: =SUM(M15:M33) -> 71412.388 | N14: =SUM(N15:N33) -> 2864.5118 | O14: =M14/I14*100 -> 96.143469 | P14: =J14-M14 -> 8289.5605 | Q14: =H14-J14 -> 789.0513 | R14: 1103585 | S14: =G14-M14 -> 189238.61 | T14: =G14-J14 -> 180949.05
E15: 111 | F15: Еңбек ақы | G15: 121539 | H15: 30000 | I15: 30000 | J15: =M15 -> 30000 | K15: ='1.03.'!M15 -> 19989.049 | L15: 10010.951 | M15: =K15+L15 -> 30000 | N15: =I15-M15 -> 0 | O15: =M15/I15*100 -> 100 | P15: =J15-M15 -> 0 | Q15: =H15-J15 -> 0 | R15: 1103586 | S15: =G15-M15 -> 91539 | T15: =G15-J15 -> 91539
E16: 112 | F16: Қосымша ақшалай төлімдер | G16: 17318 | H16: 15907.6 | I16: 15907.6 | J16: =M16 -> 15907.551 | K16: ='1.03.'!M16 -> 14418.853 | L16: 1488.698 | M16: =K16+L16 -> 15907.551 | N16: =I16-M16 -> 0.049 | O16: =M16/I16*100 -> 99.999692 | P16: =J16-M16 -> 0 | Q16: =H16-J16 -> 0.049 | R16: 1103587 | S16: =G16-M16 -> 1410.449 | T16: =G16-J16 -> 1410.449
E17: 113 | F17: Өтемақы төлемдері | G17: 20256 | H17: 6101.2 | I17: 6101.2 | J17: =M17 -> 6101.114 | K17: ='1.03.'!M17 -> 3401.172 | L17: 2699.942 | M17: =K17+L17 -> 6101.114 | N17: =I17-M17 -> 0.086 | O17: =M17/I17*100 -> 99.99859 | P17: =J17-M17 -> 0 | Q17: =H17-J17 -> 0.086 | R17: 1103588 | S17: =G17-M17 -> 14154.886 | T17: =G17-J17 -> 14154.886
E18: 116 | F18: Жұмыс берушінің міндетті зейнетақы жарналары | G18: 4860 | H18: 1355 | I18: 1355 | J18: =M18 -> 1230.698 | K18: ='1.03.'!M18 -> 982.168 | L18: 248.53 | M18: =K18+L18 -> 1230.698 | N18: =I18-M18 -> 124.302 | O18: =M18/I18*100 -> 90.826421 | P18: =J18-M18 -> 0 | Q18: =H18-J18 -> 124.302 | R18: 1103589 | S18: =G18-M18 -> 3629.302 | T18: =G18-J18 -> 3629.302
E19: 121 | F19: Әлеуметтік салық | G19: 8331 | H19: 2736 | I19: 2736 | J19: =M19 -> 2736 | K19: ='1.03.'!M19 -> 2095 | L19: 641 | M19: =K19+L19 -> 2736 | N19: =I19-M19 -> 0 | O19: =M19/I19*100 -> 100 | P19: =J19-M19 -> 0 | Q19: =H19-J19 -> 0 | R19: 1103590 | S19: =G19-M19 -> 5595 | T19: =G19-J19 -> 5595
E20: 122 | F20: Мемлекеттік әлеуметтік сақтандыру қорына әлеуметтік аударымдар | G20: 6943 | H20: 1903 | I20: 1903 | J20: =M20 -> 1664.937 | K20: ='1.03.'!M20 -> 1253.953 | L20: 410.984 | M20: =K20+L20 -> 1664.937 | N20: =I20-M20 -> 238.063 | O20: =M20/I20*100 -> 87.490121 | P20: =J20-M20 -> 0 | Q20: =H20-J20 -> 238.063 | R20: 1103591 | S20: =G20-M20 -> 5278.063 | T20: =G20-J20 -> 5278.063
E21: 123 | F21: Міндетті сақтандыру жарналары | G21: 63 | J21: =M21 -> 0 | K21: ='1.03.'!M21 -> 0 | M21: =K21+L21 -> 0 | N21: =I21-M21 -> 0 | O21: =M21/I21*100 -> #DIV/0! | P21: =J21-M21 -> 0 | Q21: =H21-J21 -> 0 | R21: 1103592 | S21: =G21-M21 -> 63 | T21: =G21-J21 -> 63
E22: 124 | F22: Міндетті әлеуметтік медициналық сақтандыруға аударымдар | G22: 4166 | H22: 1370 | I22: 1370 | J22: =M22 -> 1083.637 | K22: ='1.03.'!M22 -> 866.254 | L22: 217.383 | M22: =K22+L22 -> 1083.637 | N22: =I22-M22 -> 286.363 | O22: =M22/I22*100 -> 79.097591 | P22: =J22-M22 -> 0 | Q22: =H22-J22 -> 286.363 | R22: 1103593 | S22: =G22-M22 -> 3082.363 | T22: =G22-J22 -> 3082.363
E23: 131 | F23: Техникалық персоналдың еңбегіне ақы төлеу | G23: 19333 | H23: 3600 | I23: 3600 | J23: =M23 -> 3600 | K23: ='1.03.'!M23 -> 2400 | L23: 1200 | M23: =K23+L23 -> 3600 | N23: =I23-M23 -> 0 | O23: =M23/I23*100 -> 100 | P23: =J23-M23 -> 0 | Q23: =H23-J23 -> 0 | R23: 1103594 | S23: =G23-M23 -> 15733 | T23: =G23-J23 -> 15733
E24: 135 | F24: Техникалық персонал бойынша жұмыс берушілердің жарналары | G24: 3129 | H24: 405 | I24: 405 | J24: =M24 -> 405 | K24: ='1.03.'!M24 -> 270 | L24: 135 | M24: =K24+L24 -> 405 | N24: =I24-M24 -> 0 | O24: =M24/I24*100 -> 100 | P24: =J24-M24 -> 0 | Q24: =H24-J24 -> 0 | R24: 1103595 | S24: =G24-M24 -> 2724 | T24: =G24-J24 -> 2724
E25: 136 | F25: Техникалық персоналдың ел ішіндегі іс сапарлары мен қызметтік сапарлары | J25: =M25 -> 0 | K25: ='1.03.'!M25 -> 0 | M25: =K25+L25 -> 0 | N25: =I25-M25 -> 0 | O25: =M25/I25*100 -> #DIV/0! | P25: =J25-M25 -> 0 | Q25: =H25-J25 -> 0 | R25: 1103596 | S25: =G25-M25 -> 0 | T25: =G25-J25 -> 0
E26: 144 | F26: Отын, жанар-жағар май материалдарын сатып алу | G26: 2075 | H26: 2075 | I26: 2075 | J26: 2074.9986 | K26: ='1.03.'!M26 -> 0 | M26: =K26+L26 -> 0 | N26: =I26-M26 -> 2075 | O26: =M26/I26*100 -> 0 | P26: =J26-M26 -> 2074.9986 | Q26: =H26-J26 -> 0.00144 | R26: 1103597 | S26: =G26-M26 -> 2075 | T26: =G26-J26 -> 0.00144
E27: 149 | F27: Өзге де қорларды сатып алу | G27: 4170 | H27: 33.7 | I27: 33.7 | J27: =M27 -> 33.696 | K27: ='1.03.'!M27 -> 0 | L27: 33.696 | M27: =K27+L27 -> 33.696 | N27: =I27-M27 -> 0.004 | O27: =M27/I27*100 -> 99.988131 | P27: =J27-M27 -> 0 | Q27: =H27-J27 -> 0.004 | R27: 1103598 | S27: =G27-M27 -> 4136.304 | T27: =G27-J27 -> 4136.304
E28: 151 | F28: Коммуналдық қызметтерге ақы төлеу | G28: 10733 | H28: 4167 | I28: 4167 | J28: =M28 -> 4166.8388 | K28: ='1.03.'!M28 -> 2575.3453 | L28: 1591.4935 | M28: =K28+L28 -> 4166.8388 | N28: =I28-M28 -> 0.16121 | O28: =M28/I28*100 -> 99.996131 | P28: =J28-M28 -> 0 | Q28: =H28-J28 -> 0.16121 | R28: 1103599 | S28: =G28-M28 -> 6566.1612 | T28: =G28-J28 -> 6566.1612
E29: 152 | F29: Байланыс қызметтерiне ақы төлеу | G29: 7302 | H29: 5416.5 | I29: 774.1 | J29: 5416.4144 | K29: ='1.03.'!M29 -> 338.1 | L29: 435.98287 | M29: =K29+L29 -> 774.08287 | N29: =I29-M29 -> 0.01713 | O29: =M29/I29*100 -> 99.997787 | P29: =J29-M29 -> 4642.3315 | Q29: =H29-J29 -> 0.08564 | R29: 1103600 | S29: =G29-M29 -> 6527.9171 | T29: =G29-J29 -> 1885.5856
E30: 158 | F30: Ақпараттандыру саласындағы жұмыстар мен қызметтерге ақы төлеу | G30: 730 | H30: 730 | I30: 183 | J30: 730 | K30: ='1.03.'!M30 -> 121.666 | L30: 60.833 | M30: =K30+L30 -> 182.499 | N30: =I30-M30 -> 0.501 | O30: =M30/I30*100 -> 99.72623 | P30: =J30-M30 -> 547.501 | Q30: =H30-J30 -> 0 | R30: 1103601 | S30: =G30-M30 -> 547.501 | T30: =G30-J30 -> 0
E31: 159 | F31: Өзге де қызметтер мен жұмыстарға ақы төлеу | G31: =2649+450 -> 3099 | H31: 2291 | I31: 1266.3 | J31: 2291 | K31: ='1.03.'!M31 -> 450 | L31: 816.27055 | M31: =K31+L31 -> 1266.2705 | N31: =I31-M31 -> 0.02945 | O31: =M31/I31*100 -> 99.997674 | P31: =J31-M31 -> 1024.7294 | Q31: =H31-J31 -> 1e-05 | R31: 1103602 | S31: =G31-M31 -> 1832.7295 | T31: =G31-J31 -> 808.00001
E32: 161 | F32: Ел iшiндегi iссапарлар мен қызметтiк сапарлар | G32: =27054-450 -> 26604 | H32: 2400 | I32: 2400 | J32: =M32 -> 2260.064 | K32: ='1.03.'!M32 -> 1400 | L32: 860.064 | M32: =K32+L32 -> 2260.064 | N32: =I32-M32 -> 139.936 | O32: =M32/I32*100 -> 94.169333 | P32: =J32-M32 -> 0 | Q32: =H32-J32 -> 139.936 | R32: 1103603 | S32: =G32-M32 -> 24343.936 | T32: =G32-J32 -> 24343.936
E33: 169 | F33: Өзге де ағымдағы шығындар | J33: =M33 -> 0 | K33: ='1.03.'!M33 -> 0 | M33: =K33+L33 -> 0 | N33: =I33-M33 -> 0 | O33: =M33/I33*100 -> #DIV/0! | P33: =J33-M33 -> 0 | Q33: =H33-J33 -> 0 | R33: 1103604 | S33: =G33-M33 -> 0 | T33: =G33-J33 -> 0
C34: 007 | F34: Капитальные расходы государственных органов | G34: =G35+G36+G37 -> 0 | H34: =H35+H36+H37 -> 0 | I34: =I35+I36+I37 -> 0 | J34: =J35+J36+J37 -> 0 | K34: ='1.02.'!M34 -> 0 | L34: =L35+L36+L37 -> 0 | M34: =M35+M36+M37 -> 0 | N34: =N35+N36+N37 -> 0 | O34: =M34/I34*100 -> #DIV/0! | P34: =J34-M34 -> 0 | Q34: =H34-J34 -> 0 | R34: 1103605 | S34: =G34-M34 -> 0 | T34: =G34-J34 -> 0
E35: 413 | F35: Пробретение транспортных средств | K35: ='1.02.'!M35 -> 0 | M35: =K35+L35 -> 0 | O35: =M35/I35*100 -> #DIV/0! | P35: =J35-M35 -> 0 | Q35: =H35-J35 -> 0 | R35: 1103606 | S35: =G35-M35 -> 0 | T35: =G35-J35 -> 0
E36: 414 | F36: Приобретение машин оборудование, инструментов, производственного и хозяйственного инвентаря | J36: =M36 -> 0 | K36: ='1.02.'!M36 -> 0 | M36: =K36+L36 -> 0 | N36: =I36-M36 -> 0 | O36: =M36/I36*100 -> #DIV/0! | P36: =J36-M36 -> 0 | Q36: =H36-J36 -> 0 | R36: 1103607 | S36: =G36-M36 -> 0 | T36: =G36-J36 -> 0
E37: 419 | F37: Приобретение прочих основных средств | J37: =M37 -> 0 | K37: ='1.02.'!M37 -> 0 | M37: =K37+L37 -> 0 | N37: =I37-M37 -> 0 | O37: =M37/I37*100 -> #DIV/0! | P37: =J37-M37 -> 0 | Q37: =H37-J37 -> 0 | R37: 1103608 | S37: =G37-M37 -> 0
C38: 018 | F38: Үкіметтік емес ұйымдарда мемлекеттік әлеуметтік тапсырысты орналастыру | G38: =G39 -> 10400 | H38: =H39 -> 0 | I38: =I39 -> 0 | J38: =J39 -> 0 | K38: ='1.02.'!M38 -> 0 | L38: =L39 -> 0 | M38: =M39 -> 0 | N38: =N39 -> 0 | O38: =M38/I38*100 -> #DIV/0! | P38: =J38-M38 -> 0 | Q38: =H38-J38 -> 0 | R38: 1103609 | S38: =G38-M38 -> 10400 | T38: =G38-J38 -> 10400
D39: 000 | G39: =G40 -> 10400 | H39: =H40 -> 0 | I39: =I40 -> 0 | J39: =J40 -> 0 | K39: ='1.02.'!M39 -> 0 | M39: =M40 -> 0 | N39: =N40 -> 0 | O39: =M39/I39*100 -> #DIV/0! | P39: =J39-M39 -> 0 | Q39: =H39-J39 -> 0 | R39: 1103610 | S39: =G39-M39 -> 10400 | T39: =G39-J39 -> 10400
E40: 155 | F40: Мемлекеттік әлеуметтік тапсырыс шеңберінде көрсетілетін қызметтерге ақы төлеу | G40: 10400 | H40: 0 | I40: 0 | J40: =M40 -> 0 | K40: ='1.02.'!M40 -> 0 | M40: =K40+L40 -> 0 | N40: =I40-M40 -> 0 | O40: =M40/I40*100 -> #DIV/0! | P40: =J40-M40 -> 0 | Q40: =H40-J40 -> 0 | R40: 1103611 | S40: =G40-M40 -> 10400 | T40: =G40-J40 -> 10400
C41: 031 | F41: Жергілікті атқарушы органдар төлейтін міндетті әлеуметтік медициналық сақтандыруға мемлекеттің жарналарына әлеуметтік медициналық сақтандыру қорына берілетін трансферттер | G41: =G42 -> 1064315 | H41: =H42 -> 5636.7 | I41: =I42 -> 5636.7 | J41: =J42 -> 0 | K41: ='1.02.'!M41 -> 0 | M41: =M42 -> 0 | N41: =N42 -> 5636.7 | O41: =M41/I41*100 -> 0 | P41: =J41-M41 -> 0 | Q41: =H41-J41 -> 5636.7 | R41: 1103612 | S41: =G41-M41 -> 1064315
...

Sheet 1.05.
F1: 2026 жылғы сәуір айына арналған талдау
A3: Әкім шісі | B3: ММ коды | C3: Бағдарлама | D3: Кіші бағда лама | E3: Ерекшілік | F3: Шығыстардың атауы | G3: 2026 жылға арналған қаржы жоспары | H3: Жыл басынан бастап қаржыландыру жоспары | J3: Жыл басынан бері қабылданған міндеттемелердің жалпы сомасы | K3: Орындалған міндеттемелер | N3: 30.02.2026 қалдық | O3: % игерілуі | P3: Өтелмеген қабылданған міндеттемелер | Q3: Жвл басынан берң қабылданбаған міндеттемелер көлемі (міндеттемелер жоспарына қатысты қалған қаражат) | R3: ожидаемое освоение до конца года | S3: Жоспардан ауытқу , орындалудың күтілімі
H4: міндеттемелер | I4: төлемдер | K4: Бұрын төленген айлар | L4: ғымдағы ай үшін | M4: Жыл басынан бері
A5: 256 | F5: Облыстың жұмыспен қамтуды үйлестіру және әлеуметтік бағдарламалар басқармасы | G5: =G6+G108+G129+G152+G179+G203+G227+G277 -> 17032809 | H5: =H6+H108+H129+H152+H179+H203+H227+H277 -> 4047913.9 | I5: =I6+I108+I129+I152+I179+I203+I227+I277 -> 3342750.9 | J5: =J6+J108+J129+J152+J179+J203+J227+J277 -> 3896181.6 | K5: =K6+K108+K129+K152+K179+K203+K227+K277 -> 609671.73 | L5: =L6+L108+L129+L152+L179+L203+L227+L277 -> 946222.48 | M5: =M6+M108+M129+M152+M179+M203+M227+M277 -> 3307305.1 | N5: =N6+N108+N129+N152+N179+N203+N227+N277 -> 35445.849 | O5: =M5/I5*100 -> 98.93962 | P5: =J5-M5 -> 588876.52 | Q5: =H5-J5 -> 151732.33 | R5: 1103576 | S5: =G5-M5 -> 13725504
B6: 1261 | F6: "Жұмыспен қамтуды үйлестіру және бюджеттік бағдарламалар басқармасы" ММ | G6: =G7+G13+G34+G38+G41+G44+G101+G105 -> 5070963 | H6: =H7+H13+H34+H38+H41+H44+H101+H105 -> 1147960.1 | I6: =I7+I13+I34+I38+I41+I44+I101+I105 -> 1061593.6 | J6: =J7+J13+J34+J38+J41+J44+J101+J105 -> 1070951.3 | K6: ='1.02.'!M6 -> 305263.96 | L6: =L7+L13+L34+L38+L41+L44+L101+L105 -> 242355.93 | M6: =M7+M13+M34+M38+M41+M44+M101+M105 -> 1055182.9 | N6: =N7+N13+N34+N38+N41+N44+N101+N105 -> 6410.6927 | O6: =M6/I6*100 -> 99.396126 | P6: =J6-M6 -> 15768.356 | Q6: =H6-J6 -> 77008.837 | R6: 1103577 | S6: =G6-M6 -> 4015780.1
C7: 003 | F7: Мүгедектігі бар адамдарға әлеуметтік қолдау | G7: =G8+G10 -> 2050255 | H7: =H8+H10 -> 445184.5 | I7: =I8+I10 -> 444629.5 | J7: =J8+J10 -> 444578.31 | K7: ='1.02.'!M7 -> 164988.71 | L7: =L8+L10 -> 108713.91 | M7: =M8+M10 -> 444578.31 | N7: =N8+N10 -> 51.18771 | O7: =M7/I7*100 -> 99.988488 | P7: =J7-M7 -> 0 | Q7: =H7-J7 -> 606.18771 | R7: 1103578 | S7: =G7-M7 -> 1605676.7
D8: 102 | F8: Мүгедектігі бар адамды оңалтудың жеке бағдарламасына сәйкес мүгедектігі бар адамдардың және мүгедектігі бар балалардың санаторлық-курорттық емделуін қамтамасыз ету | G8: =G9 -> 2014974 | H8: =H9 -> 418765 | I8: =I9 -> 418765 | J8: =J9 -> 418713.91 | K8: ='1.02.'!M8 -> 150000 | L8: =L9 -> 108713.91 | M8: =M9 -> 418713.91 | N8: =N9 -> 51.09392 | O8: =M8/I8*100 -> 99.987799 | P8: =J8-M8 -> 0 | Q8: =H8-J8 -> 51.09392 | R8: 1103579 | S8: =G8-M8 -> 1596260.1
E9: 322 | F9: Жеке тұлғаларға берілетін трансферттер | G9: 2014974 | H9: 418765 | I9: 418765 | J9: =M9 -> 418713.91 | K9: ='1.04.'!M9 -> 310000 | L9: 108713.91 | M9: =K9+L9 -> 418713.91 | N9: =I9-M9 -> 51.09392 | O9: =M9/I9*100 -> 99.987799 | P9: =J9-M9 -> 0 | Q9: =H9-J9 -> 51.09392 | R9: 1103580 | S9: =G9-M9 -> 1596260.1 | T9: =G9-J9 -> 1596260.1
D10: 106 | F10: Протездеу,үйрету жөнінде медициналық қызметтер көрсету протездік-ортопедиялық құралдарымен және оларды пайдалануды қамтамасыз ету | G10: =G11+G12 -> 35281 | H10: =H11+H12 -> 26419.5 | I10: =I11+I12 -> 25864.5 | J10: =J11+J12 -> 25864.406 | K10: ='1.02.'!M10 -> 14988.708 | L10: =L11+L12 -> 0 | M10: =M11+M12 -> 25864.406 | N10: =N11+N12 -> 0.09379 | O10: =M10/I10*100 -> 99.999637 | P10: =J10-M10 -> 0 | Q10: =H10-J10 -> 555.09379 | R10: 1103581 | S10: =G10-M10 -> 9416.5938 | T10: =G10-J10 -> 9416.5938
E11: 159 | F11: Өзге де қызметтер мен жұмыстарға ақы төлеу | G11: 1745 | H11: 1745 | I11: 1190 | J11: 1190 | K11: ='1.04.'!M11 -> 1190 | M11: =K11+L11 -> 1190 | N11: =I11-M11 -> 0 | O11: =M11/I11*100 -> 100 | P11: =J11-M11 -> 0 | Q11: =H11-J11 -> 555 | R11: 1103582 | S11: =G11-M11 -> 555 | T11: =G11-J11 -> 555
E12: 322 | F12: Жеке тұлғаларға берілетін трансферттер | G12: =163536-130000 -> 33536 | H12: 24674.5 | I12: 24674.5 | J12: =M12 -> 24674.406 | K12: ='1.04.'!M12 -> 24674.406 | M12: =K12+L12 -> 24674.406 | N12: =I12-M12 -> 0.09379 | O12: =M12/I12*100 -> 99.99962 | P12: =J12-M12 -> 0 | Q12: =H12-J12 -> 0.09379 | R12: 1103583 | S12: =G12-M12 -> 8861.5938 | T12: =G12-J12 -> 8861.5938
C13: 001 | F13: Жергілікті деңгейде жұмыспен қамтуды қамтамасыз ету және халық үшін әлеуметтік бағдарламаларды іске асыру саласында мемлекеттік саясатты іске асыру жөніндегі қызметтер | G13: =G14 -> 260651 | H13: =H14 -> 104035.9 | I13: =I14 -> 98325.7 | J13: =J14 -> 103327.95 | K13: ='1.02.'!M13 -> 15275.257 | L13: =L14 -> 26190.507 | M13: =M14 -> 97602.895 | N13: =N14 -> 722.805 | O13: =M13/I13*100 -> 99.264887 | P13: =J13-M13 -> 5725.0561 | Q13: =H13-J13 -> 707.94887 | R13: 1103584 | S13: =G13-M13 -> 163048.11 | T13: =G13-J13 -> 157323.05
D14: 015 | F14: Жергілікті бюджет қаражаты есебінен | G14: =SUM(G15:G33) -> 260651 | H14: =SUM(H15:H33) -> 104035.9 | I14: =SUM(I15:I33) -> 98325.7 | J14: =SUM(J15:J33) -> 103327.95 | K14: =SUM(K15:K33) -> 71412.388 | L14: =SUM(L15:L33) -> 26190.507 | M14: =SUM(M15:M33) -> 97602.895 | N14: =SUM(N15:N33) -> 722.805 | O14: =M14/I14*100 -> 99.264887 | P14: =J14-M14 -> 5725.0561 | Q14: =H14-J14 -> 707.94887 | R14: 1103585 | S14: =G14-M14 -> 163048.11 | T14: =G14-J14 -> 157323.05
E15: 111 | F15: Еңбек ақы | G15: =121539-1020 -> 120519 | H15: 38980 | I15: 38980 | J15: =M15 -> 38980 | K15: ='1.04.'!M15 -> 30000 | L15: 8980 | M15: =K15+L15 -> 38980 | N15: =I15-M15 -> 0 | O15: =M15/I15*100 -> 100 | P15: =J15-M15 -> 0 | Q15: =H15-J15 -> 0 | R15: 1103586 | S15: =G15-M15 -> 81539 | T15: =G15-J15 -> 81539
E16: 112 | F16: Қосымша ақшалай төлімдер | G16: =17318+7540 -> 24858 | H16: 24858 | I16: 24858 | J16: =M16 -> 24154.877 | K16: ='1.04.'!M16 -> 15907.551 | L16: 8247.326 | M16: =K16+L16 -> 24154.877 | N16: =I16-M16 -> 703.123 | O16: =M16/I16*100 -> 97.171442 | P16: =J16-M16 -> 0 | Q16: =H16-J16 -> 703.123 | R16: 1103587 | S16: =G16-M16 -> 703.123 | T16: =G16-J16 -> 703.123
E17: 113 | F17: Өтемақы төлемдері | G17: 20256 | H17: 6101.2 | I17: 6101.2 | J17: =M17 -> 6101.114 | K17: ='1.04.'!M17 -> 6101.114 | M17: =K17+L17 -> 6101.114 | N17: =I17-M17 -> 0.086 | O17: =M17/I17*100 -> 99.99859 | P17: =J17-M17 -> 0 | Q17: =H17-J17 -> 0.086 | R17: 1103588 | S17: =G17-M17 -> 14154.886 | T17: =G17-J17 -> 14154.886
E18: 116 | F18: Жұмыс берушінің міндетті зейнетақы жарналары | G18: =4860-300 -> 4560 | H18: 1710 | I18: 1710 | J18: =M18 -> 1710 | K18: ='1.04.'!M18 -> 1230.698 | L18: 479.302 | M18: =K18+L18 -> 1710 | N18: =I18-M18 -> 0 | O18: =M18/I18*100 -> 100 | P18: =J18-M18 -> 0 | Q18: =H18-J18 -> 0 | R18: 1103589 | S18: =G18-M18 -> 2850 | T18: =G18-J18 -> 2850
E19: 121 | F19: Әлеуметтік салық | G19: 8331 | H19: 3264 | I19: 3264 | J19: =M19 -> 3264 | K19: ='1.04.'!M19 -> 2736 | L19: 528 | M19: =K19+L19 -> 3264 | N19: =I19-M19 -> 0 | O19: =M19/I19*100 -> 100 | P19: =J19-M19 -> 0 | Q19: =H19-J19 -> 0 | R19: 1103590 | S19: =G19-M19 -> 5067 | T19: =G19-J19 -> 5067
E20: 122 | F20: Мемлекеттік әлеуметтік сақтандыру қорына әлеуметтік аударымдар | G20: =6943-520 -> 6423 | H20: 2323 | I20: 2323 | J20: =M20 -> 2319.431 | K20: ='1.04.'!M20 -> 1664.937 | L20: 654.494 | M20: =K20+L20 -> 2319.431 | N20: =I20-M20 -> 3.569 | O20: =M20/I20*100 -> 99.846362 | P20: =J20-M20 -> 0 | Q20: =H20-J20 -> 3.569 | R20: 1103591 | S20: =G20-M20 -> 4103.569 | T20: =G20-J20 -> 4103.569
E21: 123 | F21: Міндетті сақтандыру жарналары | G21: 63 | J21: =M21 -> 0 | K21: ='1.04.'!M21 -> 0 | M21: =K21+L21 -> 0 | N21: =I21-M21 -> 0 | O21: =M21/I21*100 -> #DIV/0! | P21: =J21-M21 -> 0 | Q21: =H21-J21 -> 0 | R21: 1103592 | S21: =G21-M21 -> 63 | T21: =G21-J21 -> 63
E22: 124 | F22: Міндетті әлеуметтік медициналық сақтандыруға аударымдар | G22: =4166-200 -> 3966 | H22: 1520 | I22: 1520 | J22: =M22 -> 1519.006 | K22: ='1.04.'!M22 -> 1083.637 | L22: 435.369 | M22: =K22+L22 -> 1519.006 | N22: =I22-M22 -> 0.994 | O22: =M22/I22*100 -> 99.934605 | P22: =J22-M22 -> 0 | Q22: =H22-J22 -> 0.994 | R22: 1103593 | S22: =G22-M22 -> 2446.994 | T22: =G22-J22 -> 2446.994
E23: 131 | F23: Техникалық персоналдың еңбегіне ақы төлеу | G23: 19333 | H23: 6018 | I23: 6018 | J23: =M23 -> 6018 | K23: ='1.04.'!M23 -> 3600 | L23: 2418 | M23: =K23+L23 -> 6018 | N23: =I23-M23 -> 0 | O23: =M23/I23*100 -> 100 | P23: =J23-M23 -> 0 | Q23: =H23-J23 -> 0 | R23: 1103594 | S23: =G23-M23 -> 13315 | T23: =G23-J23 -> 13315
E24: 135 | F24: Техникалық персонал бойынша жұмыс берушілердің жарналары | G24: 3129 | H24: 749 | I24: 749 | J24: =M24 -> 749 | K24: ='1.04.'!M24 -> 405 | L24: 344 | M24: =K24+L24 -> 749 | N24: =I24-M24 -> 0 | O24: =M24/I24*100 -> 100 | P24: =J24-M24 -> 0 | Q24: =H24-J24 -> 0 | R24: 1103595 | S24: =G24-M24 -> 2380 | T24: =G24-J24 -> 2380
E25: 136 | F25: Техникалық персоналдың ел ішіндегі іс сапарлары мен қызметтік сапарлары | J25: =M25 -> 0 | K25: ='1.04.'!M25 -> 0 | M25: =K25+L25 -> 0 | N25: =I25-M25 -> 0 | O25: =M25/I25*100 -> #DIV/0! | P25: =J25-M25 -> 0 | Q25: =H25-J25 -> 0 | R25: 1103596 | S25: =G25-M25 -> 0 | T25: =G25-J25 -> 0
E26: 144 | F26: Отын, жанар-жағар май материалдарын сатып алу | G26: 2075 | H26: 2075 | I26: 2075 | J26: 2074.9986 | K26: ='1.04.'!M26 -> 0 | L26: 2074.9986 | M26: =K26+L26 -> 2074.9986 | N26: =I26-M26 -> 0.00144 | O26: =M26/I26*100 -> 99.999931 | P26: =J26-M26 -> 0 | Q26: =H26-J26 -> 0.00144 | R26: 1103597 | S26: =G26-M26 -> 0.00144 | T26: =G26-J26 -> 0.00144
E27: 149 | F27: Өзге де қорларды сатып алу | G27: 4170 | H27: 154.2 | I27: 154.2 | J27: =M27 -> 154.1404 | K27: ='1.04.'!M27 -> 33.696 | L27: 120.4444 | M27: =K27+L27 -> 154.1404 | N27: =I27-M27 -> 0.0596 | O27: =M27/I27*100 -> 99.961349 | P27: =J27-M27 -> 0 | Q27: =H27-J27 -> 0.0596 | R27: 1103598 | S27: =G27-M27 -> 4015.8596 | T27: =G27-J27 -> 4015.8596
E28: 151 | F28: Коммуналдық қызметтерге ақы төлеу | G28: 10733 | H28: 5396 | I28: 5396 | J28: =M28 -> 5395.9698 | K28: ='1.04.'!M28 -> 4166.8388 | L28: 1229.131 | M28: =K28+L28 -> 5395.9698 | N28: =I28-M28 -> 0.03018 | O28: =M28/I28*100 -> 99.999441 | P28: =J28-M28 -> 0 | Q28: =H28-J28 -> 0.03018 | R28: 1103599 | S28: =G28-M28 -> 5337.0302 | T28: =G28-J28 -> 5337.0302
E29: 152 | F29: Байланыс қызметтерiне ақы төлеу | G29: 7302 | H29: 5416.5 | I29: 1176 | J29: 5416.4144 | K29: ='1.04.'!M29 -> 774.08287 | L29: 399.40225 | M29: =K29+L29 -> 1173.4851 | N29: =I29-M29 -> 2.51488 | O29: =M29/I29*100 -> 99.78615 | P29: =J29-M29 -> 4242.9292 | Q29: =H29-J29 -> 0.08564 | R29: 1103600 | S29: =G29-M29 -> 6128.5149 | T29: =G29-J29 -> 1885.5856
E30: 158 | F30: Ақпараттандыру саласындағы жұмыстар мен қызметтерге ақы төлеу | G30: 730 | H30: 730 | I30: 244 | J30: 730 | K30: ='1.04.'!M30 -> 182.499 | L30: 60.833 | M30: =K30+L30 -> 243.332 | N30: =I30-M30 -> 0.668 | O30: =M30/I30*100 -> 99.72623 | P30: =J30-M30 -> 486.668 | Q30: =H30-J30 -> 0 | R30: 1103601 | S30: =G30-M30 -> 486.668 | T30: =G30-J30 -> 0
E31: 159 | F31: Өзге де қызметтер мен жұмыстарға ақы төлеу | G31: =2649+450 -> 3099 | H31: 2291 | I31: 1307.3 | J31: 2291 | K31: ='1.04.'!M31 -> 1266.2705 | L31: 29.27055 | M31: =K31+L31 -> 1295.5411 | N31: =I31-M31 -> 11.7589 | O31: =M31/I31*100 -> 99.10052 | P31: =J31-M31 -> 995.45889 | Q31: =H31-J31 -> 1e-05 | R31: 1103602 | S31: =G31-M31 -> 1803.4589 | T31: =G31-J31 -> 808.00001
E32: 161 | F32: Ел iшiндегi iссапарлар мен қызметтiк сапарлар | G32: =27054-450-5500 -> 21104 | H32: 2450 | I32: 2450 | J32: =M32 -> 2450 | K32: ='1.04.'!M32 -> 2260.064 | L32: 189.936 | M32: =K32+L32 -> 2450 | N32: =I32-M32 -> 0 | O32: =M32/I32*100 -> 100 | P32: =J32-M32 -> 0 | Q32: =H32-J32 -> 0 | R32: 1103603 | S32: =G32-M32 -> 18654 | T32: =G32-J32 -> 18654
E33: 169 | F33: Өзге де ағымдағы шығындар | J33: =M33 -> 0 | K33: ='1.04.'!M33 -> 0 | M33: =K33+L33 -> 0 | N33: =I33-M33 -> 0 | O33: =M33/I33*100 -> #DIV/0! | P33: =J33-M33 -> 0 | Q33: =H33-J33 -> 0 | R33: 1103604 | S33: =G33-M33 -> 0 | T33: =G33-J33 -> 0
C34: 007 | F34: Капитальные расходы государственных органов | G34: =G35+G36+G37 -> 0 | H34: =H35+H36+H37 -> 0 | I34: =I35+I36+I37 -> 0 | J34: =J35+J36+J37 -> 0 | K34: ='1.04.'!M34 -> 0 | L34: =L35+L36+L37 -> 0 | M34: =M35+M36+M37 -> 0 | N34: =N35+N36+N37 -> 0 | O34: =M34/I34*100 -> #DIV/0! | P34: =J34-M34 -> 0 | Q34: =H34-J34 -> 0 | R34: 1103605 | S34: =G34-M34 -> 0 | T34: =G34-J34 -> 0
E35: 413 | F35: Пробретение транспортных средств | K35: ='1.04.'!M35 -> 0 | M35: =K35+L35 -> 0 | O35: =M35/I35*100 -> #DIV/0! | P35: =J35-M35 -> 0 | Q35: =H35-J35 -> 0 | R35: 1103606 | S35: =G35-M35 -> 0 | T35: =G35-J35 -> 0
E36: 414 | F36: Приобретение машин оборудование, инструментов, производственного и хозяйственного инвентаря | J36: =M36 -> 0 | K36: ='1.04.'!M36 -> 0 | M36: =K36+L36 -> 0 | N36: =I36-M36 -> 0 | O36: =M36/I36*100 -> #DIV/0! | P36: =J36-M36 -> 0 | Q36: =H36-J36 -> 0 | R36: 1103607 | S36: =G36-M36 -> 0 | T36: =G36-J36 -> 0
E37: 419 | F37: Приобретение прочих основных средств | J37: =M37 -> 0 | K37: ='1.04.'!M37 -> 0 | M37: =K37+L37 -> 0 | N37: =I37-M37 -> 0 | O37: =M37/I37*100 -> #DIV/0! | P37: =J37-M37 -> 0 | Q37: =H37-J37 -> 0 | R37: 1103608 | S37: =G37-M37 -> 0
C38: 018 | F38: Үкіметтік емес ұйымдарда мемлекеттік әлеуметтік тапсырысты орналастыру | G38: =G39 -> 10400 | H38: =H39 -> 0 | I38: =I39 -> 0 | J38: =J39 -> 0 | K38: ='1.02.'!M38 -> 0 | L38: =L39 -> 0 | M38: =M39 -> 0 | N38: =N39 -> 0 | O38: =M38/I38*100 -> #DIV/0! | P38: =J38-M38 -> 0 | Q38: =H38-J38 -> 0 | R38: 1103609 | S38: =G38-M38 -> 10400 | T38: =G38-J38 -> 10400
D39: 000 | G39: =G40 -> 10400 | H39: =H40 -> 0 | I39: =I40 -> 0 | J39: =J40 -> 0 | K39: ='1.02.'!M39 -> 0 | M39: =M40 -> 0 | N39: =N40 -> 0 | O39: =M39/I39*100 -> #DIV/0! | P39: =J39-M39 -> 0 | Q39: =H39-J39 -> 0 | R39: 1103610 | S39: =G39-M39 -> 10400 | T39: =G39-J39 -> 10400
E40: 155 | F40: Мемлекеттік әлеуметтік тапсырыс шеңберінде көрсетілетін қызметтерге ақы төлеу | G40: 10400 | H40: 0 | I40: 0 | J40: =M40 -> 0 | K40: ='1.02.'!M40 -> 0 | M40: =K40+L40 -> 0 | N40: =I40-M40 -> 0 | O40: =M40/I40*100 -> #DIV/0! | P40: =J40-M40 -> 0 | Q40: =H40-J40 -> 0 | R40: 1103611 | S40: =G40-M40 -> 10400 | T40: =G40-J40 -> 10400
C41: 031 | F41: Жергілікті атқарушы органдар төлейтін міндетті әлеуметтік медициналық сақтандыруға мемлекеттің жарналарына әлеуметтік медициналық сақтандыру қорына берілетін трансферттер | G41: =G42 -> 1064315 | H41: =H42 -> 5636.7 | I41: =I42 -> 5636.7 | J41: =J42 -> 0 | K41: ='1.02.'!M41 -> 0 | M41: =M42 -> 0 | N41: =N42 -> 5636.7 | O41: =M41/I41*100 -> 0 | P41: =J41-M41 -> 0 | Q41: =H41-J41 -> 5636.7 | R41: 1103612 | S41: =G41-M41 -> 1064315
...

Sheet 1.06.
F1: 2026 жылғы мамыр айына арналған талдау
A3: Әкім шісі | B3: ММ коды | C3: Бағдарлама | D3: Кіші бағда лама | E3: Ерекшілік | F3: Шығыстардың атауы | G3: 2026 жылға арналған қаржы жоспары | H3: Жыл басынан бастап қаржыландыру жоспары | J3: Жыл басынан бері қабылданған міндеттемелердің жалпы сомасы | K3: Орындалған міндеттемелер | N3: 30.02.2026 қалдық | O3: % игерілуі | P3: Өтелмеген қабылданған міндеттемелер | Q3: Жвл басынан берң қабылданбаған міндеттемелер көлемі (міндеттемелер жоспарына қатысты қалған қаражат) | R3: ожидаемое освоение до конца года | S3: Жоспардан ауытқу , орындалудың күтілімі
H4: міндеттемелер | I4: төлемдер | K4: Бұрын төленген айлар | L4: ғымдағы ай үшін | M4: Жыл басынан бері
A5: 256 | F5: Облыстың жұмыспен қамтуды үйлестіру және әлеуметтік бағдарламалар басқармасы | G5: =G6+G109+G130+G153+G180+G206+G230+G281 -> 17032809 | H5: =H6+H109+H130+H153+H180+H206+H230+H281 -> 5118986.9 | I5: =I6+I109+I130+I153+I180+I206+I230+I281 -> 4369484.7 | J5: =J6+J109+J130+J153+J180+J206+J230+J281 -> 4951814.4 | K5: =K6+K109+K130+K153+K180+K206+K230+K281 -> 653970.93 | L5: =L6+L109+L130+L153+L180+L206+L230+L281 -> 948164.4 | M5: =M6+M109+M130+M153+M180+M206+M230+M281 -> 4269132.3 | N5: =N6+N109+N130+N153+N180+N206+N230+N281 -> 100352.38 | O5: =M5/I5*100 -> 97.703336 | P5: =J5-M5 -> 682682.1 | Q5: =H5-J5 -> 167172.48 | R5: 1103576 | S5: =G5-M5 -> 12763677
