Workbook

Sheet Жинақ 
X1: Қазақстан Республикасының Денсаулық сақтау министрлігі Санитариялық-эпидемиологиялық бақылау комитеті төрағасының 2025 жылғы «___» __________ №____ бұйрығына 3-қосымша
A2: Жүргізілген жоспардан тыс тексерулер туралы есеп
A4: № | B4: Атауы | C4: Жоспардан тыс тексерулер саны | L4: бұзушылықтар анықталды | M4: берілген нұсқамалар саны | N4: сотқа жіберілген материалдардың саны | O4: Әкімшілік жазалар саны | U4: Жедел ден қою шаралары | Z4: Тіркеуден бас тартылды
C5: барлығы | D5: тергеп-тексеру нәтижелері бойынша анықталған бұзушылықтардың жойылуын бақылау | E5: бақылау мен қадағалау субъектісі анықталған бұзушылықтарды жою туралы ақпаратты бір реттен көп ұсынбаса және (немесе) бұзушылықтарды жоймаса, тексеру және бақылау мен қадағалау субъектісіне (объектісіне) бару арқылы профилактикалық бақылау нәтижесінде анықталған бұзушылықтарды жою туралы нұсқамалардың орындалуын бақылау | F5: жедел ден қою шараларын қолдануға негіз болып табылатын бұзушылықтардың жойылуын бақылау | G5: сенімді негіздер және растайтын дәлелдемелер болған кезде Қазақстан Республикасы заңнамасының талаптарын бұзушылықтар бойынша жеке және заңды тұлғалардың жолданымдары | H5: адамның өміріне, денсаулығына, қоршаған ортаға, жеке және заңды тұлғалардың, мемлекеттің құқықтары мен заңды мүдделеріне зиян келтірудің нақты фактілері бойынша не зиян келтіру қатері туралы прокурордың талаптары | I5: адамның өміріне, денсаулығына, қоршаған ортаға, жеке және заңды тұлғалардың, мемлекеттің құқықтары мен заңды мүдделеріне зиян келтірудің, сондай-ақ жойылмауы адамның өмірі мен денсаулығына зиян келтіруге алып келетін Қазақстан Республикасы заңнамасының талаптарын бұзушылықтардың нақты фактілері бойынша мемлекеттік органдардың жолданымдары | J5: бақылау мен қадағалау субъектісінің бастапқы тексерумен келіспейтіні туралы жүгінуіне байланысты қайта тексеру (жедел ден қою шараларын қолданудың құқыққа сыйымсыздығы) | K5: қылмыстық қудалау органының Қазақстан Республикасының Қылмыстық-процестік кодексінде көзделген негіздер бойынша тапсырмасы | O5: Барлығы | P5: лауазымды тұлғалар | Q5: заңды тұлғалар | R5: жеке кәсіпкерлер | S5: жеке тұлғалар | T5: әкімшілік айыппұл сомасы | U5: барлығы | V5: бақылау мен қадағалау субъектісінің (объектісінің) өнімді (тауарды) өндіру, өткізу, қызметтер көрсету, жұмыстарды орындау жөніндегі қызметін немесе оның жекелеген түрлерін (процестерді, әрекеттерді) тоқтата тұру | W5: Бақылау мен қадағалау субъектісінің (объектісінің) өнімді (тауарды) өндіру, қызметтер көрсету, жұмыстарды орындау жөніндегі қызметіне немесе оның жекелеген түрлеріне (процестерге, әрекеттерге) тыйым салу | X5: Техникалық регламенттердің талаптарына және (немесе) Еуразиялық экономикалық одақтың бірыңғай санитариялық-эпидемиологиялық және гигиеналық талаптарына сәйкес келмейтін өнімді (тауарды) өткізуден алып қою және кері қайтарып алу; | Y5: адамдарды жұмыстан уақытша шеттету | Z5: хабарлама ережелерін бұзу | AA5: тексеру жүргізу мерзімдерін бұзу | AB5: басқалары (ескертпеде көрсетіңіз)
A6: 1 | B6: 2 | C6: 3 | D6: 4 | E6: 5 | F6: 6 | G6: 7 | H6: 8 | I6: 9 | J6: 10 | K6: 11 | L6: 12 | M6: 13 | N6: 14 | O6: 15 | P6: 16 | Q6: 17 | R6: 18 | S6: 19 | T6: 20 | U6: 21 | V6: 22 | W6: 23 | X6: 24 | Y6: 25 | Z6: 26 | AA6: 27 | AB6: 28
A7: 1 | B7: Алатау ауданы | C7: =SUM(МДҰ:басқалары!C7) -> 68 | D7: =SUM(МДҰ:басқалары!D7) -> 2 | E7: =SUM(МДҰ:басқалары!E7) -> 0 | F7: =SUM(МДҰ:басқалары!F7) -> 18 | G7: =SUM(МДҰ:басқалары!G7) -> 48 | H7: =SUM(МДҰ:басқалары!H7) -> 0 | I7: =SUM(МДҰ:басқалары!I7) -> 0 | J7: =SUM(МДҰ:басқалары!J7) -> 0 | ... AB7: =SUM(МДҰ:басқалары!AB7) -> 0
A8: 2 | B8: Алмалы ауданы | C8: =SUM(МДҰ:басқалары!C8) -> 186 | D8: =SUM(МДҰ:басқалары!D8) -> 1 | E8: =SUM(МДҰ:басқалары!E8) -> 31 | F8: =SUM(МДҰ:басқалары!F8) -> 34 | G8: =SUM(МДҰ:басқалары!G8) -> 117 | H8: =SUM(МДҰ:басқалары!H8) -> 0 | I8: =SUM(МДҰ:басқалары!I8) -> 3 | J8: =SUM(МДҰ:басқалары!J8) -> 0 | ... AB8: =SUM(МДҰ:басқалары!AB8) -> 0
A9: 3 | B9: Әуезов ауданы | C9: =SUM(МДҰ:басқалары!C9) -> 94 | D9: =SUM(МДҰ:басқалары!D9) -> 9 | E9: =SUM(МДҰ:басқалары!E9) -> 10 | F9: =SUM(МДҰ:басқалары!F9) -> 30 | G9: =SUM(МДҰ:басқалары!G9) -> 45 | H9: =SUM(МДҰ:басқалары!H9) -> 0 | I9: =SUM(МДҰ:басқалары!I9) -> 0 | J9: =SUM(МДҰ:басқалары!J9) -> 0 | ... AB9: =SUM(МДҰ:басқалары!AB9) -> 0
A10: 4 | B10: Бостандық ауданы | C10: =SUM(МДҰ:басқалары!C10) -> 112 | D10: =SUM(МДҰ:басқалары!D10) -> 1 | E10: =SUM(МДҰ:басқалары!E10) -> 4 | F10: =SUM(МДҰ:басқалары!F10) -> 26 | G10: =SUM(МДҰ:басқалары!G10) -> 80 | H10: =SUM(МДҰ:басқалары!H10) -> 1 | I10: =SUM(МДҰ:басқалары!I10) -> 0 | J10: =SUM(МДҰ:басқалары!J10) -> 0 | ... AB10: =SUM(МДҰ:басқалары!AB10) -> 0
A11: 5 | B11: Жетісу ауданы | C11: =SUM(МДҰ:басқалары!C11) -> 66 | D11: =SUM(МДҰ:басқалары!D11) -> 4 | E11: =SUM(МДҰ:басқалары!E11) -> 2 | F11: =SUM(МДҰ:басқалары!F11) -> 15 | G11: =SUM(МДҰ:басқалары!G11) -> 45 | H11: =SUM(МДҰ:басқалары!H11) -> 0 | I11: =SUM(МДҰ:басқалары!I11) -> 0 | J11: =SUM(МДҰ:басқалары!J11) -> 0 | ... AB11: =SUM(МДҰ:басқалары!AB11) -> 0
A12: 6 | B12: Медеу ауданы | C12: =SUM(МДҰ:басқалары!C12) -> 215 | D12: =SUM(МДҰ:басқалары!D12) -> 15 | E12: =SUM(МДҰ:басқалары!E12) -> 33 | F12: =SUM(МДҰ:басқалары!F12) -> 71 | G12: =SUM(МДҰ:басқалары!G12) -> 91 | H12: =SUM(МДҰ:басқалары!H12) -> 0 | I12: =SUM(МДҰ:басқалары!I12) -> 5 | J12: =SUM(МДҰ:басқалары!J12) -> 0 | ... AB12: =SUM(МДҰ:басқалары!AB12) -> 0
A13: 7 | B13: Наурызбай ауданы | C13: =SUM(МДҰ:басқалары!C13) -> 39 | D13: =SUM(МДҰ:басқалары!D13) -> 1 | E13: =SUM(МДҰ:басқалары!E13) -> 8 | F13: =SUM(МДҰ:басқалары!F13) -> 10 | G13: =SUM(МДҰ:басқалары!G13) -> 20 | H13: =SUM(МДҰ:басқалары!H13) -> 0 | I13: =SUM(МДҰ:басқалары!I13) -> 0 | J13: =SUM(МДҰ:басқалары!J13) -> 0 | ... AB13: =SUM(МДҰ:басқалары!AB13) -> 0
A14: 8 | B14: Түрксіб ауданы | C14: =SUM(МДҰ:басқалары!C14) -> 94 | D14: =SUM(МДҰ:басқалары!D14) -> 9 | E14: =SUM(МДҰ:басқалары!E14) -> 6 | F14: =SUM(МДҰ:басқалары!F14) -> 20 | G14: =SUM(МДҰ:басқалары!G14) -> 58 | H14: =SUM(МДҰ:басқалары!H14) -> 1 | I14: =SUM(МДҰ:басқалары!I14) -> 0 | J14: =SUM(МДҰ:басқалары!J14) -> 0 | ... AB14: =SUM(МДҰ:басқалары!AB14) -> 0
A15: 9 | B15: Алматы қаласы | C15: =SUM(C7:C14) -> 874 | D15: =SUM(D7:D14) -> 42 | E15: =SUM(E7:E14) -> 94 | F15: =SUM(F7:F14) -> 224 | G15: =SUM(G7:G14) -> 504 | H15: =SUM(H7:H14) -> 2 | I15: =SUM(I7:I14) -> 8 | J15: =SUM(J7:J14) -> 0 | ... AB15: =SUM(AB7:AB14) -> 0

Sheet МДҰ
X1: Қазақстан Республикасының Денсаулық сақтау министрлігі Санитариялық-эпидемиологиялық бақылау комитеті төрағасының 2025 жылғы «___» __________ №____ бұйрығына 3-қосымша
A2: Жүргізілген жоспардан тыс тексерулер туралы есеп
A4: № | B4: Атауы | C4: Жоспардан тыс тексерулер саны | L4: бұзушылықтар анықталды | M4: берілген нұсқамалар саны | N4: сотқа жіберілген материалдардың саны | O4: Әкімшілік жазалар саны | U4: Жедел ден қою шаралары | Z4: Тіркеуден бас тартылды
C5: барлығы | D5: тергеп-тексеру нәтижелері бойынша анықталған бұзушылықтардың жойылуын бақылау | E5: бақылау мен қадағалау субъектісі анықталған бұзушылықтарды жою туралы ақпаратты бір реттен көп ұсынбаса және (немесе) бұзушылықтарды жоймаса, тексеру және бақылау мен қадағалау субъектісіне (объектісіне) бару арқылы профилактикалық бақылау нәтижесінде анықталған бұзушылықтарды жою туралы нұсқамалардың орындалуын бақылау | F5: жедел ден қою шараларын қолдануға негіз болып табылатын бұзушылықтардың жойылуын бақылау | G5: сенімді негіздер және растайтын дәлелдемелер болған кезде Қазақстан Республикасы заңнамасының талаптарын бұзушылықтар бойынша жеке және заңды тұлғалардың жолданымдары | H5: адамның өміріне, денсаулығына, қоршаған ортаға, жеке және заңды тұлғалардың, мемлекеттің құқықтары мен заңды мүдделеріне зиян келтірудің нақты фактілері бойынша не зиян келтіру қатері туралы прокурордың талаптары | I5: адамның өміріне, денсаулығына, қоршаған ортаға, жеке және заңды тұлғалардың, мемлекеттің құқықтары мен заңды мүдделеріне зиян келтірудің, сондай-ақ жойылмауы адамның өмірі мен денсаулығына зиян келтіруге алып келетін Қазақстан Республикасы заңнамасының талаптарын бұзушылықтардың нақты фактілері бойынша мемлекеттік органдардың жолданымдары | J5: бақылау мен қадағалау субъектісінің бастапқы тексерумен келіспейтіні туралы жүгінуіне байланысты қайта тексеру (жедел ден қою шараларын қолданудың құқыққа сыйымсыздығы) | K5: қылмыстық қудалау органының Қазақстан Республикасының Қылмыстық-процестік кодексінде көзделген негіздер бойынша тапсырмасы | O5: Барлығы | P5: лауазымды тұлғалар | Q5: заңды тұлғалар | R5: жеке кәсіпкерлер | S5: жеке тұлғалар | T5: әкімшілік айыппұл сомасы | U5: барлығы | V5: бақылау мен қадағалау субъектісінің (объектісінің) өнімді (тауарды) өндіру, өткізу, қызметтер көрсету, жұмыстарды орындау жөніндегі қызметін немесе оның жекелеген түрлерін (процестерді, әрекеттерді) тоқтата тұру | W5: Бақылау мен қадағалау субъектісінің (объектісінің) өнімді (тауарды) өндіру, қызметтер көрсету, жұмыстарды орындау жөніндегі қызметіне немесе оның жекелеген түрлеріне (процестерге, әрекеттерге) тыйым салу | X5: Техникалық регламенттердің талаптарына және (немесе) Еуразиялық экономикалық одақтың бірыңғай санитариялық-эпидемиологиялық және гигиеналық талаптарына сәйкес келмейтін өнімді (тауарды) өткізуден алып қою және кері қайтарып алу; | Y5: адамдарды жұмыстан уақытша шеттету | Z5: хабарлама ережелерін бұзу | AA5: тексеру жүргізу мерзімдерін бұзу | AB5: басқалары (ескертпеде көрсетіңіз)
A6: 1 | B6: 2 | C6: 3 | D6: 4 | E6: 5 | F6: 6 | G6: 7 | H6: 8 | I6: 9 | J6: 10 | K6: 11 | L6: 12 | M6: 13 | N6: 14 | O6: 15 | P6: 16 | Q6: 17 | R6: 18 | S6: 19 | T6: 20 | U6: 21 | V6: 22 | W6: 23 | X6: 24 | Y6: 25 | Z6: 26 | AA6: 27 | AB6: 28
A7: 1 | B7: Алатау ауданы | C7: 2 | D7: 0 | E7: 0 | F7: 0 | G7: 2 | H7: 0 | I7: 0 | J7: 0 | K7: 0 | L7: 2 | M7: 2 | N7: 0 | O7: 2 | P7: 1 | Q7: 1 | R7: 0 | S7: 0 | T7: 692000 | U7: 0 | V7: 0 | W7: 0 | X7: 0 | Y7: 0 | Z7: 0 | AA7: 0 | AB7: 0
A8: 2 | B8: Алмалы ауданы | C8: 3 | D8: 0 | E8: 0 | F8: 1 | G8: 2 | H8: 0 | I8: 0 | J8: 0 | K8: 0 | L8: 1 | M8: 1 | N8: 0 | O8: 1 | P8: 0 | Q8: 1 | R8: 0 | S8: 0 | T8: 346000 | U8: 0 | V8: 0 | W8: 0 | X8: 0 | Y8: 0 | Z8: 0 | AA8: 0 | AB8: 0
A9: 3 | B9: Әуезов ауданы | C9: 0 | D9: 0 | E9: 0 | F9: 0 | G9: 0 | H9: 0 | I9: 0 | J9: 0 | K9: 0 | L9: 0 | M9: 0 | N9: 0 | O9: 0 | P9: 0 | Q9: 0 | R9: 0 | S9: 0 | T9: 0 | U9: 0 | V9: 0 | W9: 0 | X9: 0 | Y9: 0 | Z9: 0 | AA9: 0 | AB9: 0
A10: 4 | B10: Бостандық ауданы | C10: 5 | D10: 0 | E10: 0 | F10: 3 | G10: 2 | H10: 0 | I10: 0 | J10: 0 | K10: 0 | L10: 2 | M10: 1 | N10: 0 | O10: 1 | P10: 0 | Q10: 1 | R10: 0 | S10: 0 | T10: 346000 | U10: 1 | V10: 0 | W10: 1 | X10: 0 | Y10: 0 | Z10: 0 | AA10: 0 | AB10: 0
A11: 5 | B11: Жетісу ауданы | C11: 0 | D11: 0 | E11: 0 | F11: 0 | G11: 0 | H11: 0 | I11: 0 | J11: 0 | K11: 0 | L11: 0 | M11: 0 | N11: 0 | O11: 0 | P11: 0 | Q11: 0 | R11: 0 | S11: 0 | T11: 0 | U11: 0 | V11: 0 | W11: 0 | X11: 0 | Y11: 0 | Z11: 0 | AA11: 0 | AB11: 0
A12: 6 | B12: Медеу ауданы | C12: 6 | D12: 0 | E12: 0 | F12: 1 | G12: 5 | H12: 0 | I12: 0 | J12: 0 | K12: 0 | L12: 1 | M12: 1 | N12: 0 | O12: 1 | P12: 0 | Q12: 1 | R12: 0 | S12: 0 | T12: 346000 | U12: 3 | V12: 1 | W12: 2 | X12: 0 | Y12: 0 | Z12: 0 | AA12: 0 | AB12: 0
A13: 7 | B13: Наурызбай ауданы | C13: 2 | D13: 0 | E13: 1 | F13: 0 | G13: 1 | H13: 0 | I13: 0 | J13: 0 | K13: 0 | L13: 1 | M13: 1 | N13: 0 | O13: 1 | P13: 0 | Q13: 1 | R13: 0 | S13: 0 | T13: 346000 | U13: 0 | V13: 0 | W13: 0 | X13: 0 | Y13: 0 | Z13: 0 | AA13: 0 | AB13: 0
A14: 8 | B14: Түрксіб ауданы | C14: 2 | D14: 0 | E14: 0 | F14: 0 | G14: 2 | H14: 0 | I14: 0 | J14: 0 | K14: 0 | L14: 2 | M14: 2 | N14: 0 | O14: 2 | P14: 0 | Q14: 2 | R14: 0 | S14: 0 | T14: 692000 | U14: 0 | V14: 0 | W14: 0 | X14: 0 | Y14: 0 | Z14: 0 | AA14: 0 | AB14: 0
A15: 9 | B15: Алматы қаласы | C15: =SUM(C7:C14) -> 20 | D15: =SUM(D7:D14) -> 0 | E15: =SUM(E7:E14) -> 1 | F15: =SUM(F7:F14) -> 5 | G15: =SUM(G7:G14) -> 14 | H15: =SUM(H7:H14) -> 0 | I15: =SUM(I7:I14) -> 0 | J15: =SUM(J7:J14) -> 0 | ... AB15: =SUM(AB7:AB14) -> 0

Sheet білім беру объектілері
X1: Қазақстан Республикасының Денсаулық сақтау министрлігі Санитариялық-эпидемиологиялық бақылау комитеті төрағасының 2025 жылғы «___» __________ №____ бұйрығына 3-қосымша
A2: Жүргізілген жоспардан тыс тексерулер туралы есеп
A4: № | B4: Атауы | C4: Жоспардан тыс тексерулер саны | L4: бұзушылықтар анықталды | M4: берілген нұсқамалар саны | N4: сотқа жіберілген материалдардың саны | O4: Әкімшілік жазалар саны | U4: Жедел ден қою шаралары | Z4: Тіркеуден бас тартылды
C5: барлығы | D5: тергеп-тексеру нәтижелері бойынша анықталған бұзушылықтардың жойылуын бақылау | E5: бақылау мен қадағалау субъектісі анықталған бұзушылықтарды жою туралы ақпаратты бір реттен көп ұсынбаса және (немесе) бұзушылықтарды жоймаса, тексеру және бақылау мен қадағалау субъектісіне (объектісіне) бару арқылы профилактикалық бақылау нәтижесінде анықталған бұзушылықтарды жою туралы нұсқамалардың орындалуын бақылау | F5: жедел ден қою шараларын қолдануға негіз болып табылатын бұзушылықтардың жойылуын бақылау | G5: сенімді негіздер және растайтын дәлелдемелер болған кезде Қазақстан Республикасы заңнамасының талаптарын бұзушылықтар бойынша жеке және заңды тұлғалардың жолданымдары | H5: адамның өміріне, денсаулығына, қоршаған ортаға, жеке және заңды тұлғалардың, мемлекеттің құқықтары мен заңды мүдделеріне зиян келтірудің нақты фактілері бойынша не зиян келтіру қатері туралы прокурордың талаптары | I5: адамның өміріне, денсаулығына, қоршаған ортаға, жеке және заңды тұлғалардың, мемлекеттің құқықтары мен заңды мүдделеріне зиян келтірудің, сондай-ақ жойылмауы адамның өмірі мен денсаулығына зиян келтіруге алып келетін Қазақстан Республикасы заңнамасының талаптарын бұзушылықтардың нақты фактілері бойынша мемлекеттік органдардың жолданымдары | J5: бақылау мен қадағалау субъектісінің бастапқы тексерумен келіспейтіні туралы жүгінуіне байланысты қайта тексеру (жедел ден қою шараларын қолданудың құқыққа сыйымсыздығы) | K5: қылмыстық қудалау органының Қазақстан Республикасының Қылмыстық-процестік кодексінде көзделген негіздер бойынша тапсырмасы | O5: Барлығы | P5: лауазымды тұлғалар | Q5: заңды тұлғалар | R5: жеке кәсіпкерлер | S5: жеке тұлғалар | T5: әкімшілік айыппұл сомасы | U5: барлығы | V5: бақылау мен қадағалау субъектісінің (объектісінің) өнімді (тауарды) өндіру, өткізу, қызметтер көрсету, жұмыстарды орындау жөніндегі қызметін немесе оның жекелеген түрлерін (процестерді, әрекеттерді) тоқтата тұру | W5: Бақылау мен қадағалау субъектісінің (объектісінің) өнімді (тауарды) өндіру, қызметтер көрсету, жұмыстарды орындау жөніндегі қызметіне немесе оның жекелеген түрлеріне (процестерге, әрекеттерге) тыйым салу | X5: Техникалық регламенттердің талаптарына және (немесе) Еуразиялық экономикалық одақтың бірыңғай санитариялық-эпидемиологиялық және гигиеналық талаптарына сәйкес келмейтін өнімді (тауарды) өткізуден алып қою және кері қайтарып алу; | Y5: адамдарды жұмыстан уақытша шеттету | Z5: хабарлама ережелерін бұзу | AA5: тексеру жүргізу мерзімдерін бұзу | AB5: басқалары (ескертпеде көрсетіңіз)
A6: 1 | B6: 2 | C6: 3 | D6: 4 | E6: 5 | F6: 6 | G6: 7 | H6: 8 | I6: 9 | J6: 10 | K6: 11 | L6: 12 | M6: 13 | N6: 14 | O6: 15 | P6: 16 | Q6: 17 | R6: 18 | S6: 19 | T6: 20 | U6: 21 | V6: 22 | W6: 23 | X6: 24 | Y6: 25 | Z6: 26 | AA6: 27 | AB6: 28
A7: 1 | B7: Алатау ауданы | C7: =SUM([1]ОГДИП:ООИ!C7) -> 3 | D7: =SUM([1]ОГДИП:ООИ!D7) -> 0 | E7: =SUM([1]ОГДИП:ООИ!E7) -> 0 | F7: =SUM([1]ОГДИП:ООИ!F7) -> 0 | G7: =SUM([1]ОГДИП:ООИ!G7) -> 3 | H7: =SUM([1]ОГДИП:ООИ!H7) -> 0 | I7: =SUM([1]ОГДИП:ООИ!I7) -> 0 | J7: =SUM([1]ОГДИП:ООИ!J7) -> 0 | ... AB7: =SUM([1]ОГДИП:ООИ!AB7) -> 0
A8: 2 | B8: Алмалы ауданы | C8: =SUM([1]ОГДИП:ООИ!C8) -> 2 | D8: =SUM([1]ОГДИП:ООИ!D8) -> 0 | E8: =SUM([1]ОГДИП:ООИ!E8) -> 1 | F8: =SUM([1]ОГДИП:ООИ!F8) -> 0 | G8: =SUM([1]ОГДИП:ООИ!G8) -> 1 | H8: =SUM([1]ОГДИП:ООИ!H8) -> 0 | I8: =SUM([1]ОГДИП:ООИ!I8) -> 0 | J8: =SUM([1]ОГДИП:ООИ!J8) -> 0 | ... AB8: =SUM([1]ОГДИП:ООИ!AB8) -> 0
A9: 3 | B9: Әуезов ауданы | C9: =SUM([1]ОГДИП:ООИ!C9) -> 4 | D9: =SUM([1]ОГДИП:ООИ!D9) -> 0 | E9: =SUM([1]ОГДИП:ООИ!E9) -> 4 | F9: =SUM([1]ОГДИП:ООИ!F9) -> 0 | G9: =SUM([1]ОГДИП:ООИ!G9) -> 0 | H9: =SUM([1]ОГДИП:ООИ!H9) -> 0 | I9: =SUM([1]ОГДИП:ООИ!I9) -> 0 | J9: =SUM([1]ОГДИП:ООИ!J9) -> 0 | ... AB9: =SUM([1]ОГДИП:ООИ!AB9) -> 0
A10: 4 | B10: Бостандық ауданы | C10: =SUM([1]ОГДИП:ООИ!C10) -> 5 | D10: =SUM([1]ОГДИП:ООИ!D10) -> 0 | E10: =SUM([1]ОГДИП:ООИ!E10) -> 0 | F10: =SUM([1]ОГДИП:ООИ!F10) -> 1 | G10: =SUM([1]ОГДИП:ООИ!G10) -> 3 | H10: =SUM([1]ОГДИП:ООИ!H10) -> 1 | I10: =SUM([1]ОГДИП:ООИ!I10) -> 0 | J10: =SUM([1]ОГДИП:ООИ!J10) -> 0 | ... AB10: =SUM([1]ОГДИП:ООИ!AB10) -> 0
A11: 5 | B11: Жетісу ауданы | C11: =SUM([1]ОГДИП:ООИ!C11) -> 1 | D11: =SUM([1]ОГДИП:ООИ!D11) -> 1 | E11: =SUM([1]ОГДИП:ООИ!E11) -> 0 | F11: =SUM([1]ОГДИП:ООИ!F11) -> 0 | G11: =SUM([1]ОГДИП:ООИ!G11) -> 0 | H11: =SUM([1]ОГДИП:ООИ!H11) -> 0 | I11: =SUM([1]ОГДИП:ООИ!I11) -> 0 | J11: =SUM([1]ОГДИП:ООИ!J11) -> 0 | ... AB11: =SUM([1]ОГДИП:ООИ!AB11) -> 0
A12: 6 | B12: Медеу ауданы | C12: =SUM([1]ОГДИП:ООИ!C12) -> 1 | D12: =SUM([1]ОГДИП:ООИ!D12) -> 1 | E12: =SUM([1]ОГДИП:ООИ!E12) -> 0 | F12: =SUM([1]ОГДИП:ООИ!F12) -> 0 | G12: =SUM([1]ОГДИП:ООИ!G12) -> 0 | H12: =SUM([1]ОГДИП:ООИ!H12) -> 0 | I12: =SUM([1]ОГДИП:ООИ!I12) -> 0 | J12: =SUM([1]ОГДИП:ООИ!J12) -> 0 | ... AB12: =SUM([1]ОГДИП:ООИ!AB12) -> 0
A13: 7 | B13: Наурызбай ауданы | C13: =SUM([1]ОГДИП:ООИ!C13) -> 9 | D13: =SUM([1]ОГДИП:ООИ!D13) -> 1 | E13: =SUM([1]ОГДИП:ООИ!E13) -> 5 | F13: =SUM([1]ОГДИП:ООИ!F13) -> 2 | G13: =SUM([1]ОГДИП:ООИ!G13) -> 1 | H13: =SUM([1]ОГДИП:ООИ!H13) -> 0 | I13: =SUM([1]ОГДИП:ООИ!I13) -> 0 | J13: =SUM([1]ОГДИП:ООИ!J13) -> 0 | ... AB13: =SUM([1]ОГДИП:ООИ!AB13) -> 0
A14: 8 | B14: Түрксіб ауданы | C14: =SUM([1]ОГДИП:ООИ!C14) -> 9 | D14: =SUM([1]ОГДИП:ООИ!D14) -> 2 | E14: =SUM([1]ОГДИП:ООИ!E14) -> 5 | F14: =SUM([1]ОГДИП:ООИ!F14) -> 0 | G14: =SUM([1]ОГДИП:ООИ!G14) -> 2 | H14: =SUM([1]ОГДИП:ООИ!H14) -> 0 | I14: =SUM([1]ОГДИП:ООИ!I14) -> 0 | J14: =SUM([1]ОГДИП:ООИ!J14) -> 0 | ... AB14: =SUM([1]ОГДИП:ООИ!AB14) -> 0
A15: 9 | B15: Алматы қаласы | C15: =SUM(C7:C14) -> 34 | D15: =SUM(D7:D14) -> 5 | E15: =SUM(E7:E14) -> 15 | F15: =SUM(F7:F14) -> 3 | G15: =SUM(G7:G14) -> 10 | H15: =SUM(H7:H14) -> 1 | I15: =SUM(I7:I14) -> 0 | J15: =SUM(J7:J14) -> 0 | ... AB15: =SUM(AB7:AB14) -> 0

Sheet балаларды санаторлы-сауықтыру
X1: Қазақстан Республикасының Денсаулық сақтау министрлігі Санитариялық-эпидемиологиялық бақылау комитеті төрағасының 2025 жылғы «___» __________ №____ бұйрығына 3-қосымша
A2: Жүргізілген жоспардан тыс тексерулер туралы есеп
A4: № | B4: Атауы | C4: Жоспардан тыс тексерулер саны | L4: бұзушылықтар анықталды | M4: берілген нұсқамалар саны | N4: сотқа жіберілген материалдардың саны | O4: Әкімшілік жазалар саны | U4: Жедел ден қою шаралары | Z4: Тіркеуден бас тартылды
C5: барлығы | D5: тергеп-тексеру нәтижелері бойынша анықталған бұзушылықтардың жойылуын бақылау | E5: бақылау мен қадағалау субъектісі анықталған бұзушылықтарды жою туралы ақпаратты бір реттен көп ұсынбаса және (немесе) бұзушылықтарды жоймаса, тексеру және бақылау мен қадағалау субъектісіне (объектісіне) бару арқылы профилактикалық бақылау нәтижесінде анықталған бұзушылықтарды жою туралы нұсқамалардың орындалуын бақылау | F5: жедел ден қою шараларын қолдануға негіз болып табылатын бұзушылықтардың жойылуын бақылау | G5: сенімді негіздер және растайтын дәлелдемелер болған кезде Қазақстан Республикасы заңнамасының талаптарын бұзушылықтар бойынша жеке және заңды тұлғалардың жолданымдары | H5: адамның өміріне, денсаулығына, қоршаған ортаға, жеке және заңды тұлғалардың, мемлекеттің құқықтары мен заңды мүдделеріне зиян келтірудің нақты фактілері бойынша не зиян келтіру қатері туралы прокурордың талаптары | I5: адамның өміріне, денсаулығына, қоршаған ортаға, жеке және заңды тұлғалардың, мемлекеттің құқықтары мен заңды мүдделеріне зиян келтірудің, сондай-ақ жойылмауы адамның өмірі мен денсаулығына зиян келтіруге алып келетін Қазақстан Республикасы заңнамасының талаптарын бұзушылықтардың нақты фактілері бойынша мемлекеттік органдардың жолданымдары | J5: бақылау мен қадағалау субъектісінің бастапқы тексерумен келіспейтіні туралы жүгінуіне байланысты қайта тексеру (жедел ден қою шараларын қолданудың құқыққа сыйымсыздығы) | K5: қылмыстық қудалау органының Қазақстан Республикасының Қылмыстық-процестік кодексінде көзделген негіздер бойынша тапсырмасы | O5: Барлығы | P5: лауазымды тұлғалар | Q5: заңды тұлғалар | R5: жеке кәсіпкерлер | S5: жеке тұлғалар | T5: әкімшілік айыппұл сомасы | U5: барлығы | V5: бақылау мен қадағалау субъектісінің (объектісінің) өнімді (тауарды) өндіру, өткізу, қызметтер көрсету, жұмыстарды орындау жөніндегі қызметін немесе оның жекелеген түрлерін (процестерді, әрекеттерді) тоқтата тұру | W5: Бақылау мен қадағалау субъектісінің (объектісінің) өнімді (тауарды) өндіру, қызметтер көрсету, жұмыстарды орындау жөніндегі қызметіне немесе оның жекелеген түрлеріне (процестерге, әрекеттерге) тыйым салу | X5: Техникалық регламенттердің талаптарына және (немесе) Еуразиялық экономикалық одақтың бірыңғай санитариялық-эпидемиологиялық және гигиеналық талаптарына сәйкес келмейтін өнімді (тауарды) өткізуден алып қою және кері қайтарып алу; | Y5: адамдарды жұмыстан уақытша шеттету | Z5: хабарлама ережелерін бұзу | AA5: тексеру жүргізу мерзімдерін бұзу | AB5: басқалары (ескертпеде көрсетіңіз)
A6: 1 | B6: 2 | C6: 3 | D6: 4 | E6: 5 | F6: 6 | G6: 7 | H6: 8 | I6: 9 | J6: 10 | K6: 11 | L6: 12 | M6: 13 | N6: 14 | O6: 15 | P6: 16 | Q6: 17 | R6: 18 | S6: 19 | T6: 20 | U6: 21 | V6: 22 | W6: 23 | X6: 24 | Y6: 25 | Z6: 26 | AA6: 27 | AB6: 28
A7: 1 | B7: Алатау ауданы | C7: 0 | D7: 0 | E7: 0 | F7: 0 | G7: 0 | H7: 0 | I7: 0 | J7: 0 | K7: 0 | L7: 0 | M7: 0 | N7: 0 | O7: 0 | P7: 0 | Q7: 0 | R7: 0 | S7: 0 | T7: 0 | U7: 0 | V7: 0 | W7: 0 | X7: 0 | Y7: 0 | Z7: 0 | AA7: 0 | AB7: 0
A8: 2 | B8: Алмалы ауданы | C8: 0 | D8: 0 | E8: 0 | F8: 0 | G8: 0 | H8: 0 | I8: 0 | J8: 0 | K8: 0 | L8: 0 | M8: 0 | N8: 0 | O8: 0 | P8: 0 | Q8: 0 | R8: 0 | S8: 0 | T8: 0 | U8: 0 | V8: 0 | W8: 0 | X8: 0 | Y8: 0 | Z8: 0 | AA8: 0 | AB8: 0
A9: 3 | B9: Әуезов ауданы | C9: 0 | D9: 0 | E9: 0 | F9: 0 | G9: 0 | H9: 0 | I9: 0 | J9: 0 | K9: 0 | L9: 0 | M9: 0 | N9: 0 | O9: 0 | P9: 0 | Q9: 0 | R9: 0 | S9: 0 | T9: 0 | U9: 0 | V9: 0 | W9: 0 | X9: 0 | Y9: 0 | Z9: 0 | AA9: 0 | AB9: 0
A10: 4 | B10: Бостандық ауданы | C10: 0 | D10: 0 | E10: 0 | F10: 0 | G10: 0 | H10: 0 | I10: 0 | J10: 0 | K10: 0 | L10: 0 | M10: 0 | N10: 0 | O10: 0 | P10: 0 | Q10: 0 | R10: 0 | S10: 0 | T10: 0 | U10: 0 | V10: 0 | W10: 0 | X10: 0 | Y10: 0 | Z10: 0 | AA10: 0 | AB10: 0
A11: 5 | B11: Жетісу ауданы | C11: 0 | D11: 0 | E11: 0 | F11: 0 | G11: 0 | H11: 0 | I11: 0 | J11: 0 | K11: 0 | L11: 0 | M11: 0 | N11: 0 | O11: 0 | P11: 0 | Q11: 0 | R11: 0 | S11: 0 | T11: 0 | U11: 0 | V11: 0 | W11: 0 | X11: 0 | Y11: 0 | Z11: 0 | AA11: 0 | AB11: 0
A12: 6 | B12: Медеу ауданы | C12: 1 | D12: 0 | E12: 0 | F12: 0 | G12: 1 | H12: 0 | I12: 0 | J12: 0 | K12: 0 | L12: 1 | M12: 1 | N12: 0 | O12: 1 | P12: 1 | Q12: 0 | R12: 0 | S12: 0 | T12: 346000 | U12: 0 | V12: 0 | W12: 0 | X12: 0 | Y12: 0 | Z12: 0 | AA12: 0 | AB12: 0
A13: 7 | B13: Наурызбай ауданы | C13: 0 | D13: 0 | E13: 0 | F13: 0 | G13: 0 | H13: 0 | I13: 0 | J13: 0 | K13: 0 | L13: 0 | M13: 0 | N13: 0 | O13: 0 | P13: 0 | Q13: 0 | R13: 0 | S13: 0 | T13: 0 | U13: 0 | V13: 0 | W13: 0 | X13: 0 | Y13: 0 | Z13: 0 | AA13: 0 | AB13: 0
A14: 8 | B14: Түрксіб ауданы | C14: 0 | D14: 0 | E14: 0 | F14: 0 | G14: 0 | H14: 0 | I14: 0 | J14: 0 | K14: 0 | L14: 0 | M14: 0 | N14: 0 | O14: 0 | P14: 0 | Q14: 0 | R14: 0 | S14: 0 | T14: 0 | U14: 0 | V14: 0 | W14: 0 | X14: 0 | Y14: 0 | Z14: 0 | AA14: 0 | AB14: 0
A15: 9 | B15: Алматы қаласы | C15: =SUM(C7:C14) -> 1 | D15: =SUM(D7:D14) -> 0 | E15: =SUM(E7:E14) -> 0 | F15: =SUM(F7:F14) -> 0 | G15: =SUM(G7:G14) -> 1 | H15: =SUM(H7:H14) -> 0 | I15: =SUM(I7:I14) -> 0 | J15: =SUM(J7:J14) -> 0 | ... AB15: =SUM(AB7:AB14) -> 0

Sheet қоғамдық тамақтану, сауда
X1: Қазақстан Республикасының Денсаулық сақтау министрлігі Санитариялық-эпидемиологиялық бақылау комитеті төрағасының 2025 жылғы «___» __________ №____ бұйрығына 3-қосымша
A2: Жүргізілген жоспардан тыс тексерулер туралы есеп
A4: № | B4: Атауы | C4: Жоспардан тыс тексерулер саны | L4: бұзушылықтар анықталды | M4: берілген нұсқамалар саны | N4: сотқа жіберілген материалдардың саны | O4: Әкімшілік жазалар саны | U4: Жедел ден қою шаралары | Z4: Тіркеуден бас тартылды
C5: барлығы | D5: тергеп-тексеру нәтижелері бойынша анықталған бұзушылықтардың жойылуын бақылау | E5: бақылау мен қадағалау субъектісі анықталған бұзушылықтарды жою туралы ақпаратты бір реттен көп ұсынбаса және (немесе) бұзушылықтарды жоймаса, тексеру және бақылау мен қадағалау субъектісіне (объектісіне) бару арқылы профилактикалық бақылау нәтижесінде анықталған бұзушылықтарды жою туралы нұсқамалардың орындалуын бақылау | F5: жедел ден қою шараларын қолдануға негіз болып табылатын бұзушылықтардың жойылуын бақылау | G5: сенімді негіздер және растайтын дәлелдемелер болған кезде Қазақстан Республикасы заңнамасының талаптарын бұзушылықтар бойынша жеке және заңды тұлғалардың жолданымдары | H5: адамның өміріне, денсаулығына, қоршаған ортаға, жеке және заңды тұлғалардың, мемлекеттің құқықтары мен заңды мүдделеріне зиян келтірудің нақты фактілері бойынша не зиян келтіру қатері туралы прокурордың талаптары | I5: адамның өміріне, денсаулығына, қоршаған ортаға, жеке және заңды тұлғалардың, мемлекеттің құқықтары мен заңды мүдделеріне зиян келтірудің, сондай-ақ жойылмауы адамның өмірі мен денсаулығына зиян келтіруге алып келетін Қазақстан Республикасы заңнамасының талаптарын бұзушылықтардың нақты фактілері бойынша мемлекеттік органдардың жолданымдары | J5: бақылау мен қадағалау субъектісінің бастапқы тексерумен келіспейтіні туралы жүгінуіне байланысты қайта тексеру (жедел ден қою шараларын қолданудың құқыққа сыйымсыздығы) | K5: қылмыстық қудалау органының Қазақстан Республикасының Қылмыстық-процестік кодексінде көзделген негіздер бойынша тапсырмасы | O5: Барлығы | P5: лауазымды тұлғалар | Q5: заңды тұлғалар | R5: жеке кәсіпкерлер | S5: жеке тұлғалар | T5: әкімшілік айыппұл сомасы | U5: барлығы | V5: бақылау мен қадағалау субъектісінің (объектісінің) өнімді (тауарды) өндіру, өткізу, қызметтер көрсету, жұмыстарды орындау жөніндегі қызметін немесе оның жекелеген түрлерін (процестерді, әрекеттерді) тоқтата тұру | W5: Бақылау мен қадағалау субъектісінің (объектісінің) өнімді (тауарды) өндіру, қызметтер көрсету, жұмыстарды орындау жөніндегі қызметіне немесе оның жекелеген түрлеріне (процестерге, әрекеттерге) тыйым салу | X5: Техникалық регламенттердің талаптарына және (немесе) Еуразиялық экономикалық одақтың бірыңғай санитариялық-эпидемиологиялық және гигиеналық талаптарына сәйкес келмейтін өнімді (тауарды) өткізуден алып қою және кері қайтарып алу; | Y5: адамдарды жұмыстан уақытша шеттету | Z5: хабарлама ережелерін бұзу | AA5: тексеру жүргізу мерзімдерін бұзу | AB5: басқалары (ескертпеде көрсетіңіз)
A6: 1 | B6: 2 | C6: 3 | D6: 4 | E6: 5 | F6: 6 | G6: 7 | H6: 8 | I6: 9 | J6: 10 | K6: 11 | L6: 12 | M6: 13 | N6: 14 | O6: 15 | P6: 16 | Q6: 17 | R6: 18 | S6: 19 | T6: 20 | U6: 21 | V6: 22 | W6: 23 | X6: 24 | Y6: 25 | Z6: 26 | AA6: 27 | AB6: 28
A7: 1 | B7: Алатау ауданы | C7: =SUM([2]ОГДИП:ОГП!C7) -> 30 | D7: =SUM([2]ОГДИП:ОГП!D7) -> 2 | E7: =SUM([2]ОГДИП:ОГП!E7) -> 0 | F7: =SUM([2]ОГДИП:ОГП!F7) -> 3 | G7: =SUM([2]ОГДИП:ОГП!G7) -> 25 | H7: =SUM([2]ОГДИП:ОГП!H7) -> 0 | I7: =SUM([2]ОГДИП:ОГП!I7) -> 0 | J7: =SUM([2]ОГДИП:ОГП!J7) -> 0 | ... AB7: =SUM([2]ОГДИП:ОГП!AB7) -> 0
A8: 2 | B8: Алмалы ауданы | C8: =SUM([2]ОГДИП:ОГП!C8) -> 76 | D8: =SUM([2]ОГДИП:ОГП!D8) -> 0 | E8: =SUM([2]ОГДИП:ОГП!E8) -> 2 | F8: =SUM([2]ОГДИП:ОГП!F8) -> 9 | G8: =SUM([2]ОГДИП:ОГП!G8) -> 65 | H8: =SUM([2]ОГДИП:ОГП!H8) -> 0 | I8: =SUM([2]ОГДИП:ОГП!I8) -> 0 | J8: =SUM([2]ОГДИП:ОГП!J8) -> 0 | ... AB8: =SUM([2]ОГДИП:ОГП!AB8) -> 0
A9: 3 | B9: Әуезов ауданы | C9: =SUM([2]ОГДИП:ОГП!C9) -> 35 | D9: =SUM([2]ОГДИП:ОГП!D9) -> 0 | E9: =SUM([2]ОГДИП:ОГП!E9) -> 2 | F9: =SUM([2]ОГДИП:ОГП!F9) -> 8 | G9: =SUM([2]ОГДИП:ОГП!G9) -> 25 | H9: =SUM([2]ОГДИП:ОГП!H9) -> 0 | I9: =SUM([2]ОГДИП:ОГП!I9) -> 0 | J9: =SUM([2]ОГДИП:ОГП!J9) -> 0 | ... AB9: =SUM([2]ОГДИП:ОГП!AB9) -> 0
A10: 4 | B10: Бостандық ауданы | C10: =SUM([2]ОГДИП:ОГП!C10) -> 46 | D10: =SUM([2]ОГДИП:ОГП!D10) -> 0 | E10: =SUM([2]ОГДИП:ОГП!E10) -> 1 | F10: =SUM([2]ОГДИП:ОГП!F10) -> 9 | G10: =SUM([2]ОГДИП:ОГП!G10) -> 36 | H10: =SUM([2]ОГДИП:ОГП!H10) -> 0 | I10: =SUM([2]ОГДИП:ОГП!I10) -> 0 | J10: =SUM([2]ОГДИП:ОГП!J10) -> 0 | ... AB10: =SUM([2]ОГДИП:ОГП!AB10) -> 0
A11: 5 | B11: Жетісу ауданы | C11: =SUM([2]ОГДИП:ОГП!C11) -> 30 | D11: =SUM([2]ОГДИП:ОГП!D11) -> 1 | E11: =SUM([2]ОГДИП:ОГП!E11) -> 0 | F11: =SUM([2]ОГДИП:ОГП!F11) -> 7 | G11: =SUM([2]ОГДИП:ОГП!G11) -> 22 | H11: =SUM([2]ОГДИП:ОГП!H11) -> 0 | I11: =SUM([2]ОГДИП:ОГП!I11) -> 0 | J11: =SUM([2]ОГДИП:ОГП!J11) -> 0 | ... AB11: =SUM([2]ОГДИП:ОГП!AB11) -> 0
A12: 6 | B12: Медеу ауданы | C12: =SUM([2]ОГДИП:ОГП!C12) -> 102 | D12: =SUM([2]ОГДИП:ОГП!D12) -> 0 | E12: =SUM([2]ОГДИП:ОГП!E12) -> 21 | F12: =SUM([2]ОГДИП:ОГП!F12) -> 25 | G12: =SUM([2]ОГДИП:ОГП!G12) -> 52 | H12: =SUM([2]ОГДИП:ОГП!H12) -> 0 | I12: =SUM([2]ОГДИП:ОГП!I12) -> 4 | J12: =SUM([2]ОГДИП:ОГП!J12) -> 0 | ... AB12: =SUM([2]ОГДИП:ОГП!AB12) -> 0
A13: 7 | B13: Наурызбай ауданы | C13: =SUM([2]ОГДИП:ОГП!C13) -> 20 | D13: =SUM([2]ОГДИП:ОГП!D13) -> 0 | E13: =SUM([2]ОГДИП:ОГП!E13) -> 2 | F13: =SUM([2]ОГДИП:ОГП!F13) -> 6 | G13: =SUM([2]ОГДИП:ОГП!G13) -> 12 | H13: =SUM([2]ОГДИП:ОГП!H13) -> 0 | I13: =SUM([2]ОГДИП:ОГП!I13) -> 0 | J13: =SUM([2]ОГДИП:ОГП!J13) -> 0 | ... AB13: =SUM([2]ОГДИП:ОГП!AB13) -> 0
A14: 8 | B14: Түрксіб ауданы | C14: =SUM([2]ОГДИП:ОГП!C14) -> 20 | D14: =SUM([2]ОГДИП:ОГП!D14) -> 0 | E14: =SUM([2]ОГДИП:ОГП!E14) -> 0 | F14: =SUM([2]ОГДИП:ОГП!F14) -> 4 | G14: =SUM([2]ОГДИП:ОГП!G14) -> 16 | H14: =SUM([2]ОГДИП:ОГП!H14) -> 0 | I14: =SUM([2]ОГДИП:ОГП!I14) -> 0 | J14: =SUM([2]ОГДИП:ОГП!J14) -> 0 | ... AB14: =SUM([2]ОГДИП:ОГП!AB14) -> 0
A15: 9 | B15: Алматы қаласы | C15: =SUM(C7:C14) -> 359 | D15: =SUM(D7:D14) -> 3 | E15: =SUM(E7:E14) -> 28 | F15: =SUM(F7:F14) -> 71 | G15: =SUM(G7:G14) -> 253 | H15: =SUM(H7:H14) -> 0 | I15: =SUM(I7:I14) -> 4 | J15: =SUM(J7:J14) -> 0 | ... AB15: =SUM(AB7:AB14) -> 0

Sheet коммуналды объектілер
X1: Қазақстан Республикасының Денсаулық сақтау министрлігі Санитариялық-эпидемиологиялық бақылау комитеті төрағасының 2025 жылғы «___» __________ №____ бұйрығына 3-қосымша
A2: Жүргізілген жоспардан тыс тексерулер туралы есеп
A4: № | B4: Атауы | C4: Жоспардан тыс тексерулер саны | L4: бұзушылықтар анықталды | M4: берілген нұсқамалар саны | N4: сотқа жіберілген материалдардың саны | O4: Әкімшілік жазалар саны | U4: Жедел ден қою шаралары | Z4: Тіркеуден бас тартылды
C5: барлығы | D5: тергеп-тексеру нәтижелері бойынша анықталған бұзушылықтардың жойылуын бақылау | E5: бақылау мен қадағалау субъектісі анықталған бұзушылықтарды жою туралы ақпаратты бір реттен көп ұсынбаса және (немесе) бұзушылықтарды жоймаса, тексеру және бақылау мен қадағалау субъектісіне (объектісіне) бару арқылы профилактикалық бақылау нәтижесінде анықталған бұзушылықтарды жою туралы нұсқамалардың орындалуын бақылау | F5: жедел ден қою шараларын қолдануға негіз болып табылатын бұзушылықтардың жойылуын бақылау | G5: сенімді негіздер және растайтын дәлелдемелер болған кезде Қазақстан Республикасы заңнамасының талаптарын бұзушылықтар бойынша жеке және заңды тұлғалардың жолданымдары | H5: адамның өміріне, денсаулығына, қоршаған ортаға, жеке және заңды тұлғалардың, мемлекеттің құқықтары мен заңды мүдделеріне зиян келтірудің нақты фактілері бойынша не зиян келтіру қатері туралы прокурордың талаптары | I5: адамның өміріне, денсаулығына, қоршаған ортаға, жеке және заңды тұлғалардың, мемлекеттің құқықтары мен заңды мүдделеріне зиян келтірудің, сондай-ақ жойылмауы адамның өмірі мен денсаулығына зиян келтіруге алып келетін Қазақстан Республикасы заңнамасының талаптарын бұзушылықтардың нақты фактілері бойынша мемлекеттік органдардың жолданымдары | J5: бақылау мен қадағалау субъектісінің бастапқы тексерумен келіспейтіні туралы жүгінуіне байланысты қайта тексеру (жедел ден қою шараларын қолданудың құқыққа сыйымсыздығы) | K5: қылмыстық қудалау органының Қазақстан Республикасының Қылмыстық-процестік кодексінде көзделген негіздер бойынша тапсырмасы | O5: Барлығы | P5: лауазымды тұлғалар | Q5: заңды тұлғалар | R5: жеке кәсіпкерлер | S5: жеке тұлғалар | T5: әкімшілік айыппұл сомасы | U5: барлығы | V5: бақылау мен қадағалау субъектісінің (объектісінің) өнімді (тауарды) өндіру, өткізу, қызметтер көрсету, жұмыстарды орындау жөніндегі қызметін немесе оның жекелеген түрлерін (процестерді, әрекеттерді) тоқтата тұру | W5: Бақылау мен қадағалау субъектісінің (объектісінің) өнімді (тауарды) өндіру, қызметтер көрсету, жұмыстарды орындау жөніндегі қызметіне немесе оның жекелеген түрлеріне (процестерге, әрекеттерге) тыйым салу | X5: Техникалық регламенттердің талаптарына және (немесе) Еуразиялық экономикалық одақтың бірыңғай санитариялық-эпидемиологиялық және гигиеналық талаптарына сәйкес келмейтін өнімді (тауарды) өткізуден алып қою және кері қайтарып алу; | Y5: адамдарды жұмыстан уақытша шеттету | Z5: хабарлама ережелерін бұзу | AA5: тексеру жүргізу мерзімдерін бұзу | AB5: басқалары (ескертпеде көрсетіңіз)
A6: 1 | B6: 2 | C6: 3 | D6: 4 | E6: 5 | F6: 6 | G6: 7 | H6: 8 | I6: 9 | J6: 10 | K6: 11 | L6: 12 | M6: 13 | N6: 14 | O6: 15 | P6: 16 | Q6: 17 | R6: 18 | S6: 19 | T6: 20 | U6: 21 | V6: 22 | W6: 23 | X6: 24 | Y6: 25 | Z6: 26 | AA6: 27 | AB6: 28
A7: 1 | B7: Алатау ауданы | C7: 3 | G7: 3 | L7: 1 | M7: 1 | N7: 0 | O7: 1 | P7: 0 | Q7: 1 | R7: 0 | S7: 0 | T7: 346000 | U7: 3 | W7: 3
A8: 2 | B8: Алмалы ауданы | C8: 20 | D8: 0 | E8: 4 | F8: 1 | G8: 15 | H8: 0 | I8: 0 | J8: 0 | K8: 0 | L8: 8 | M8: 8 | N8: 2 | O8: 8 | P8: 0 | Q8: 7 | R8: 1 | S8: 0 | T8: 2811250 | U8: 1 | V8: 0 | W8: 0 | X8: 0 | Y8: 1 | Z8: 0 | AA8: 0 | AB8: 0
A9: 3 | B9: Әуезов ауданы | C9: 15 | E9: 2 | G9: 13 | L9: 7 | M9: 5 | N9: 1 | O9: 5 | Q9: 3 | R9: 2 | S9: 0 | T9: 1730000 | U9: 2 | V9: 1 | W9: 1 | X9: 0 | Y9: 0 | Z9: 0 | AA9: 0 | AB9: 0
A10: 4 | B10: Бостандық ауданы | C10: 12 | D10: 0 | E10: 0 | F10: 0 | G10: 12 | H10: 0 | I10: 0 | J10: 0 | K10: 0 | L10: 1 | M10: 1 | N10: 0 | O10: 0 | P10: 0 | Q10: 0 | R10: 0 | S10: 0 | T10: 0 | U10: 1 | V10: 0 | W10: 1 | Y10: 0 | Z10: 0 | AA10: 0 | AB10: 0
A11: 5 | B11: Жетісу ауданы | C11: 13 | D11: 0 | E11: 1 | F11: 3 | G11: 9 | H11: 0 | I11: 0 | J11: 0 | K11: 0 | L11: 4 | M11: 4 | N11: 1 | O11: 1 | P11: 0 | Q11: 0 | R11: 1 | S11: 0 | T11: 346000 | U11: 3 | V11: 0 | W11: 3 | X11: 0 | Y11: 0 | Z11: 0 | AA11: 0 | AB11: 0
A12: 6 | B12: Медеу ауданы | C12: 21 | D12: 0 | E12: 1 | F12: 5 | G12: 15 | H12: 0 | I12: 0 | J12: 0 | K12: 0 | L12: 8 | M12: 3 | N12: 4 | O12: 3 | P12: 0 | Q12: 1 | R12: 2 | S12: 0 | T12: 1038000 | U12: 3 | V12: 0 | W12: 2 | X12: 0 | Y12: 1 | Z12: 0 | AA12: 0 | AB12: 0
A13: 7 | B13: Наурызбай ауданы | C13: 3 | D13: 0 | E13: 0 | F13: 1 | G13: 2 | H13: 0 | I13: 0 | J13: 0 | K13: 0 | L13: 1 | M13: 1 | N13: 1 | O13: 0 | P13: 0 | Q13: 0 | R13: 0 | S13: 0 | T13: 0 | U13: 0 | V13: 0 | W13: 0 | X13: 0 | Y13: 0 | Z13: 0 | AA13: 0 | AB13: 0
A14: 8 | B14: Түрксіб ауданы | C14: 25 | D14: 0 | F14: 5 | G14: 20 | H14: 0 | I14: 0 | J14: 0 | K14: 0 | L14: 8 | M14: 8 | N14: 0 | O14: 5 | P14: 0 | Q14: 3 | R14: 0 | S14: 2 | T14: 1881375 | U14: 4 | V14: 2 | W14: 1 | X14: 0 | Y14: 1 | Z14: 0 | AA14: 0 | AB14: 0
A15: 9 | B15: Алматы қаласы | C15: =SUM(C7:C14) -> 112 | D15: =SUM(D7:D14) -> 0 | E15: =SUM(E7:E14) -> 8 | F15: =SUM(F7:F14) -> 15 | G15: =SUM(G7:G14) -> 89 | H15: =SUM(H7:H14) -> 0 | I15: =SUM(I7:I14) -> 0 | J15: =SUM(J7:J14) -> 0 | ... AB15: =SUM(AB7:AB14) -> 0

Sheet өндірістік объектілер, РҚО
X1: Қазақстан Республикасының Денсаулық сақтау министрлігі Санитариялық-эпидемиологиялық бақылау комитеті төрағасының 2025 жылғы «___» __________ №____ бұйрығына 3-қосымша
A2: Жүргізілген жоспардан тыс тексерулер туралы есеп
A4: № | B4: Атауы | C4: Жоспардан тыс тексерулер саны | L4: бұзушылықтар анықталды | M4: берілген нұсқамалар саны | N4: сотқа жіберілген материалдардың саны | O4: Әкімшілік жазалар саны | U4: Жедел ден қою шаралары | Z4: Тіркеуден бас тартылды
C5: барлығы | D5: тергеп-тексеру нәтижелері бойынша анықталған бұзушылықтардың жойылуын бақылау | E5: бақылау мен қадағалау субъектісі анықталған бұзушылықтарды жою туралы ақпаратты бір реттен көп ұсынбаса және (немесе) бұзушылықтарды жоймаса, тексеру және бақылау мен қадағалау субъектісіне (объектісіне) бару арқылы профилактикалық бақылау нәтижесінде анықталған бұзушылықтарды жою туралы нұсқамалардың орындалуын бақылау | F5: жедел ден қою шараларын қолдануға негіз болып табылатын бұзушылықтардың жойылуын бақылау | G5: сенімді негіздер және растайтын дәлелдемелер болған кезде Қазақстан Республикасы заңнамасының талаптарын бұзушылықтар бойынша жеке және заңды тұлғалардың жолданымдары | H5: адамның өміріне, денсаулығына, қоршаған ортаға, жеке және заңды тұлғалардың, мемлекеттің құқықтары мен заңды мүдделеріне зиян келтірудің нақты фактілері бойынша не зиян келтіру қатері туралы прокурордың талаптары | I5: адамның өміріне, денсаулығына, қоршаған ортаға, жеке және заңды тұлғалардың, мемлекеттің құқықтары мен заңды мүдделеріне зиян келтірудің, сондай-ақ жойылмауы адамның өмірі мен денсаулығына зиян келтіруге алып келетін Қазақстан Республикасы заңнамасының талаптарын бұзушылықтардың нақты фактілері бойынша мемлекеттік органдардың жолданымдары | J5: бақылау мен қадағалау субъектісінің бастапқы тексерумен келіспейтіні туралы жүгінуіне байланысты қайта тексеру (жедел ден қою шараларын қолданудың құқыққа сыйымсыздығы) | K5: қылмыстық қудалау органының Қазақстан Республикасының Қылмыстық-процестік кодексінде көзделген негіздер бойынша тапсырмасы | O5: Барлығы | P5: лауазымды тұлғалар | Q5: заңды тұлғалар | R5: жеке кәсіпкерлер | S5: жеке тұлғалар | T5: әкімшілік айыппұл сомасы | U5: барлығы | V5: бақылау мен қадағалау субъектісінің (объектісінің) өнімді (тауарды) өндіру, өткізу, қызметтер көрсету, жұмыстарды орындау жөніндегі қызметін немесе оның жекелеген түрлерін (процестерді, әрекеттерді) тоқтата тұру | W5: Бақылау мен қадағалау субъектісінің (объектісінің) өнімді (тауарды) өндіру, қызметтер көрсету, жұмыстарды орындау жөніндегі қызметіне немесе оның жекелеген түрлеріне (процестерге, әрекеттерге) тыйым салу | X5: Техникалық регламенттердің талаптарына және (немесе) Еуразиялық экономикалық одақтың бірыңғай санитариялық-эпидемиологиялық және гигиеналық талаптарына сәйкес келмейтін өнімді (тауарды) өткізуден алып қою және кері қайтарып алу; | Y5: адамдарды жұмыстан уақытша шеттету | Z5: хабарлама ережелерін бұзу | AA5: тексеру жүргізу мерзімдерін бұзу | AB5: басқалары (ескертпеде көрсетіңіз)
A6: 1 | B6: 2 | C6: 3 | D6: 4 | E6: 5 | F6: 6 | G6: 7 | H6: 8 | I6: 9 | J6: 10 | K6: 11 | L6: 12 | M6: 13 | N6: 14 | O6: 15 | P6: 16 | Q6: 17 | R6: 18 | S6: 19 | T6: 20 | U6: 21 | V6: 22 | W6: 23 | X6: 24 | Y6: 25 | Z6: 26 | AA6: 27 | AB6: 28
A7: 1 | B7: Алатау ауданы | C7: 4 | D7: 0 | E7: 0 | F7: 0 | G7: 4 | H7: 0 | I7: 0 | J7: 0 | K7: 0 | L7: 4 | M7: 4 | N7: 0 | O7: 4 | P7: 0 | Q7: 3 | R7: 0 | S7: 1 | T7: 4195250 | U7: 0 | V7: 0 | W7: 0 | X7: 0 | Y7: 0 | Z7: 0 | AA7: 0 | AB7: 0
A8: 2 | B8: Алмалы ауданы | C8: 4 | D8: 0 | E8: 0 | F8: 0 | G8: 1 | H8: 0 | I8: 3 | J8: 0 | K8: 0 | L8: 4 | M8: 4 | N8: 1 | O8: 4 | P8: 0 | Q8: 3 | R8: 1 | S8: 0 | T8: 1730000 | U8: 0 | V8: 0 | W8: 0 | X8: 0 | Y8: 0 | Z8: 0 | AA8: 0 | AB8: 0
A9: 3 | B9: Әуезов ауданы | C9: 1 | D9: 0 | E9: 0 | F9: 0 | G9: 1 | H9: 0 | I9: 0 | J9: 0 | K9: 0 | L9: 0 | M9: 0 | N9: 0 | O9: 0 | P9: 0 | Q9: 0 | R9: 0 | S9: 0 | T9: 0 | U9: 0 | V9: 0 | W9: 0 | X9: 0 | Y9: 0 | Z9: 0 | AA9: 0 | AB9: 0
A10: 4 | B10: Бостандық ауданы | C10: 5 | D10: 0 | E10: 0 | F10: 0 | G10: 5 | H10: 0 | I10: 0 | J10: 0 | K10: 0 | L10: 2 | M10: 2 | N10: 2 | O10: 0 | P10: 0 | Q10: 0 | R10: 0 | S10: 0 | T10: 0 | U10: 0 | V10: 0 | W10: 0 | X10: 0 | Y10: 0 | Z10: 0 | AA10: 0 | AB10: 0
A11: 5 | B11: Жетісу ауданы | C11: 12 | D11: 0 | E11: 0 | F11: 1 | G11: 11 | H11: 0 | I11: 0 | J11: 0 | K11: 0 | L11: 8 | M11: 8 | N11: 0 | O11: 6 | P11: 1 | Q11: 5 | R11: 0 | S11: 0 | T11: 2616625 | U11: 3 | V11: 1 | W11: 2 | X11: 0 | Y11: 0 | Z11: 0 | AA11: 0 | AB11: 0
A12: 6 | B12: Медеу ауданы | C12: 3 | D12: 0 | E12: 0 | F12: 0 | G12: 3 | H12: 0 | I12: 0 | J12: 0 | K12: 0 | L12: 3 | M12: 3 | N12: 0 | O12: 2 | P12: 0 | Q12: 2 | R12: 0 | S12: 0 | T12: 800125 | U12: 0 | V12: 0 | W12: 0 | X12: 0 | Y12: 0 | Z12: 0 | AA12: 0 | AB12: 0
A13: 7 | B13: Наурызбай ауданы | C13: 1 | D13: 0 | E13: 0 | F13: 0 | G13: 1 | H13: 0 | I13: 0 | J13: 0 | K13: 0 | L13: 1 | M13: 1 | N13: 0 | O13: 1 | P13: 0 | Q13: 1 | R13: 0 | S13: 0 | T13: 346000 | U13: 0 | V13: 0 | W13: 0 | X13: 0 | Y13: 0 | Z13: 0 | AA13: 0 | AB13: 0
A14: 8 | B14: Түрксіб ауданы | C14: 16 | D14: 0 | E14: 0 | F14: 2 | G14: 14 | H14: 0 | I14: 0 | J14: 0 | K14: 0 | L14: 13 | M14: 13 | N14: 0 | O14: 12 | P14: 0 | Q14: 12 | R14: 0 | S14: 0 | T14: 7698500 | U14: 4 | V14: 0 | W14: 4 | X14: 0 | Y14: 0 | Z14: 0 | AA14: 0 | AB14: 0
A15: 9 | B15: Алматы қаласы | C15: =SUM(C7:C14) -> 46 | D15: =SUM(D7:D14) -> 0 | E15: =SUM(E7:E14) -> 0 | F15: =SUM(F7:F14) -> 3 | G15: =SUM(G7:G14) -> 40 | H15: =SUM(H7:H14) -> 0 | I15: =SUM(I7:I14) -> 3 | J15: =SUM(J7:J14) -> 0 | ... AB15: =SUM(AB7:AB14) -> 0

Sheet денсаулық сақтау объектілері
X1: Қазақстан Республикасының Денсаулық сақтау министрлігі Санитариялық-эпидемиологиялық бақылау комитеті төрағасының 2025 жылғы «___» __________ №____ бұйрығына 3-қосымша
A2: Жүргізілген жоспардан тыс тексерулер туралы есеп
A4: № | B4: Атауы | C4: Жоспардан тыс тексерулер саны | L4: бұзушылықтар анықталды | M4: берілген нұсқамалар саны | N4: сотқа жіберілген материалдардың саны | O4: Әкімшілік жазалар саны | U4: Жедел ден қою шаралары | Z4: Тіркеуден бас тартылды
C5: барлығы | D5: тергеп-тексеру нәтижелері бойынша анықталған бұзушылықтардың жойылуын бақылау | E5: бақылау мен қадағалау субъектісі анықталған бұзушылықтарды жою туралы ақпаратты бір реттен көп ұсынбаса және (немесе) бұзушылықтарды жоймаса, тексеру және бақылау мен қадағалау субъектісіне (объектісіне) бару арқылы профилактикалық бақылау нәтижесінде анықталған бұзушылықтарды жою туралы нұсқамалардың орындалуын бақылау | F5: жедел ден қою шараларын қолдануға негіз болып табылатын бұзушылықтардың жойылуын бақылау | G5: сенімді негіздер және растайтын дәлелдемелер болған кезде Қазақстан Республикасы заңнамасының талаптарын бұзушылықтар бойынша жеке және заңды тұлғалардың жолданымдары | H5: адамның өміріне, денсаулығына, қоршаған ортаға, жеке және заңды тұлғалардың, мемлекеттің құқықтары мен заңды мүдделеріне зиян келтірудің нақты фактілері бойынша не зиян келтіру қатері туралы прокурордың талаптары | I5: адамның өміріне, денсаулығына, қоршаған ортаға, жеке және заңды тұлғалардың, мемлекеттің құқықтары мен заңды мүдделеріне зиян келтірудің, сондай-ақ жойылмауы адамның өмірі мен денсаулығына зиян келтіруге алып келетін Қазақстан Республикасы заңнамасының талаптарын бұзушылықтардың нақты фактілері бойынша мемлекеттік органдардың жолданымдары | J5: бақылау мен қадағалау субъектісінің бастапқы тексерумен келіспейтіні туралы жүгінуіне байланысты қайта тексеру (жедел ден қою шараларын қолданудың құқыққа сыйымсыздығы) | K5: қылмыстық қудалау органының Қазақстан Республикасының Қылмыстық-процестік кодексінде көзделген негіздер бойынша тапсырмасы | O5: Барлығы | P5: лауазымды тұлғалар | Q5: заңды тұлғалар | R5: жеке кәсіпкерлер | S5: жеке тұлғалар | T5: әкімшілік айыппұл сомасы | U5: барлығы | V5: бақылау мен қадағалау субъектісінің (объектісінің) өнімді (тауарды) өндіру, өткізу, қызметтер көрсету, жұмыстарды орындау жөніндегі қызметін немесе оның жекелеген түрлерін (процестерді, әрекеттерді) тоқтата тұру | W5: Бақылау мен қадағалау субъектісінің (объектісінің) өнімді (тауарды) өндіру, қызметтер көрсету, жұмыстарды орындау жөніндегі қызметіне немесе оның жекелеген түрлеріне (процестерге, әрекеттерге) тыйым салу | X5: Техникалық регламенттердің талаптарына және (немесе) Еуразиялық экономикалық одақтың бірыңғай санитариялық-эпидемиологиялық және гигиеналық талаптарына сәйкес келмейтін өнімді (тауарды) өткізуден алып қою және кері қайтарып алу; | Y5: адамдарды жұмыстан уақытша шеттету | Z5: хабарлама ережелерін бұзу | AA5: тексеру жүргізу мерзімдерін бұзу | AB5: басқалары (ескертпеде көрсетіңіз)
A6: 1 | B6: 2 | C6: 3 | D6: 4 | E6: 5 | F6: 6 | G6: 7 | H6: 8 | I6: 9 | J6: 10 | K6: 11 | L6: 12 | M6: 13 | N6: 14 | O6: 15 | P6: 16 | Q6: 17 | R6: 18 | S6: 19 | T6: 20 | U6: 21 | V6: 22 | W6: 23 | X6: 24 | Y6: 25 | Z6: 26 | AA6: 27 | AB6: 28
A7: 1 | B7: Алатау ауданы | C7: 0 | D7: 0 | E7: 0 | F7: 0 | G7: 0 | H7: 0 | I7: 0 | J7: 0 | K7: 0 | L7: 0 | M7: 0 | N7: 0 | O7: 0 | P7: 0 | Q7: 0 | R7: 0 | S7: 0 | T7: 0 | U7: 0 | V7: 0 | W7: 0 | X7: 0 | Y7: 0 | Z7: 0 | AA7: 0 | AB7: 0
A8: 2 | B8: Алмалы ауданы | C8: 39 | D8: 1 | E8: 24 | F8: 7 | G8: 7 | H8: 0 | I8: 0 | J8: 0 | K8: 0 | L8: 7 | M8: 4 | N8: 3 | O8: 3 | P8: 0 | Q8: 3 | R8: 0 | S8: 0 | T8: 1146125 | U8: 1 | V8: 0 | W8: 1 | X8: 0 | Y8: 0 | Z8: 0 | AA8: 0 | AB8: 0
A9: 3 | B9: Әуезов ауданы | C9: 5 | D9: 1 | E9: 1 | F9: 2 | G9: 1 | H9: 0 | I9: 0 | J9: 0 | K9: 0 | L9: 1 | M9: 1 | N9: 0 | O9: 1 | P9: 0 | Q9: 1 | R9: 0 | S9: 0 | T9: 692000 | U9: 0 | V9: 0 | W9: 0 | X9: 0 | Y9: 0 | Z9: 0 | AA9: 0 | AB9: 0
A10: 4 | B10: Бостандық ауданы | C10: 17 | D10: 1 | E10: 2 | F10: 7 | G10: 7 | H10: 0 | I10: 0 | J10: 0 | K10: 0 | L10: 9 | M10: 5 | N10: 3 | O10: 5 | P10: 0 | Q10: 5 | R10: 0 | S10: 0 | T10: 1838125 | U10: 2 | V10: 0 | W10: 1 | X10: 0 | Y10: 1 | Z10: 0 | AA10: 0 | AB10: 0
A11: 5 | B11: Жетісу ауданы | C11: 4 | D11: 2 | E11: 1 | F11: 1 | G11: 0 | H11: 0 | I11: 0 | J11: 0 | K11: 0 | L11: 0 | M11: 0 | N11: 0 | O11: 0 | P11: 0 | Q11: 0 | R11: 0 | S11: 0 | T11: 0 | U11: 0 | V11: 0 | W11: 0 | X11: 0 | Y11: 0 | Z11: 0 | AA11: 0 | AB11: 0
A12: 6 | B12: Медеу ауданы | C12: 28 | D12: 2 | E12: 10 | F12: 14 | G12: 1 | H12: 0 | I12: 1 | J12: 0 | K12: 0 | L12: 5 | M12: 1 | N12: 3 | O12: 1 | P12: 1 | Q12: 0 | R12: 0 | S12: 0 | T12: 346000 | U12: 0 | V12: 0 | W12: 0 | X12: 0 | Y12: 0 | Z12: 0 | AA12: 0 | AB12: 0
A13: 7 | B13: Наурызбай ауданы | C13: 1 | D13: 0 | E13: 0 | F13: 1 | G13: 0 | H13: 0 | I13: 0 | J13: 0 | K13: 0 | L13: 0 | M13: 0 | N13: 0 | O13: 0 | P13: 0 | Q13: 0 | R13: 0 | S13: 0 | T13: 0 | U13: 0 | V13: 0 | W13: 0 | X13: 0 | Y13: 0 | Z13: 0 | AA13: 0 | AB13: 0
A14: 8 | B14: Түрксіб ауданы | C14: 11 | D14: 7 | E14: 1 | F14: 1 | G14: 1 | H14: 1 | I14: 0 | J14: 0 | K14: 0 | L14: 1 | M14: 1 | N14: 0 | O14: 1 | P14: 0 | Q14: 1 | R14: 0 | S14: 0 | T14: 346000 | U14: 0 | V14: 0 | W14: 0 | X14: 0 | Y14: 0 | Z14: 0 | AA14: 0 | AB14: 0
A15: 9 | B15: Алматы қаласы | C15: =SUM(C7:C14) -> 105 | D15: =SUM(D7:D14) -> 14 | E15: =SUM(E7:E14) -> 39 | F15: =SUM(F7:F14) -> 33 | G15: =SUM(G7:G14) -> 17 | H15: =SUM(H7:H14) -> 1 | I15: =SUM(I7:I14) -> 1 | J15: =SUM(J7:J14) -> 0 | ... AB15: =SUM(AB7:AB14) -> 0

Sheet басқалары
X1: Қазақстан Республикасының Денсаулық сақтау министрлігі Санитариялық-эпидемиологиялық бақылау комитеті төрағасының 2025 жылғы «___» __________ №____ бұйрығына 3-қосымша
A2: Жүргізілген жоспардан тыс тексерулер туралы есеп
A4: № | B4: Атауы | C4: Жоспардан тыс тексерулер саны | L4: бұзушылықтар анықталды | M4: берілген нұсқамалар саны | N4: сотқа жіберілген материалдардың саны | O4: Әкімшілік жазалар саны | U4: Жедел ден қою шаралары | Z4: Тіркеуден бас тартылды
C5: барлығы | D5: тергеп-тексеру нәтижелері бойынша анықталған бұзушылықтардың жойылуын бақылау | E5: бақылау мен қадағалау субъектісі анықталған бұзушылықтарды жою туралы ақпаратты бір реттен көп ұсынбаса және (немесе) бұзушылықтарды жоймаса, тексеру және бақылау мен қадағалау субъектісіне (объектісіне) бару арқылы профилактикалық бақылау нәтижесінде анықталған бұзушылықтарды жою туралы нұсқамалардың орындалуын бақылау | F5: жедел ден қою шараларын қолдануға негіз болып табылатын бұзушылықтардың жойылуын бақылау | G5: сенімді негіздер және растайтын дәлелдемелер болған кезде Қазақстан Республикасы заңнамасының талаптарын бұзушылықтар бойынша жеке және заңды тұлғалардың жолданымдары | H5: адамның өміріне, денсаулығына, қоршаған ортаға, жеке және заңды тұлғалардың, мемлекеттің құқықтары мен заңды мүдделеріне зиян келтірудің нақты фактілері бойынша не зиян келтіру қатері туралы прокурордың талаптары | I5: адамның өміріне, денсаулығына, қоршаған ортаға, жеке және заңды тұлғалардың, мемлекеттің құқықтары мен заңды мүдделеріне зиян келтірудің, сондай-ақ жойылмауы адамның өмірі мен денсаулығына зиян келтіруге алып келетін Қазақстан Республикасы заңнамасының талаптарын бұзушылықтардың нақты фактілері бойынша мемлекеттік органдардың жолданымдары | J5: бақылау мен қадағалау субъектісінің бастапқы тексерумен келіспейтіні туралы жүгінуіне байланысты қайта тексеру (жедел ден қою шараларын қолданудың құқыққа сыйымсыздығы) | K5: қылмыстық қудалау органының Қазақстан Республикасының Қылмыстық-процестік кодексінде көзделген негіздер бойынша тапсырмасы | O5: Барлығы | P5: лауазымды тұлғалар | Q5: заңды тұлғалар | R5: жеке кәсіпкерлер | S5: жеке тұлғалар | T5: әкімшілік айыппұл сомасы | U5: барлығы | V5: бақылау мен қадағалау субъектісінің (объектісінің) өнімді (тауарды) өндіру, өткізу, қызметтер көрсету, жұмыстарды орындау жөніндегі қызметін немесе оның жекелеген түрлерін (процестерді, әрекеттерді) тоқтата тұру | W5: Бақылау мен қадағалау субъектісінің (объектісінің) өнімді (тауарды) өндіру, қызметтер көрсету, жұмыстарды орындау жөніндегі қызметіне немесе оның жекелеген түрлеріне (процестерге, әрекеттерге) тыйым салу | X5: Техникалық регламенттердің талаптарына және (немесе) Еуразиялық экономикалық одақтың бірыңғай санитариялық-эпидемиологиялық және гигиеналық талаптарына сәйкес келмейтін өнімді (тауарды) өткізуден алып қою және кері қайтарып алу; | Y5: адамдарды жұмыстан уақытша шеттету | Z5: хабарлама ережелерін бұзу | AA5: тексеру жүргізу мерзімдерін бұзу | AB5: басқалары (ескертпеде көрсетіңіз)
A6: 1 | B6: 2 | C6: 3 | D6: 4 | E6: 5 | F6: 6 | G6: 7 | H6: 8 | I6: 9 | J6: 10 | K6: 11 | L6: 12 | M6: 13 | N6: 14 | O6: 15 | P6: 16 | Q6: 17 | R6: 18 | S6: 19 | T6: 20 | U6: 21 | V6: 22 | W6: 23 | X6: 24 | Y6: 25 | Z6: 26 | AA6: 27 | AB6: 28
A7: 1 | B7: Алатау ауданы | C7: =SUM([3]ОГДИП:ОГП!C7) -> 26 | D7: =SUM([3]ОГДИП:ОГП!D7) -> 0 | E7: =SUM([3]ОГДИП:ОГП!E7) -> 0 | F7: =SUM([3]ОГДИП:ОГП!F7) -> 15 | G7: =SUM([3]ОГДИП:ОГП!G7) -> 11 | H7: =SUM([3]ОГДИП:ОГП!H7) -> 0 | I7: =SUM([3]ОГДИП:ОГП!I7) -> 0 | J7: =SUM([3]ОГДИП:ОГП!J7) -> 0 | ... AB7: =SUM([3]ОГДИП:ОГП!AB7) -> 0
A8: 2 | B8: Алмалы ауданы | C8: =SUM([3]ОГДИП:ОГП!C8) -> 42 | D8: =SUM([3]ОГДИП:ОГП!D8) -> 0 | E8: =SUM([3]ОГДИП:ОГП!E8) -> 0 | F8: =SUM([3]ОГДИП:ОГП!F8) -> 16 | G8: =SUM([3]ОГДИП:ОГП!G8) -> 26 | H8: =SUM([3]ОГДИП:ОГП!H8) -> 0 | I8: =SUM([3]ОГДИП:ОГП!I8) -> 0 | J8: =SUM([3]ОГДИП:ОГП!J8) -> 0 | ... AB8: =SUM([3]ОГДИП:ОГП!AB8) -> 0
A9: 3 | B9: Әуезов ауданы | C9: =SUM([3]ОГДИП:ОГП!C9) -> 34 | D9: =SUM([3]ОГДИП:ОГП!D9) -> 8 | E9: =SUM([3]ОГДИП:ОГП!E9) -> 1 | F9: =SUM([3]ОГДИП:ОГП!F9) -> 20 | G9: =SUM([3]ОГДИП:ОГП!G9) -> 5 | H9: =SUM([3]ОГДИП:ОГП!H9) -> 0 | I9: =SUM([3]ОГДИП:ОГП!I9) -> 0 | J9: =SUM([3]ОГДИП:ОГП!J9) -> 0 | ... AB9: =SUM([3]ОГДИП:ОГП!AB9) -> 0
A10: 4 | B10: Бостандық ауданы | C10: =SUM([3]ОГДИП:ОГП!C10) -> 22 | D10: =SUM([3]ОГДИП:ОГП!D10) -> 0 | E10: =SUM([3]ОГДИП:ОГП!E10) -> 1 | F10: =SUM([3]ОГДИП:ОГП!F10) -> 6 | G10: =SUM([3]ОГДИП:ОГП!G10) -> 15 | H10: =SUM([3]ОГДИП:ОГП!H10) -> 0 | I10: =SUM([3]ОГДИП:ОГП!I10) -> 0 | J10: =SUM([3]ОГДИП:ОГП!J10) -> 0 | ... AB10: =SUM([3]ОГДИП:ОГП!AB10) -> 0
A11: 5 | B11: Жетісу ауданы | C11: =SUM([3]ОГДИП:ОГП!C11) -> 6 | D11: =SUM([3]ОГДИП:ОГП!D11) -> 0 | E11: =SUM([3]ОГДИП:ОГП!E11) -> 0 | F11: =SUM([3]ОГДИП:ОГП!F11) -> 3 | G11: =SUM([3]ОГДИП:ОГП!G11) -> 3 | H11: =SUM([3]ОГДИП:ОГП!H11) -> 0 | I11: =SUM([3]ОГДИП:ОГП!I11) -> 0 | J11: =SUM([3]ОГДИП:ОГП!J11) -> 0 | ... AB11: =SUM([3]ОГДИП:ОГП!AB11) -> 0
A12: 6 | B12: Медеу ауданы | C12: =SUM([3]ОГДИП:ОГП!C12) -> 53 | D12: =SUM([3]ОГДИП:ОГП!D12) -> 12 | E12: =SUM([3]ОГДИП:ОГП!E12) -> 1 | F12: =SUM([3]ОГДИП:ОГП!F12) -> 26 | G12: =SUM([3]ОГДИП:ОГП!G12) -> 14 | H12: =SUM([3]ОГДИП:ОГП!H12) -> 0 | I12: =SUM([3]ОГДИП:ОГП!I12) -> 0 | J12: =SUM([3]ОГДИП:ОГП!J12) -> 0 | ... AB12: =SUM([3]ОГДИП:ОГП!AB12) -> 0
A13: 7 | B13: Наурызбай ауданы | C13: =SUM([3]ОГДИП:ОГП!C13) -> 3 | D13: =SUM([3]ОГДИП:ОГП!D13) -> 0 | E13: =SUM([3]ОГДИП:ОГП!E13) -> 0 | F13: =SUM([3]ОГДИП:ОГП!F13) -> 0 | G13: =SUM([3]ОГДИП:ОГП!G13) -> 3 | H13: =SUM([3]ОГДИП:ОГП!H13) -> 0 | I13: =SUM([3]ОГДИП:ОГП!I13) -> 0 | J13: =SUM([3]ОГДИП:ОГП!J13) -> 0 | ... AB13: =SUM([3]ОГДИП:ОГП!AB13) -> 0
A14: 8 | B14: Түрксіб ауданы | C14: =SUM([3]ОГДИП:ОГП!C14) -> 11 | D14: =SUM([3]ОГДИП:ОГП!D14) -> 0 | E14: =SUM([3]ОГДИП:ОГП!E14) -> 0 | F14: =SUM([3]ОГДИП:ОГП!F14) -> 8 | G14: =SUM([3]ОГДИП:ОГП!G14) -> 3 | H14: =SUM([3]ОГДИП:ОГП!H14) -> 0 | I14: =SUM([3]ОГДИП:ОГП!I14) -> 0 | J14: =SUM([3]ОГДИП:ОГП!J14) -> 0 | ... AB14: =SUM([3]ОГДИП:ОГП!AB14) -> 0
A15: 9 | B15: Алматы қаласы | C15: =SUM(C7:C14) -> 197 | D15: =SUM(D7:D14) -> 20 | E15: =SUM(E7:E14) -> 3 | F15: =SUM(F7:F14) -> 94 | G15: =SUM(G7:G14) -> 80 | H15: =SUM(H7:H14) -> 0 | I15: =SUM(I7:I14) -> 0 | J15: =SUM(J7:J14) -> 0 | ... AB15: =SUM(AB7:AB14) -> 0
B16: Тамақ өнеркәсібі (Пищ.пром)
