Workbook

Sheet Жинақ 
V1: Қазақстан Республикасының Денсаулық сақтау министрлігі Санитариялық-эпидемиологиялық бақылау комитеті төрағасының 2025 жылғы «___» __________ №____ бұйрығына 2-қосымша
A2: Халықтың санитариялық-эпидемиологиялық саламаттылығы саласында субъектіге (объектіге) бару арқылы профилактикалық бақылау жүргізу жөніндегі есеп
A3: № | B3: Атауы | C3: Бақылау мен қадағалау субъектісіне (объектісіне) бару арқылы профилактикалық бақылау
C4: Еgov тізіміне сәйкес жоспарланған тексерулер, барлығы | D4: Дұрыс емес деректермен тізім бойынша жоспарланған тексерулер | E4: Дұрыс деректермен тізім бойынша жоспарланған тексерулер | F4: Тексерулер жүргізілді | G4: % орындалуы | H4: Бұзушылықтары анықталған объектілер | I4: Бұзушылықтар анықталған объектілердің үлес салмағы % | J4: Берілген ұйғарымдар саны | K4: Сотқа жолданған материалдар саны | L4: Жедел ден қою шаралары | Q4: Тіркеуден бас тартылды | U4: Тексерілмеген, себеппен алынған:
L5: Барлығы | M5: Бақылау мен қадағалау субъектісінің (объектісінің) өнімді (тауарды) өндіру, өткізу, қызметтер көрсету, жұмыстарды орындау жөніндегі қызметін немесе оның жекелеген түрлерін (процестерді, әрекеттерді) тоқтата тұру | N5: Бақылау мен қадағалау субъектісінің (объектісінің) өнімді (тауарды) өндіру, қызметтер көрсету, жұмыстарды орындау жөніндегі қызметіне немесе оның жекелеген түрлеріне (процестерге, әрекеттерге) тыйым салу | O5: Техникалық регламенттердің талаптарына және (немесе) Еуразиялық экономикалық одақтың бірыңғай санитариялық-эпидемиологиялық және гигиеналық талаптарына сәйкес келмейтін өнімді (тауарды) өткізуден алып қою және кері қайтарып алу | P5: Адамдарды жұмыстан уақытша шеттету | Q5: Хабарлама ережелерін бұзу | R5: Бармай профбақылау ұсынымының болмауы | S5: Тексеру жүргізу мерзімдерін бұзу | T5: Басқалары (*ескертпеде көрсету) | U5: Кәсіпкерлік субъектісінің / объектісінің санатын өзгеруі | V5: Объектінің жабылуы | W5: Заңды немесе нақты мекенжайды өзгерту | X5: Басқалары (*ескертпеде көрсету) | Y5: Аяқталмаған тексеруле (ауыспалы) | Z5: Келесі айға жоспарланған тексерулер
A6: 1 | B6: 2 | C6: 3 | D6: 4 | E6: 5 | F6: 6 | G6: 7 | H6: 8 | I6: 9 | J6: 10 | K6: 11 | L6: 12 | M6: 13 | N6: 14 | O6: 15 | P6: 16 | Q6: 17 | R6: 18 | S6: 19 | T6: 20 | U6: 21 | V6: 22 | W6: 23 | X6: 24 | Y6: 25 | Z6: 26
A7: 1 | B7: Алатау ауданы | C7: =SUM('МДҰ:денсаулық сақтау объектілері'!C7) -> 11 | D7: =SUM('МДҰ:денсаулық сақтау объектілері'!D7) -> 1 | E7: =SUM('МДҰ:денсаулық сақтау объектілері'!E7) -> 10 | F7: =SUM('МДҰ:денсаулық сақтау объектілері'!F7) -> 5 | G7: =SUM('МДҰ:денсаулық сақтау объектілері'!G7) -> 0.91666667 | H7: =SUM('МДҰ:денсаулық сақтау объектілері'!H7) -> 5 | I7: 0 | J7: =SUM('МДҰ:денсаулық сақтау объектілері'!J7) -> 5 | K7: =SUM('МДҰ:денсаулық сақтау объектілері'!K7) -> 0 | L7: =SUM('МДҰ:денсаулық сақтау объектілері'!L7) -> 2 | M7: =SUM('МДҰ:денсаулық сақтау объектілері'!M7) -> 0 | N7: =SUM('МДҰ:денсаулық сақтау объектілері'!N7) -> 1 | O7: =SUM('МДҰ:денсаулық сақтау объектілері'!O7) -> 1 | P7: =SUM('МДҰ:денсаулық сақтау объектілері'!P7) -> 0 | Q7: =SUM('МДҰ:денсаулық сақтау объектілері'!Q7) -> 0 | ... Z7: =SUM('МДҰ:денсаулық сақтау объектілері'!Z7) -> 5
A8: 2 | B8: Алмалы ауданы | C8: =SUM('МДҰ:денсаулық сақтау объектілері'!C8) -> 1 | D8: =SUM('МДҰ:денсаулық сақтау объектілері'!D8) -> 1 | E8: =SUM('МДҰ:денсаулық сақтау объектілері'!E8) -> 0 | F8: =SUM('МДҰ:денсаулық сақтау объектілері'!F8) -> 0 | G8: 0 | H8: =SUM('МДҰ:денсаулық сақтау объектілері'!H8) -> 0 | I8: 0 | J8: =SUM('МДҰ:денсаулық сақтау объектілері'!J8) -> 0 | K8: =SUM('МДҰ:денсаулық сақтау объектілері'!K8) -> 0 | L8: =SUM('МДҰ:денсаулық сақтау объектілері'!L8) -> 0 | M8: =SUM('МДҰ:денсаулық сақтау объектілері'!M8) -> 0 | N8: =SUM('МДҰ:денсаулық сақтау объектілері'!N8) -> 0 | O8: =SUM('МДҰ:денсаулық сақтау объектілері'!O8) -> 0 | P8: =SUM('МДҰ:денсаулық сақтау объектілері'!P8) -> 0 | Q8: =SUM('МДҰ:денсаулық сақтау объектілері'!Q8) -> 0 | ... Z8: =SUM('МДҰ:денсаулық сақтау объектілері'!Z8) -> 0
A9: 3 | B9: Әуезов ауданы | C9: =SUM('МДҰ:денсаулық сақтау объектілері'!C9) -> 9 | D9: =SUM('МДҰ:денсаулық сақтау объектілері'!D9) -> 0 | E9: =SUM('МДҰ:денсаулық сақтау объектілері'!E9) -> 9 | F9: =SUM('МДҰ:денсаулық сақтау объектілері'!F9) -> 1 | G9: =SUM('МДҰ:денсаулық сақтау объектілері'!G9) -> 0.2 | H9: =SUM('МДҰ:денсаулық сақтау объектілері'!H9) -> 1 | I9: 0 | J9: =SUM('МДҰ:денсаулық сақтау объектілері'!J9) -> 1 | K9: =SUM('МДҰ:денсаулық сақтау объектілері'!K9) -> 0 | L9: =SUM('МДҰ:денсаулық сақтау объектілері'!L9) -> 0 | M9: =SUM('МДҰ:денсаулық сақтау объектілері'!M9) -> 0 | N9: =SUM('МДҰ:денсаулық сақтау объектілері'!N9) -> 0 | O9: =SUM('МДҰ:денсаулық сақтау объектілері'!O9) -> 0 | P9: =SUM('МДҰ:денсаулық сақтау объектілері'!P9) -> 0 | Q9: =SUM('МДҰ:денсаулық сақтау объектілері'!Q9) -> 0 | ... Z9: =SUM('МДҰ:денсаулық сақтау объектілері'!Z9) -> 5
A10: 4 | B10: Бостандық ауданы | C10: =SUM('МДҰ:денсаулық сақтау объектілері'!C10) -> 22 | D10: =SUM('МДҰ:денсаулық сақтау объектілері'!D10) -> 13 | E10: =SUM('МДҰ:денсаулық сақтау объектілері'!E10) -> 9 | F10: =SUM('МДҰ:денсаулық сақтау объектілері'!F10) -> 1 | G10: =SUM('МДҰ:денсаулық сақтау объектілері'!G10) -> 0.11111111 | H10: =SUM('МДҰ:денсаулық сақтау объектілері'!H10) -> 1 | I10: 0 | J10: =SUM('МДҰ:денсаулық сақтау объектілері'!J10) -> 1 | K10: =SUM('МДҰ:денсаулық сақтау объектілері'!K10) -> 0 | L10: =SUM('МДҰ:денсаулық сақтау объектілері'!L10) -> 3 | M10: =SUM('МДҰ:денсаулық сақтау объектілері'!M10) -> 1 | N10: =SUM('МДҰ:денсаулық сақтау объектілері'!N10) -> 1 | O10: =SUM('МДҰ:денсаулық сақтау объектілері'!O10) -> 0 | P10: =SUM('МДҰ:денсаулық сақтау объектілері'!P10) -> 1 | Q10: =SUM('МДҰ:денсаулық сақтау объектілері'!Q10) -> 0 | ... Z10: =SUM('МДҰ:денсаулық сақтау объектілері'!Z10) -> 5
A11: 5 | B11: Жетісу ауданы | C11: =SUM('МДҰ:денсаулық сақтау объектілері'!C11) -> 2 | D11: =SUM('МДҰ:денсаулық сақтау объектілері'!D11) -> 0 | E11: =SUM('МДҰ:денсаулық сақтау объектілері'!E11) -> 2 | F11: =SUM('МДҰ:денсаулық сақтау объектілері'!F11) -> 0 | G11: =SUM('МДҰ:денсаулық сақтау объектілері'!G11) -> 0 | H11: =SUM('МДҰ:денсаулық сақтау объектілері'!H11) -> 0 | I11: 0 | J11: =SUM('МДҰ:денсаулық сақтау объектілері'!J11) -> 0 | K11: =SUM('МДҰ:денсаулық сақтау объектілері'!K11) -> 0 | L11: =SUM('МДҰ:денсаулық сақтау объектілері'!L11) -> 0 | M11: =SUM('МДҰ:денсаулық сақтау объектілері'!M11) -> 0 | N11: =SUM('МДҰ:денсаулық сақтау объектілері'!N11) -> 0 | O11: =SUM('МДҰ:денсаулық сақтау объектілері'!O11) -> 0 | P11: =SUM('МДҰ:денсаулық сақтау объектілері'!P11) -> 0 | Q11: =SUM('МДҰ:денсаулық сақтау объектілері'!Q11) -> 0 | ... Z11: =SUM('МДҰ:денсаулық сақтау объектілері'!Z11) -> 2
A12: 6 | B12: Меде ауданы | C12: =SUM('МДҰ:денсаулық сақтау объектілері'!C12) -> 15 | D12: =SUM('МДҰ:денсаулық сақтау объектілері'!D12) -> 0 | E12: =SUM('МДҰ:денсаулық сақтау объектілері'!E12) -> 15 | F12: =SUM('МДҰ:денсаулық сақтау объектілері'!F12) -> 7 | G12: =SUM('МДҰ:денсаулық сақтау объектілері'!G12) -> 0.69444444 | H12: =SUM('МДҰ:денсаулық сақтау объектілері'!H12) -> 7 | I12: 0 | J12: =SUM('МДҰ:денсаулық сақтау объектілері'!J12) -> 7 | K12: =SUM('МДҰ:денсаулық сақтау объектілері'!K12) -> 0 | L12: =SUM('МДҰ:денсаулық сақтау объектілері'!L12) -> 3 | M12: =SUM('МДҰ:денсаулық сақтау объектілері'!M12) -> 0 | N12: =SUM('МДҰ:денсаулық сақтау объектілері'!N12) -> 2 | O12: =SUM('МДҰ:денсаулық сақтау объектілері'!O12) -> 0 | P12: =SUM('МДҰ:денсаулық сақтау объектілері'!P12) -> 1 | Q12: =SUM('МДҰ:денсаулық сақтау объектілері'!Q12) -> 0 | ... Z12: =SUM('МДҰ:денсаулық сақтау объектілері'!Z12) -> 3
A13: 7 | B13: Наурызбай ауданы | C13: =SUM('МДҰ:денсаулық сақтау объектілері'!C13) -> 1 | D13: =SUM('МДҰ:денсаулық сақтау объектілері'!D13) -> 1 | E13: =SUM('МДҰ:денсаулық сақтау объектілері'!E13) -> 0 | F13: =SUM('МДҰ:денсаулық сақтау объектілері'!F13) -> 0 | G13: 0 | H13: =SUM('МДҰ:денсаулық сақтау объектілері'!H13) -> 0 | I13: 0 | J13: =SUM('МДҰ:денсаулық сақтау объектілері'!J13) -> 0 | K13: =SUM('МДҰ:денсаулық сақтау объектілері'!K13) -> 0 | L13: =SUM('МДҰ:денсаулық сақтау объектілері'!L13) -> 0 | M13: =SUM('МДҰ:денсаулық сақтау объектілері'!M13) -> 0 | N13: =SUM('МДҰ:денсаулық сақтау объектілері'!N13) -> 0 | O13: =SUM('МДҰ:денсаулық сақтау объектілері'!O13) -> 0 | P13: =SUM('МДҰ:денсаулық сақтау объектілері'!P13) -> 0 | Q13: =SUM('МДҰ:денсаулық сақтау объектілері'!Q13) -> 0 | ... Z13: =SUM('МДҰ:денсаулық сақтау объектілері'!Z13) -> 0
A14: 8 | B14: Түрксіб ауданы | C14: =SUM('МДҰ:денсаулық сақтау объектілері'!C14) -> 5 | D14: =SUM('МДҰ:денсаулық сақтау объектілері'!D14) -> 0 | E14: =SUM('МДҰ:денсаулық сақтау объектілері'!E14) -> 5 | F14: =SUM('МДҰ:денсаулық сақтау объектілері'!F14) -> 2 | G14: 0 | H14: =SUM('МДҰ:денсаулық сақтау объектілері'!H14) -> 1 | I14: 0 | J14: =SUM('МДҰ:денсаулық сақтау объектілері'!J14) -> 1 | K14: =SUM('МДҰ:денсаулық сақтау объектілері'!K14) -> 0 | L14: =SUM('МДҰ:денсаулық сақтау объектілері'!L14) -> 0 | M14: =SUM('МДҰ:денсаулық сақтау объектілері'!M14) -> 0 | N14: =SUM('МДҰ:денсаулық сақтау объектілері'!N14) -> 0 | O14: =SUM('МДҰ:денсаулық сақтау объектілері'!O14) -> 0 | P14: =SUM('МДҰ:денсаулық сақтау объектілері'!P14) -> 0 | Q14: =SUM('МДҰ:денсаулық сақтау объектілері'!Q14) -> 0 | ... Z14: =SUM('МДҰ:денсаулық сақтау объектілері'!Z14) -> 1
A15: 9 | B15: Алматы қаласы | C15: =SUM(C7:C14) -> 66 | D15: =SUM(D7:D14) -> 16 | E15: =SUM(E7:E14) -> 50 | F15: =SUM(F7:F14) -> 16 | G15: =SUM(G7:G14) -> 1.9222222 | H15: =SUM(H7:H14) -> 15 | I15: =SUM(I7:I14) -> 0 | J15: =SUM(J7:J14) -> 15 | ... Z15: =SUM(Z7:Z14) -> 21

Sheet МДҰ
V1: Қазақстан Республикасының Денсаулық сақтау министрлігі Санитариялық-эпидемиологиялық бақылау комитеті төрағасының 2025 жылғы «___» __________ №____ бұйрығына 2-қосымша
A2: Халықтың санитариялық-эпидемиологиялық саламаттылығы саласында субъектіге (объектіге) бару арқылы профилактикалық бақылау жүргізу жөніндегі есеп
A3: № | B3: Атауы | C3: Бақылау мен қадағалау субъектісіне (объектісіне) бару арқылы профилактикалық бақылау
C4: Еgov тізіміне сәйкес жоспарланған тексерулер, барлығы | D4: Дұрыс емес деректермен тізім бойынша жоспарланған тексерулер | E4: Дұрыс деректермен тізім бойынша жоспарланған тексерулер | F4: Тексерулер жүргізілді | G4: % орындалуы | H4: Бұзушылықтары анықталған объектілер | I4: Бұзушылықтар анықталған объектілердің үлес салмағы % | J4: Берілген ұйғарымдар саны | K4: Сотқа жолданған материалдар саны | L4: Жедел ден қою шаралары | Q4: Тіркеуден бас тартылды | U4: Тексерілмеген, себеппен алынған:
L5: Барлығы | M5: Бақылау мен қадағалау субъектісінің (объектісінің) өнімді (тауарды) өндіру, өткізу, қызметтер көрсету, жұмыстарды орындау жөніндегі қызметін немесе оның жекелеген түрлерін (процестерді, әрекеттерді) тоқтата тұру | N5: Бақылау мен қадағалау субъектісінің (объектісінің) өнімді (тауарды) өндіру, қызметтер көрсету, жұмыстарды орындау жөніндегі қызметіне немесе оның жекелеген түрлеріне (процестерге, әрекеттерге) тыйым салу | O5: Техникалық регламенттердің талаптарына және (немесе) Еуразиялық экономикалық одақтың бірыңғай санитариялық-эпидемиологиялық және гигиеналық талаптарына сәйкес келмейтін өнімді (тауарды) өткізуден алып қою және кері қайтарып алу | P5: Адамдарды жұмыстан уақытша шеттету | Q5: Хабарлама ережелерін бұзу | R5: Бармай профбақылау ұсынымының болмауы | S5: Тексеру жүргізу мерзімдерін бұзу | T5: Басқалары (*ескертпеде көрсету) | U5: Кәсіпкерлік субъектісінің / объектісінің санатын өзгеруі | V5: Объектінің жабылуы | W5: Заңды немесе нақты мекенжайды өзгерту | X5: Басқалары (*ескертпеде көрсету) | Y5: Аяқталмаған тексеруле (ауыспалы) | Z5: Келесі айға жоспарланған тексерулер
A6: 1 | B6: 2 | C6: 3 | D6: 4 | E6: 5 | F6: 6 | G6: 7 | H6: 8 | I6: 9 | J6: 10 | K6: 11 | L6: 12 | M6: 13 | N6: 14 | O6: 15 | P6: 16 | Q6: 17 | R6: 18 | S6: 19 | T6: 20 | U6: 21 | V6: 22 | W6: 23 | X6: 24 | Y6: 25 | Z6: 26
A7: 1 | B7: Алатау ауданы | C7: 0 | D7: 0 | E7: 0 | F7: 0 | G7: 0 | H7: 0 | I7: 0 | J7: 0 | K7: 0 | L7: 0 | M7: 0 | N7: 0 | O7: 0 | P7: 0 | Q7: 0 | R7: 0 | S7: 0 | T7: 0 | U7: 0 | V7: 0 | W7: 0 | X7: 0 | Y7: 0 | Z7: 0
A8: 2 | B8: Алмалы ауданы | C8: 0 | D8: 0 | E8: 0 | F8: 0 | G8: 0 | H8: 0 | I8: 0 | J8: 0 | K8: 0 | L8: 0 | M8: 0 | N8: 0 | O8: 0 | P8: 0 | Q8: 0 | R8: 0 | S8: 0 | T8: 0 | U8: 0 | V8: 0 | W8: 0 | X8: 0 | Y8: 0 | Z8: 0
A9: 3 | B9: Әуезов ауданы | C9: 0 | D9: 0 | E9: 0 | F9: 0 | G9: 0 | H9: 0 | I9: 0 | J9: 0 | K9: 0 | L9: 0 | M9: 0 | N9: 0 | O9: 0 | P9: 0 | Q9: 0 | R9: 0 | S9: 0 | T9: 0 | U9: 0 | V9: 0 | W9: 0 | X9: 0 | Y9: 0 | Z9: 0
A10: 4 | B10: Бостандық ауданы | C10: 0 | D10: 0 | E10: 0 | F10: 0 | G10: 0 | H10: 0 | I10: 0 | J10: 0 | K10: 0 | L10: 0 | M10: 0 | N10: 0 | O10: 0 | P10: 0 | Q10: 0 | R10: 0 | S10: 0 | T10: 0 | U10: 0 | V10: 0 | W10: 0 | X10: 0 | Y10: 0 | Z10: 0
A11: 5 | B11: Жетісу ауданы | C11: 0 | D11: 0 | E11: 0 | F11: 0 | G11: 0 | H11: 0 | I11: 0 | J11: 0 | K11: 0 | L11: 0 | M11: 0 | N11: 0 | O11: 0 | P11: 0 | Q11: 0 | R11: 0 | S11: 0 | T11: 0 | U11: 0 | V11: 0 | W11: 0 | X11: 0 | Y11: 0 | Z11: 0
A12: 6 | B12: Меде ауданы | C12: 0 | D12: 0 | E12: 0 | F12: 0 | G12: 0 | H12: 0 | I12: 0 | J12: 0 | K12: 0 | L12: 0 | M12: 0 | N12: 0 | O12: 0 | P12: 0 | Q12: 0 | R12: 0 | S12: 0 | T12: 0 | U12: 0 | V12: 0 | W12: 0 | X12: 0 | Y12: 0 | Z12: 0
A13: 7 | B13: Наурызбай ауданы | C13: 0 | D13: 0 | E13: 0 | F13: 0 | G13: 0 | H13: 0 | I13: 0 | J13: 0 | K13: 0 | L13: 0 | M13: 0 | N13: 0 | O13: 0 | P13: 0 | Q13: 0 | R13: 0 | S13: 0 | T13: 0 | U13: 0 | V13: 0 | W13: 0 | X13: 0 | Y13: 0 | Z13: 0
A14: 8 | B14: Түрксіб ауданы | C14: 0 | D14: 0 | E14: 0 | F14: 0 | G14: 0 | H14: 0 | I14: 0 | J14: 0 | K14: 0 | L14: 0 | M14: 0 | N14: 0 | O14: 0 | P14: 0 | Q14: 0 | R14: 0 | S14: 0 | T14: 0 | U14: 0 | V14: 0 | W14: 0 | X14: 0 | Y14: 0 | Z14: 0
A15: 9 | B15: Алматы қаласы | C15: =SUM(C7:C14) -> 0 | D15: =SUM(D7:D14) -> 0 | E15: =SUM(E7:E14) -> 0 | F15: =SUM(F7:F14) -> 0 | G15: =SUM(G7:G14) -> 0 | H15: =SUM(H7:H14) -> 0 | I15: =SUM(I7:I14) -> 0 | J15: =SUM(J7:J14) -> 0 | ... Z15: =SUM(Z7:Z14) -> 0

Sheet білім беру объектілері
V1: Қазақстан Республикасының Денсаулық сақтау министрлігі Санитариялық-эпидемиологиялық бақылау комитеті төрағасының 2025 жылғы «___» __________ №____ бұйрығына 2-қосымша
A2: Халықтың санитариялық-эпидемиологиялық саламаттылығы саласында субъектіге (объектіге) бару арқылы профилактикалық бақылау жүргізу жөніндегі есеп
A3: № | B3: Атауы | C3: Бақылау мен қадағалау субъектісіне (объектісіне) бару арқылы профилактикалық бақылау
C4: Еgov тізіміне сәйкес жоспарланған тексерулер, барлығы | D4: Дұрыс емес деректермен тізім бойынша жоспарланған тексерулер | E4: Дұрыс деректермен тізім бойынша жоспарланған тексерулер | F4: Тексерулер жүргізілді | G4: % орындалуы | H4: Бұзушылықтары анықталған объектілер | I4: Бұзушылықтар анықталған объектілердің үлес салмағы % | J4: Берілген ұйғарымдар саны | K4: Сотқа жолданған материалдар саны | L4: Жедел ден қою шаралары | Q4: Тіркеуден бас тартылды | U4: Тексерілмеген, себеппен алынған:
L5: Барлығы | M5: Бақылау мен қадағалау субъектісінің (объектісінің) өнімді (тауарды) өндіру, өткізу, қызметтер көрсету, жұмыстарды орындау жөніндегі қызметін немесе оның жекелеген түрлерін (процестерді, әрекеттерді) тоқтата тұру | N5: Бақылау мен қадағалау субъектісінің (объектісінің) өнімді (тауарды) өндіру, қызметтер көрсету, жұмыстарды орындау жөніндегі қызметіне немесе оның жекелеген түрлеріне (процестерге, әрекеттерге) тыйым салу | O5: Техникалық регламенттердің талаптарына және (немесе) Еуразиялық экономикалық одақтың бірыңғай санитариялық-эпидемиологиялық және гигиеналық талаптарына сәйкес келмейтін өнімді (тауарды) өткізуден алып қою және кері қайтарып алу | P5: Адамдарды жұмыстан уақытша шеттету | Q5: Хабарлама ережелерін бұзу | R5: Бармай профбақылау ұсынымының болмауы | S5: Тексеру жүргізу мерзімдерін бұзу | T5: Басқалары (*ескертпеде көрсету) | U5: Кәсіпкерлік субъектісінің / объектісінің санатын өзгеруі | V5: Объектінің жабылуы | W5: Заңды немесе нақты мекенжайды өзгерту | X5: Басқалары (*ескертпеде көрсету) | Y5: Аяқталмаған тексеруле (ауыспалы) | Z5: Келесі айға жоспарланған тексерулер
A6: 1 | B6: 2 | C6: 3 | D6: 4 | E6: 5 | F6: 6 | G6: 7 | H6: 8 | I6: 9 | J6: 10 | K6: 11 | L6: 12 | M6: 13 | N6: 14 | O6: 15 | P6: 16 | Q6: 17 | R6: 18 | S6: 19 | T6: 20 | U6: 21 | V6: 22 | W6: 23 | X6: 24 | Y6: 25 | Z6: 26
A7: 1 | B7: Алатау ауданы | C7: 0 | D7: 0 | E7: 0 | F7: 0 | G7: 0 | H7: 0 | I7: 0 | J7: 0 | K7: 0 | L7: 0 | M7: 0 | N7: 0 | O7: 0 | P7: 0 | Q7: 0 | R7: 0 | S7: 0 | T7: 0 | U7: 0 | V7: 0 | W7: 0 | X7: 0 | Y7: 0 | Z7: 0
A8: 2 | B8: Алмалы ауданы | C8: 0 | D8: 0 | E8: 0 | F8: 0 | G8: 0 | H8: 0 | I8: 0 | J8: 0 | K8: 0 | L8: 0 | M8: 0 | N8: 0 | O8: 0 | P8: 0 | Q8: 0 | R8: 0 | S8: 0 | T8: 0 | U8: 0 | V8: 0 | W8: 0 | X8: 0 | Y8: 0 | Z8: 0
A9: 3 | B9: Әуезов ауданы | C9: 0 | D9: 0 | E9: 0 | F9: 0 | G9: 0 | H9: 0 | I9: 0 | J9: 0 | K9: 0 | L9: 0 | M9: 0 | N9: 0 | O9: 0 | P9: 0 | Q9: 0 | R9: 0 | S9: 0 | T9: 0 | U9: 0 | V9: 0 | W9: 0 | X9: 0 | Y9: 0 | Z9: 0
A10: 4 | B10: Бостандық ауданы | C10: 0 | D10: 0 | E10: 0 | F10: 0 | G10: 0 | H10: 0 | I10: 0 | J10: 0 | K10: 0 | L10: 0 | M10: 0 | N10: 0 | O10: 0 | P10: 0 | Q10: 0 | R10: 0 | S10: 0 | T10: 0 | U10: 0 | V10: 0 | W10: 0 | X10: 0 | Y10: 0 | Z10: 0
A11: 5 | B11: Жетісу ауданы | C11: 0 | D11: 0 | E11: 0 | F11: 0 | G11: 0 | H11: 0 | I11: 0 | J11: 0 | K11: 0 | L11: 0 | M11: 0 | N11: 0 | O11: 0 | P11: 0 | Q11: 0 | R11: 0 | S11: 0 | T11: 0 | U11: 0 | V11: 0 | W11: 0 | X11: 0 | Y11: 0 | Z11: 0
A12: 6 | B12: Меде ауданы | C12: 0 | D12: 0 | E12: 0 | F12: 0 | G12: 0 | H12: 0 | I12: 0 | J12: 0 | K12: 0 | L12: 0 | M12: 0 | N12: 0 | O12: 0 | P12: 0 | Q12: 0 | R12: 0 | S12: 0 | T12: 0 | U12: 0 | V12: 0 | W12: 0 | X12: 0 | Y12: 0 | Z12: 0
A13: 7 | B13: Наурызбай ауданы | C13: 0 | D13: 0 | E13: 0 | F13: 0 | G13: 0 | H13: 0 | I13: 0 | J13: 0 | K13: 0 | L13: 0 | M13: 0 | N13: 0 | O13: 0 | P13: 0 | Q13: 0 | R13: 0 | S13: 0 | T13: 0 | U13: 0 | V13: 0 | W13: 0 | X13: 0 | Y13: 0 | Z13: 0
A14: 8 | B14: Түрксіб ауданы | C14: 0 | D14: 0 | E14: 0 | F14: 0 | G14: 0 | H14: 0 | I14: 0 | J14: 0 | K14: 0 | L14: 0 | M14: 0 | N14: 0 | O14: 0 | P14: 0 | Q14: 0 | R14: 0 | S14: 0 | T14: 0 | U14: 0 | V14: 0 | W14: 0 | X14: 0 | Y14: 0 | Z14: 0
A15: 9 | B15: Алматы қаласы | C15: =SUM(C7:C14) -> 0 | D15: =SUM(D7:D14) -> 0 | E15: =SUM(E7:E14) -> 0 | F15: =SUM(F7:F14) -> 0 | G15: =SUM(G7:G14) -> 0 | H15: =SUM(H7:H14) -> 0 | I15: =SUM(I7:I14) -> 0 | J15: =SUM(J7:J14) -> 0 | ... Z15: =SUM(Z7:Z14) -> 0

Sheet балаларды санаторлы-сауықтыру
V1: Қазақстан Республикасының Денсаулық сақтау министрлігі Санитариялық-эпидемиологиялық бақылау комитеті төрағасының 2025 жылғы «___» __________ №____ бұйрығына 2-қосымша
A2: Халықтың санитариялық-эпидемиологиялық саламаттылығы саласында субъектіге (объектіге) бару арқылы профилактикалық бақылау жүргізу жөніндегі есеп
A3: № | B3: Атауы | C3: Бақылау мен қадағалау субъектісіне (объектісіне) бару арқылы профилактикалық бақылау
C4: Еgov тізіміне сәйкес жоспарланған тексерулер, барлығы | D4: Дұрыс емес деректермен тізім бойынша жоспарланған тексерулер | E4: Дұрыс деректермен тізім бойынша жоспарланған тексерулер | F4: Тексерулер жүргізілді | G4: % орындалуы | H4: Бұзушылықтары анықталған объектілер | I4: Бұзушылықтар анықталған объектілердің үлес салмағы % | J4: Берілген ұйғарымдар саны | K4: Сотқа жолданған материалдар саны | L4: Жедел ден қою шаралары | Q4: Тіркеуден бас тартылды | U4: Тексерілмеген, себеппен алынған:
L5: Барлығы | M5: Бақылау мен қадағалау субъектісінің (объектісінің) өнімді (тауарды) өндіру, өткізу, қызметтер көрсету, жұмыстарды орындау жөніндегі қызметін немесе оның жекелеген түрлерін (процестерді, әрекеттерді) тоқтата тұру | N5: Бақылау мен қадағалау субъектісінің (объектісінің) өнімді (тауарды) өндіру, қызметтер көрсету, жұмыстарды орындау жөніндегі қызметіне немесе оның жекелеген түрлеріне (процестерге, әрекеттерге) тыйым салу | O5: Техникалық регламенттердің талаптарына және (немесе) Еуразиялық экономикалық одақтың бірыңғай санитариялық-эпидемиологиялық және гигиеналық талаптарына сәйкес келмейтін өнімді (тауарды) өткізуден алып қою және кері қайтарып алу | P5: Адамдарды жұмыстан уақытша шеттету | Q5: Хабарлама ережелерін бұзу | R5: Бармай профбақылау ұсынымының болмауы | S5: Тексеру жүргізу мерзімдерін бұзу | T5: Басқалары (*ескертпеде көрсету) | U5: Кәсіпкерлік субъектісінің / объектісінің санатын өзгеруі | V5: Объектінің жабылуы | W5: Заңды немесе нақты мекенжайды өзгерту | X5: Басқалары (*ескертпеде көрсету) | Y5: Аяқталмаған тексеруле (ауыспалы) | Z5: Келесі айға жоспарланған тексерулер
A6: 1 | B6: 2 | C6: 3 | D6: 4 | E6: 5 | F6: 6 | G6: 7 | H6: 8 | I6: 9 | J6: 10 | K6: 11 | L6: 12 | M6: 13 | N6: 14 | O6: 15 | P6: 16 | Q6: 17 | R6: 18 | S6: 19 | T6: 20 | U6: 21 | V6: 22 | W6: 23 | X6: 24 | Y6: 25 | Z6: 26
A7: 1 | B7: Алатау ауданы | C7: 0 | D7: 0 | E7: 0 | F7: 0 | G7: 0 | H7: 0 | I7: 0 | J7: 0 | K7: 0 | L7: 0 | M7: 0 | N7: 0 | O7: 0 | P7: 0 | Q7: 0 | R7: 0 | S7: 0 | T7: 0 | U7: 0 | V7: 0 | W7: 0 | X7: 0 | Y7: 0 | Z7: 0
A8: 2 | B8: Алмалы ауданы | C8: 0 | D8: 0 | E8: 0 | F8: 0 | G8: 0 | H8: 0 | I8: 0 | J8: 0 | K8: 0 | L8: 0 | M8: 0 | N8: 0 | O8: 0 | P8: 0 | Q8: 0 | R8: 0 | S8: 0 | T8: 0 | U8: 0 | V8: 0 | W8: 0 | X8: 0 | Y8: 0 | Z8: 0
A9: 3 | B9: Әуезов ауданы | C9: 0 | D9: 0 | E9: 0 | F9: 0 | G9: 0 | H9: 0 | I9: 0 | J9: 0 | K9: 0 | L9: 0 | M9: 0 | N9: 0 | O9: 0 | P9: 0 | Q9: 0 | R9: 0 | S9: 0 | T9: 0 | U9: 0 | V9: 0 | W9: 0 | X9: 0 | Y9: 0 | Z9: 0
A10: 4 | B10: Бостандық ауданы | C10: 0 | D10: 0 | E10: 0 | F10: 0 | G10: 0 | H10: 0 | I10: 0 | J10: 0 | K10: 0 | L10: 0 | M10: 0 | N10: 0 | O10: 0 | P10: 0 | Q10: 0 | R10: 0 | S10: 0 | T10: 0 | U10: 0 | V10: 0 | W10: 0 | X10: 0 | Y10: 0 | Z10: 0
A11: 5 | B11: Жетісу ауданы | C11: 0 | D11: 0 | E11: 0 | F11: 0 | G11: 0 | H11: 0 | I11: 0 | J11: 0 | K11: 0 | L11: 0 | M11: 0 | N11: 0 | O11: 0 | P11: 0 | Q11: 0 | R11: 0 | S11: 0 | T11: 0 | U11: 0 | V11: 0 | W11: 0 | X11: 0 | Y11: 0 | Z11: 0
A12: 6 | B12: Меде ауданы | C12: 0 | D12: 0 | E12: 0 | F12: 0 | G12: 0 | H12: 0 | I12: 0 | J12: 0 | K12: 0 | L12: 0 | M12: 0 | N12: 0 | O12: 0 | P12: 0 | Q12: 0 | R12: 0 | S12: 0 | T12: 0 | U12: 0 | V12: 0 | W12: 0 | X12: 0 | Y12: 0 | Z12: 0
A13: 7 | B13: Наурызбай ауданы | C13: 0 | D13: 0 | E13: 0 | F13: 0 | G13: 0 | H13: 0 | I13: 0 | J13: 0 | K13: 0 | L13: 0 | M13: 0 | N13: 0 | O13: 0 | P13: 0 | Q13: 0 | R13: 0 | S13: 0 | T13: 0 | U13: 0 | V13: 0 | W13: 0 | X13: 0 | Y13: 0 | Z13: 0
A14: 8 | B14: Түрксіб ауданы | C14: 0 | D14: 0 | E14: 0 | F14: 0 | G14: 0 | H14: 0 | I14: 0 | J14: 0 | K14: 0 | L14: 0 | M14: 0 | N14: 0 | O14: 0 | P14: 0 | Q14: 0 | R14: 0 | S14: 0 | T14: 0 | U14: 0 | V14: 0 | W14: 0 | X14: 0 | Y14: 0 | Z14: 0
A15: 9 | B15: Алматы қаласы | C15: =SUM(C7:C14) -> 0 | D15: =SUM(D7:D14) -> 0 | E15: =SUM(E7:E14) -> 0 | F15: =SUM(F7:F14) -> 0 | G15: =SUM(G7:G14) -> 0 | H15: =SUM(H7:H14) -> 0 | I15: =SUM(I7:I14) -> 0 | J15: =SUM(J7:J14) -> 0 | ... Z15: =SUM(Z7:Z14) -> 0

Sheet қоғамдық тамақтану, сауда
V1: Қазақстан Республикасының Денсаулық сақтау министрлігі Санитариялық-эпидемиологиялық бақылау комитеті төрағасының 2025 жылғы «___» __________ №____ бұйрығына 2-қосымша
A2: Халықтың санитариялық-эпидемиологиялық саламаттылығы саласында субъектіге (объектіге) бару арқылы профилактикалық бақылау жүргізу жөніндегі есеп
A3: № | B3: Атауы | C3: Бақылау мен қадағалау субъектісіне (объектісіне) бару арқылы профилактикалық бақылау
C4: Еgov тізіміне сәйкес жоспарланған тексерулер, барлығы | D4: Дұрыс емес деректермен тізім бойынша жоспарланған тексерулер | E4: Дұрыс деректермен тізім бойынша жоспарланған тексерулер | F4: Тексерулер жүргізілді | G4: % орындалуы | H4: Бұзушылықтары анықталған объектілер | I4: Бұзушылықтар анықталған объектілердің үлес салмағы % | J4: Берілген ұйғарымдар саны | K4: Сотқа жолданған материалдар саны | L4: Жедел ден қою шаралары | Q4: Тіркеуден бас тартылды | U4: Тексерілмеген, себеппен алынған:
L5: Барлығы | M5: Бақылау мен қадағалау субъектісінің (объектісінің) өнімді (тауарды) өндіру, өткізу, қызметтер көрсету, жұмыстарды орындау жөніндегі қызметін немесе оның жекелеген түрлерін (процестерді, әрекеттерді) тоқтата тұру | N5: Бақылау мен қадағалау субъектісінің (объектісінің) өнімді (тауарды) өндіру, қызметтер көрсету, жұмыстарды орындау жөніндегі қызметіне немесе оның жекелеген түрлеріне (процестерге, әрекеттерге) тыйым салу | O5: Техникалық регламенттердің талаптарына және (немесе) Еуразиялық экономикалық одақтың бірыңғай санитариялық-эпидемиологиялық және гигиеналық талаптарына сәйкес келмейтін өнімді (тауарды) өткізуден алып қою және кері қайтарып алу | P5: Адамдарды жұмыстан уақытша шеттету | Q5: Хабарлама ережелерін бұзу | R5: Бармай профбақылау ұсынымының болмауы | S5: Тексеру жүргізу мерзімдерін бұзу | T5: Басқалары (*ескертпеде көрсету) | U5: Кәсіпкерлік субъектісінің / объектісінің санатын өзгеруі | V5: Объектінің жабылуы | W5: Заңды немесе нақты мекенжайды өзгерту | X5: Басқалары (*ескертпеде көрсету) | Y5: Аяқталмаған тексеруле (ауыспалы) | Z5: Келесі айға жоспарланған тексерулер
A6: 1 | B6: 2 | C6: 3 | D6: 4 | E6: 5 | F6: 6 | G6: 7 | H6: 8 | I6: 9 | J6: 10 | K6: 11 | L6: 12 | M6: 13 | N6: 14 | O6: 15 | P6: 16 | Q6: 17 | R6: 18 | S6: 19 | T6: 20 | U6: 21 | V6: 22 | W6: 23 | X6: 24 | Y6: 25 | Z6: 26
A7: 1 | B7: Алатау ауданы | C7: 4 | D7: 0 | E7: 4 | F7: 1 | G7: 0.25 | H7: 1 | I7: 1 | J7: 1 | K7: 0 | L7: 2 | M7: 0 | N7: 1 | O7: 1 | P7: 0 | Q7: 0 | R7: 0 | S7: 0 | T7: 0 | U7: 0 | V7: 0 | W7: 0 | X7: 0 | Y7: 0 | Z7: 3
A8: 2 | B8: Алмалы ауданы | C8: 1 | D8: 1 | E8: 0 | F8: 0 | G8: #DIV/0! | H8: 0 | I8: #DIV/0! | J8: 0 | K8: 0 | L8: 0 | M8: 0 | N8: 0 | O8: 0 | P8: 0 | Q8: 0 | R8: 0 | S8: 0 | T8: 0 | U8: 0 | V8: 0 | W8: 0 | X8: 1 | Y8: 0 | Z8: 0
A9: 3 | B9: Әуезов ауданы | C9: 5 | D9: 0 | E9: 5 | F9: 1 | G9: 0.2 | H9: 1 | I9: 1 | J9: 1 | K9: 0 | L9: 0 | M9: 0 | N9: 0 | O9: 0 | P9: 0 | Q9: 0 | R9: 0 | S9: 0 | T9: 0 | U9: 0 | V9: 0 | W9: 0 | X9: 0 | Y9: 1 | Z9: 3
A10: 4 | B10: Бостандық ауданы | C10: 9 | D10: 0 | E10: 9 | F10: 1 | G10: 0.11111111 | H10: 1 | I10: 1 | J10: 1 | K10: 0 | L10: 3 | M10: 1 | N10: 1 | O10: 0 | P10: 1 | Q10: 0 | R10: 0 | S10: 0 | T10: 0 | U10: 2 | V10: 1 | W10: 0 | X10: 0 | Y10: 0 | Z10: 5
A11: 5 | B11: Жетісу ауданы | C11: 2 | D11: 0 | E11: 2 | F11: 0 | G11: 0 | H11: 0 | I11: #DIV/0! | J11: 0 | K11: 0 | L11: 0 | M11: 0 | N11: 0 | O11: 0 | P11: 0 | Q11: 0 | R11: 0 | S11: 0 | T11: 0 | U11: 0 | V11: 0 | W11: 0 | X11: 0 | Y11: 0 | Z11: 2
A12: 6 | B12: Меде ауданы | C12: 4 | D12: 0 | E12: 4 | F12: 1 | G12: 0.25 | H12: 1 | I12: 1 | J12: 1 | K12: 0 | L12: 1 | M12: 0 | N12: 1 | O12: 0 | P12: 0 | Q12: 0 | R12: 0 | S12: 0 | T12: 0 | U12: 0 | V12: 0 | W12: 0 | X12: 0 | Y12: 0 | Z12: 3
A13: 7 | B13: Наурызбай ауданы | C13: 1 | D13: 1 | E13: 0 | F13: 0 | G13: #DIV/0! | H13: 0 | I13: #DIV/0! | J13: 0 | K13: 0 | L13: 0 | M13: 0 | N13: 0 | O13: 0 | P13: 0 | Q13: 0 | R13: 0 | S13: 0 | T13: 0 | U13: 0 | V13: 0 | W13: 0 | X13: 1 | Y13: 0 | Z13: 0
A14: 8 | B14: Түрксіб ауданы | C14: 2 | D14: 0 | E14: 2 | F14: 0 | G14: 0 | H14: 0 | I14: #DIV/0! | J14: 0 | K14: 0 | L14: 0 | M14: 0 | N14: 0 | O14: 0 | P14: 0 | Q14: 0 | R14: 0 | S14: 0 | T14: 0 | U14: 1 | V14: 0 | W14: 0 | X14: 0 | Y14: 0 | Z14: 1
A15: 9 | B15: Алматы қаласы | C15: =SUM(C7:C14) -> 28 | D15: =SUM(D7:D14) -> 2 | E15: =SUM(E7:E14) -> 26 | F15: =SUM(F7:F14) -> 4 | G15: =SUM(G7:G14) -> 0.81111111 | H15: =SUM(H7:H14) -> 4 | I15: =SUM(I7:I14) -> 4 | J15: =SUM(J7:J14) -> 4 | ... Z15: =SUM(Z7:Z14) -> 17
X16: Ескертпе: Алмалы ауданында 1 объект ("Три пирога" ЖК), Наурызбай ауданында 1 объект ("Бекенова М. А." ЖК) тексеруден алынып тасталды, себебі оларға қатысты бармай профилактикалық бақылау 2026 жылы жүргізілген.

Sheet коммуналды объектілер
V1: Қазақстан Республикасының Денсаулық сақтау министрлігі Санитариялық-эпидемиологиялық бақылау комитеті төрағасының 2025 жылғы «___» __________ №____ бұйрығына 2-қосымша
A2: Халықтың санитариялық-эпидемиологиялық саламаттылығы саласында субъектіге (объектіге) бару арқылы профилактикалық бақылау жүргізу жөніндегі есеп
A3: № | B3: Атауы | C3: Бақылау мен қадағалау субъектісіне (объектісіне) бару арқылы профилактикалық бақылау
C4: Еgov тізіміне сәйкес жоспарланған тексерулер, барлығы | D4: Дұрыс емес деректермен тізім бойынша жоспарланған тексерулер | E4: Дұрыс деректермен тізім бойынша жоспарланған тексерулер | F4: Тексерулер жүргізілді | G4: % орындалуы | H4: Бұзушылықтары анықталған объектілер | I4: Бұзушылықтар анықталған объектілердің үлес салмағы % | J4: Берілген ұйғарымдар саны | K4: Сотқа жолданған материалдар саны | L4: Жедел ден қою шаралары | Q4: Тіркеуден бас тартылды | U4: Тексерілмеген, себеппен алынған:
L5: Барлығы | M5: Бақылау мен қадағалау субъектісінің (объектісінің) өнімді (тауарды) өндіру, өткізу, қызметтер көрсету, жұмыстарды орындау жөніндегі қызметін немесе оның жекелеген түрлерін (процестерді, әрекеттерді) тоқтата тұру | N5: Бақылау мен қадағалау субъектісінің (объектісінің) өнімді (тауарды) өндіру, қызметтер көрсету, жұмыстарды орындау жөніндегі қызметіне немесе оның жекелеген түрлеріне (процестерге, әрекеттерге) тыйым салу | O5: Техникалық регламенттердің талаптарына және (немесе) Еуразиялық экономикалық одақтың бірыңғай санитариялық-эпидемиологиялық және гигиеналық талаптарына сәйкес келмейтін өнімді (тауарды) өткізуден алып қою және кері қайтарып алу | P5: Адамдарды жұмыстан уақытша шеттету | Q5: Хабарлама ережелерін бұзу | R5: Бармай профбақылау ұсынымының болмауы | S5: Тексеру жүргізу мерзімдерін бұзу | T5: Басқалары (*ескертпеде көрсету) | U5: Кәсіпкерлік субъектісінің / объектісінің санатын өзгеруі | V5: Объектінің жабылуы | W5: Заңды немесе нақты мекенжайды өзгерту | X5: Басқалары (*ескертпеде көрсету) | Y5: Аяқталмаған тексеруле (ауыспалы) | Z5: Келесі айға жоспарланған тексерулер
A6: 1 | B6: 2 | C6: 3 | D6: 4 | E6: 5 | F6: 6 | G6: 7 | H6: 8 | I6: 9 | J6: 10 | K6: 11 | L6: 12 | M6: 13 | N6: 14 | O6: 15 | P6: 16 | Q6: 17 | R6: 18 | S6: 19 | T6: 20 | U6: 21 | V6: 22 | W6: 23 | X6: 24 | Y6: 25 | Z6: 26
A7: 1 | B7: Алатау ауданы | C7: 0 | D7: 0 | E7: 0 | F7: 0 | G7: 0 | H7: 0 | I7: 0 | J7: 0 | K7: 0 | L7: 0 | M7: 0 | N7: 0 | O7: 0 | P7: 0 | Q7: 0 | R7: 0 | S7: 0 | T7: 0 | U7: 0 | V7: 0 | W7: 0 | X7: 0 | Y7: 0 | Z7: 0
A8: 2 | B8: Алмалы ауданы | C8: 0 | D8: 0 | E8: 0 | F8: 0 | G8: 0 | H8: 0 | I8: 0 | J8: 0 | K8: 0 | L8: 0 | M8: 0 | N8: 0 | O8: 0 | P8: 0 | Q8: 0 | R8: 0 | S8: 0 | T8: 0 | U8: 0 | V8: 0 | W8: 0 | X8: 0 | Y8: 0 | Z8: 0
A9: 3 | B9: Әуезов ауданы | C9: 1 | D9: 0 | E9: 1 | F9: 0 | G9: 0 | H9: 0 | I9: 0 | J9: 0 | K9: 0 | L9: 0 | M9: 0 | N9: 0 | O9: 0 | P9: 0 | Q9: 0 | R9: 0 | S9: 0 | T9: 0 | U9: 0 | V9: 0 | W9: 0 | X9: 0 | Y9: 0 | Z9: 1
A10: 4 | B10: Бостандық ауданы | C10: 8 | D10: 8 | E10: 0 | F10: 0 | G10: 0 | H10: 0 | I10: 0 | J10: 0 | K10: 0 | L10: 0 | M10: 0 | N10: 0 | O10: 0 | P10: 0 | Q10: 0 | R10: 0 | S10: 0 | T10: 0 | U10: 0 | V10: 0 | W10: 0 | X10: 8 | Y10: 0 | Z10: 0
A11: 5 | B11: Жетісу ауданы | C11: 0 | D11: 0 | E11: 0 | F11: 0 | G11: 0 | H11: 0 | I11: 0 | J11: 0 | K11: 0 | L11: 0 | M11: 0 | N11: 0 | O11: 0 | P11: 0 | Q11: 0 | R11: 0 | S11: 0 | T11: 0 | U11: 0 | V11: 0 | W11: 0 | X11: 0 | Y11: 0 | Z11: 0
A12: 6 | B12: Меде ауданы | C12: 2 | D12: 0 | E12: 2 | F12: 2 | G12: 0 | H12: 2 | I12: 0 | J12: 2 | K12: 0 | L12: 2 | M12: 0 | N12: 1 | O12: 0 | P12: 1 | Q12: 0 | R12: 0 | S12: 0 | T12: 0 | U12: 0 | V12: 0 | W12: 0 | X12: 0 | Y12: 0 | Z12: 0
A13: 7 | B13: Наурызбай ауданы | C13: 0 | D13: 0 | E13: 0 | F13: 0 | G13: 0 | H13: 0 | I13: 0 | J13: 0 | K13: 0 | L13: 0 | M13: 0 | N13: 0 | O13: 0 | P13: 0 | Q13: 0 | R13: 0 | S13: 0 | T13: 0 | U13: 0 | V13: 0 | W13: 0 | X13: 0 | Y13: 0 | Z13: 0
A14: 8 | B14: Түрксіб ауданы | C14: 2 | D14: 0 | E14: 2 | F14: 1 | G14: 50 | H14: 0 | I14: 0 | J14: 0 | K14: 0 | L14: 0 | M14: 0 | N14: 0 | O14: 0 | P14: 0 | Q14: 0 | R14: 0 | S14: 0 | T14: 0 | U14: 0 | V14: 1 | W14: 0 | X14: 0 | Y14: 0 | Z14: 0
A15: 9 | B15: Алматы қаласы | C15: =SUM(C7:C14) -> 13 | D15: =SUM(D7:D14) -> 8 | E15: =SUM(E7:E14) -> 5 | F15: =SUM(F7:F14) -> 3 | G15: =SUM(G7:G14) -> 50 | H15: =SUM(H7:H14) -> 2 | I15: =SUM(I7:I14) -> 0 | J15: =SUM(J7:J14) -> 2 | ... Z15: =SUM(Z7:Z14) -> 1
X16: Ескертпе: Бостандық- ТОО «Silk Way Fidelity Fitness», ИП «Vibe» Юсупова Анастасия Леонидовна,ТОО «Jeppesen Residence»,ИП Бельгибаева Ж.Д., ИП ШАВАЛИЕВА ГУЛЬНАРА НАРИМАНОВНА, ИП «The Soul» Аллагулов Маршал Рустемович, ТОО «Тау-Дастархан», ИП «YA Fitness» Соколенко Таисия Николаевна тексеруден алынып тасталды, себебі оларға қатысты бармай профилактикалық бақылау 2026 жылы жүргізілген.

Sheet өндірістік объектілер, РҚО
V1: Қазақстан Республикасының Денсаулық сақтау министрлігі Санитариялық-эпидемиологиялық бақылау комитеті төрағасының 2025 жылғы «___» __________ №____ бұйрығына 2-қосымша
A2: Халықтың санитариялық-эпидемиологиялық саламаттылығы саласында субъектіге (объектіге) бару арқылы профилактикалық бақылау жүргізу жөніндегі есеп
A3: № | B3: Атауы | C3: Бақылау мен қадағалау субъектісіне (объектісіне) бару арқылы профилактикалық бақылау
C4: Еgov тізіміне сәйкес жоспарланған тексерулер, барлығы | D4: Дұрыс емес деректермен тізім бойынша жоспарланған тексерулер | E4: Дұрыс деректермен тізім бойынша жоспарланған тексерулер | F4: Тексерулер жүргізілді | G4: % орындалуы | H4: Бұзушылықтары анықталған объектілер | I4: Бұзушылықтар анықталған объектілердің үлес салмағы % | J4: Берілген ұйғарымдар саны | K4: Сотқа жолданған материалдар саны | L4: Жедел ден қою шаралары | Q4: Тіркеуден бас тартылды | U4: Тексерілмеген, себеппен алынған:
L5: Барлығы | M5: Бақылау мен қадағалау субъектісінің (объектісінің) өнімді (тауарды) өндіру, өткізу, қызметтер көрсету, жұмыстарды орындау жөніндегі қызметін немесе оның жекелеген түрлерін (процестерді, әрекеттерді) тоқтата тұру | N5: Бақылау мен қадағалау субъектісінің (объектісінің) өнімді (тауарды) өндіру, қызметтер көрсету, жұмыстарды орындау жөніндегі қызметіне немесе оның жекелеген түрлеріне (процестерге, әрекеттерге) тыйым салу | O5: Техникалық регламенттердің талаптарына және (немесе) Еуразиялық экономикалық одақтың бірыңғай санитариялық-эпидемиологиялық және гигиеналық талаптарына сәйкес келмейтін өнімді (тауарды) өткізуден алып қою және кері қайтарып алу | P5: Адамдарды жұмыстан уақытша шеттету | Q5: Хабарлама ережелерін бұзу | R5: Бармай профбақылау ұсынымының болмауы | S5: Тексеру жүргізу мерзімдерін бұзу | T5: Басқалары (*ескертпеде көрсету) | U5: Кәсіпкерлік субъектісінің / объектісінің санатын өзгеруі | V5: Объектінің жабылуы | W5: Заңды немесе нақты мекенжайды өзгерту | X5: Басқалары (*ескертпеде көрсету) | Y5: Аяқталмаған тексеруле (ауыспалы) | Z5: Келесі айға жоспарланған тексерулер
A6: 1 | B6: 2 | C6: 3 | D6: 4 | E6: 5 | F6: 6 | G6: 7 | H6: 8 | I6: 9 | J6: 10 | K6: 11 | L6: 12 | M6: 13 | N6: 14 | O6: 15 | P6: 16 | Q6: 17 | R6: 18 | S6: 19 | T6: 20 | U6: 21 | V6: 22 | W6: 23 | X6: 24 | Y6: 25 | Z6: 26
A7: 1 | B7: Алатау ауданы | C7: 7 | D7: 1 | E7: 6 | F7: 4 | G7: 0.66666667 | H7: 4 | I7: 1 | J7: 4 | K7: 0 | L7: 0 | M7: 0 | N7: 0 | O7: 0 | P7: 0 | Q7: 0 | R7: 0 | S7: 0 | T7: 0 | U7: 0 | V7: 0 | W7: 0 | X7: 1 | Y7: 0 | Z7: 2
A8: 2 | B8: Алмалы ауданы | C8: 0 | D8: 0 | E8: 0 | F8: 0 | G8: #DIV/0! | H8: 0 | I8: #DIV/0! | J8: 0 | K8: 0 | L8: 0 | M8: 0 | N8: 0 | O8: 0 | P8: 0 | Q8: 0 | R8: 0 | S8: 0 | T8: 0 | U8: 0 | V8: 0 | W8: 0 | X8: 0 | Y8: 0 | Z8: 0
A9: 3 | B9: Әуезов ауданы | C9: 0 | D9: 0 | E9: 0 | F9: 0 | G9: #DIV/0! | H9: 0 | I9: #DIV/0! | J9: 0 | K9: 0 | L9: 0 | M9: 0 | N9: 0 | O9: 0 | P9: 0 | Q9: 0 | R9: 0 | S9: 0 | T9: 0 | U9: 0 | V9: 0 | W9: 0 | X9: 0 | Y9: 0 | Z9: 0
A10: 4 | B10: Бостандық ауданы | C10: 5 | D10: 5 | E10: 0 | F10: 0 | G10: #DIV/0! | H10: 0 | I10: #DIV/0! | J10: 0 | K10: 0 | L10: 0 | M10: 0 | N10: 0 | O10: 0 | P10: 0 | Q10: 0 | R10: 0 | S10: 0 | T10: 0 | U10: 0 | V10: 0 | W10: 0 | X10: 5 | Y10: 0 | Z10: 0
A11: 5 | B11: Жетісу ауданы | C11: 0 | D11: 0 | E11: 0 | F11: 0 | G11: #DIV/0! | H11: 0 | I11: #DIV/0! | J11: 0 | K11: 0 | L11: 0 | M11: 0 | N11: 0 | O11: 0 | P11: 0 | Q11: 0 | R11: 0 | S11: 0 | T11: 0 | U11: 0 | V11: 0 | W11: 0 | X11: 0 | Y11: 0 | Z11: 0
A12: 6 | B12: Меде ауданы | C12: 0 | D12: 0 | E12: 0 | F12: 0 | G12: #DIV/0! | H12: 0 | I12: #DIV/0! | J12: 0 | K12: 0 | L12: 0 | M12: 0 | N12: 0 | O12: 0 | P12: 0 | Q12: 0 | R12: 0 | S12: 0 | T12: 0 | U12: 0 | V12: 0 | W12: 0 | X12: 0 | Y12: 0 | Z12: 0
A13: 7 | B13: Наурызбай ауданы | C13: 0 | D13: 0 | E13: 0 | F13: 0 | G13: #DIV/0! | H13: 0 | I13: #DIV/0! | J13: 0 | K13: 0 | L13: 0 | M13: 0 | N13: 0 | O13: 0 | P13: 0 | Q13: 0 | R13: 0 | S13: 0 | T13: 0 | U13: 0 | V13: 0 | W13: 0 | X13: 0 | Y13: 0 | Z13: 0
A14: 8 | B14: Түрксіб ауданы | C14: 0 | D14: 0 | E14: 0 | F14: 0 | G14: #DIV/0! | H14: 0 | I14: #DIV/0! | J14: 0 | K14: 0 | L14: 0 | M14: 0 | N14: 0 | O14: 0 | P14: 0 | Q14: 0 | R14: 0 | S14: 0 | T14: 0 | U14: 0 | V14: 0 | W14: 0 | X14: 0 | Y14: 0 | Z14: 0
A15: 9 | B15: Алматы қаласы | C15: =SUM(C7:C14) -> 12 | D15: =SUM(D7:D14) -> 6 | E15: =SUM(E7:E14) -> 6 | F15: =SUM(F7:F14) -> 4 | G15: =SUM(G7:G14) -> 0.66666667 | H15: =SUM(H7:H14) -> 4 | I15: =SUM(I7:I14) -> 1 | J15: =SUM(J7:J14) -> 4 | ... Z15: =SUM(Z7:Z14) -> 2
X16: Ескертпе: Алатау ауданынан - 1 объект ("TEPLOSTIL" ЖСШ); Бостандық ауданынан - 5 объект ("DR.BABUR DENTALCLINIC" ЖШС, «Лаборатория Улыбок» ЖШС, «Top Smile» ЖШС, «Diol-Stom» ЖШС, «Sky-Stom» ЖШС) тексеруден алынып тасталды, себебі оларға қатысты бармай профилактикалық бақылау 2026 жылы жүргізілген.

Sheet басқалары
V1: Қазақстан Республикасының Денсаулық сақтау министрлігі Санитариялық-эпидемиологиялық бақылау комитеті төрағасының 2025 жылғы «___» __________ №____ бұйрығына 2-қосымша
A2: Халықтың санитариялық-эпидемиологиялық саламаттылығы саласында субъектіге (объектіге) бару арқылы профилактикалық бақылау жүргізу жөніндегі есеп
A3: № | B3: Атауы | C3: Бақылау мен қадағалау субъектісіне (объектісіне) бару арқылы профилактикалық бақылау
C4: Еgov тізіміне сәйкес жоспарланған тексерулер, барлығы | D4: Дұрыс емес деректермен тізім бойынша жоспарланған тексерулер | E4: Дұрыс деректермен тізім бойынша жоспарланған тексерулер | F4: Тексерулер жүргізілді | G4: % орындалуы | H4: Бұзушылықтары анықталған объектілер | I4: Бұзушылықтар анықталған объектілердің үлес салмағы % | J4: Берілген ұйғарымдар саны | K4: Сотқа жолданған материалдар саны | L4: Жедел ден қою шаралары | Q4: Тіркеуден бас тартылды | U4: Тексерілмеген, себеппен алынған:
L5: Барлығы | M5: Бақылау мен қадағалау субъектісінің (объектісінің) өнімді (тауарды) өндіру, өткізу, қызметтер көрсету, жұмыстарды орындау жөніндегі қызметін немесе оның жекелеген түрлерін (процестерді, әрекеттерді) тоқтата тұру | N5: Бақылау мен қадағалау субъектісінің (объектісінің) өнімді (тауарды) өндіру, қызметтер көрсету, жұмыстарды орындау жөніндегі қызметіне немесе оның жекелеген түрлеріне (процестерге, әрекеттерге) тыйым салу | O5: Техникалық регламенттердің талаптарына және (немесе) Еуразиялық экономикалық одақтың бірыңғай санитариялық-эпидемиологиялық және гигиеналық талаптарына сәйкес келмейтін өнімді (тауарды) өткізуден алып қою және кері қайтарып алу | P5: Адамдарды жұмыстан уақытша шеттету | Q5: Хабарлама ережелерін бұзу | R5: Бармай профбақылау ұсынымының болмауы | S5: Тексеру жүргізу мерзімдерін бұзу | T5: Басқалары (*ескертпеде көрсету) | U5: Кәсіпкерлік субъектісінің / объектісінің санатын өзгеруі | V5: Объектінің жабылуы | W5: Заңды немесе нақты мекенжайды өзгерту | X5: Басқалары (*ескертпеде көрсету) | Y5: Аяқталмаған тексеруле (ауыспалы) | Z5: Келесі айға жоспарланған тексерулер
A6: 1 | B6: 2 | C6: 3 | D6: 4 | E6: 5 | F6: 6 | G6: 7 | H6: 8 | I6: 9 | J6: 10 | K6: 11 | L6: 12 | M6: 13 | N6: 14 | O6: 15 | P6: 16 | Q6: 17 | R6: 18 | S6: 19 | T6: 20 | U6: 21 | V6: 22 | W6: 23 | X6: 24 | Y6: 25 | Z6: 26
A7: 1 | B7: Алатау ауданы | C7: 0 | D7: 0 | E7: 0 | F7: 0 | G7: 0 | H7: 0 | I7: 0 | J7: 0 | K7: 0 | L7: 0 | M7: 0 | N7: 0 | O7: 0 | P7: 0 | Q7: 0 | R7: 0 | S7: 0 | T7: 0 | U7: 0 | V7: 0 | W7: 0 | X7: 0 | Y7: 0 | Z7: 0
A8: 2 | B8: Алмалы ауданы | C8: 0 | D8: 0 | E8: 0 | F8: 0 | G8: 0 | H8: 0 | I8: 0 | J8: 0 | K8: 0 | L8: 0 | M8: 0 | N8: 0 | O8: 0 | P8: 0 | Q8: 0 | R8: 0 | S8: 0 | T8: 0 | U8: 0 | V8: 0 | W8: 0 | X8: 0 | Y8: 0 | Z8: 0
A9: 3 | B9: Әуезов ауданы | C9: 1 | D9: 0 | E9: 1 | F9: 0 | G9: 0 | H9: 0 | I9: 0 | J9: 0 | K9: 0 | L9: 0 | M9: 0 | N9: 0 | O9: 0 | P9: 0 | Q9: 0 | R9: 0 | S9: 0 | T9: 0 | U9: 0 | V9: 0 | W9: 0 | X9: 0 | Y9: 0 | Z9: 1
A10: 4 | B10: Бостандық ауданы | C10: 0 | D10: 0 | E10: 0 | F10: 0 | G10: 0 | H10: 0 | I10: 0 | J10: 0 | K10: 0 | L10: 0 | M10: 0 | N10: 0 | O10: 0 | P10: 0 | Q10: 0 | R10: 0 | S10: 0 | T10: 0 | U10: 0 | V10: 0 | W10: 0 | X10: 0 | Y10: 0 | Z10: 0
A11: 5 | B11: Жетісу ауданы | C11: 0 | D11: 0 | E11: 0 | F11: 0 | G11: 0 | H11: 0 | I11: 0 | J11: 0 | K11: 0 | L11: 0 | M11: 0 | N11: 0 | O11: 0 | P11: 0 | Q11: 0 | R11: 0 | S11: 0 | T11: 0 | U11: 0 | V11: 0 | W11: 0 | X11: 0 | Y11: 0 | Z11: 0
A12: 6 | B12: Медеу ауданы | C12: 0 | D12: 0 | E12: 0 | F12: 0 | G12: 0 | H12: 0 | I12: 0 | J12: 0 | K12: 0 | L12: 0 | M12: 0 | N12: 0 | O12: 0 | P12: 0 | Q12: 0 | R12: 0 | S12: 0 | T12: 0 | U12: 0 | V12: 0 | W12: 0 | X12: 0 | Y12: 0 | Z12: 0
A13: 7 | B13: Наурызбай ауданы | C13: 0 | D13: 0 | E13: 0 | F13: 0 | G13: 0 | H13: 0 | I13: 0 | J13: 0 | K13: 0 | L13: 0 | M13: 0 | N13: 0 | O13: 0 | P13: 0 | Q13: 0 | R13: 0 | S13: 0 | T13: 0 | U13: 0 | V13: 0 | W13: 0 | X13: 0 | Y13: 0 | Z13: 0
A14: 8 | B14: Түрксіб ауданы | C14: 0 | D14: 0 | E14: 0 | F14: 0 | G14: 0 | H14: 0 | I14: 0 | J14: 0 | K14: 0 | L14: 0 | M14: 0 | N14: 0 | O14: 0 | P14: 0 | Q14: 0 | R14: 0 | S14: 0 | T14: 0 | U14: 0 | V14: 0 | W14: 0 | X14: 0 | Y14: 0 | Z14: 0
A15: 9 | B15: Алматы қаласы | C15: =SUM(C7:C14) -> 1 | D15: =SUM(D7:D14) -> 0 | E15: =SUM(E7:E14) -> 1 | F15: =SUM(F7:F14) -> 0 | G15: =SUM(G7:G14) -> 0 | H15: =SUM(H7:H14) -> 0 | I15: =SUM(I7:I14) -> 0 | J15: =SUM(J7:J14) -> 0 | ... Z15: =SUM(Z7:Z14) -> 1
C16: Тағам өнеркәсібі
B17: ЕСКЕРТУ: ОБЪЕКТІЛЕРДІҢ ТҮРЛЕРІ КӨРСЕТІЛСІН

Sheet денсаулық сақтау объектілері
V1: Қазақстан Республикасының Денсаулық сақтау министрлігі Санитариялық-эпидемиологиялық бақылау комитеті төрағасының 2025 жылғы «___» __________ №____ бұйрығына 2-қосымша
A2: Халықтың санитариялық-эпидемиологиялық саламаттылығы саласында субъектіге (объектіге) бару арқылы профилактикалық бақылау жүргізу жөніндегі есеп
A3: № | B3: Атауы | C3: Бақылау мен қадағалау субъектісіне (объектісіне) бару арқылы профилактикалық бақылау
C4: Еgov тізіміне сәйкес жоспарланған тексерулер, барлығы | D4: Дұрыс емес деректермен тізім бойынша жоспарланған тексерулер | E4: Дұрыс деректермен тізім бойынша жоспарланған тексерулер | F4: Тексерулер жүргізілді | G4: % орындалуы | H4: Бұзушылықтары анықталған объектілер | I4: Бұзушылықтар анықталған объектілердің үлес салмағы % | J4: Берілген ұйғарымдар саны | K4: Сотқа жолданған материалдар саны | L4: Жедел ден қою шаралары | Q4: Тіркеуден бас тартылды | U4: Тексерілмеген, себеппен алынған:
L5: Барлығы | M5: Бақылау мен қадағалау субъектісінің (объектісінің) өнімді (тауарды) өндіру, өткізу, қызметтер көрсету, жұмыстарды орындау жөніндегі қызметін немесе оның жекелеген түрлерін (процестерді, әрекеттерді) тоқтата тұру | N5: Бақылау мен қадағалау субъектісінің (объектісінің) өнімді (тауарды) өндіру, қызметтер көрсету, жұмыстарды орындау жөніндегі қызметіне немесе оның жекелеген түрлеріне (процестерге, әрекеттерге) тыйым салу | O5: Техникалық регламенттердің талаптарына және (немесе) Еуразиялық экономикалық одақтың бірыңғай санитариялық-эпидемиологиялық және гигиеналық талаптарына сәйкес келмейтін өнімді (тауарды) өткізуден алып қою және кері қайтарып алу | P5: Адамдарды жұмыстан уақытша шеттету | Q5: Хабарлама ережелерін бұзу | R5: Бармай профбақылау ұсынымының болмауы | S5: Тексеру жүргізу мерзімдерін бұзу | T5: Басқалары (*ескертпеде көрсету) | U5: Кәсіпкерлік субъектісінің / объектісінің санатын өзгеруі | V5: Объектінің жабылуы | W5: Заңды немесе нақты мекенжайды өзгерту | X5: Басқалары (*ескертпеде көрсету) | Y5: Аяқталмаған тексеруле (ауыспалы) | Z5: Келесі айға жоспарланған тексерулер
A6: 1 | B6: 2 | C6: 3 | D6: 4 | E6: 5 | F6: 6 | G6: 7 | H6: 8 | I6: 9 | J6: 10 | K6: 11 | L6: 12 | M6: 13 | N6: 14 | O6: 15 | P6: 16 | Q6: 17 | R6: 18 | S6: 19 | T6: 20 | U6: 21 | V6: 22 | W6: 23 | X6: 24 | Y6: 25 | Z6: 26
A7: 1 | B7: Алатау ауданы | C7: 0 | D7: 0 | E7: 0 | F7: 0 | G7: #DIV/0! | H7: 0 | I7: #DIV/0! | J7: 0 | K7: 0 | L7: 0 | M7: 0 | N7: 0 | O7: 0 | P7: 0 | Q7: 0 | R7: 0 | S7: 0 | T7: 0 | U7: 0 | V7: 0 | W7: 0 | X7: 0 | Y7: 0 | Z7: 0
A8: 2 | B8: Алмалы ауданы | C8: 0 | D8: 0 | E8: 0 | F8: 0 | G8: #DIV/0! | H8: 0 | I8: #DIV/0! | J8: 0 | K8: 0 | L8: 0 | M8: 0 | N8: 0 | O8: 0 | P8: 0 | Q8: 0 | R8: 0 | S8: 0 | T8: 0 | U8: 0 | V8: 0 | W8: 0 | X8: 0 | Y8: 0 | Z8: 0
A9: 3 | B9: Әуезов ауданы | C9: 2 | D9: 0 | E9: 2 | F9: 0 | G9: 0 | H9: 0 | I9: #DIV/0! | J9: 0 | K9: 0 | L9: 0 | M9: 0 | N9: 0 | O9: 0 | P9: 0 | Q9: 0 | R9: 0 | S9: 0 | T9: 0 | U9: 0 | V9: 1 | W9: 0 | X9: 0 | Y9: 1 | Z9: 0
A10: 4 | B10: Бостандық ауданы | C10: 0 | D10: 0 | E10: 0 | F10: 0 | G10: #DIV/0! | H10: 0 | I10: #DIV/0! | J10: 0 | K10: 0 | L10: 0 | M10: 0 | N10: 0 | O10: 0 | P10: 0 | Q10: 0 | R10: 0 | S10: 0 | T10: 0 | U10: 0 | V10: 0 | W10: 0 | X10: 0 | Y10: 0 | Z10: 0
A11: 5 | B11: Жетісу ауданы | C11: 0 | D11: 0 | E11: 0 | F11: 0 | G11: #DIV/0! | H11: 0 | I11: #DIV/0! | J11: 0 | K11: 0 | L11: 0 | M11: 0 | N11: 0 | O11: 0 | P11: 0 | Q11: 0 | R11: 0 | S11: 0 | T11: 0 | U11: 0 | V11: 0 | W11: 0 | X11: 0 | Y11: 0 | Z11: 0
A12: 6 | B12: Меде ауданы | C12: 9 | D12: 0 | E12: 9 | F12: 4 | G12: 0.44444444 | H12: 4 | I12: 1 | J12: 4 | K12: 0 | L12: 0 | M12: 0 | N12: 0 | O12: 0 | P12: 0 | Q12: 0 | R12: 0 | S12: 0 | T12: 0 | U12: 1 | V12: 0 | W12: 0 | X12: 1 | Y12: 3 | Z12: 0
A13: 7 | B13: Наурызбай ауданы | C13: 0 | D13: 0 | E13: 0 | F13: 0 | G13: #DIV/0! | H13: 0 | I13: #DIV/0! | J13: 0 | K13: 0 | L13: 0 | M13: 0 | N13: 0 | O13: 0 | P13: 0 | Q13: 0 | R13: 0 | S13: 0 | T13: 0 | U13: 0 | V13: 0 | W13: 0 | X13: 0 | Y13: 0 | Z13: 0
A14: 8 | B14: Түрксіб ауданы | C14: 1 | D14: 0 | E14: 1 | F14: 1 | G14: 1 | H14: 1 | I14: 1 | J14: 1 | K14: 0 | L14: 0 | M14: 0 | N14: 0 | O14: 0 | P14: 0 | Q14: 0 | R14: 0 | S14: 0 | T14: 0 | U14: 0 | V14: 0 | W14: 0 | X14: 0 | Y14: 0 | Z14: 0
A15: 9 | B15: Алматы қаласы | C15: =SUM(C7:C14) -> 12 | D15: =SUM(D7:D14) -> 0 | E15: =SUM(E7:E14) -> 12 | F15: =SUM(F7:F14) -> 5 | G15: =SUM(G7:G14) -> 1.4444444 | H15: =SUM(H7:H14) -> 5 | I15: =SUM(I7:I14) -> 2 | J15: =SUM(J7:J14) -> 5 | ... Z15: =SUM(Z7:Z14) -> 0
