Workbook

Sheet документирование
A1: Количество выданных паспортов, удостоверений личности гражданам Республики Казахстан в разрезе регионов за 9 месяцев 2026 года
A3: № п/п | B3: Наименование областей | C3: Всего оформлено формуляров на выдачу документов, удостоверяющих личность гражданина Республики Казахстан | F3: в т.ч. оформлено формуляров по:
C4: формуляров | D4: на паспорта | E4: на удостоверения личности | F4: паспортам СССР образца 1974 года и по их утрате | G4: заключениям об установлении личности лиц, обратившихся впервые | H4: изменению фамилии, имени, отчества | I4: изменению националь-ности | J4: изменению даты, места рождения | K4: восстановлению утраченных документов | L4: в связи с приемом в гражданство РК по Указу Президента Республики Казахстан | M4: в связи с приемом в гражданство РК в упрощенном порядке
A5: 1 | B5: 2 | C5: 4 | D5: 5 | E5: 6 | F5: 7 | G5: 8 | H5: 9 | I5: 10 | J5: 11 | K5: 12 | L5: 13 | M5: 14
A6: 1 | B6: г.Астана | C6: =[1]документирование!D10 -> 206171 | D6: =[1]документирование!E10 -> 92489 | E6: =[1]документирование!F10 -> 106294 | F6: =[1]документирование!G10 -> 58 | G6: =[1]документирование!H10 -> 67 | H6: =[1]документирование!I10 -> 11017 | I6: =[1]документирование!J10 -> 390 | J6: =[1]документирование!K10 -> 36 | ... M6: =[1]документирование!N10 -> 936
A7: 2 | B7: г. Алматы | C7: =[1]документирование!D11 -> 282122 | D7: =[1]документирование!E11 -> 155069 | E7: =[1]документирование!F11 -> 150529 | F7: =[1]документирование!G11 -> 22 | G7: =[1]документирование!H11 -> 38 | H7: =[1]документирование!I11 -> 13147 | I7: =[1]документирование!J11 -> 776 | J7: =[1]документирование!K11 -> 80 | ... M7: =[1]документирование!N11 -> 818
A8: 3 | B8: г. Шымкент | C8: =[1]документирование!D12 -> 136236 | D8: =[1]документирование!E12 -> 79561 | E8: =[1]документирование!F12 -> 68436 | F8: =[1]документирование!G12 -> 24 | G8: =[1]документирование!H12 -> 32 | H8: =[1]документирование!I12 -> 3452 | I8: =[1]документирование!J12 -> 127 | J8: =[1]документирование!K12 -> 58 | ... M8: =[1]документирование!N12 -> 395
A9: 4 | B9: Абай | C9: =[1]документирование!D13 -> 44366 | D9: =[1]документирование!E13 -> 16412 | E9: =[1]документирование!F13 -> 30342 | F9: =[1]документирование!G13 -> 14 | G9: =[1]документирование!H13 -> 22 | H9: =[1]документирование!I13 -> 2021 | I9: =[1]документирование!J13 -> 23 | J9: =[1]документирование!K13 -> 22 | ... M9: =[1]документирование!N13 -> 145
A10: 5 | B10: Акмолинская | C10: =[1]документирование!D14 -> 56771 | D10: =[1]документирование!E14 -> 19475 | E10: =[1]документирование!F14 -> 40797 | F10: =[1]документирование!G14 -> 22 | G10: =[1]документирование!H14 -> 27 | H10: =[1]документирование!I14 -> 3779 | I10: =[1]документирование!J14 -> 110 | J10: =[1]документирование!K14 -> 0 | ... M10: =[1]документирование!N14 -> 358
A11: 6 | B11: Актюбинская | C11: =[1]документирование!D15 -> 72949 | D11: =[1]документирование!E15 -> 30246 | E11: =[1]документирование!F15 -> 47459 | F11: =[1]документирование!G15 -> 21 | G11: =[1]документирование!H15 -> 26 | H11: =[1]документирование!I15 -> 3060 | I11: =[1]документирование!J15 -> 59 | J11: =[1]документирование!K15 -> 36 | ... M11: =[1]документирование!N15 -> 148
A12: 7 | B12: Алматинская | C12: =[1]документирование!D16 -> 109294 | D12: =[1]документирование!E16 -> 43391 | E12: =[1]документирование!F16 -> 73113 | F12: =[1]документирование!G16 -> 43 | G12: =[1]документирование!H16 -> 64 | H12: =[1]документирование!I16 -> 3115 | I12: =[1]документирование!J16 -> 171 | J12: =[1]документирование!K16 -> 33 | ... M12: =[1]документирование!N16 -> 3678
A13: 8 | B13: Атырауская | C13: =[1]документирование!D17 -> 57483 | D13: =[1]документирование!E17 -> 24566 | E13: =[1]документирование!F17 -> 36864 | F13: =[1]документирование!G17 -> 5 | G13: =[1]документирование!H17 -> 9 | H13: =[1]документирование!I17 -> 1210 | I13: =[1]документирование!J17 -> 41 | J13: =[1]документирование!K17 -> 3 | ... M13: =[1]документирование!N17 -> 88
A14: 9 | B14: ВКО | C14: =[1]документирование!D18 -> 51888 | D14: =[1]документирование!E18 -> 19373 | E14: =[1]документирование!F18 -> 35935 | F14: =[1]документирование!G18 -> 26 | G14: =[1]документирование!H18 -> 24 | H14: =[1]документирование!I18 -> 3565 | I14: =[1]документирование!J18 -> 65 | J14: =[1]документирование!K18 -> 16 | ... M14: =[1]документирование!N18 -> 310
A15: 10 | B15: Жамбылская | C15: =[1]документирование!D19 -> 92744 | D15: =[1]документирование!E19 -> 39705 | E15: =[1]документирование!F19 -> 58182 | F15: =[1]документирование!G19 -> 41 | G15: =[1]документирование!H19 -> 55 | H15: =[1]документирование!I19 -> 2111 | I15: =[1]документирование!J19 -> 87 | J15: =[1]документирование!K19 -> 33 | ... M15: =[1]документирование!N19 -> 757
A16: 11 | B16: Жетісу | C16: =[1]документирование!D20 -> 53818 | D16: =[1]документирование!E20 -> 21891 | E16: =[1]документирование!F20 -> 34719 | F16: =[1]документирование!G20 -> 32 | G16: =[1]документирование!H20 -> 48 | H16: =[1]документирование!I20 -> 1393 | I16: =[1]документирование!J20 -> 53 | J16: =[1]документирование!K20 -> 9 | ... M16: =[1]документирование!N20 -> 1204
A17: 12 | B17: ЗКО | C17: =[1]документирование!D21 -> 53621 | D17: =[1]документирование!E21 -> 21541 | E17: =[1]документирование!F21 -> 35423 | F17: =[1]документирование!G21 -> 9 | G17: =[1]документирование!H21 -> 15 | H17: =[1]документирование!I21 -> 2159 | I17: =[1]документирование!J21 -> 45 | J17: =[1]документирование!K21 -> 10 | ... M17: =[1]документирование!N21 -> 59
... A26: 21 | B26: г. Байконыр | C26: =[1]документирование!D30 -> 3019 | D26: =[1]документирование!E30 -> 938 | E26: =[1]документирование!F30 -> 2153 | F26: =[1]документирование!G30 -> 0 | G26: =[1]документирование!H30 -> 2 | H26: =[1]документирование!I30 -> 70 | I26: =[1]документирование!J30 -> 0 | J26: =[1]документирование!K30 -> 5 | ... M26: =[1]документирование!N30 -> 6
B27: ВСЕГО: | C27: =[1]документирование!D31 -> 1779002 | D27: =[1]документирование!E31 -> 798300 | E27: =[1]документирование!F31 -> 1083386 | F27: =[1]документирование!G31 -> 536 | G27: =[1]документирование!H31 -> 733 | H27: =[1]документирование!I31 -> 72059 | I27: =[1]документирование!J31 -> 2798 | J27: =[1]документирование!K31 -> 471 | ... M27: =[1]документирование!N31 -> 12310

Sheet Каз
A1: Өңірлер бойынша Қазақстан Республикасы азаматтарына берілген паспорттардың, жеке куәліктердің саны
A3: № п/п | B3: Облыстардың атауы | C3: Қазақстан Республикасы азаматының жеке басын куәландыратын құжаттарды беруге ресімделген барлық формулярлар | F3: оның ішінде мынадай формулярлар ресімделген:
C4: формулярлар | D4: төлқұжатқа | E4: жеке куәлікке | F4: 1974 жылғы үлгідегі КСРО паспорттарына | G4: бірінші рет жүгінген адамдардың жеке басын анықтау туралы қорытындылар | H4: тегін, атын, әкесінің атын өзгерту | I4: ұлтын өзгерту | J4: туған күнін, туған жерін өзгерту | K4: жоғалған құжаттарды қалпына келтіру | L4: Қазақстан Республикасы Президентінің Жарлығы бойынша ҚР азаматтығына қабылдауға байланысты | M4: жеңілдетілген тәртіппен ҚР азаматтығына қабылдауға байланысты
A5: 1 | B5: 2 | C5: 4 | D5: 5 | E5: 6 | F5: 7 | G5: 8 | H5: 9 | I5: 10 | J5: 11 | K5: 12 | L5: 13 | M5: 14
A6: 1 | B6: =#REF! -> Астана қ. | C6: =документирование!C6 -> 206171 | D6: =документирование!D6 -> 92489 | E6: =документирование!E6 -> 106294 | F6: =документирование!F6 -> 58 | G6: =документирование!G6 -> 67 | H6: =документирование!H6 -> 11017 | I6: =документирование!I6 -> 390 | J6: =документирование!J6 -> 36 | ... M6: =документирование!M6 -> 936
A7: 2 | B7: =#REF! -> Алматы қ. | C7: =документирование!C7 -> 282122 | D7: =документирование!D7 -> 155069 | E7: =документирование!E7 -> 150529 | F7: =документирование!F7 -> 22 | G7: =документирование!G7 -> 38 | H7: =документирование!H7 -> 13147 | I7: =документирование!I7 -> 776 | J7: =документирование!J7 -> 80 | ... M7: =документирование!M7 -> 818
A8: 3 | B8: =#REF! -> Шымкент қ. | C8: =документирование!C8 -> 136236 | D8: =документирование!D8 -> 79561 | E8: =документирование!E8 -> 68436 | F8: =документирование!F8 -> 24 | G8: =документирование!G8 -> 32 | H8: =документирование!H8 -> 3452 | I8: =документирование!I8 -> 127 | J8: =документирование!J8 -> 58 | ... M8: =документирование!M8 -> 395
A9: 4 | B9: =#REF! -> Абай | C9: =документирование!C9 -> 44366 | D9: =документирование!D9 -> 16412 | E9: =документирование!E9 -> 30342 | F9: =документирование!F9 -> 14 | G9: =документирование!G9 -> 22 | H9: =документирование!H9 -> 2021 | I9: =документирование!I9 -> 23 | J9: =документирование!J9 -> 22 | ... M9: =документирование!M9 -> 145
A10: 5 | B10: =#REF! -> Ақмола | C10: =документирование!C10 -> 56771 | D10: =документирование!D10 -> 19475 | E10: =документирование!E10 -> 40797 | F10: =документирование!F10 -> 22 | G10: =документирование!G10 -> 27 | H10: =документирование!H10 -> 3779 | I10: =документирование!I10 -> 110 | J10: =документирование!J10 -> 0 | ... M10: =документирование!M10 -> 358
A11: 6 | B11: =#REF! -> Ақтөбе | C11: =документирование!C11 -> 72949 | D11: =документирование!D11 -> 30246 | E11: =документирование!E11 -> 47459 | F11: =документирование!F11 -> 21 | G11: =документирование!G11 -> 26 | H11: =документирование!H11 -> 3060 | I11: =документирование!I11 -> 59 | J11: =документирование!J11 -> 36 | ... M11: =документирование!M11 -> 148
A12: 7 | B12: =#REF! -> Алматы | C12: =документирование!C12 -> 109294 | D12: =документирование!D12 -> 43391 | E12: =документирование!E12 -> 73113 | F12: =документирование!F12 -> 43 | G12: =документирование!G12 -> 64 | H12: =документирование!H12 -> 3115 | I12: =документирование!I12 -> 171 | J12: =документирование!J12 -> 33 | ... M12: =документирование!M12 -> 3678
A13: 8 | B13: =#REF! -> Атырау | C13: =документирование!C13 -> 57483 | D13: =документирование!D13 -> 24566 | E13: =документирование!E13 -> 36864 | F13: =документирование!F13 -> 5 | G13: =документирование!G13 -> 9 | H13: =документирование!H13 -> 1210 | I13: =документирование!I13 -> 41 | J13: =документирование!J13 -> 3 | ... M13: =документирование!M13 -> 88
A14: 9 | B14: =#REF! -> ШҚО | C14: =документирование!C14 -> 51888 | D14: =документирование!D14 -> 19373 | E14: =документирование!E14 -> 35935 | F14: =документирование!F14 -> 26 | G14: =документирование!G14 -> 24 | H14: =документирование!H14 -> 3565 | I14: =документирование!I14 -> 65 | J14: =документирование!J14 -> 16 | ... M14: =документирование!M14 -> 310
A15: 10 | B15: =#REF! -> Жамбыл | C15: =документирование!C15 -> 92744 | D15: =документирование!D15 -> 39705 | E15: =документирование!E15 -> 58182 | F15: =документирование!F15 -> 41 | G15: =документирование!G15 -> 55 | H15: =документирование!H15 -> 2111 | I15: =документирование!I15 -> 87 | J15: =документирование!J15 -> 33 | ... M15: =документирование!M15 -> 757
A16: 11 | B16: =#REF! -> Жетісу | C16: =документирование!C16 -> 53818 | D16: =документирование!D16 -> 21891 | E16: =документирование!E16 -> 34719 | F16: =документирование!F16 -> 32 | G16: =документирование!G16 -> 48 | H16: =документирование!H16 -> 1393 | I16: =документирование!I16 -> 53 | J16: =документирование!J16 -> 9 | ... M16: =документирование!M16 -> 1204
A17: 12 | B17: =#REF! -> БҚО | C17: =документирование!C17 -> 53621 | D17: =документирование!D17 -> 21541 | E17: =документирование!E17 -> 35423 | F17: =документирование!F17 -> 9 | G17: =документирование!G17 -> 15 | H17: =документирование!H17 -> 2159 | I17: =документирование!I17 -> 45 | J17: =документирование!J17 -> 10 | ... M17: =документирование!M17 -> 59
... A26: 21 | B26: =#REF! -> Байқоңыр қ. | C26: =документирование!C26 -> 3019 | D26: =документирование!D26 -> 938 | E26: =документирование!E26 -> 2153 | F26: =документирование!F26 -> 0 | G26: =документирование!G26 -> 2 | H26: =документирование!H26 -> 70 | I26: =документирование!I26 -> 0 | J26: =документирование!J26 -> 5 | ... M26: =документирование!M26 -> 6
B27: =#REF! -> БАРЛЫҒЫ: | C27: =документирование!C27 -> 1779002 | D27: =документирование!D27 -> 798300 | E27: =документирование!E27 -> 1083386 | F27: =документирование!F27 -> 536 | G27: =документирование!G27 -> 733 | H27: =документирование!H27 -> 72059 | I27: =документирование!I27 -> 2798 | J27: =документирование!J27 -> 471 | ... M27: =документирование!M27 -> 12310

Sheet Лист1
