Workbook

Sheet СВОД
T1: Приложение 3 к приказу Председателя Комитета санитарно-эпидемиологического контроля Министерства здравоохранения Республики Казахстан от «___» ______ 2026 года № ___
A2: Отчет о проведенных внеплановых проверках
A3: № | B3: Наименование | C3: всего | D3: Количество проведеннных внеплановых проверок | L3: Выявлено нарушений | M3: Количество выданных предписаний | N3: Количество направленных материалов в суд | O3: Количество административных взысканий | U3: Меры оперативного реагирования | Z3: Отказано в регистрации
D4: из них: | O4: Всего | P4: из них: | U4: всего | V4: из них:
D5: контроль устранения нарушений, выявленных по результатам расследования | E5: контроль исполнения предписаний об устранении выявленных нарушений в результате проверки и профилактического контроля с посещением субъекта (объекта) контроля и надзора | F5: контроль устранения нарушений, являющихся основаниями для применения мер оперативного реагирования | G5: обращения физических и юридических лиц по нарушениям требований законодательства Республики Казахстан при наличии убедительных оснований и подтверждающих доказательств | H5: требования прокурора по конкретным фактам причинения либо об угрозе причинения вреда жизни, здоровью человека, окружающей среде, правам и законным интересам физических и юридических лиц, государства | I5: обращения государственных органов по конкретным фактам причинения вреда жизни, здоровью человека, окружающей среде, правам и законным интересам физических и юридических лиц, государства, а также нарушений требований законодательства Республики Казахстан, неустранение которых влечет причинение вреда жизни и здоровью человека | J5: повторная проверка, связанная с обращением субъекта контроля и надзора о несогласии с первоначальной проверкой (неправомерность применения мер оперативного реагирования) | K5: поручение органа уголовного преследования по основаниям, предусмотренным Уголовно-процессуальным кодексом Республики Казахстан | P5: должн. лиц | Q5: юр.лиц | R5: ип | S5: физ.лиц | T5: Сумма административного штрафа | V5: приостановление деятельности по производству, реализации продукции (товара), оказанию услуг, выполнению работ субъекта (объекта) контроля и надзора или отдельных ее видов (процессов, действий) | W5: запрещение деятельности по производству продукции (товара), оказанию услуг, выполнению работ субъекта (объекта) контроля и надзора или отдельных ее видов (процессов, действий) | X5: изъятие и отзыв с реализации продукции (товара), не соответствующей (не соответствующего) требованиям технических регламентов и (или) единым санитарно-эпидемиологическим и гигиеническим требованиям Евразийского экономического союза | Y5: временное отстранение лиц от работы | Z5: Нарушение правил уведомления | AA5: нарушения сроков проведения проверок | AB5: Другие (указать в примечании)
A6: 1 | B6: 2 | C6: 3 | D6: 4 | E6: 5 | F6: 6 | G6: 7 | H6: 8 | I6: 9 | J6: 10 | K6: 11 | L6: 12 | M6: 13 | N6: 14 | O6: 15 | P6: 16 | Q6: 17 | R6: 18 | S6: 19 | T6: 20 | U6: 21 | V6: 22 | W6: 23 | X6: 24 | Y6: 25 | Z6: 26 | AA6: 27 | AB6: 28
A7: 1 | B7: Балхашский район | C7: =ДДУ!C9+школы!C9+'детские санаторно-оздоровительн'!C9+'общепит и торговли'!C9+'ком. объекты'!C9+'промышленные и РОО'!C9+'объекты здравоохранения'!C9+другие!C9 -> 3 | D7: =ДДУ!D9+школы!D9+'детские санаторно-оздоровительн'!D9+'общепит и торговли'!D9+'ком. объекты'!D9+'промышленные и РОО'!D9+'объекты здравоохранения'!D9+другие!D9 -> 0 | E7: =ДДУ!E9+школы!E9+'детские санаторно-оздоровительн'!E9+'общепит и торговли'!E9+'ком. объекты'!E9+'промышленные и РОО'!E9+'объекты здравоохранения'!E9+другие!E9 -> 1 | F7: =ДДУ!F9+школы!F9+'детские санаторно-оздоровительн'!F9+'общепит и торговли'!F9+'ком. объекты'!F9+'промышленные и РОО'!F9+'объекты здравоохранения'!F9+другие!F9 -> 1 | G7: =ДДУ!G9+школы!G9+'детские санаторно-оздоровительн'!G9+'общепит и торговли'!G9+'ком. объекты'!G9+'промышленные и РОО'!G9+'объекты здравоохранения'!G9+другие!G9 -> 0 | H7: =ДДУ!H9+школы!H9+'детские санаторно-оздоровительн'!H9+'общепит и торговли'!H9+'ком. объекты'!H9+'промышленные и РОО'!H9+'объекты здравоохранения'!H9+другие!H9 -> 1 | I7: =ДДУ!I9+школы!I9+'детские санаторно-оздоровительн'!I9+'общепит и торговли'!I9+'ком. объекты'!I9+'промышленные и РОО'!I9+'объекты здравоохранения'!I9+другие!I9 -> 0 | J7: =ДДУ!J9+школы!J9+'детские санаторно-оздоровительн'!J9+'общепит и торговли'!J9+'ком. объекты'!J9+'промышленные и РОО'!J9+'объекты здравоохранения'!J9+другие!J9 -> 0 | ... AB7: =ДДУ!AB9+школы!AB9+'детские санаторно-оздоровительн'!AB9+'общепит и торговли'!AB9+'ком. объекты'!AB9+'промышленные и РОО'!AB9+'объекты здравоохранения'!AB9+другие!AB9 -> 0
A8: 2 | B8: Енбекшиказахский район | C8: =ДДУ!C10+школы!C10+'детские санаторно-оздоровительн'!C10+'общепит и торговли'!C10+'ком. объекты'!C10+'промышленные и РОО'!C10+'объекты здравоохранения'!C10+другие!C10 -> 70 | D8: =ДДУ!D10+школы!D10+'детские санаторно-оздоровительн'!D10+'общепит и торговли'!D10+'ком. объекты'!D10+'промышленные и РОО'!D10+'объекты здравоохранения'!D10+другие!D10 -> 0 | E8: =ДДУ!E10+школы!E10+'детские санаторно-оздоровительн'!E10+'общепит и торговли'!E10+'ком. объекты'!E10+'промышленные и РОО'!E10+'объекты здравоохранения'!E10+другие!E10 -> 5 | F8: =ДДУ!F10+школы!F10+'детские санаторно-оздоровительн'!F10+'общепит и торговли'!F10+'ком. объекты'!F10+'промышленные и РОО'!F10+'объекты здравоохранения'!F10+другие!F10 -> 43 | G8: =ДДУ!G10+школы!G10+'детские санаторно-оздоровительн'!G10+'общепит и торговли'!G10+'ком. объекты'!G10+'промышленные и РОО'!G10+'объекты здравоохранения'!G10+другие!G10 -> 15 | H8: =ДДУ!H10+школы!H10+'детские санаторно-оздоровительн'!H10+'общепит и торговли'!H10+'ком. объекты'!H10+'промышленные и РОО'!H10+'объекты здравоохранения'!H10+другие!H10 -> 5 | I8: =ДДУ!I10+школы!I10+'детские санаторно-оздоровительн'!I10+'общепит и торговли'!I10+'ком. объекты'!I10+'промышленные и РОО'!I10+'объекты здравоохранения'!I10+другие!I10 -> 2 | J8: =ДДУ!J10+школы!J10+'детские санаторно-оздоровительн'!J10+'общепит и торговли'!J10+'ком. объекты'!J10+'промышленные и РОО'!J10+'объекты здравоохранения'!J10+другие!J10 -> 0 | ... AB8: =ДДУ!AB10+школы!AB10+'детские санаторно-оздоровительн'!AB10+'общепит и торговли'!AB10+'ком. объекты'!AB10+'промышленные и РОО'!AB10+'объекты здравоохранения'!AB10+другие!AB10 -> 0
A9: 3 | B9: Жамбылский район | C9: =ДДУ!C11+школы!C11+'детские санаторно-оздоровительн'!C11+'общепит и торговли'!C11+'ком. объекты'!C11+'промышленные и РОО'!C11+'объекты здравоохранения'!C11+другие!C11 -> 7 | D9: =ДДУ!D11+школы!D11+'детские санаторно-оздоровительн'!D11+'общепит и торговли'!D11+'ком. объекты'!D11+'промышленные и РОО'!D11+'объекты здравоохранения'!D11+другие!D11 -> 2 | E9: =ДДУ!E11+школы!E11+'детские санаторно-оздоровительн'!E11+'общепит и торговли'!E11+'ком. объекты'!E11+'промышленные и РОО'!E11+'объекты здравоохранения'!E11+другие!E11 -> 1 | F9: =ДДУ!F11+школы!F11+'детские санаторно-оздоровительн'!F11+'общепит и торговли'!F11+'ком. объекты'!F11+'промышленные и РОО'!F11+'объекты здравоохранения'!F11+другие!F11 -> 0 | G9: =ДДУ!G11+школы!G11+'детские санаторно-оздоровительн'!G11+'общепит и торговли'!G11+'ком. объекты'!G11+'промышленные и РОО'!G11+'объекты здравоохранения'!G11+другие!G11 -> 2 | H9: =ДДУ!H11+школы!H11+'детские санаторно-оздоровительн'!H11+'общепит и торговли'!H11+'ком. объекты'!H11+'промышленные и РОО'!H11+'объекты здравоохранения'!H11+другие!H11 -> 2 | I9: =ДДУ!I11+школы!I11+'детские санаторно-оздоровительн'!I11+'общепит и торговли'!I11+'ком. объекты'!I11+'промышленные и РОО'!I11+'объекты здравоохранения'!I11+другие!I11 -> 0 | J9: =ДДУ!J11+школы!J11+'детские санаторно-оздоровительн'!J11+'общепит и торговли'!J11+'ком. объекты'!J11+'промышленные и РОО'!J11+'объекты здравоохранения'!J11+другие!J11 -> 0 | ... AB9: =ДДУ!AB11+школы!AB11+'детские санаторно-оздоровительн'!AB11+'общепит и торговли'!AB11+'ком. объекты'!AB11+'промышленные и РОО'!AB11+'объекты здравоохранения'!AB11+другие!AB11 -> 0
A10: 4 | B10: Илийский район | C10: =ДДУ!C12+школы!C12+'детские санаторно-оздоровительн'!C12+'общепит и торговли'!C12+'ком. объекты'!C12+'промышленные и РОО'!C12+'объекты здравоохранения'!C12+другие!C12 -> 14 | D10: =ДДУ!D12+школы!D12+'детские санаторно-оздоровительн'!D12+'общепит и торговли'!D12+'ком. объекты'!D12+'промышленные и РОО'!D12+'объекты здравоохранения'!D12+другие!D12 -> 0 | E10: =ДДУ!E12+школы!E12+'детские санаторно-оздоровительн'!E12+'общепит и торговли'!E12+'ком. объекты'!E12+'промышленные и РОО'!E12+'объекты здравоохранения'!E12+другие!E12 -> 0 | F10: =ДДУ!F12+школы!F12+'детские санаторно-оздоровительн'!F12+'общепит и торговли'!F12+'ком. объекты'!F12+'промышленные и РОО'!F12+'объекты здравоохранения'!F12+другие!F12 -> 0 | G10: =ДДУ!G12+школы!G12+'детские санаторно-оздоровительн'!G12+'общепит и торговли'!G12+'ком. объекты'!G12+'промышленные и РОО'!G12+'объекты здравоохранения'!G12+другие!G12 -> 11 | H10: =ДДУ!H12+школы!H12+'детские санаторно-оздоровительн'!H12+'общепит и торговли'!H12+'ком. объекты'!H12+'промышленные и РОО'!H12+'объекты здравоохранения'!H12+другие!H12 -> 0 | I10: =ДДУ!I12+школы!I12+'детские санаторно-оздоровительн'!I12+'общепит и торговли'!I12+'ком. объекты'!I12+'промышленные и РОО'!I12+'объекты здравоохранения'!I12+другие!I12 -> 3 | J10: =ДДУ!J12+школы!J12+'детские санаторно-оздоровительн'!J12+'общепит и торговли'!J12+'ком. объекты'!J12+'промышленные и РОО'!J12+'объекты здравоохранения'!J12+другие!J12 -> 0 | ... AB10: =ДДУ!AB12+школы!AB12+'детские санаторно-оздоровительн'!AB12+'общепит и торговли'!AB12+'ком. объекты'!AB12+'промышленные и РОО'!AB12+'объекты здравоохранения'!AB12+другие!AB12 -> 0
A11: 5 | B11: Кегенский район | C11: =ДДУ!C13+школы!C13+'детские санаторно-оздоровительн'!C13+'общепит и торговли'!C13+'ком. объекты'!C13+'промышленные и РОО'!C13+'объекты здравоохранения'!C13+другие!C13 -> 3 | D11: =ДДУ!D13+школы!D13+'детские санаторно-оздоровительн'!D13+'общепит и торговли'!D13+'ком. объекты'!D13+'промышленные и РОО'!D13+'объекты здравоохранения'!D13+другие!D13 -> 0 | E11: =ДДУ!E13+школы!E13+'детские санаторно-оздоровительн'!E13+'общепит и торговли'!E13+'ком. объекты'!E13+'промышленные и РОО'!E13+'объекты здравоохранения'!E13+другие!E13 -> 0 | F11: =ДДУ!F13+школы!F13+'детские санаторно-оздоровительн'!F13+'общепит и торговли'!F13+'ком. объекты'!F13+'промышленные и РОО'!F13+'объекты здравоохранения'!F13+другие!F13 -> 2 | G11: =ДДУ!G13+школы!G13+'детские санаторно-оздоровительн'!G13+'общепит и торговли'!G13+'ком. объекты'!G13+'промышленные и РОО'!G13+'объекты здравоохранения'!G13+другие!G13 -> 1 | H11: =ДДУ!H13+школы!H13+'детские санаторно-оздоровительн'!H13+'общепит и торговли'!H13+'ком. объекты'!H13+'промышленные и РОО'!H13+'объекты здравоохранения'!H13+другие!H13 -> 0 | I11: =ДДУ!I13+школы!I13+'детские санаторно-оздоровительн'!I13+'общепит и торговли'!I13+'ком. объекты'!I13+'промышленные и РОО'!I13+'объекты здравоохранения'!I13+другие!I13 -> 0 | J11: =ДДУ!J13+школы!J13+'детские санаторно-оздоровительн'!J13+'общепит и торговли'!J13+'ком. объекты'!J13+'промышленные и РОО'!J13+'объекты здравоохранения'!J13+другие!J13 -> 0 | ... AB11: =ДДУ!AB13+школы!AB13+'детские санаторно-оздоровительн'!AB13+'общепит и торговли'!AB13+'ком. объекты'!AB13+'промышленные и РОО'!AB13+'объекты здравоохранения'!AB13+другие!AB13 -> 0
A12: 6 | B12: Карасайский район | C12: =ДДУ!C14+школы!C14+'детские санаторно-оздоровительн'!C14+'общепит и торговли'!C14+'ком. объекты'!C14+'промышленные и РОО'!C14+'объекты здравоохранения'!C14+другие!C14 -> 21 | D12: =ДДУ!D14+школы!D14+'детские санаторно-оздоровительн'!D14+'общепит и торговли'!D14+'ком. объекты'!D14+'промышленные и РОО'!D14+'объекты здравоохранения'!D14+другие!D14 -> 0 | E12: =ДДУ!E14+школы!E14+'детские санаторно-оздоровительн'!E14+'общепит и торговли'!E14+'ком. объекты'!E14+'промышленные и РОО'!E14+'объекты здравоохранения'!E14+другие!E14 -> 0 | F12: =ДДУ!F14+школы!F14+'детские санаторно-оздоровительн'!F14+'общепит и торговли'!F14+'ком. объекты'!F14+'промышленные и РОО'!F14+'объекты здравоохранения'!F14+другие!F14 -> 0 | G12: =ДДУ!G14+школы!G14+'детские санаторно-оздоровительн'!G14+'общепит и торговли'!G14+'ком. объекты'!G14+'промышленные и РОО'!G14+'объекты здравоохранения'!G14+другие!G14 -> 7 | H12: =ДДУ!H14+школы!H14+'детские санаторно-оздоровительн'!H14+'общепит и торговли'!H14+'ком. объекты'!H14+'промышленные и РОО'!H14+'объекты здравоохранения'!H14+другие!H14 -> 14 | I12: =ДДУ!I14+школы!I14+'детские санаторно-оздоровительн'!I14+'общепит и торговли'!I14+'ком. объекты'!I14+'промышленные и РОО'!I14+'объекты здравоохранения'!I14+другие!I14 -> 0 | J12: =ДДУ!J14+школы!J14+'детские санаторно-оздоровительн'!J14+'общепит и торговли'!J14+'ком. объекты'!J14+'промышленные и РОО'!J14+'объекты здравоохранения'!J14+другие!J14 -> 0 | ... AB12: =ДДУ!AB14+школы!AB14+'детские санаторно-оздоровительн'!AB14+'общепит и торговли'!AB14+'ком. объекты'!AB14+'промышленные и РОО'!AB14+'объекты здравоохранения'!AB14+другие!AB14 -> 0
A13: 7 | B13: Райымбекский район | C13: =ДДУ!C15+школы!C15+'детские санаторно-оздоровительн'!C15+'общепит и торговли'!C15+'ком. объекты'!C15+'промышленные и РОО'!C15+'объекты здравоохранения'!C15+другие!C15 -> 5 | D13: =ДДУ!D15+школы!D15+'детские санаторно-оздоровительн'!D15+'общепит и торговли'!D15+'ком. объекты'!D15+'промышленные и РОО'!D15+'объекты здравоохранения'!D15+другие!D15 -> 0 | E13: =ДДУ!E15+школы!E15+'детские санаторно-оздоровительн'!E15+'общепит и торговли'!E15+'ком. объекты'!E15+'промышленные и РОО'!E15+'объекты здравоохранения'!E15+другие!E15 -> 0 | F13: =ДДУ!F15+школы!F15+'детские санаторно-оздоровительн'!F15+'общепит и торговли'!F15+'ком. объекты'!F15+'промышленные и РОО'!F15+'объекты здравоохранения'!F15+другие!F15 -> 0 | G13: =ДДУ!G15+школы!G15+'детские санаторно-оздоровительн'!G15+'общепит и торговли'!G15+'ком. объекты'!G15+'промышленные и РОО'!G15+'объекты здравоохранения'!G15+другие!G15 -> 0 | H13: =ДДУ!H15+школы!H15+'детские санаторно-оздоровительн'!H15+'общепит и торговли'!H15+'ком. объекты'!H15+'промышленные и РОО'!H15+'объекты здравоохранения'!H15+другие!H15 -> 5 | I13: =ДДУ!I15+школы!I15+'детские санаторно-оздоровительн'!I15+'общепит и торговли'!I15+'ком. объекты'!I15+'промышленные и РОО'!I15+'объекты здравоохранения'!I15+другие!I15 -> 0 | J13: =ДДУ!J15+школы!J15+'детские санаторно-оздоровительн'!J15+'общепит и торговли'!J15+'ком. объекты'!J15+'промышленные и РОО'!J15+'объекты здравоохранения'!J15+другие!J15 -> 0 | ... AB13: =ДДУ!AB15+школы!AB15+'детские санаторно-оздоровительн'!AB15+'общепит и торговли'!AB15+'ком. объекты'!AB15+'промышленные и РОО'!AB15+'объекты здравоохранения'!AB15+другие!AB15 -> 0
A14: 8 | B14: Талгарский район | C14: =ДДУ!C16+школы!C16+'детские санаторно-оздоровительн'!C16+'общепит и торговли'!C16+'ком. объекты'!C16+'промышленные и РОО'!C16+'объекты здравоохранения'!C16+другие!C16 -> 21 | D14: =ДДУ!D16+школы!D16+'детские санаторно-оздоровительн'!D16+'общепит и торговли'!D16+'ком. объекты'!D16+'промышленные и РОО'!D16+'объекты здравоохранения'!D16+другие!D16 -> 2 | E14: =ДДУ!E16+школы!E16+'детские санаторно-оздоровительн'!E16+'общепит и торговли'!E16+'ком. объекты'!E16+'промышленные и РОО'!E16+'объекты здравоохранения'!E16+другие!E16 -> 1 | F14: =ДДУ!F16+школы!F16+'детские санаторно-оздоровительн'!F16+'общепит и торговли'!F16+'ком. объекты'!F16+'промышленные и РОО'!F16+'объекты здравоохранения'!F16+другие!F16 -> 0 | G14: =ДДУ!G16+школы!G16+'детские санаторно-оздоровительн'!G16+'общепит и торговли'!G16+'ком. объекты'!G16+'промышленные и РОО'!G16+'объекты здравоохранения'!G16+другие!G16 -> 17 | H14: =ДДУ!H16+школы!H16+'детские санаторно-оздоровительн'!H16+'общепит и торговли'!H16+'ком. объекты'!H16+'промышленные и РОО'!H16+'объекты здравоохранения'!H16+другие!H16 -> 0 | I14: =ДДУ!I16+школы!I16+'детские санаторно-оздоровительн'!I16+'общепит и торговли'!I16+'ком. объекты'!I16+'промышленные и РОО'!I16+'объекты здравоохранения'!I16+другие!I16 -> 1 | J14: =ДДУ!J16+школы!J16+'детские санаторно-оздоровительн'!J16+'общепит и торговли'!J16+'ком. объекты'!J16+'промышленные и РОО'!J16+'объекты здравоохранения'!J16+другие!J16 -> 0 | ... AB14: =ДДУ!AB16+школы!AB16+'детские санаторно-оздоровительн'!AB16+'общепит и торговли'!AB16+'ком. объекты'!AB16+'промышленные и РОО'!AB16+'объекты здравоохранения'!AB16+другие!AB16 -> 0
A15: 9 | B15: Уйгурский район | C15: =ДДУ!C17+школы!C17+'детские санаторно-оздоровительн'!C17+'общепит и торговли'!C17+'ком. объекты'!C17+'промышленные и РОО'!C17+'объекты здравоохранения'!C17+другие!C17 -> 28 | D15: =ДДУ!D17+школы!D17+'детские санаторно-оздоровительн'!D17+'общепит и торговли'!D17+'ком. объекты'!D17+'промышленные и РОО'!D17+'объекты здравоохранения'!D17+другие!D17 -> 4 | E15: =ДДУ!E17+школы!E17+'детские санаторно-оздоровительн'!E17+'общепит и торговли'!E17+'ком. объекты'!E17+'промышленные и РОО'!E17+'объекты здравоохранения'!E17+другие!E17 -> 9 | F15: =ДДУ!F17+школы!F17+'детские санаторно-оздоровительн'!F17+'общепит и торговли'!F17+'ком. объекты'!F17+'промышленные и РОО'!F17+'объекты здравоохранения'!F17+другие!F17 -> 12 | G15: =ДДУ!G17+школы!G17+'детские санаторно-оздоровительн'!G17+'общепит и торговли'!G17+'ком. объекты'!G17+'промышленные и РОО'!G17+'объекты здравоохранения'!G17+другие!G17 -> 3 | H15: =ДДУ!H17+школы!H17+'детские санаторно-оздоровительн'!H17+'общепит и торговли'!H17+'ком. объекты'!H17+'промышленные и РОО'!H17+'объекты здравоохранения'!H17+другие!H17 -> 0 | I15: =ДДУ!I17+школы!I17+'детские санаторно-оздоровительн'!I17+'общепит и торговли'!I17+'ком. объекты'!I17+'промышленные и РОО'!I17+'объекты здравоохранения'!I17+другие!I17 -> 0 | J15: =ДДУ!J17+школы!J17+'детские санаторно-оздоровительн'!J17+'общепит и торговли'!J17+'ком. объекты'!J17+'промышленные и РОО'!J17+'объекты здравоохранения'!J17+другие!J17 -> 0 | ... AB15: =ДДУ!AB17+школы!AB17+'детские санаторно-оздоровительн'!AB17+'общепит и торговли'!AB17+'ком. объекты'!AB17+'промышленные и РОО'!AB17+'объекты здравоохранения'!AB17+другие!AB17 -> 0
A16: 10 | B16: город Конаев | C16: =ДДУ!C18+школы!C18+'детские санаторно-оздоровительн'!C18+'общепит и торговли'!C18+'ком. объекты'!C18+'промышленные и РОО'!C18+'объекты здравоохранения'!C18+другие!C18 -> 37 | D16: =ДДУ!D18+школы!D18+'детские санаторно-оздоровительн'!D18+'общепит и торговли'!D18+'ком. объекты'!D18+'промышленные и РОО'!D18+'объекты здравоохранения'!D18+другие!D18 -> 2 | E16: =ДДУ!E18+школы!E18+'детские санаторно-оздоровительн'!E18+'общепит и торговли'!E18+'ком. объекты'!E18+'промышленные и РОО'!E18+'объекты здравоохранения'!E18+другие!E18 -> 0 | F16: =ДДУ!F18+школы!F18+'детские санаторно-оздоровительн'!F18+'общепит и торговли'!F18+'ком. объекты'!F18+'промышленные и РОО'!F18+'объекты здравоохранения'!F18+другие!F18 -> 11 | G16: =ДДУ!G18+школы!G18+'детские санаторно-оздоровительн'!G18+'общепит и торговли'!G18+'ком. объекты'!G18+'промышленные и РОО'!G18+'объекты здравоохранения'!G18+другие!G18 -> 18 | H16: =ДДУ!H18+школы!H18+'детские санаторно-оздоровительн'!H18+'общепит и торговли'!H18+'ком. объекты'!H18+'промышленные и РОО'!H18+'объекты здравоохранения'!H18+другие!H18 -> 0 | I16: =ДДУ!I18+школы!I18+'детские санаторно-оздоровительн'!I18+'общепит и торговли'!I18+'ком. объекты'!I18+'промышленные и РОО'!I18+'объекты здравоохранения'!I18+другие!I18 -> 5 | J16: =ДДУ!J18+школы!J18+'детские санаторно-оздоровительн'!J18+'общепит и торговли'!J18+'ком. объекты'!J18+'промышленные и РОО'!J18+'объекты здравоохранения'!J18+другие!J18 -> 0 | ... AB16: =ДДУ!AB18+школы!AB18+'детские санаторно-оздоровительн'!AB18+'общепит и торговли'!AB18+'ком. объекты'!AB18+'промышленные и РОО'!AB18+'объекты здравоохранения'!AB18+другие!AB18 -> 0
A17: 11 | B17: город Алатау | C17: =ДДУ!C19+школы!C19+'детские санаторно-оздоровительн'!C19+'общепит и торговли'!C19+'ком. объекты'!C19+'промышленные и РОО'!C19+'объекты здравоохранения'!C19+другие!C19 -> 2 | D17: =ДДУ!D19+школы!D19+'детские санаторно-оздоровительн'!D19+'общепит и торговли'!D19+'ком. объекты'!D19+'промышленные и РОО'!D19+'объекты здравоохранения'!D19+другие!D19 -> 0 | E17: =ДДУ!E19+школы!E19+'детские санаторно-оздоровительн'!E19+'общепит и торговли'!E19+'ком. объекты'!E19+'промышленные и РОО'!E19+'объекты здравоохранения'!E19+другие!E19 -> 0 | F17: =ДДУ!F19+школы!F19+'детские санаторно-оздоровительн'!F19+'общепит и торговли'!F19+'ком. объекты'!F19+'промышленные и РОО'!F19+'объекты здравоохранения'!F19+другие!F19 -> 2 | G17: =ДДУ!G19+школы!G19+'детские санаторно-оздоровительн'!G19+'общепит и торговли'!G19+'ком. объекты'!G19+'промышленные и РОО'!G19+'объекты здравоохранения'!G19+другие!G19 -> 0 | H17: =ДДУ!H19+школы!H19+'детские санаторно-оздоровительн'!H19+'общепит и торговли'!H19+'ком. объекты'!H19+'промышленные и РОО'!H19+'объекты здравоохранения'!H19+другие!H19 -> 0 | I17: =ДДУ!I19+школы!I19+'детские санаторно-оздоровительн'!I19+'общепит и торговли'!I19+'ком. объекты'!I19+'промышленные и РОО'!I19+'объекты здравоохранения'!I19+другие!I19 -> 0 | J17: =ДДУ!J19+школы!J19+'детские санаторно-оздоровительн'!J19+'общепит и торговли'!J19+'ком. объекты'!J19+'промышленные и РОО'!J19+'объекты здравоохранения'!J19+другие!J19 -> 0 | ... AB17: =ДДУ!AB19+школы!AB19+'детские санаторно-оздоровительн'!AB19+'общепит и торговли'!AB19+'ком. объекты'!AB19+'промышленные и РОО'!AB19+'объекты здравоохранения'!AB19+другие!AB19 -> 0
B18: Итого | C18: =SUM(C7:C17) -> 211 | D18: =SUM(D7:D17) -> 10 | E18: =SUM(E7:E17) -> 17 | F18: =SUM(F7:F17) -> 71 | G18: =SUM(G7:G17) -> 74 | H18: =SUM(H7:H17) -> 27 | I18: =SUM(I7:I17) -> 11 | J18: =SUM(J7:J17) -> 0 | ... S18: =SUM(S7:S17) -> 9 | T18: 20389938 | U18: =SUM(U7:U17) -> 20 | V18: =SUM(V7:V17) -> 2 | W18: =SUM(W7:W17) -> 9 | X18: =SUM(X7:X17) -> 8 | Y18: =SUM(Y7:Y17) -> 1 | Z18: =SUM(Z7:Z17) -> 0 | AA18: =SUM(AA7:AA17) -> 0 | AB18: =SUM(AB7:AB17) -> 0
B20: Прмичание: нарушение не выявлено в Кегенском районе 1

Sheet ДДУ
T1: Приложение 3 к приказу Председателя Комитета санитарно-эпидемиологического контроля Министерства здравоохранения Республики Казахстан от «___» ______ 2026 года № ___
A2: Отчет о проведенных внеплановых проверках
A5: № | B5: Наименование | C5: всего | D5: Количество проведеннных внеплановых проверок | L5: Выявлено нарушений | M5: Количество выданных предписаний | N5: Количество направленных материалов в суд | O5: Количество административных взысканий | U5: Меры оперативного реагирования | Z5: Отказано в регистрации
D6: из них: | O6: Всего | P6: из них: | U6: всего | V6: из них:
D7: контроль устранения нарушений, выявленных по результатам расследования | E7: контроль исполнения предписаний об устранении выявленных нарушений в результате проверки и профилактического контроля с посещением субъекта (объекта) контроля и надзора | F7: контроль устранения нарушений, являющихся основаниями для применения мер оперативного реагирования | G7: обращения физических и юридических лиц по нарушениям требований законодательства Республики Казахстан при наличии убедительных оснований и подтверждающих доказательств | H7: требования прокурора по конкретным фактам причинения либо об угрозе причинения вреда жизни, здоровью человека, окружающей среде, правам и законным интересам физических и юридических лиц, государства | I7: обращения государственных органов по конкретным фактам причинения вреда жизни, здоровью человека, окружающей среде, правам и законным интересам физических и юридических лиц, государства, а также нарушений требований законодательства Республики Казахстан, неустранение которых влечет причинение вреда жизни и здоровью человека | J7: повторная проверка, связанная с обращением субъекта контроля и надзора о несогласии с первоначальной проверкой (неправомерность применения мер оперативного реагирования) | K7: поручение органа уголовного преследования по основаниям, предусмотренным Уголовно-процессуальным кодексом Республики Казахстан | P7: должн. лиц | Q7: юр.лиц | R7: ип | S7: физ.лиц | T7: Сумма административного штрафа | V7: приостановление деятельности по производству, реализации продукции (товара), оказанию услуг, выполнению работ субъекта (объекта) контроля и надзора или отдельных ее видов (процессов, действий) | W7: запрещение деятельности по производству продукции (товара), оказанию услуг, выполнению работ субъекта (объекта) контроля и надзора или отдельных ее видов (процессов, действий) | X7: изъятие и отзыв с реализации продукции (товара), не соответствующей (не соответствующего) требованиям технических регламентов и (или) единым санитарно-эпидемиологическим и гигиеническим требованиям Евразийского экономического союза | Y7: временное отстранение лиц от работы | Z7: Нарушение правил уведомления | AA7: нарушения сроков проведения проверок | AB7: Другие (указать в примечании)
A8: 1 | B8: 2 | C8: 3 | D8: 4 | E8: 5 | F8: 6 | G8: 7 | H8: 8 | I8: 9 | J8: 10 | K8: 11 | L8: 12 | M8: 13 | N8: 14 | O8: 15 | P8: 16 | Q8: 17 | R8: 18 | S8: 19 | T8: 20 | U8: 21 | V8: 22 | W8: 23 | X8: 24 | Y8: 25 | Z8: 26 | AA8: 27 | AB8: 28
A9: 1 | B9: Балхашский район | C9: 1 | D9: 0 | E9: 1 | F9: 0 | G9: 0 | H9: 0 | I9: 0 | J9: 0 | K9: 0 | L9: 1 | M9: 0 | N9: 1 | O9: 0 | P9: 0 | Q9: 0 | R9: 0 | S9: 0 | T9: 0 | U9: 0 | V9: 0 | W9: 0 | X9: 0 | Y9: 0 | Z9: 0 | AA9: 0 | AB9: 0
A10: 2 | B10: Енбекшиказахский район | C10: 0 | D10: 0 | E10: 0 | F10: 0 | G10: 0 | H10: 0 | I10: 0 | J10: 0 | K10: 0 | L10: 0 | M10: 0 | N10: 0 | O10: 0 | P10: 0 | Q10: 0 | R10: 0 | S10: 0 | T10: 0 | U10: 0 | V10: 0 | W10: 0 | X10: 0 | Y10: 0 | Z10: 0 | AA10: 0 | AB10: 0
A11: 3 | B11: Жамбылский район | C11: 0 | D11: 0 | E11: 0 | F11: 0 | G11: 0 | H11: 0 | I11: 0 | J11: 0 | K11: 0 | L11: 0 | M11: 0 | N11: 0 | O11: 0 | P11: 0 | Q11: 0 | R11: 0 | S11: 0 | T11: 0 | U11: 0 | V11: 0 | W11: 0 | X11: 0 | Y11: 0 | Z11: 0 | AA11: 0 | AB11: 0
A12: 4 | B12: Илийский район | C12: 0 | D12: 0 | E12: 0 | F12: 0 | G12: 0 | H12: 0 | I12: 0 | J12: 0 | K12: 0 | L12: 0 | M12: 0 | N12: 0 | O12: 0 | P12: 0 | Q12: 0 | R12: 0 | S12: 0 | T12: 0 | U12: 0 | V12: 0 | W12: 0 | X12: 0 | Y12: 0 | Z12: 0 | AA12: 0 | AB12: 0
A13: 5 | B13: Кегенский район | C13: 0 | D13: 0 | E13: 0 | F13: 0 | G13: 0 | H13: 0 | I13: 0 | J13: 0 | K13: 0 | L13: 0 | M13: 0 | N13: 0 | O13: 0 | P13: 0 | Q13: 0 | R13: 0 | S13: 0 | T13: 0 | U13: 0 | V13: 0 | W13: 0 | X13: 0 | Y13: 0 | Z13: 0 | AA13: 0 | AB13: 0
A14: 6 | B14: Карасайский район | C14: 1 | D14: 0 | E14: 0 | F14: 0 | G14: 1 | H14: 0 | I14: 0 | J14: 0 | K14: 0 | L14: 1 | M14: 1 | N14: 0 | O14: 1 | P14: 0 | Q14: 1 | R14: 0 | S14: 0 | T14: 346000 | U14: 0 | V14: 0 | W14: 0 | X14: 0 | Y14: 0 | Z14: 0 | AA14: 0 | AB14: 0
A15: 7 | B15: Райымбекский район | C15: 5 | D15: 0 | E15: 0 | F15: 0 | G15: 0 | H15: 5 | I15: 0 | J15: 0 | K15: 0 | L15: 5 | M15: 5 | N15: 0 | O15: 5 | P15: 0 | Q15: 0 | R15: 0 | S15: 5 | T15: 216250 | U15: 0 | V15: 0 | W15: 0 | X15: 0 | Y15: 0 | Z15: 0 | AA15: 0 | AB15: 0
A16: 8 | B16: Талгарский район | C16: 0 | D16: 0 | E16: 0 | F16: 0 | G16: 0 | H16: 0 | I16: 0 | J16: 0 | K16: 0 | L16: 0 | M16: 0 | N16: 0 | O16: 0 | P16: 0 | Q16: 0 | R16: 0 | S16: 0 | T16: 0 | U16: 0 | V16: 0 | W16: 0 | X16: 0 | Y16: 0 | Z16: 0 | AA16: 0 | AB16: 0
A17: 9 | B17: Уйгурский район | C17: 1 | D17: 1 | E17: 0 | F17: 0 | G17: 0 | H17: 0 | I17: 0 | J17: 0 | K17: 0 | L17: 0 | M17: 0 | N17: 0 | O17: 0 | P17: 0 | Q17: 0 | R17: 0 | S17: 0 | T17: 0 | U17: 0 | V17: 0 | W17: 0 | X17: 0 | Y17: 0 | Z17: 0 | AA17: 0 | AB17: 0
A18: 10 | B18: город Конаев | C18: 0 | D18: 0 | E18: 0 | F18: 0 | G18: 0 | H18: 0 | I18: 0 | J18: 0 | K18: 0 | L18: 0 | M18: 0 | N18: 0 | O18: 0 | P18: 0 | Q18: 0 | R18: 0 | S18: 0 | T18: 0 | U18: 0 | V18: 0 | W18: 0 | X18: 0 | Y18: 0 | Z18: 0 | AA18: 0 | AB18: 0
A19: 11 | B19: город Алатау | C19: 0 | D19: 0 | E19: 0 | F19: 0 | G19: 0 | H19: 0 | I19: 0 | J19: 0 | K19: 0 | L19: 0 | M19: 0 | N19: 0 | O19: 0 | P19: 0 | Q19: 0 | R19: 0 | S19: 0 | T19: 0 | U19: 0 | V19: 0 | W19: 0 | X19: 0 | Y19: 0 | Z19: 0 | AA19: 0 | AB19: 0
B20: Итого | C20: =SUM(C9:C19) -> 8 | D20: =SUM(D9:D19) -> 1 | E20: =SUM(E9:E19) -> 1 | F20: =SUM(F9:F19) -> 0 | G20: =SUM(G9:G19) -> 1 | H20: =SUM(H9:H19) -> 5 | I20: =SUM(I9:I19) -> 0 | J20: =SUM(J9:J19) -> 0 | ... AB20: =SUM(AB9:AB19) -> 0

Sheet школы
T1: Приложение 3 к приказу Председателя Комитета санитарно-эпидемиологического контроля Министерства здравоохранения Республики Казахстан от «___» ______ 2026 года № "___"
A2: Отчет о проведенных внеплановых проверках
A5: № | B5: Наименование | C5: всего | D5: Количество проведеннных внеплановых проверок | L5: Выявлено нарушений | M5: Количество выданных предписаний | N5: Количество направленных материалов в суд | O5: Количество административных взысканий | U5: Меры оперативного реагирования | Z5: Отказано в регистрации
D6: из них: | O6: Всего | P6: из них: | U6: всего | V6: из них:
D7: контроль устранения нарушений, выявленных по результатам расследования | E7: контроль исполнения предписаний об устранении выявленных нарушений в результате проверки и профилактического контроля с посещением субъекта (объекта) контроля и надзора | F7: контроль устранения нарушений, являющихся основаниями для применения мер оперативного реагирования | G7: обращения физических и юридических лиц по нарушениям требований законодательства Республики Казахстан при наличии убедительных оснований и подтверждающих доказательств | H7: требования прокурора по конкретным фактам причинения либо об угрозе причинения вреда жизни, здоровью человека, окружающей среде, правам и законным интересам физических и юридических лиц, государства | I7: обращения государственных органов по конкретным фактам причинения вреда жизни, здоровью человека, окружающей среде, правам и законным интересам физических и юридических лиц, государства, а также нарушений требований законодательства Республики Казахстан, неустранение которых влечет причинение вреда жизни и здоровью человека | J7: повторная проверка, связанная с обращением субъекта контроля и надзора о несогласии с первоначальной проверкой (неправомерность применения мер оперативного реагирования) | K7: поручение органа уголовного преследования по основаниям, предусмотренным Уголовно-процессуальным кодексом Республики Казахстан | P7: должн. лиц | Q7: юр.лиц | R7: ип | S7: физ.лиц | T7: Сумма административного штрафа | V7: приостановление деятельности по производству, реализации продукции (товара), оказанию услуг, выполнению работ субъекта (объекта) контроля и надзора или отдельных ее видов (процессов, действий) | W7: запрещение деятельности по производству продукции (товара), оказанию услуг, выполнению работ субъекта (объекта) контроля и надзора или отдельных ее видов (процессов, действий) | X7: изъятие и отзыв с реализации продукции (товара), не соответствующей (не соответствующего) требованиям технических регламентов и (или) единым санитарно-эпидемиологическим и гигиеническим требованиям Евразийского экономического союза | Y7: временное отстранение лиц от работы | Z7: Нарушение правил уведомления | AA7: нарушения сроков проведения проверок | AB7: Другие (указать в примечании)
A8: 1 | B8: 2 | C8: 3 | D8: 4 | E8: 5 | F8: 6 | G8: 7 | H8: 8 | I8: 9 | J8: 10 | K8: 11 | L8: 12 | M8: 13 | N8: 14 | O8: 15 | P8: 16 | Q8: 17 | R8: 18 | S8: 19 | T8: 20 | U8: 21 | V8: 22 | W8: 23 | X8: 24 | Y8: 25 | Z8: 26 | AA8: 27 | AB8: 28
A9: 1 | B9: Балхашский район | C9: 0 | D9: 0 | E9: 0 | F9: 0 | G9: 0 | H9: 0 | I9: 0 | J9: 0 | K9: 0 | L9: 0 | M9: 0 | N9: 0 | O9: 0 | P9: 0 | Q9: 0 | R9: 0 | S9: 0 | T9: 692000 | U9: 0 | V9: 0 | W9: 0 | X9: 0 | Y9: 0 | Z9: 0 | AA9: 0 | AB9: 0
A10: 2 | B10: Енбекшиказахский район | C10: 10 | D10: 0 | E10: 4 | F10: 0 | G10: 2 | H10: 4 | I10: 0 | J10: 0 | K10: 0 | L10: 8 | M10: 6 | N10: 2 | O10: 8 | P10: 0 | Q10: 8 | R10: 0 | S10: 0 | T10: 2378750 | U10: 0 | V10: 0 | W10: 0 | X10: 0 | Y10: 0 | Z10: 0 | AA10: 0 | AB10: 0
A11: 3 | B11: Жамбылский район | C11: 3 | D11: 0 | E11: 1 | F11: 0 | G11: 0 | H11: 2 | I11: 0 | J11: 0 | K11: 0 | L11: 3 | M11: 2 | N11: 1 | O11: 2 | P11: 2 | Q11: 0 | R11: 0 | S11: 0 | T11: 692000 | U11: 0 | V11: 0 | W11: 0 | X11: 0 | Y11: 0 | Z11: 0 | AA11: 0 | AB11: 0
A12: 4 | B12: Илийский район | C12: 0
A13: 5 | B13: Кегенский район | C13: 0
A14: 6 | B14: Карасайский район | C14: 13 | D14: 0 | E14: 0 | F14: 0 | G14: 0 | H14: 13 | I14: 0 | J14: 0 | K14: 0 | L14: 13 | M14: 13 | N14: 0 | O14: 13 | P14: 0 | Q14: 12 | R14: 1 | S14: 0 | T14: 4052250 | U14: 0 | V14: 0 | W14: 0 | X14: 0 | Y14: 0 | Z14: 0 | AA14: 0 | AB14: 0
A15: 7 | B15: Райымбекский район | C15: 0
A16: 8 | B16: Талгарский район | C16: 1 | D16: 1 | E16: 0 | F16: 0 | G16: 0 | H16: 0 | I16: 0 | J16: 0 | K16: 0 | L16: 0 | M16: 0 | N16: 1 | O16: 0 | P16: 0 | Q16: 0 | R16: 0 | S16: 0 | T16: 0 | U16: 0 | V16: 0 | W16: 0 | X16: 0 | Y16: 0 | Z16: 0 | AA16: 0 | AB16: 0
A17: 9 | B17: Уйгурский район | C17: 0
A18: 10 | B18: город Конаев | C18: 0
A19: 11 | B19: город Алатау | C19: 0 | D19: 0 | E19: 0 | F19: 0 | G19: 0 | H19: 0 | I19: 0 | J19: 0 | K19: 0 | L19: 0 | M19: 0 | N19: 0 | O19: 0 | P19: 0 | Q19: 0 | R19: 0 | S19: 0 | T19: 0 | U19: 0 | V19: 0 | W19: 0 | X19: 0 | Y19: 0 | Z19: 0 | AA19: 0 | AB19: 0
A20: 12 | B20: Итого | C20: =SUM(C9:C19) -> 27 | D20: =SUM(D9:D19) -> 1 | E20: =SUM(E9:E19) -> 5 | F20: =SUM(F9:F19) -> 0 | G20: =SUM(G9:G19) -> 2 | H20: =SUM(H9:H19) -> 19 | I20: =SUM(I9:I19) -> 0 | J20: =SUM(J9:J19) -> 0 | ... AB20: =SUM(AB9:AB19) -> 0 | XFC20: =SUM(C20:XFB20) -> 7815149

Sheet детские санаторно-оздоровительн
T1: Приложение 3 к приказу Председателя Комитета санитарно-эпидемиологического контроля Министерства здравоохранения Республики Казахстан от «___» ______ 2026 года № ___
A2: Отчет о проведенных внеплановых проверках
A5: № | B5: Наименование | C5: всего | D5: Количество проведеннных внеплановых проверок | L5: Выявлено нарушений | M5: Количество выданных предписаний | N5: Количество направленных материалов в суд | O5: Количество административных взысканий | U5: Меры оперативного реагирования | Z5: Отказано в регистрации
D6: из них: | O6: Всего | P6: из них: | U6: всего | V6: из них:
D7: контроль устранения нарушений, выявленных по результатам расследования | E7: контроль исполнения предписаний об устранении выявленных нарушений в результате проверки и профилактического контроля с посещением субъекта (объекта) контроля и надзора | F7: контроль устранения нарушений, являющихся основаниями для применения мер оперативного реагирования | G7: обращения физических и юридических лиц по нарушениям требований законодательства Республики Казахстан при наличии убедительных оснований и подтверждающих доказательств | H7: требования прокурора по конкретным фактам причинения либо об угрозе причинения вреда жизни, здоровью человека, окружающей среде, правам и законным интересам физических и юридических лиц, государства | I7: обращения государственных органов по конкретным фактам причинения вреда жизни, здоровью человека, окружающей среде, правам и законным интересам физических и юридических лиц, государства, а также нарушений требований законодательства Республики Казахстан, неустранение которых влечет причинение вреда жизни и здоровью человека | J7: повторная проверка, связанная с обращением субъекта контроля и надзора о несогласии с первоначальной проверкой (неправомерность применения мер оперативного реагирования) | K7: поручение органа уголовного преследования по основаниям, предусмотренным Уголовно-процессуальным кодексом Республики Казахстан | P7: должн. лиц | Q7: юр.лиц | R7: ип | S7: физ.лиц | T7: Сумма административного штрафа | V7: приостановление деятельности по производству, реализации продукции (товара), оказанию услуг, выполнению работ субъекта (объекта) контроля и надзора или отдельных ее видов (процессов, действий) | W7: запрещение деятельности по производству продукции (товара), оказанию услуг, выполнению работ субъекта (объекта) контроля и надзора или отдельных ее видов (процессов, действий) | X7: изъятие и отзыв с реализации продукции (товара), не соответствующей (не соответствующего) требованиям технических регламентов и (или) единым санитарно-эпидемиологическим и гигиеническим требованиям Евразийского экономического союза | Y7: временное отстранение лиц от работы | Z7: Нарушение правил уведомления | AA7: нарушения сроков проведения проверок | AB7: Другие (указать в примечании)
A8: 1 | B8: 2 | C8: 3 | D8: 4 | E8: 5 | F8: 6 | G8: 7 | H8: 8 | I8: 9 | J8: 10 | K8: 11 | L8: 12 | M8: 13 | N8: 14 | O8: 15 | P8: 16 | Q8: 17 | R8: 18 | S8: 19 | T8: 20 | U8: 21 | V8: 22 | W8: 23 | X8: 24 | Y8: 25 | Z8: 26 | AA8: 27 | AB8: 28
A9: 1 | B9: Балхашский район | C9: 0
A10: 2 | B10: Енбекшиказахский район | C10: 1 | D10: 0 | E10: 0 | F10: 1 | G10: 0 | H10: 0 | I10: 0 | J10: 0 | K10: 0 | L10: 0 | M10: 0 | N10: 0 | O10: 0 | P10: 0 | Q10: 0 | R10: 0 | S10: 0 | T10: 0 | U10: 0 | V10: 0 | W10: 0 | X10: 0 | Y10: 0 | Z10: 0 | AA10: 0 | AB10: 0
A11: 3 | B11: Жамбылский район | C11: 0
A12: 4 | B12: Илийский район | C12: 0
A13: 5 | B13: Кегенский район | C13: 0
A14: 6 | B14: Карасайский район | C14: 0
A15: 7 | B15: Райымбекский район | C15: 0
A16: 8 | B16: Талгарский район | C16: 0
A17: 9 | B17: Уйгурский район | C17: 0
A18: 10 | B18: город Конаев | C18: 0
A19: 11 | B19: город Алатау | C19: 0 | D19: 0 | E19: 0 | F19: 0 | G19: 0 | H19: 0 | I19: 0 | J19: 0 | K19: 0 | L19: 0 | M19: 0 | N19: 0 | O19: 0 | P19: 0 | Q19: 0 | R19: 0 | S19: 0 | T19: 0 | U19: 0 | V19: 0 | W19: 0 | X19: 0 | Y19: 0 | Z19: 0 | AA19: 0 | AB19: 0
A20: 12 | B20: Итого | C20: =SUM(C9:C19) -> 1 | D20: =SUM(D9:D19) -> 0 | E20: =SUM(E9:E19) -> 0 | F20: =SUM(F9:F19) -> 1 | G20: =SUM(G9:G19) -> 0 | H20: =SUM(H9:H19) -> 0 | I20: =SUM(I9:I19) -> 0 | J20: =SUM(J9:J19) -> 0 | ... AB20: =SUM(AB9:AB19) -> 0

Sheet общепит и торговли
B1: СВОД | T1: "Приложение 3 к приказу Председателя Комитета санитарно-эпидемиологического контроля Министерства здравоохранения Республики Казахстан от «___» ______ 2026 года № ___ "
A2: Отчет о проведенных внеплановых проверках
A5: № | B5: Наименование | C5: всего | D5: Количество проведеннных внеплановых проверок | L5: Выявлено нарушений | M5: Количество выданных предписаний | N5: Количество направленных материалов в суд | O5: Количество административных взысканий | U5: Меры оперативного реагирования | Z5: Отказано в регистрации
D6: из них: | O6: Всего | P6: из них: | U6: всего | V6: из них:
D7: контроль устранения нарушений, выявленных по результатам расследования | E7: контроль исполнения предписаний об устранении выявленных нарушений в результате проверки и профилактического контроля с посещением субъекта (объекта) контроля и надзора | F7: контроль устранения нарушений, являющихся основаниями для применения мер оперативного реагирования | G7: обращения физических и юридических лиц по нарушениям требований законодательства Республики Казахстан при наличии убедительных оснований и подтверждающих доказательств | H7: требования прокурора по конкретным фактам причинения либо об угрозе причинения вреда жизни, здоровью человека, окружающей среде, правам и законным интересам физических и юридических лиц, государства | I7: обращения государственных органов по конкретным фактам причинения вреда жизни, здоровью человека, окружающей среде, правам и законным интересам физических и юридических лиц, государства, а также нарушений требований законодательства Республики Казахстан, неустранение которых влечет причинение вреда жизни и здоровью человека | J7: повторная проверка, связанная с обращением субъекта контроля и надзора о несогласии с первоначальной проверкой (неправомерность применения мер оперативного реагирования) | K7: поручение органа уголовного преследования по основаниям, предусмотренным Уголовно-процессуальным кодексом Республики Казахстан | P7: должн. лиц | Q7: юр.лиц | R7: ип | S7: физ.лиц | T7: Сумма административного штрафа | V7: приостановление деятельности по производству, реализации продукции (товара), оказанию услуг, выполнению работ субъекта (объекта) контроля и надзора или отдельных ее видов (процессов, действий) | W7: запрещение деятельности по производству продукции (товара), оказанию услуг, выполнению работ субъекта (объекта) контроля и надзора или отдельных ее видов (процессов, действий) | X7: изъятие и отзыв с реализации продукции (товара), не соответствующей (не соответствующего) требованиям технических регламентов и (или) единым санитарно-эпидемиологическим и гигиеническим требованиям Евразийского экономического союза | Y7: временное отстранение лиц от работы | Z7: Нарушение правил уведомления | AA7: нарушения сроков проведения проверок | AB7: Другие (указать в примечании)
A8: 1 | B8: 2 | C8: 3 | D8: 4 | E8: 5 | F8: 6 | G8: 7 | H8: 8 | I8: 9 | J8: 10 | K8: 11 | L8: 12 | M8: 13 | N8: 14 | O8: 15 | P8: 16 | Q8: 17 | R8: 18 | S8: 19 | T8: 20 | U8: 21 | V8: 22 | W8: 23 | X8: 24 | Y8: 25 | Z8: 26 | AA8: 27 | AB8: 28
A9: 1 | B9: Балхашский район | C9: 1 | D9: 0 | E9: 0 | F9: 1 | G9: 0 | H9: 0 | I9: 0 | J9: 0 | K9: 0 | L9: 0 | M9: 0 | N9: 0 | O9: 0 | P9: 0 | Q9: 0 | R9: 0 | S9: 0 | T9: 0 | U9: 0 | V9: 0 | W9: 0 | X9: 0 | Y9: 0 | Z9: 0 | AA9: 0 | AB9: 0
A10: 2 | B10: Енбекшиказахский район | C10: 34 | D10: 0 | E10: 0 | F10: 28 | G10: 5 | H10: 0 | I10: 1 | J10: 0 | K10: 0 | L10: 8 | M10: 5 | N10: 3 | O10: 5 | P10: 0 | Q10: 3 | R10: 1 | S10: 1 | T10: 735250 | U10: 5 | V10: 1 | W10: 2 | X10: 2 | Y10: 0 | Z10: 0 | AA10: 0 | AB10: 0
A11: 3 | B11: Жамбылский район | C11: 0 | D11: 0 | E11: 0 | F11: 0 | G11: 0 | H11: 0 | I11: 0 | J11: 0 | K11: 0 | L11: 0 | M11: 0 | N11: 0 | O11: 0 | P11: 0 | Q11: 0 | R11: 0 | S11: 0 | T11: 0 | U11: 0 | V11: 0 | W11: 0 | X11: 0 | Y11: 0 | Z11: 0 | AA11: 0 | AB11: 0
A12: 4 | B12: Илийский район | C12: 3 | D12: 0 | E12: 0 | F12: 0 | G12: 2 | H12: 0 | I12: 1 | J12: 0 | K12: 0 | L12: 3 | M12: 3 | N12: 0 | O12: 3 | P12: 0 | Q12: 1 | R12: 2 | S12: 0 | T12: 1038000 | U12: 0 | V12: 0 | W12: 0 | X12: 0 | Y12: 0 | Z12: 0 | AA12: 0 | AB12: 0
A13: 5 | B13: Кегенский район | C13: 2 | D13: 0 | E13: 0 | F13: 2 | G13: 0 | H13: 0 | I13: 0 | J13: 0 | K13: 0 | L13: 0 | M13: 0 | N13: 0 | O13: 0 | P13: 0 | Q13: 0 | R13: 0 | S13: 0 | T13: 0 | U13: 0 | V13: 0 | W13: 0 | X13: 0 | Y13: 0 | Z13: 0 | AA13: 0 | AB13: 0
A14: 6 | B14: Карасайский район | C14: 2 | D14: 0 | E14: 0 | F14: 0 | G14: 2 | H14: 0 | I14: 0 | J14: 0 | K14: 0 | L14: 2 | M14: 2 | N14: 0 | O14: 2 | P14: 0 | Q14: 2 | R14: 0 | S14: 0 | T14: 800125 | U14: 0 | V14: 0 | W14: 0 | X14: 0 | Y14: 0 | Z14: 0 | AA14: 0 | AB14: 0
A15: 7 | B15: Райымбекский район | C15: 0 | D15: 0 | E15: 0 | F15: 0 | G15: 0 | H15: 0 | I15: 0 | J15: 0 | K15: 0 | L15: 0 | M15: 0 | N15: 0 | O15: 0 | P15: 0 | Q15: 0 | R15: 0 | S15: 0 | T15: 0 | U15: 0 | V15: 0 | W15: 0 | X15: 0 | Y15: 0 | Z15: 0 | AA15: 0 | AB15: 0
A16: 8 | B16: Талгарский район | C16: 9 | D16: 0 | E16: 0 | F16: 0 | G16: 8 | H16: 0 | I16: 1 | J16: 0 | K16: 0 | L16: 5 | M16: 5 | N16: 0 | O16: 5 | P16: 0 | Q16: 1 | R16: 4 | S16: 0 | T16: 1730000 | U16: 0 | V16: 0 | W16: 0 | X16: 0 | Y16: 0 | Z16: 0 | AA16: 0 | AB16: 0
A17: 9 | B17: Уйгурский район | C17: 9 | D17: 0 | E17: 2 | F17: 6 | G17: 1 | H17: 0 | I17: 0 | J17: 0 | K17: 0 | L17: 3 | M17: 1 | N17: 2 | O17: 2 | P17: 0 | Q17: 0 | R17: 2 | S17: 0 | T17: 605500 | U17: 1 | V17: 0 | W17: 0 | X17: 1 | Y17: 0 | Z17: 0 | AA17: 0 | AB17: 0
A18: 10 | B18: город Конаев | C18: 23 | D18: 0 | E18: 0 | F18: 7 | G18: 12 | H18: 0 | I18: 4 | J18: 0 | K18: 0 | L18: 10 | M18: 10 | N18: 2 | O18: 2 | P18: 0 | Q18: 0 | R18: 2 | S18: 0 | T18: 789312.5 | U18: 6 | V18: 0 | W18: 1 | X18: 5 | Y18: 0 | Z18: 0 | AA18: 0 | AB18: 0
A19: 11 | B19: город Алатау | C19: 0 | D19: 0 | E19: 0 | F19: 0 | G19: 0 | H19: 0 | I19: 0 | J19: 0 | K19: 0 | L19: 0 | M19: 0 | N19: 0 | O19: 0 | P19: 0 | Q19: 0 | R19: 0 | S19: 0 | T19: 0 | U19: 0 | V19: 0 | W19: 0 | X19: 0 | Y19: 0 | Z19: 0 | AA19: 0 | AB19: 0
A20: 12 | B20: Итого | C20: =SUM(C9:C19) -> 83 | D20: =SUM(D9:D19) -> 0 | E20: =SUM(E9:E19) -> 2 | F20: =SUM(F9:F19) -> 44 | G20: =SUM(G9:G19) -> 30 | H20: =SUM(H9:H19) -> 0 | I20: =SUM(I9:I19) -> 7 | J20: =SUM(J9:J19) -> 0 | ... AB20: =SUM(AB9:AB19) -> 0

Sheet ком. объекты
T1: Приложение 3 к приказу Председателя Комитета санитарно-эпидемиологического контроля Министерства здравоохранения Республики Казахстан от «___» ______ 2026 года № ___
A2: Отчет о проведенных внеплановых проверках
A5: № | B5: Наименование | C5: всего | D5: Количество проведеннных внеплановых проверок | L5: Выявлено нарушений | M5: Количество выданных предписаний | N5: Количество направленных материалов в суд | O5: Количество административных взысканий | U5: Меры оперативного реагирования | Z5: Отказано в регистрации
D6: из них: | O6: Всего | P6: из них: | U6: всего | V6: из них:
D7: контроль устранения нарушений, выявленных по результатам расследования | E7: контроль исполнения предписаний об устранении выявленных нарушений в результате проверки и профилактического контроля с посещением субъекта (объекта) контроля и надзора | F7: контроль устранения нарушений, являющихся основаниями для применения мер оперативного реагирования | G7: обращения физических и юридических лиц по нарушениям требований законодательства Республики Казахстан при наличии убедительных оснований и подтверждающих доказательств | H7: требования прокурора по конкретным фактам причинения либо об угрозе причинения вреда жизни, здоровью человека, окружающей среде, правам и законным интересам физических и юридических лиц, государства | I7: обращения государственных органов по конкретным фактам причинения вреда жизни, здоровью человека, окружающей среде, правам и законным интересам физических и юридических лиц, государства, а также нарушений требований законодательства Республики Казахстан, неустранение которых влечет причинение вреда жизни и здоровью человека | J7: повторная проверка, связанная с обращением субъекта контроля и надзора о несогласии с первоначальной проверкой (неправомерность применения мер оперативного реагирования) | K7: поручение органа уголовного преследования по основаниям, предусмотренным Уголовно-процессуальным кодексом Республики Казахстан | P7: должн. лиц | Q7: юр.лиц | R7: ип | S7: физ.лиц | T7: Сумма административного штрафа | V7: приостановление деятельности по производству, реализации продукции (товара), оказанию услуг, выполнению работ субъекта (объекта) контроля и надзора или отдельных ее видов (процессов, действий) | W7: запрещение деятельности по производству продукции (товара), оказанию услуг, выполнению работ субъекта (объекта) контроля и надзора или отдельных ее видов (процессов, действий) | X7: изъятие и отзыв с реализации продукции (товара), не соответствующей (не соответствующего) требованиям технических регламентов и (или) единым санитарно-эпидемиологическим и гигиеническим требованиям Евразийского экономического союза | Y7: временное отстранение лиц от работы | Z7: Нарушение правил уведомления | AA7: нарушения сроков проведения проверок | AB7: Другие (указать в примечании)
A8: 1 | B8: 2 | C8: 3 | D8: 4 | E8: 5 | F8: 6 | G8: 7 | H8: 8 | I8: 9 | J8: 10 | K8: 11 | L8: 12 | M8: 13 | N8: 14 | O8: 15 | P8: 16 | Q8: 17 | R8: 18 | S8: 19 | T8: 20 | U8: 21 | V8: 22 | W8: 23 | X8: 24 | Y8: 25 | Z8: 26 | AA8: 27 | AB8: 28
A9: 1 | B9: Балхашский район | C9: 1 | D9: 0 | E9: 0 | F9: 0 | G9: 0 | H9: 1 | I9: 0 | J9: 0 | K9: 0 | L9: 0 | M9: 0 | N9: 0 | O9: 0 | P9: 0 | Q9: 0 | R9: 0 | S9: 0 | T9: 0 | U9: 0 | V9: 0 | W9: 0 | X9: 0 | Y9: 0 | Z9: 0 | AA9: 0 | AB9: 0
A10: 2 | B10: Енбекшиказахский район | C10: 3 | D10: 0 | E10: 0 | F10: 1 | G10: 2 | H10: 0 | I10: 0 | J10: 0 | K10: 0 | L10: 3 | M10: 2 | N10: 1 | O10: 2 | P10: 0 | Q10: 1 | R10: 1 | S10: 0 | T10: 454125 | U10: 2 | V10: 0 | W10: 1 | X10: 0 | Y10: 1 | Z10: 0 | AA10: 0 | AB10: 0
A11: 3 | B11: Жамбылский район | C11: 0 | D11: 0 | E11: 0 | F11: 0 | G11: 0 | H11: 0 | I11: 0 | J11: 0 | K11: 0 | L11: 0 | M11: 0 | N11: 0 | O11: 0 | P11: 0 | Q11: 0 | R11: 0 | S11: 0 | T11: 0 | U11: 0 | V11: 0 | W11: 0 | X11: 0 | Y11: 0 | Z11: 0 | AA11: 0 | AB11: 0
A12: 4 | B12: Илийский район | C12: 2 | D12: 0 | E12: 0 | F12: 0 | G12: 1 | H12: 0 | I12: 1 | J12: 0 | K12: 0 | L12: 1 | M12: 1 | N12: 0 | O12: 1 | P12: 0 | Q12: 0 | R12: 1 | S12: 0 | T12: 346000 | U12: 0 | V12: 0 | W12: 0 | X12: 0 | Y12: 0 | Z12: 0 | AA12: 0 | AB12: 0
A13: 5 | B13: Кегенский район | C13: 1 | D13: 0 | E13: 0 | F13: 0 | G13: 1 | H13: 0 | I13: 0 | J13: 0 | K13: 0 | L13: 0 | M13: 0 | N13: 0 | O13: 0 | P13: 0 | Q13: 0 | R13: 0 | S13: 0 | T13: 0 | U13: 0 | V13: 0 | W13: 0 | X13: 0 | Y13: 0 | Z13: 0 | AA13: 0 | AB13: 0
A14: 6 | B14: Карасайский район | C14: 2 | D14: 0 | E14: 0 | F14: 0 | G14: 1 | H14: 1 | I14: 0 | J14: 0 | K14: 0 | L14: 2 | M14: 2 | N14: 1 | O14: 2 | P14: 0 | Q14: 2 | R14: 0 | S14: 0 | T14: 800125 | U14: 0 | V14: 0 | W14: 0 | X14: 0 | Y14: 0 | Z14: 0 | AA14: 0 | AB14: 0
A15: 7 | B15: Райымбекский район | C15: 0 | O15: 0 | T15: 0
A16: 8 | B16: Талгарский район | C16: 8 | D16: 0 | E16: 0 | F16: 0 | G16: 8 | H16: 0 | I16: 0 | J16: 0 | K16: 0 | L16: 1 | M16: 1 | N16: 0 | O16: 1 | P16: 0 | Q16: 1 | R16: 0 | S16: 0 | T16: 346000 | U16: 0 | V16: 0 | W16: 0 | X16: 0 | Y16: 0 | Z16: 0 | AA16: 0 | AB16: 0
A17: 9 | B17: Уйгурский район | C17: 3 | D17: 0 | E17: 1 | F17: 0 | G17: 2 | H17: 0 | I17: 0 | J17: 0 | K17: 0 | L17: 2 | M17: 2 | N17: 0 | O17: 1 | P17: 0 | Q17: 0 | R17: 1 | S17: 0 | T17: 346000 | U17: 1 | V17: 0 | W17: 1 | X17: 0 | Y17: 0 | Z17: 0 | AA17: 0 | AB17: 0
A18: 10 | B18: город Конаев | C18: 9 | D18: 1 | E18: 0 | F18: 3 | G18: 3 | H18: 0 | I18: 1 | J18: 0 | K18: 1 | L18: 4 | M18: 4 | N18: 1 | O18: 1 | P18: 0 | Q18: 0 | R18: 1 | S18: 0 | T18: 346000 | U18: 2 | V18: 0 | W18: 2 | X18: 0 | Y18: 0 | Z18: 0 | AA18: 0 | AB18: 0
A19: 11 | B19: город Алатау | C19: 2 | D19: 0 | E19: 0 | F19: 2 | G19: 0 | H19: 0 | I19: 0 | J19: 0 | K19: 0 | L19: 0 | M19: 0 | N19: 0 | O19: 0 | P19: 0 | Q19: 0 | R19: 0 | S19: 0 | T19: 0 | U19: 0 | V19: 0 | W19: 0 | X19: 0 | Y19: 0 | Z19: 0 | AA19: 0 | AB19: 0
A20: 12 | B20: Итого | C20: =SUM(C9:C19) -> 31 | D20: =SUM(D9:D19) -> 1 | E20: =SUM(E9:E19) -> 1 | F20: =SUM(F9:F19) -> 6 | G20: =SUM(G9:G19) -> 18 | H20: =SUM(H9:H19) -> 2 | I20: =SUM(I9:I19) -> 2 | J20: =SUM(J9:J19) -> 0 | ... AB20: =SUM(AB9:AB19) -> 0

Sheet промышленные и РОО
X1: Приложение 3 к приказу Председателя Комитета санитарно-эпидемиологического контроля Министерства здравоохранения Республики Казахстан от «___» ______ 2026 года № ___
A2: Отчет о проведенных внеплановых проверках
A5: № | B5: Наименование | C5: всего | D5: Количество проведеннных внеплановых проверок | L5: Выявлено нарушений | M5: Количество выданных предписаний | N5: Количество направленных материалов в суд | O5: Количество административных взысканий | U5: Меры оперативного реагирования | Z5: Отказано в регистрации
D6: из них: | O6: Всего | P6: из них: | U6: всего | V6: из них:
D7: контроль устранения нарушений, выявленных по результатам расследования | E7: контроль исполнения предписаний об устранении выявленных нарушений в результате проверки и профилактического контроля с посещением субъекта (объекта) контроля и надзора | F7: контроль устранения нарушений, являющихся основаниями для применения мер оперативного реагирования | G7: обращения физических и юридических лиц по нарушениям требований законодательства Республики Казахстан при наличии убедительных оснований и подтверждающих доказательств | H7: требования прокурора по конкретным фактам причинения либо об угрозе причинения вреда жизни, здоровью человека, окружающей среде, правам и законным интересам физических и юридических лиц, государства | I7: обращения государственных органов по конкретным фактам причинения вреда жизни, здоровью человека, окружающей среде, правам и законным интересам физических и юридических лиц, государства, а также нарушений требований законодательства Республики Казахстан, неустранение которых влечет причинение вреда жизни и здоровью человека | J7: повторная проверка, связанная с обращением субъекта контроля и надзора о несогласии с первоначальной проверкой (неправомерность применения мер оперативного реагирования) | K7: поручение органа уголовного преследования по основаниям, предусмотренным Уголовно-процессуальным кодексом Республики Казахстан | P7: должн. лиц | Q7: юр.лиц | R7: ип | S7: физ.лиц | T7: Сумма административного штрафа | V7: приостановление деятельности по производству, реализации продукции (товара), оказанию услуг, выполнению работ субъекта (объекта) контроля и надзора или отдельных ее видов (процессов, действий) | W7: запрещение деятельности по производству продукции (товара), оказанию услуг, выполнению работ субъекта (объекта) контроля и надзора или отдельных ее видов (процессов, действий) | X7: изъятие и отзыв с реализации продукции (товара), не соответствующей (не соответствующего) требованиям технических регламентов и (или) единым санитарно-эпидемиологическим и гигиеническим требованиям Евразийского экономического союза | Y7: временное отстранение лиц от работы | Z7: Нарушение правил уведомления | AA7: нарушения сроков проведения проверок | AB7: Другие (указать в примечании)
A8: 1 | B8: 2 | C8: 3 | D8: 4 | E8: 5 | F8: 6 | G8: 7 | H8: 8 | I8: 9 | J8: 10 | K8: 11 | L8: 12 | M8: 13 | N8: 14 | O8: 15 | P8: 16 | Q8: 17 | R8: 18 | S8: 19 | T8: 20 | U8: 21 | V8: 22 | W8: 23 | X8: 24 | Y8: 25 | Z8: 26 | AA8: 27 | AB8: 28
A9: 1 | B9: Балхашский район | C9: 0
A10: 2 | B10: Енбекшиказахский район | C10: 5 | D10: 0 | E10: 1 | F10: 2 | G10: 2 | H10: 0 | I10: 0 | J10: 0 | K10: 0 | L10: 4 | M10: 1 | N10: 3 | O10: 5 | P10: 0 | Q10: 5 | R10: 0 | S10: 0 | T10: 1686750 | U10: 1 | V10: 0 | W10: 1 | X10: 0 | Y10: 0 | Z10: 0 | AA10: 0 | AB10: 0
A11: 3 | B11: Жамбылский район | C11: 0 | D11: 0 | E11: 0 | F11: 0 | G11: 0 | H11: 0 | I11: 0 | J11: 0 | K11: 0 | L11: 0 | M11: 0 | N11: 0 | O11: 0 | P11: 0 | Q11: 0 | R11: 0 | S11: 0 | T11: 0 | U11: 0 | V11: 0 | W11: 0 | X11: 0 | Y11: 0 | Z11: 0 | AA11: 0 | AB11: 0
A12: 4 | B12: Илийский район | C12: 5 | D12: 0 | E12: 0 | F12: 0 | G12: 5 | H12: 0 | I12: 0 | J12: 0 | K12: 0 | L12: 5 | M12: 5 | N12: 4 | O12: 4 | P12: 0 | Q12: 4 | R12: 0 | S12: 0 | T12: 2335500 | U12: 1 | V12: 0 | W12: 1 | X12: 0 | Y12: 0 | Z12: 0 | AA12: 0 | AB12: 0
A13: 5 | B13: Кегенский район | C13: 0
A14: 6 | B14: Карасайский район | C14: 2 | D14: 0 | E14: 0 | F14: 0 | G14: 2 | H14: 0 | I14: 0 | J14: 0 | K14: 0 | L14: 2 | M14: 2 | N14: 0 | O14: 2 | P14: 0 | Q14: 2 | R14: 0 | S14: 0 | T14: 899875 | U14: 0 | V14: 0 | W14: 0 | X14: 0 | Y14: 0 | Z14: 0 | AA14: 0 | AB14: 0
A15: 7 | B15: Райымбекский район | C15: 0
A16: 8 | B16: Талгарский район | C16: 2 | D16: 0 | E16: 1 | F16: 0 | G16: 1 | H16: 0 | I16: 0 | J16: 0 | K16: 0 | L16: 2 | M16: 1 | N16: 1 | O16: 1 | P16: 0 | Q16: 1 | R16: 0 | S16: 0 | T16: 346000 | U16: 1 | V16: 1 | W16: 0 | X16: 0 | Y16: 0 | Z16: 0 | AA16: 0 | AB16: 0
A17: 9 | B17: Уйгурский район | C17: 2 | D17: 0 | E17: 1 | F17: 1 | G17: 0 | H17: 0 | I17: 0 | J17: 0 | K17: 0 | L17: 0 | M17: 0 | N17: 0 | O17: 0 | P17: 0 | Q17: 0 | R17: 0 | S17: 0 | T17: 0 | U17: 0 | V17: 0 | W17: 0 | X17: 0 | Y17: 0 | Z17: 0 | AA17: 0 | AB17: 0
A18: 10 | B18: город Конаев | C18: 2 | D18: 1 | G18: 1 | L18: 1 | M18: 1 | O18: 1 | P18: 0 | Q18: 1 | R18: 0 | S18: 0 | T18: 454125 | U18: 0 | V18: 0 | W18: 0 | X18: 0 | Y18: 0 | Z18: 0 | AA18: 0 | AB18: 0
A19: 11 | B19: город Алатау | C19: 0
A20: 12 | B20: Итого | C20: =SUM(C9:C19) -> 18 | D20: =SUM(D9:D19) -> 1 | E20: =SUM(E9:E19) -> 3 | F20: =SUM(F9:F19) -> 3 | G20: =SUM(G9:G19) -> 11 | H20: =SUM(H9:H19) -> 0 | I20: =SUM(I9:I19) -> 0 | J20: =SUM(J9:J19) -> 0 | ... AB20: =SUM(AB9:AB19) -> 0

Sheet объекты здравоохранения
T1: Приложение 3 к приказу Председателя Комитета санитарно-эпидемиологического контроля Министерства здравоохранения Республики Казахстан от «___» ______ 2026 года № ___
A2: Отчет о проведенных внеплановых проверках
A5: № | B5: Наименование | C5: всего | D5: Количество проведеннных внеплановых проверок | L5: Выявлено нарушений | M5: Количество выданных предписаний | N5: Количество направленных материалов в суд | O5: Количество административных взысканий | U5: Меры оперативного реагирования | Z5: Отказано в регистрации
D6: из них: | O6: Всего | P6: из них: | U6: всего | V6: из них:
D7: контроль устранения нарушений, выявленных по результатам расследования | E7: контроль исполнения предписаний об устранении выявленных нарушений в результате проверки и профилактического контроля с посещением субъекта (объекта) контроля и надзора | F7: контроль устранения нарушений, являющихся основаниями для применения мер оперативного реагирования | G7: обращения физических и юридических лиц по нарушениям требований законодательства Республики Казахстан при наличии убедительных оснований и подтверждающих доказательств | H7: требования прокурора по конкретным фактам причинения либо об угрозе причинения вреда жизни, здоровью человека, окружающей среде, правам и законным интересам физических и юридических лиц, государства | I7: обращения государственных органов по конкретным фактам причинения вреда жизни, здоровью человека, окружающей среде, правам и законным интересам физических и юридических лиц, государства, а также нарушений требований законодательства Республики Казахстан, неустранение которых влечет причинение вреда жизни и здоровью человека | J7: повторная проверка, связанная с обращением субъекта контроля и надзора о несогласии с первоначальной проверкой (неправомерность применения мер оперативного реагирования) | K7: поручение органа уголовного преследования по основаниям, предусмотренным Уголовно-процессуальным кодексом Республики Казахстан | P7: должн. лиц | Q7: юр.лиц | R7: ип | S7: физ.лиц | T7: Сумма административного штрафа | V7: приостановление деятельности по производству, реализации продукции (товара), оказанию услуг, выполнению работ субъекта (объекта) контроля и надзора или отдельных ее видов (процессов, действий) | W7: запрещение деятельности по производству продукции (товара), оказанию услуг, выполнению работ субъекта (объекта) контроля и надзора или отдельных ее видов (процессов, действий) | X7: изъятие и отзыв с реализации продукции (товара), не соответствующей (не соответствующего) требованиям технических регламентов и (или) единым санитарно-эпидемиологическим и гигиеническим требованиям Евразийского экономического союза | Y7: временное отстранение лиц от работы | Z7: Нарушение правил уведомления | AA7: нарушения сроков проведения проверок | AB7: Другие (указать в примечании)
A8: 1 | B8: 2 | C8: 3 | D8: 4 | E8: 5 | F8: 6 | G8: 7 | H8: 8 | I8: 9 | J8: 10 | K8: 11 | L8: 12 | M8: 13 | N8: 14 | O8: 15 | P8: 16 | Q8: 17 | R8: 18 | S8: 19 | T8: 20 | U8: 21 | V8: 22 | W8: 23 | X8: 24 | Y8: 25 | Z8: 26 | AA8: 27 | AB8: 28
A9: 1 | B9: Балхашский район | C9: 0
A10: 2 | B10: Енбекшиказахский район | C10: 11 | D10: 0 | E10: 0 | F10: 10 | G10: 0 | H10: 0 | I10: 1 | J10: 0 | K10: 0 | L10: 6 | M10: 1 | N10: 5 | O10: 6 | P10: 1 | Q10: 4 | R10: 1 | S10: 0 | T10: 346000 | U10: 0 | V10: 0 | W10: 0 | X10: 0 | Y10: 0 | Z10: 0 | AA10: 0 | AB10: 0
A11: 3 | B11: Жамбылский район | C11: 4 | D11: 2 | E11: 0 | F11: 0 | G11: 2 | H11: 0 | I11: 0 | J11: 0 | K11: 0 | L11: 4 | M11: 2 | N11: 0 | O11: 4 | P11: 1 | Q11: 0 | R11: 0 | S11: 3 | T11: 475750 | U11: 0 | V11: 0 | W11: 0 | X11: 0 | Y11: 0 | Z11: 0 | AA11: 0 | AB11: 0
A12: 4 | B12: Илийский район | C12: 0 | D12: 0 | E12: 0 | F12: 0 | G12: 0 | H12: 0 | I12: 0 | J12: 0 | K12: 0 | L12: 0 | M12: 0 | N12: 0 | O12: 0 | P12: 0 | Q12: 0 | R12: 0 | S12: 0 | T12: 0 | U12: 0 | V12: 0 | W12: 0 | X12: 0 | Y12: 0 | Z12: 0 | AA12: 0 | AB12: 0
A13: 5 | B13: Кегенский район | C13: 0 | D13: 0 | E13: 0 | F13: 0 | G13: 0 | H13: 0 | I13: 0 | J13: 0 | K13: 0 | L13: 0 | M13: 0 | N13: 0 | O13: 0 | P13: 0 | Q13: 0 | R13: 0 | S13: 0 | T13: 0 | U13: 0 | V13: 0 | W13: 0 | X13: 0 | Y13: 0 | Z13: 0 | AA13: 0 | AB13: 0
A14: 6 | B14: Карасайский район | C14: 1 | D14: 0 | E14: 0 | F14: 0 | G14: 1 | H14: 0 | I14: 0 | J14: 0 | K14: 0 | L14: 1 | M14: 1 | N14: 0 | O14: 1 | P14: 1 | Q14: 0 | R14: 0 | S14: 0 | T14: 346000 | U14: 0 | V14: 0 | W14: 0 | X14: 0 | Y14: 0 | Z14: 0 | AA14: 0 | AB14: 0
A15: 7 | B15: Райымбекский район | C15: 0 | D15: 0 | E15: 0 | F15: 0 | G15: 0 | H15: 0 | I15: 0 | J15: 0 | K15: 0 | L15: 0 | M15: 0 | N15: 0 | O15: 0 | P15: 0 | Q15: 0 | R15: 0 | S15: 0 | T15: 0 | U15: 0 | V15: 0 | W15: 0 | X15: 0 | Y15: 0 | Z15: 0 | AA15: 0 | AB15: 0
A16: 8 | B16: Талгарский район | C16: 1 | D16: 1 | E16: 0 | F16: 0 | G16: 0 | H16: 0 | I16: 0 | J16: 0 | K16: 0 | L16: 0 | M16: 0 | N16: 0 | O16: 0 | P16: 0 | Q16: 0 | R16: 0 | S16: 0 | T16: 0 | U16: 0 | V16: 0 | W16: 0 | X16: 0 | Y16: 0 | Z16: 0 | AA16: 0 | AB16: 0
A17: 9 | B17: Уйгурский район | C17: 5 | D17: 3 | E17: 1 | F17: 1 | G17: 0 | H17: 0 | I17: 0 | J17: 0 | K17: 0 | L17: 2 | M17: 2 | N17: 2 | O17: 0 | P17: 0 | Q17: 0 | R17: 0 | S17: 0 | T17: 0 | U17: 0 | V17: 0 | W17: 0 | X17: 0 | Y17: 0 | Z17: 0 | AA17: 0 | AB17: 0
A18: 10 | B18: город Конаев | C18: 2 | D18: 0 | E18: 0 | F18: 0 | G18: 2 | H18: 0 | I18: 0 | J18: 0 | K18: 0 | L18: 0 | M18: 0 | N18: 0 | O18: 0 | P18: 0 | Q18: 0 | R18: 0 | S18: 0 | T18: 0 | V18: 0 | W18: 0 | X18: 0 | Y18: 0 | Z18: 0 | AA18: 0 | AB18: 0
A19: 11 | B19: город Алатау | C19: 0 | D19: 0 | E19: 0 | F19: 0 | G19: 0 | H19: 0 | I19: 0 | J19: 0 | K19: 0 | L19: 0 | M19: 0 | N19: 0 | O19: 0 | P19: 0 | Q19: 0 | R19: 0 | S19: 0 | T19: 0 | U19: 0 | V19: 0 | W19: 0 | X19: 0 | Y19: 0 | Z19: 0 | AA19: 0 | AB19: 0
A20: 12 | B20: Итого | C20: =SUM(C9:C19) -> 24 | D20: =SUM(D9:D19) -> 6 | E20: =SUM(E9:E19) -> 1 | F20: =SUM(F9:F19) -> 11 | G20: =SUM(G9:G19) -> 5 | H20: =SUM(H9:H19) -> 0 | I20: =SUM(I9:I19) -> 1 | J20: =SUM(J9:J19) -> 0 | ... AB20: =SUM(AB9:AB19) -> 0

Sheet другие
T1: Приложение 3 к приказу Председателя Комитета санитарно-эпидемиологического контроля Министерства здравоохранения Республики Казахстан от «___» ______ 2026 года № ___
A2: Отчет о проведенных внеплановых проверках
A5: № | B5: Наименование | C5: всего | D5: Количество проведеннных внеплановых проверок | L5: Выявлено нарушений | M5: Количество выданных предписаний | N5: Количество направленных материалов в суд | O5: Количество административных взысканий | U5: Меры оперативного реагирования | Z5: Отказано в регистрации
D6: из них: | O6: Всего | P6: из них: | U6: всего | V6: из них:
D7: контроль устранения нарушений, выявленных по результатам расследования | E7: контроль исполнения предписаний об устранении выявленных нарушений в результате проверки и профилактического контроля с посещением субъекта (объекта) контроля и надзора | F7: контроль устранения нарушений, являющихся основаниями для применения мер оперативного реагирования | G7: обращения физических и юридических лиц по нарушениям требований законодательства Республики Казахстан при наличии убедительных оснований и подтверждающих доказательств | H7: требования прокурора по конкретным фактам причинения либо об угрозе причинения вреда жизни, здоровью человека, окружающей среде, правам и законным интересам физических и юридических лиц, государства | I7: обращения государственных органов по конкретным фактам причинения вреда жизни, здоровью человека, окружающей среде, правам и законным интересам физических и юридических лиц, государства, а также нарушений требований законодательства Республики Казахстан, неустранение которых влечет причинение вреда жизни и здоровью человека | J7: повторная проверка, связанная с обращением субъекта контроля и надзора о несогласии с первоначальной проверкой (неправомерность применения мер оперативного реагирования) | K7: поручение органа уголовного преследования по основаниям, предусмотренным Уголовно-процессуальным кодексом Республики Казахстан | P7: должн. лиц | Q7: юр.лиц | R7: ип | S7: физ.лиц | T7: Сумма административного штрафа | V7: приостановление деятельности по производству, реализации продукции (товара), оказанию услуг, выполнению работ субъекта (объекта) контроля и надзора или отдельных ее видов (процессов, действий) | W7: запрещение деятельности по производству продукции (товара), оказанию услуг, выполнению работ субъекта (объекта) контроля и надзора или отдельных ее видов (процессов, действий) | X7: изъятие и отзыв с реализации продукции (товара), не соответствующей (не соответствующего) требованиям технических регламентов и (или) единым санитарно-эпидемиологическим и гигиеническим требованиям Евразийского экономического союза | Y7: временное отстранение лиц от работы | Z7: Нарушение правил уведомления | AA7: нарушения сроков проведения проверок | AB7: Другие (указать в примечании)
A8: 1 | B8: 2 | C8: 3 | D8: 4 | E8: 5 | F8: 6 | G8: 7 | H8: 8 | I8: 9 | J8: 10 | K8: 11 | L8: 12 | M8: 13 | N8: 14 | O8: 15 | P8: 16 | Q8: 17 | R8: 18 | S8: 19 | T8: 20 | U8: 21 | V8: 22 | W8: 23 | X8: 24 | Y8: 25 | Z8: 26 | AA8: 27 | AB8: 28
A9: 1 | B9: Балхашский район
A10: 2 | B10: Енбекшиказахский район | C10: 6 | D10: 0 | E10: 0 | F10: 1 | G10: 4 | H10: 1 | I10: 0 | J10: 0 | K10: 0 | L10: 3 | M10: 2 | N10: 0 | O10: 3 | P10: 0 | Q10: 2 | R10: 1 | S10: 0 | T10: 1146125 | U10: 0 | V10: 0 | W10: 0 | X10: 0 | Y10: 0 | Z10: 0 | AA10: 0 | AB10: 0
A11: 3 | B11: Жамбылский район
A12: 4 | B12: Илийский район | C12: 4 | D12: 0 | E12: 0 | F12: 0 | G12: 3 | H12: 0 | I12: 1 | J12: 0 | K12: 0 | L12: 3 | M12: 3 | N12: 0 | O12: 3 | P12: 0 | Q12: 2 | R12: 1 | S12: 0 | T12: 1038000 | U12: 0 | V12: 0 | W12: 0 | X12: 0 | Y12: 0 | Z12: 0 | AA12: 0 | AB12: 0
A13: 5 | B13: Кегенский район
A14: 6 | B14: Карасайский район | C14: 0 | G14: 0 | H14: 0 | L14: 0 | M14: 0 | O14: 0 | Q14: 0 | T14: 0
A15: 7 | B15: Райымбекский район
A16: 8 | B16: Талгарский район | C16: 0 | G16: 0 | L16: 0 | M16: 0 | O16: 0 | Q16: 0 | R16: 0 | T16: 0
A17: 9 | B17: Уйгурский район | C17: 8 | D17: 0 | E17: 4 | F17: 4 | G17: 0 | H17: 0 | I17: 0 | J17: 0 | K17: 0 | L17: 4 | M17: 0 | N17: 4 | O17: 4 | P17: 4 | Q17: 0 | R17: 0 | S17: 0 | T17: 256000 | U17: 0 | V17: 0 | W17: 0 | X17: 0 | Y17: 0 | Z17: 0 | AA17: 0 | AB17: 0
A18: 10 | B18: город Конаев | C18: 1 | D18: 0 | E18: 0 | F18: 1 | G18: 0 | H18: 0 | I18: 0 | J18: 0 | K18: 0 | L18: 0 | M18: 0 | N18: 0 | O18: 0 | P18: 0 | Q18: 0 | R18: 0 | S18: 0 | T18: 0 | U18: 0 | V18: 0 | W18: 0 | X18: 0 | Y18: 0 | Z18: 0 | AA18: 0 | AB18: 0
A19: 11 | B19: город Алатау | C19: 0 | D19: 0 | E19: 0 | F19: 0 | G19: 0 | H19: 0 | I19: 0 | J19: 0 | K19: 0 | L19: 0 | M19: 0 | N19: 0 | O19: 0 | P19: 0 | Q19: 0 | R19: 0 | S19: 0 | T19: 0 | U19: 0 | V19: 0 | W19: 0 | X19: 0 | Y19: 0 | Z19: 0 | AA19: 0 | AB19: 0
A20: 12 | B20: Итого | C20: =SUM(C10:C19) -> 19 | D20: =SUM(D10:D19) -> 0 | E20: =SUM(E10:E19) -> 4 | F20: =SUM(F10:F19) -> 6 | G20: =SUM(G10:G19) -> 7 | H20: =SUM(H10:H19) -> 1 | I20: =SUM(I10:I19) -> 1 | J20: =SUM(J10:J19) -> 0 | ... AB20: =SUM(AB10:AB19) -> 0
