Workbook

Sheet СВОД
Y1: Приложение 1 к приказу Председателя Комитета санитарно-эпидемиологического контроля Министерства здравоохранения Республики Казахстан от «___» ______ 2026 года № ___
A2: Отчет о проверках, проводимые на соответствие квалификационным или разрешительным требованиям по выданным разрешениям, требованиям по направленным уведомлениям в соответствии с Законом Республики Казахстан «О разрешениях и уведомлениях»
A5: № | B5: Наименование | C5: Запланированные проверки согласно графику в Еgov, всего | D5: Запланированные проверки согласно графику с недостоверными данными | E5: Запланированные проверки согласно графику с достоверными данными | F5: Проведено проверок | G5: Выполнение % | H5: Выявлено объектов с нарушениями | I5: Удельный вес объектов с нарушениями % | J5: Количество выданных предписаний | K5: Количество направленных материалов в суд | L5: Кол-во административных взысканий | R5: Меры оперативного реагирования | W5: Отказано в регистрации | Z5: Не проверены, сняты с проверки по причине:
L6: Всего | M6: должн. лиц | N6: юр.лиц | O6: ип | P6: физ.лиц | Q6: Сумма административного штрафа | R6: всего | S6: приостановление деятельности по производству, реализации продукции (товара), оказанию услуг, выполнению работ субъекта (объекта) контроля и надзора или отдельных ее видов (процессов, действий) | T6: запрещение деятельности по производству продукции (товара), оказанию услуг, выполнению работ субъекта (объекта) контроля и надзора или отдельных ее видов (процессов, действий) | U6: изъятие и отзыв с реализации продукции (товара), не соответствующей (не соответствующего) требованиям технических регламентов и (или) единым санитарно-эпидемиологическим и гигиеническим требованиям Евразийского экономического союза | V6: временное отстранение лиц от работы | W6: Нарушение правил уведомления | X6: нарушения сроков проведения проверок | Y6: Другие (указать в примечании) | Z6: Смена категории субъекта предпринимательства | AA6: Закрытие объекта | AB6: Смена фактического адреса | AC6: Другие (указать в примечании) | AD6: не завершенные проверки (переходящие) | AE6: запланированные на следующий месяц
A7: 1 | B7: 2 | C7: 3 | D7: 4 | E7: 5 | F7: 6 | G7: 7 | H7: 8 | I7: 9 | J7: 10 | K7: 11 | L7: 12 | M7: 13 | N7: 14 | O7: 15 | P7: 16 | Q7: 17 | R7: 18 | S7: 19 | T7: 20 | U7: 21 | V7: 22 | W7: 23 | X7: 24 | Y7: 25 | Z7: 26 | AA7: 27 | AB7: 28 | AC7: 29 | AD7: 30 | AE7: 31
A8: 1 | B8: Балхашский район | C8: =ДДУ!C8+'объекты образования'!C8+'детские санаторно-оздоровительн'!C8+'общепит и торговли'!C8+'ком. объекты'!C8+'пром.объекты, РОО'!C8+'объекты здравоохранения'!C8+'другие '!C8 -> 0 | D8: =ДДУ!D8+'объекты образования'!D8+'детские санаторно-оздоровительн'!D8+'общепит и торговли'!D8+'ком. объекты'!D8+'пром.объекты, РОО'!D8+'объекты здравоохранения'!D8+'другие '!D8 -> 0 | E8: =ДДУ!E8+'объекты образования'!E8+'детские санаторно-оздоровительн'!E8+'общепит и торговли'!E8+'ком. объекты'!E8+'пром.объекты, РОО'!E8+'объекты здравоохранения'!E8+'другие '!E8 -> 0 | F8: =ДДУ!F8+'объекты образования'!F8+'детские санаторно-оздоровительн'!F8+'общепит и торговли'!F8+'ком. объекты'!F8+'пром.объекты, РОО'!F8+'объекты здравоохранения'!F8+'другие '!F8 -> 0 | G8: =ДДУ!G8+'объекты образования'!G8+'детские санаторно-оздоровительн'!G8+'общепит и торговли'!G8+'ком. объекты'!G8+'пром.объекты, РОО'!G8+'объекты здравоохранения'!G8+'другие '!G8 -> 0 | H8: =ДДУ!H8+'объекты образования'!H8+'детские санаторно-оздоровительн'!H8+'общепит и торговли'!H8+'ком. объекты'!H8+'пром.объекты, РОО'!H8+'объекты здравоохранения'!H8+'другие '!H8 -> 0 | I8: =ДДУ!I8+'объекты образования'!I8+'детские санаторно-оздоровительн'!I8+'общепит и торговли'!I8+'ком. объекты'!I8+'пром.объекты, РОО'!I8+'объекты здравоохранения'!I8+'другие '!I8 -> 0 | J8: =ДДУ!J8+'объекты образования'!J8+'детские санаторно-оздоровительн'!J8+'общепит и торговли'!J8+'ком. объекты'!J8+'пром.объекты, РОО'!J8+'объекты здравоохранения'!J8+'другие '!J8 -> 0 | ... AE8: =ДДУ!AE8+'объекты образования'!AE8+'детские санаторно-оздоровительн'!AE8+'общепит и торговли'!AE8+'ком. объекты'!AE8+'пром.объекты, РОО'!AE8+'объекты здравоохранения'!AE8+'другие '!AE8 -> 0
A9: 2 | B9: Енбекшиказахский район | C9: =ДДУ!C9+'объекты образования'!C9+'детские санаторно-оздоровительн'!C9+'общепит и торговли'!C9+'ком. объекты'!C9+'пром.объекты, РОО'!C9+'объекты здравоохранения'!C9+'другие '!C9 -> 19 | D9: =ДДУ!D9+'объекты образования'!D9+'детские санаторно-оздоровительн'!D9+'общепит и торговли'!D9+'ком. объекты'!D9+'пром.объекты, РОО'!D9+'объекты здравоохранения'!D9+'другие '!D9 -> 0 | E9: =ДДУ!E9+'объекты образования'!E9+'детские санаторно-оздоровительн'!E9+'общепит и торговли'!E9+'ком. объекты'!E9+'пром.объекты, РОО'!E9+'объекты здравоохранения'!E9+'другие '!E9 -> 19 | F9: =ДДУ!F9+'объекты образования'!F9+'детские санаторно-оздоровительн'!F9+'общепит и торговли'!F9+'ком. объекты'!F9+'пром.объекты, РОО'!F9+'объекты здравоохранения'!F9+'другие '!F9 -> 0 | G9: =ДДУ!G9+'объекты образования'!G9+'детские санаторно-оздоровительн'!G9+'общепит и торговли'!G9+'ком. объекты'!G9+'пром.объекты, РОО'!G9+'объекты здравоохранения'!G9+'другие '!G9 -> 0 | H9: =ДДУ!H9+'объекты образования'!H9+'детские санаторно-оздоровительн'!H9+'общепит и торговли'!H9+'ком. объекты'!H9+'пром.объекты, РОО'!H9+'объекты здравоохранения'!H9+'другие '!H9 -> 0 | I9: =ДДУ!I9+'объекты образования'!I9+'детские санаторно-оздоровительн'!I9+'общепит и торговли'!I9+'ком. объекты'!I9+'пром.объекты, РОО'!I9+'объекты здравоохранения'!I9+'другие '!I9 -> 0 | J9: =ДДУ!J9+'объекты образования'!J9+'детские санаторно-оздоровительн'!J9+'общепит и торговли'!J9+'ком. объекты'!J9+'пром.объекты, РОО'!J9+'объекты здравоохранения'!J9+'другие '!J9 -> 0 | ... AE9: =ДДУ!AE9+'объекты образования'!AE9+'детские санаторно-оздоровительн'!AE9+'общепит и торговли'!AE9+'ком. объекты'!AE9+'пром.объекты, РОО'!AE9+'объекты здравоохранения'!AE9+'другие '!AE9 -> 19
A10: 3 | B10: Жамбылский район | C10: =ДДУ!C10+'объекты образования'!C10+'детские санаторно-оздоровительн'!C10+'общепит и торговли'!C10+'ком. объекты'!C10+'пром.объекты, РОО'!C10+'объекты здравоохранения'!C10+'другие '!C10 -> 36 | D10: =ДДУ!D10+'объекты образования'!D10+'детские санаторно-оздоровительн'!D10+'общепит и торговли'!D10+'ком. объекты'!D10+'пром.объекты, РОО'!D10+'объекты здравоохранения'!D10+'другие '!D10 -> 0 | E10: =ДДУ!E10+'объекты образования'!E10+'детские санаторно-оздоровительн'!E10+'общепит и торговли'!E10+'ком. объекты'!E10+'пром.объекты, РОО'!E10+'объекты здравоохранения'!E10+'другие '!E10 -> 36 | F10: =ДДУ!F10+'объекты образования'!F10+'детские санаторно-оздоровительн'!F10+'общепит и торговли'!F10+'ком. объекты'!F10+'пром.объекты, РОО'!F10+'объекты здравоохранения'!F10+'другие '!F10 -> 4 | G10: 11.1 | H10: =ДДУ!H10+'объекты образования'!H10+'детские санаторно-оздоровительн'!H10+'общепит и торговли'!H10+'ком. объекты'!H10+'пром.объекты, РОО'!H10+'объекты здравоохранения'!H10+'другие '!H10 -> 4 | I10: 100 | J10: =ДДУ!J10+'объекты образования'!J10+'детские санаторно-оздоровительн'!J10+'общепит и торговли'!J10+'ком. объекты'!J10+'пром.объекты, РОО'!J10+'объекты здравоохранения'!J10+'другие '!J10 -> 4 | K10: =ДДУ!K10+'объекты образования'!K10+'детские санаторно-оздоровительн'!K10+'общепит и торговли'!K10+'ком. объекты'!K10+'пром.объекты, РОО'!K10+'объекты здравоохранения'!K10+'другие '!K10 -> 0 | L10: =ДДУ!L10+'объекты образования'!L10+'детские санаторно-оздоровительн'!L10+'общепит и торговли'!L10+'ком. объекты'!L10+'пром.объекты, РОО'!L10+'объекты здравоохранения'!L10+'другие '!L10 -> 4 | M10: =ДДУ!M10+'объекты образования'!M10+'детские санаторно-оздоровительн'!M10+'общепит и торговли'!M10+'ком. объекты'!M10+'пром.объекты, РОО'!M10+'объекты здравоохранения'!M10+'другие '!M10 -> 0 | N10: =ДДУ!N10+'объекты образования'!N10+'детские санаторно-оздоровительн'!N10+'общепит и торговли'!N10+'ком. объекты'!N10+'пром.объекты, РОО'!N10+'объекты здравоохранения'!N10+'другие '!N10 -> 0 | O10: =ДДУ!O10+'объекты образования'!O10+'детские санаторно-оздоровительн'!O10+'общепит и торговли'!O10+'ком. объекты'!O10+'пром.объекты, РОО'!O10+'объекты здравоохранения'!O10+'другие '!O10 -> 2 | P10: =ДДУ!P10+'объекты образования'!P10+'детские санаторно-оздоровительн'!P10+'общепит и торговли'!P10+'ком. объекты'!P10+'пром.объекты, РОО'!P10+'объекты здравоохранения'!P10+'другие '!P10 -> 2 | Q10: =ДДУ!Q10+'объекты образования'!Q10+'детские санаторно-оздоровительн'!Q10+'общепит и торговли'!Q10+'ком. объекты'!Q10+'пром.объекты, РОО'!Q10+'объекты здравоохранения'!Q10+'другие '!Q10 -> 778500 | ... AE10: =ДДУ!AE10+'объекты образования'!AE10+'детские санаторно-оздоровительн'!AE10+'общепит и торговли'!AE10+'ком. объекты'!AE10+'пром.объекты, РОО'!AE10+'объекты здравоохранения'!AE10+'другие '!AE10 -> 32
A11: 4 | B11: Илийский район | C11: =ДДУ!C11+'объекты образования'!C11+'детские санаторно-оздоровительн'!C11+'общепит и торговли'!C11+'ком. объекты'!C11+'пром.объекты, РОО'!C11+'объекты здравоохранения'!C11+'другие '!C11 -> 0 | D11: =ДДУ!D11+'объекты образования'!D11+'детские санаторно-оздоровительн'!D11+'общепит и торговли'!D11+'ком. объекты'!D11+'пром.объекты, РОО'!D11+'объекты здравоохранения'!D11+'другие '!D11 -> 0 | E11: =ДДУ!E11+'объекты образования'!E11+'детские санаторно-оздоровительн'!E11+'общепит и торговли'!E11+'ком. объекты'!E11+'пром.объекты, РОО'!E11+'объекты здравоохранения'!E11+'другие '!E11 -> 0 | F11: =ДДУ!F11+'объекты образования'!F11+'детские санаторно-оздоровительн'!F11+'общепит и торговли'!F11+'ком. объекты'!F11+'пром.объекты, РОО'!F11+'объекты здравоохранения'!F11+'другие '!F11 -> 0 | G11: =ДДУ!G11+'объекты образования'!G11+'детские санаторно-оздоровительн'!G11+'общепит и торговли'!G11+'ком. объекты'!G11+'пром.объекты, РОО'!G11+'объекты здравоохранения'!G11+'другие '!G11 -> 0 | H11: =ДДУ!H11+'объекты образования'!H11+'детские санаторно-оздоровительн'!H11+'общепит и торговли'!H11+'ком. объекты'!H11+'пром.объекты, РОО'!H11+'объекты здравоохранения'!H11+'другие '!H11 -> 0 | I11: =ДДУ!I11+'объекты образования'!I11+'детские санаторно-оздоровительн'!I11+'общепит и торговли'!I11+'ком. объекты'!I11+'пром.объекты, РОО'!I11+'объекты здравоохранения'!I11+'другие '!I11 -> 0 | J11: =ДДУ!J11+'объекты образования'!J11+'детские санаторно-оздоровительн'!J11+'общепит и торговли'!J11+'ком. объекты'!J11+'пром.объекты, РОО'!J11+'объекты здравоохранения'!J11+'другие '!J11 -> 0 | ... AE11: =ДДУ!AE11+'объекты образования'!AE11+'детские санаторно-оздоровительн'!AE11+'общепит и торговли'!AE11+'ком. объекты'!AE11+'пром.объекты, РОО'!AE11+'объекты здравоохранения'!AE11+'другие '!AE11 -> 0
A12: 5 | B12: Кегенский район | C12: =ДДУ!C12+'объекты образования'!C12+'детские санаторно-оздоровительн'!C12+'общепит и торговли'!C12+'ком. объекты'!C12+'пром.объекты, РОО'!C12+'объекты здравоохранения'!C12+'другие '!C12 -> 0 | D12: =ДДУ!D12+'объекты образования'!D12+'детские санаторно-оздоровительн'!D12+'общепит и торговли'!D12+'ком. объекты'!D12+'пром.объекты, РОО'!D12+'объекты здравоохранения'!D12+'другие '!D12 -> 0 | E12: =ДДУ!E12+'объекты образования'!E12+'детские санаторно-оздоровительн'!E12+'общепит и торговли'!E12+'ком. объекты'!E12+'пром.объекты, РОО'!E12+'объекты здравоохранения'!E12+'другие '!E12 -> 0 | F12: =ДДУ!F12+'объекты образования'!F12+'детские санаторно-оздоровительн'!F12+'общепит и торговли'!F12+'ком. объекты'!F12+'пром.объекты, РОО'!F12+'объекты здравоохранения'!F12+'другие '!F12 -> 0 | G12: =ДДУ!G12+'объекты образования'!G12+'детские санаторно-оздоровительн'!G12+'общепит и торговли'!G12+'ком. объекты'!G12+'пром.объекты, РОО'!G12+'объекты здравоохранения'!G12+'другие '!G12 -> 0 | H12: =ДДУ!H12+'объекты образования'!H12+'детские санаторно-оздоровительн'!H12+'общепит и торговли'!H12+'ком. объекты'!H12+'пром.объекты, РОО'!H12+'объекты здравоохранения'!H12+'другие '!H12 -> 0 | I12: =ДДУ!I12+'объекты образования'!I12+'детские санаторно-оздоровительн'!I12+'общепит и торговли'!I12+'ком. объекты'!I12+'пром.объекты, РОО'!I12+'объекты здравоохранения'!I12+'другие '!I12 -> 0 | J12: =ДДУ!J12+'объекты образования'!J12+'детские санаторно-оздоровительн'!J12+'общепит и торговли'!J12+'ком. объекты'!J12+'пром.объекты, РОО'!J12+'объекты здравоохранения'!J12+'другие '!J12 -> 0 | ... AE12: =ДДУ!AE12+'объекты образования'!AE12+'детские санаторно-оздоровительн'!AE12+'общепит и торговли'!AE12+'ком. объекты'!AE12+'пром.объекты, РОО'!AE12+'объекты здравоохранения'!AE12+'другие '!AE12 -> 0
A13: 6 | B13: Карасайский район | C13: =ДДУ!C13+'объекты образования'!C13+'детские санаторно-оздоровительн'!C13+'общепит и торговли'!C13+'ком. объекты'!C13+'пром.объекты, РОО'!C13+'объекты здравоохранения'!C13+'другие '!C13 -> 7 | D13: =ДДУ!D13+'объекты образования'!D13+'детские санаторно-оздоровительн'!D13+'общепит и торговли'!D13+'ком. объекты'!D13+'пром.объекты, РОО'!D13+'объекты здравоохранения'!D13+'другие '!D13 -> 0 | E13: =ДДУ!E13+'объекты образования'!E13+'детские санаторно-оздоровительн'!E13+'общепит и торговли'!E13+'ком. объекты'!E13+'пром.объекты, РОО'!E13+'объекты здравоохранения'!E13+'другие '!E13 -> 7 | F13: =ДДУ!F13+'объекты образования'!F13+'детские санаторно-оздоровительн'!F13+'общепит и торговли'!F13+'ком. объекты'!F13+'пром.объекты, РОО'!F13+'объекты здравоохранения'!F13+'другие '!F13 -> 0 | G13: =ДДУ!G13+'объекты образования'!G13+'детские санаторно-оздоровительн'!G13+'общепит и торговли'!G13+'ком. объекты'!G13+'пром.объекты, РОО'!G13+'объекты здравоохранения'!G13+'другие '!G13 -> 0 | H13: =ДДУ!H13+'объекты образования'!H13+'детские санаторно-оздоровительн'!H13+'общепит и торговли'!H13+'ком. объекты'!H13+'пром.объекты, РОО'!H13+'объекты здравоохранения'!H13+'другие '!H13 -> 0 | I13: =ДДУ!I13+'объекты образования'!I13+'детские санаторно-оздоровительн'!I13+'общепит и торговли'!I13+'ком. объекты'!I13+'пром.объекты, РОО'!I13+'объекты здравоохранения'!I13+'другие '!I13 -> 0 | J13: =ДДУ!J13+'объекты образования'!J13+'детские санаторно-оздоровительн'!J13+'общепит и торговли'!J13+'ком. объекты'!J13+'пром.объекты, РОО'!J13+'объекты здравоохранения'!J13+'другие '!J13 -> 0 | ... AE13: =ДДУ!AE13+'объекты образования'!AE13+'детские санаторно-оздоровительн'!AE13+'общепит и торговли'!AE13+'ком. объекты'!AE13+'пром.объекты, РОО'!AE13+'объекты здравоохранения'!AE13+'другие '!AE13 -> 7
A14: 7 | B14: Райымбекский район | C14: =ДДУ!C14+'объекты образования'!C14+'детские санаторно-оздоровительн'!C14+'общепит и торговли'!C14+'ком. объекты'!C14+'пром.объекты, РОО'!C14+'объекты здравоохранения'!C14+'другие '!C14 -> 0 | D14: =ДДУ!D14+'объекты образования'!D14+'детские санаторно-оздоровительн'!D14+'общепит и торговли'!D14+'ком. объекты'!D14+'пром.объекты, РОО'!D14+'объекты здравоохранения'!D14+'другие '!D14 -> 0 | E14: =ДДУ!E14+'объекты образования'!E14+'детские санаторно-оздоровительн'!E14+'общепит и торговли'!E14+'ком. объекты'!E14+'пром.объекты, РОО'!E14+'объекты здравоохранения'!E14+'другие '!E14 -> 0 | F14: =ДДУ!F14+'объекты образования'!F14+'детские санаторно-оздоровительн'!F14+'общепит и торговли'!F14+'ком. объекты'!F14+'пром.объекты, РОО'!F14+'объекты здравоохранения'!F14+'другие '!F14 -> 0 | G14: =ДДУ!G14+'объекты образования'!G14+'детские санаторно-оздоровительн'!G14+'общепит и торговли'!G14+'ком. объекты'!G14+'пром.объекты, РОО'!G14+'объекты здравоохранения'!G14+'другие '!G14 -> 0 | H14: =ДДУ!H14+'объекты образования'!H14+'детские санаторно-оздоровительн'!H14+'общепит и торговли'!H14+'ком. объекты'!H14+'пром.объекты, РОО'!H14+'объекты здравоохранения'!H14+'другие '!H14 -> 0 | I14: =ДДУ!I14+'объекты образования'!I14+'детские санаторно-оздоровительн'!I14+'общепит и торговли'!I14+'ком. объекты'!I14+'пром.объекты, РОО'!I14+'объекты здравоохранения'!I14+'другие '!I14 -> 0 | J14: =ДДУ!J14+'объекты образования'!J14+'детские санаторно-оздоровительн'!J14+'общепит и торговли'!J14+'ком. объекты'!J14+'пром.объекты, РОО'!J14+'объекты здравоохранения'!J14+'другие '!J14 -> 0 | ... AE14: =ДДУ!AE14+'объекты образования'!AE14+'детские санаторно-оздоровительн'!AE14+'общепит и торговли'!AE14+'ком. объекты'!AE14+'пром.объекты, РОО'!AE14+'объекты здравоохранения'!AE14+'другие '!AE14 -> 0
A15: 8 | B15: Талгарский район | C15: =ДДУ!C15+'объекты образования'!C15+'детские санаторно-оздоровительн'!C15+'общепит и торговли'!C15+'ком. объекты'!C15+'пром.объекты, РОО'!C15+'объекты здравоохранения'!C15+'другие '!C15 -> 0 | D15: =ДДУ!D15+'объекты образования'!D15+'детские санаторно-оздоровительн'!D15+'общепит и торговли'!D15+'ком. объекты'!D15+'пром.объекты, РОО'!D15+'объекты здравоохранения'!D15+'другие '!D15 -> 0 | E15: =ДДУ!E15+'объекты образования'!E15+'детские санаторно-оздоровительн'!E15+'общепит и торговли'!E15+'ком. объекты'!E15+'пром.объекты, РОО'!E15+'объекты здравоохранения'!E15+'другие '!E15 -> 0 | F15: =ДДУ!F15+'объекты образования'!F15+'детские санаторно-оздоровительн'!F15+'общепит и торговли'!F15+'ком. объекты'!F15+'пром.объекты, РОО'!F15+'объекты здравоохранения'!F15+'другие '!F15 -> 0 | G15: =ДДУ!G15+'объекты образования'!G15+'детские санаторно-оздоровительн'!G15+'общепит и торговли'!G15+'ком. объекты'!G15+'пром.объекты, РОО'!G15+'объекты здравоохранения'!G15+'другие '!G15 -> 0 | H15: =ДДУ!H15+'объекты образования'!H15+'детские санаторно-оздоровительн'!H15+'общепит и торговли'!H15+'ком. объекты'!H15+'пром.объекты, РОО'!H15+'объекты здравоохранения'!H15+'другие '!H15 -> 0 | I15: =ДДУ!I15+'объекты образования'!I15+'детские санаторно-оздоровительн'!I15+'общепит и торговли'!I15+'ком. объекты'!I15+'пром.объекты, РОО'!I15+'объекты здравоохранения'!I15+'другие '!I15 -> 0 | J15: =ДДУ!J15+'объекты образования'!J15+'детские санаторно-оздоровительн'!J15+'общепит и торговли'!J15+'ком. объекты'!J15+'пром.объекты, РОО'!J15+'объекты здравоохранения'!J15+'другие '!J15 -> 0 | ... AE15: =ДДУ!AE15+'объекты образования'!AE15+'детские санаторно-оздоровительн'!AE15+'общепит и торговли'!AE15+'ком. объекты'!AE15+'пром.объекты, РОО'!AE15+'объекты здравоохранения'!AE15+'другие '!AE15 -> 0
A16: 9 | B16: Уйгурский район | C16: =ДДУ!C16+'объекты образования'!C16+'детские санаторно-оздоровительн'!C16+'общепит и торговли'!C16+'ком. объекты'!C16+'пром.объекты, РОО'!C16+'объекты здравоохранения'!C16+'другие '!C16 -> 18 | D16: =ДДУ!D16+'объекты образования'!D16+'детские санаторно-оздоровительн'!D16+'общепит и торговли'!D16+'ком. объекты'!D16+'пром.объекты, РОО'!D16+'объекты здравоохранения'!D16+'другие '!D16 -> 0 | E16: =ДДУ!E16+'объекты образования'!E16+'детские санаторно-оздоровительн'!E16+'общепит и торговли'!E16+'ком. объекты'!E16+'пром.объекты, РОО'!E16+'объекты здравоохранения'!E16+'другие '!E16 -> 18 | F16: =ДДУ!F16+'объекты образования'!F16+'детские санаторно-оздоровительн'!F16+'общепит и торговли'!F16+'ком. объекты'!F16+'пром.объекты, РОО'!F16+'объекты здравоохранения'!F16+'другие '!F16 -> 7 | G16: 38.8 | H16: =ДДУ!H16+'объекты образования'!H16+'детские санаторно-оздоровительн'!H16+'общепит и торговли'!H16+'ком. объекты'!H16+'пром.объекты, РОО'!H16+'объекты здравоохранения'!H16+'другие '!H16 -> 7 | I16: 100 | J16: =ДДУ!J16+'объекты образования'!J16+'детские санаторно-оздоровительн'!J16+'общепит и торговли'!J16+'ком. объекты'!J16+'пром.объекты, РОО'!J16+'объекты здравоохранения'!J16+'другие '!J16 -> 7 | K16: =ДДУ!K16+'объекты образования'!K16+'детские санаторно-оздоровительн'!K16+'общепит и торговли'!K16+'ком. объекты'!K16+'пром.объекты, РОО'!K16+'объекты здравоохранения'!K16+'другие '!K16 -> 0 | L16: =ДДУ!L16+'объекты образования'!L16+'детские санаторно-оздоровительн'!L16+'общепит и торговли'!L16+'ком. объекты'!L16+'пром.объекты, РОО'!L16+'объекты здравоохранения'!L16+'другие '!L16 -> 0 | M16: =ДДУ!M16+'объекты образования'!M16+'детские санаторно-оздоровительн'!M16+'общепит и торговли'!M16+'ком. объекты'!M16+'пром.объекты, РОО'!M16+'объекты здравоохранения'!M16+'другие '!M16 -> 0 | N16: =ДДУ!N16+'объекты образования'!N16+'детские санаторно-оздоровительн'!N16+'общепит и торговли'!N16+'ком. объекты'!N16+'пром.объекты, РОО'!N16+'объекты здравоохранения'!N16+'другие '!N16 -> 0 | O16: =ДДУ!O16+'объекты образования'!O16+'детские санаторно-оздоровительн'!O16+'общепит и торговли'!O16+'ком. объекты'!O16+'пром.объекты, РОО'!O16+'объекты здравоохранения'!O16+'другие '!O16 -> 0 | P16: =ДДУ!P16+'объекты образования'!P16+'детские санаторно-оздоровительн'!P16+'общепит и торговли'!P16+'ком. объекты'!P16+'пром.объекты, РОО'!P16+'объекты здравоохранения'!P16+'другие '!P16 -> 0 | Q16: =ДДУ!Q16+'объекты образования'!Q16+'детские санаторно-оздоровительн'!Q16+'общепит и торговли'!Q16+'ком. объекты'!Q16+'пром.объекты, РОО'!Q16+'объекты здравоохранения'!Q16+'другие '!Q16 -> 0 | ... AE16: =ДДУ!AE16+'объекты образования'!AE16+'детские санаторно-оздоровительн'!AE16+'общепит и торговли'!AE16+'ком. объекты'!AE16+'пром.объекты, РОО'!AE16+'объекты здравоохранения'!AE16+'другие '!AE16 -> 11
A17: 10 | B17: город Конаев | C17: =ДДУ!C17+'объекты образования'!C17+'детские санаторно-оздоровительн'!C17+'общепит и торговли'!C17+'ком. объекты'!C17+'пром.объекты, РОО'!C17+'объекты здравоохранения'!C17+'другие '!C17 -> 0 | D17: =ДДУ!D17+'объекты образования'!D17+'детские санаторно-оздоровительн'!D17+'общепит и торговли'!D17+'ком. объекты'!D17+'пром.объекты, РОО'!D17+'объекты здравоохранения'!D17+'другие '!D17 -> 0 | E17: =ДДУ!E17+'объекты образования'!E17+'детские санаторно-оздоровительн'!E17+'общепит и торговли'!E17+'ком. объекты'!E17+'пром.объекты, РОО'!E17+'объекты здравоохранения'!E17+'другие '!E17 -> 0 | F17: =ДДУ!F17+'объекты образования'!F17+'детские санаторно-оздоровительн'!F17+'общепит и торговли'!F17+'ком. объекты'!F17+'пром.объекты, РОО'!F17+'объекты здравоохранения'!F17+'другие '!F17 -> 0 | G17: =ДДУ!G17+'объекты образования'!G17+'детские санаторно-оздоровительн'!G17+'общепит и торговли'!G17+'ком. объекты'!G17+'пром.объекты, РОО'!G17+'объекты здравоохранения'!G17+'другие '!G17 -> 0 | H17: =ДДУ!H17+'объекты образования'!H17+'детские санаторно-оздоровительн'!H17+'общепит и торговли'!H17+'ком. объекты'!H17+'пром.объекты, РОО'!H17+'объекты здравоохранения'!H17+'другие '!H17 -> 0 | I17: =ДДУ!I17+'объекты образования'!I17+'детские санаторно-оздоровительн'!I17+'общепит и торговли'!I17+'ком. объекты'!I17+'пром.объекты, РОО'!I17+'объекты здравоохранения'!I17+'другие '!I17 -> 0 | J17: =ДДУ!J17+'объекты образования'!J17+'детские санаторно-оздоровительн'!J17+'общепит и торговли'!J17+'ком. объекты'!J17+'пром.объекты, РОО'!J17+'объекты здравоохранения'!J17+'другие '!J17 -> 0 | ... AE17: =ДДУ!AE17+'объекты образования'!AE17+'детские санаторно-оздоровительн'!AE17+'общепит и торговли'!AE17+'ком. объекты'!AE17+'пром.объекты, РОО'!AE17+'объекты здравоохранения'!AE17+'другие '!AE17 -> 0
A18: 11 | B18: город Алатау | C18: =ДДУ!C18+'объекты образования'!C18+'детские санаторно-оздоровительн'!C18+'общепит и торговли'!C18+'ком. объекты'!C18+'пром.объекты, РОО'!C18+'объекты здравоохранения'!C18+'другие '!C18 -> 0 | D18: =ДДУ!D18+'объекты образования'!D18+'детские санаторно-оздоровительн'!D18+'общепит и торговли'!D18+'ком. объекты'!D18+'пром.объекты, РОО'!D18+'объекты здравоохранения'!D18+'другие '!D18 -> 0 | E18: =ДДУ!E18+'объекты образования'!E18+'детские санаторно-оздоровительн'!E18+'общепит и торговли'!E18+'ком. объекты'!E18+'пром.объекты, РОО'!E18+'объекты здравоохранения'!E18+'другие '!E18 -> 0 | F18: =ДДУ!F18+'объекты образования'!F18+'детские санаторно-оздоровительн'!F18+'общепит и торговли'!F18+'ком. объекты'!F18+'пром.объекты, РОО'!F18+'объекты здравоохранения'!F18+'другие '!F18 -> 0 | G18: =ДДУ!G18+'объекты образования'!G18+'детские санаторно-оздоровительн'!G18+'общепит и торговли'!G18+'ком. объекты'!G18+'пром.объекты, РОО'!G18+'объекты здравоохранения'!G18+'другие '!G18 -> 0 | H18: =ДДУ!H18+'объекты образования'!H18+'детские санаторно-оздоровительн'!H18+'общепит и торговли'!H18+'ком. объекты'!H18+'пром.объекты, РОО'!H18+'объекты здравоохранения'!H18+'другие '!H18 -> 0 | I18: =ДДУ!I18+'объекты образования'!I18+'детские санаторно-оздоровительн'!I18+'общепит и торговли'!I18+'ком. объекты'!I18+'пром.объекты, РОО'!I18+'объекты здравоохранения'!I18+'другие '!I18 -> 0 | J18: =ДДУ!J18+'объекты образования'!J18+'детские санаторно-оздоровительн'!J18+'общепит и торговли'!J18+'ком. объекты'!J18+'пром.объекты, РОО'!J18+'объекты здравоохранения'!J18+'другие '!J18 -> 0 | ... AE18: =ДДУ!AE18+'объекты образования'!AE18+'детские санаторно-оздоровительн'!AE18+'общепит и торговли'!AE18+'ком. объекты'!AE18+'пром.объекты, РОО'!AE18+'объекты здравоохранения'!AE18+'другие '!AE18 -> 0
B19: Алматинская | C19: =SUM(C8:C18) -> 80 | D19: =SUM(D8:D18) -> 0 | E19: =SUM(E8:E18) -> 80 | F19: =SUM(F8:F18) -> 11 | G19: 13.75 | H19: =SUM(H8:H18) -> 11 | I19: =SUM(I8:I18) -> 200 | J19: =SUM(J8:J18) -> 11 | K19: =SUM(K8:K18) -> 0 | L19: =SUM(L8:L18) -> 4 | M19: =SUM(M8:M18) -> 0 | N19: =SUM(N8:N18) -> 0 | O19: =SUM(O8:O18) -> 2 | ... AE19: =SUM(AE8:AE18) -> 69

Sheet ДДУ
AA1: Приложение 1 к приказу Председателя Комитета санитарно-эпидемиологического контроля Министерства здравоохранения Республики Казахстан от «___» ______ 2026 года № ___
A2: Отчет о проверках, проводимые на соответствие квалификационным или разрешительным требованиям по выданным разрешениям, требованиям по направленным уведомлениям в соответствии с Законом Республики Казахстан «О разрешениях и уведомлениях»
A5: № | B5: Наименование | C5: Запланированные проверки согласно графику в Еgov, всего | D5: Запланированные проверки согласно графику с недостоверными данными | E5: Запланированные проверки согласно графику с достоверными данными | F5: Проведено проверок | G5: Выполнение % | H5: Выявлено объектов с нарушениями | I5: Удельный вес объектов с нарушениями % | J5: Количество выданных предписаний | K5: Количество направленных материалов в суд | L5: Кол-во административных взысканий | R5: Меры оперативного реагирования | W5: Отказано в регистрации | Z5: Не проверены, сняты с проверки по причине:
L6: Всего | M6: должн. лиц | N6: юр.лиц | O6: ип | P6: физ.лиц | Q6: Сумма административного штрафа | R6: всего | S6: приостановление деятельности по производству, реализации продукции (товара), оказанию услуг, выполнению работ субъекта (объекта) контроля и надзора или отдельных ее видов (процессов, действий) | T6: запрещение деятельности по производству продукции (товара), оказанию услуг, выполнению работ субъекта (объекта) контроля и надзора или отдельных ее видов (процессов, действий) | U6: изъятие и отзыв с реализации продукции (товара), не соответствующей (не соответствующего) требованиям технических регламентов и (или) единым санитарно-эпидемиологическим и гигиеническим требованиям Евразийского экономического союза | V6: временное отстранение лиц от работы | W6: Нарушение правил уведомления | X6: нарушения сроков проведения проверок | Y6: Другие (указать в примечании) | Z6: Смена категории субъекта предпринимательства | AA6: Закрытие объекта | AB6: Смена фактического адреса | AC6: Другие (указать в примечании) | AD6: не завершенные проверки (переходящие) | AE6: запланированные на следующий месяц
A7: 1 | B7: 2 | C7: 3 | D7: 4 | E7: 5 | F7: 6 | G7: 7 | H7: 8 | I7: 9 | J7: 10 | K7: 11 | L7: 12 | M7: 13 | N7: 14 | O7: 15 | P7: 16 | Q7: 17 | R7: 18 | S7: 19 | T7: 20 | U7: 21 | V7: 22 | W7: 23 | X7: 24 | Y7: 25 | Z7: 26 | AA7: 27 | AB7: 28 | AC7: 29 | AD7: 30 | AE7: 31
A8: 1 | B8: Балхашский район | C8: 0 | D8: 0 | E8: 0 | F8: 0 | G8: 0 | H8: 0 | I8: 0 | J8: 0 | K8: 0 | L8: 0 | M8: 0 | N8: 0 | O8: 0 | P8: 0 | Q8: 0 | R8: 0 | S8: 0 | T8: 0 | U8: 0 | V8: 0 | W8: 0 | X8: 0 | Y8: 0 | Z8: 0 | AA8: 0 | AB8: 0 | AC8: 0 | AD8: 0 | AE8: 0
A9: 2 | B9: Енбекшиказахский район | C9: 0 | D9: 0 | E9: 0 | F9: 0 | G9: 0 | H9: 0 | I9: 0 | J9: 0 | K9: 0 | L9: 0 | M9: 0 | N9: 0 | O9: 0 | P9: 0 | Q9: 0 | R9: 0 | S9: 0 | T9: 0 | U9: 0 | V9: 0 | W9: 0 | X9: 0 | Y9: 0 | Z9: 0 | AA9: 0 | AB9: 0 | AC9: 0 | AD9: 0 | AE9: 0
A10: 3 | B10: Жамбылский район | C10: 0 | D10: 0 | E10: 0 | F10: 0 | G10: 0 | H10: 0 | I10: 0 | J10: 0 | K10: 0 | L10: 0 | M10: 0 | N10: 0 | O10: 0 | P10: 0 | Q10: 0 | R10: 0 | S10: 0 | T10: 0 | U10: 0 | V10: 0 | W10: 0 | X10: 0 | Y10: 0 | Z10: 0 | AA10: 0 | AB10: 0 | AC10: 0 | AD10: 0 | AE10: 0
A11: 4 | B11: Илийский район | C11: 0 | D11: 0 | E11: 0 | F11: 0 | G11: 0 | H11: 0 | I11: 0 | J11: 0 | K11: 0 | L11: 0 | M11: 0 | N11: 0 | O11: 0 | P11: 0 | Q11: 0 | R11: 0 | S11: 0 | T11: 0 | U11: 0 | V11: 0 | W11: 0 | X11: 0 | Y11: 0 | Z11: 0 | AA11: 0 | AB11: 0 | AC11: 0 | AD11: 0 | AE11: 0
A12: 5 | B12: Кегенский район | C12: 0 | D12: 0 | E12: 0 | F12: 0 | G12: 0 | H12: 0 | I12: 0 | J12: 0 | K12: 0 | L12: 0 | M12: 0 | N12: 0 | O12: 0 | P12: 0 | Q12: 0 | R12: 0 | S12: 0 | T12: 0 | U12: 0 | V12: 0 | W12: 0 | X12: 0 | Y12: 0 | Z12: 0 | AA12: 0 | AB12: 0 | AC12: 0 | AD12: 0 | AE12: 0 | AF12: 0 | AG12: 0 | AH12: 0
A13: 6 | B13: Карасайский район | C13: 0 | D13: 0 | E13: 0 | F13: 0 | G13: 0 | H13: 0 | I13: 0 | J13: 0 | K13: 0 | L13: 0 | M13: 0 | N13: 0 | O13: 0 | P13: 0 | Q13: 0 | R13: 0 | S13: 0 | T13: 0 | U13: 0 | V13: 0 | W13: 0 | X13: 0 | Y13: 0 | Z13: 0 | AA13: 0 | AB13: 0 | AC13: 0 | AD13: 0 | AE13: 0 | AF13: 0 | AG13: 5 | AH13: 0
A14: 7 | B14: Райымбекский район | C14: 0 | D14: 0 | E14: 0 | F14: 0 | G14: 0 | H14: 0 | I14: 0 | J14: 0 | K14: 0 | L14: 0 | M14: 0 | N14: 0 | O14: 0 | P14: 0 | Q14: 0 | R14: 0 | S14: 0 | T14: 0 | U14: 0 | V14: 0 | W14: 0 | X14: 0 | Y14: 0 | Z14: 0 | AA14: 0 | AB14: 0 | AC14: 0 | AD14: 0 | AE14: 0
A15: 8 | B15: Талгарский район | C15: 0 | D15: 0 | E15: 0 | F15: 0 | G15: 0 | H15: 0 | I15: 0 | J15: 0 | K15: 0 | L15: 0 | M15: 0 | N15: 0 | O15: 0 | P15: 0 | Q15: 0 | R15: 0 | S15: 0 | T15: 0 | U15: 0 | V15: 0 | W15: 0 | X15: 0 | Y15: 0 | Z15: 0 | AA15: 0 | AB15: 0 | AC15: 0 | AD15: 0 | AE15: 0
A16: 9 | B16: Уйгурский район | C16: 0 | D16: 0 | E16: 0 | F16: 0 | G16: 0 | H16: 0 | I16: 0 | J16: 0 | K16: 0 | L16: 0 | M16: 0 | N16: 0 | O16: 0 | P16: 0 | Q16: 0 | R16: 0 | S16: 0 | T16: 0 | U16: 0 | V16: 0 | W16: 0 | X16: 0 | Y16: 0 | Z16: 0 | AA16: 0 | AB16: 0 | AC16: 0 | AD16: 0 | AE16: 0
A17: 10 | B17: город Конаев | C17: 0 | D17: 0 | E17: 0 | F17: 0 | G17: 0 | H17: 0 | I17: 0 | J17: 0 | K17: 0 | L17: 0 | M17: 0 | N17: 0 | O17: 0 | P17: 0 | Q17: 0 | R17: 0 | S17: 0 | T17: 0 | U17: 0 | V17: 0 | W17: 0 | X17: 0 | Y17: 0 | Z17: 0 | AA17: 0 | AB17: 0 | AC17: 0 | AD17: 0 | AE17: 0
A18: 11 | B18: город Алатау | C18: 0 | D18: 0 | E18: 0 | F18: 0 | G18: 0 | H18: 0 | I18: 0 | J18: 0 | K18: 0 | L18: 0 | M18: 0 | N18: 0 | O18: 0 | P18: 0 | Q18: 0 | R18: 0 | S18: 0 | T18: 0 | U18: 0 | V18: 0 | W18: 0 | X18: 0 | Y18: 0 | Z18: 0 | AA18: 0 | AB18: 0 | AC18: 0 | AD18: 0 | AE18: 0
B19: Алматинская | C19: =SUM(C8:C18) -> 0 | D19: =SUM(D8:D18) -> 0 | E19: =SUM(E8:E18) -> 0 | F19: =SUM(F8:F18) -> 0 | G19: 0 | H19: =SUM(H8:H18) -> 0 | I19: 0 | J19: =SUM(J8:J18) -> 0 | K19: =SUM(K8:K18) -> 0 | L19: =SUM(L8:L18) -> 0 | M19: =SUM(M8:M18) -> 0 | N19: =SUM(N8:N18) -> 0 | O19: =SUM(O8:O18) -> 0 | P19: =SUM(P8:P18) -> 0 | Q19: =SUM(Q8:Q18) -> 0 | ... AE19: =SUM(AE8:AE18) -> 0

Sheet объекты образования
AA1: Приложение 1 к приказу Председателя Комитета санитарно-эпидемиологического контроля Министерства здравоохранения Республики Казахстан от «___» ______ 2026 года № ___
A2: Отчет о проверках, проводимые на соответствие квалификационным или разрешительным требованиям по выданным разрешениям, требованиям по направленным уведомлениям в соответствии с Законом Республики Казахстан «О разрешениях и уведомлениях»
A5: № | B5: Наименование | C5: Запланированные проверки согласно графику в Еgov, всего | D5: Запланированные проверки согласно графику с недостоверными данными | E5: Запланированные проверки согласно графику с достоверными данными | F5: Проведено проверок | G5: Выполнение % | H5: Выявлено объектов с нарушениями | I5: Удельный вес объектов с нарушениями % | J5: Количество выданных предписаний | K5: Количество направленных материалов в суд | L5: Кол-во административных взысканий | R5: Меры оперативного реагирования | W5: Отказано в регистрации | Z5: Не проверены, сняты с проверки по причине:
L6: Всего | M6: должн. лиц | N6: юр.лиц | O6: ип | P6: физ.лиц | Q6: Сумма административного штрафа | R6: всего | S6: приостановление деятельности по производству, реализации продукции (товара), оказанию услуг, выполнению работ субъекта (объекта) контроля и надзора или отдельных ее видов (процессов, действий) | T6: запрещение деятельности по производству продукции (товара), оказанию услуг, выполнению работ субъекта (объекта) контроля и надзора или отдельных ее видов (процессов, действий) | U6: изъятие и отзыв с реализации продукции (товара), не соответствующей (не соответствующего) требованиям технических регламентов и (или) единым санитарно-эпидемиологическим и гигиеническим требованиям Евразийского экономического союза | V6: временное отстранение лиц от работы | W6: Нарушение правил уведомления | X6: нарушения сроков проведения проверок | Y6: Другие (указать в примечании) | Z6: Смена категории субъекта предпринимательства | AA6: Закрытие объекта | AB6: Смена фактического адреса | AC6: Другие (указать в примечании) | AD6: не завершенные проверки (переходящие) | AE6: запланированные на следующий месяц
A7: 1 | B7: 2 | C7: 3 | D7: 4 | E7: 5 | F7: 6 | G7: 7 | H7: 8 | I7: 9 | J7: 10 | K7: 11 | L7: 12 | M7: 13 | N7: 14 | O7: 15 | P7: 16 | Q7: 17 | R7: 18 | S7: 19 | T7: 20 | U7: 21 | V7: 22 | W7: 23 | X7: 24 | Y7: 25 | Z7: 26 | AA7: 27 | AB7: 28 | AC7: 29 | AD7: 30 | AE7: 31
A8: 1 | B8: Балхашский район | C8: 0 | D8: 0 | E8: 0 | F8: 0 | G8: 0 | H8: 0 | I8: 0 | J8: 0 | K8: 0 | L8: 0 | M8: 0 | N8: 0 | O8: 0 | P8: 0 | Q8: 0 | R8: 0 | S8: 0 | T8: 0 | U8: 0 | V8: 0 | W8: 0 | X8: 0 | Y8: 0 | Z8: 0 | AA8: 0 | AB8: 0 | AC8: 0 | AD8: 0 | AE8: 0
A9: 2 | B9: Енбекшиказахский район | C9: 0 | D9: 0 | E9: 0 | F9: 0 | G9: 0 | H9: 0 | I9: 0 | J9: 0 | K9: 0 | L9: 0 | M9: 0 | N9: 0 | O9: 0 | P9: 0 | Q9: 0 | R9: 0 | S9: 0 | T9: 0 | U9: 0 | V9: 0 | W9: 0 | X9: 0 | Y9: 0 | Z9: 0 | AA9: 0 | AB9: 0 | AC9: 0 | AD9: 0 | AE9: 0
A10: 3 | B10: Жамбылский район | C10: 0 | D10: 0 | E10: 0 | F10: 0 | G10: 0 | H10: 0 | I10: 0 | J10: 0 | K10: 0 | L10: 0 | M10: 0 | N10: 0 | O10: 0 | P10: 0 | Q10: 0 | R10: 0 | S10: 0 | T10: 0 | U10: 0 | V10: 0 | W10: 0 | X10: 0 | Y10: 0 | Z10: 0 | AA10: 0 | AB10: 0 | AC10: 0 | AD10: 0 | AE10: 0
A11: 4 | B11: Илийский район | C11: 0 | D11: 0 | E11: 0 | F11: 0 | G11: 0 | H11: 0 | I11: 0 | J11: 0 | K11: 0 | L11: 0 | M11: 0 | N11: 0 | O11: 0 | P11: 0 | Q11: 0 | R11: 0 | S11: 0 | T11: 0 | U11: 0 | V11: 0 | W11: 0 | X11: 0 | Y11: 0 | Z11: 0 | AA11: 0 | AB11: 0 | AC11: 0 | AD11: 0 | AE11: 0
A12: 5 | B12: Кегенский район | C12: 0 | D12: 0 | E12: 0 | F12: 0 | G12: 0 | H12: 0 | I12: 0 | J12: 0 | K12: 0 | L12: 0 | M12: 0 | N12: 0 | O12: 0 | P12: 0 | Q12: 0 | R12: 0 | S12: 0 | T12: 0 | U12: 0 | V12: 0 | W12: 0 | X12: 0 | Y12: 0 | Z12: 0 | AA12: 0 | AB12: 0 | AC12: 0 | AD12: 0 | AE12: 0
A13: 6 | B13: Карасайский район | C13: 0 | D13: 0 | E13: 0 | F13: 0 | G13: 0 | H13: 0 | I13: 0 | J13: 0 | K13: 0 | L13: 0 | M13: 0 | N13: 0 | O13: 0 | P13: 0 | Q13: 0 | R13: 0 | S13: 0 | T13: 0 | U13: 0 | V13: 0 | W13: 0 | X13: 0 | Y13: 0 | Z13: 0 | AA13: 0 | AB13: 0 | AC13: 0 | AD13: 0 | AE13: 0
A14: 7 | B14: Райымбекский район | C14: 0 | D14: 0 | E14: 0 | F14: 0 | G14: 0 | H14: 0 | I14: 0 | J14: 0 | K14: 0 | L14: 0 | M14: 0 | N14: 0 | O14: 0 | P14: 0 | Q14: 0 | R14: 0 | S14: 0 | T14: 0 | U14: 0 | V14: 0 | W14: 0 | X14: 0 | Y14: 0 | Z14: 0 | AA14: 0 | AB14: 0 | AC14: 0 | AD14: 0 | AE14: 0
A15: 8 | B15: Талгарский район | C15: 0 | D15: 0 | E15: 0 | F15: 0 | G15: 0 | H15: 0 | I15: 0 | J15: 0 | K15: 0 | L15: 0 | M15: 0 | N15: 0 | O15: 0 | P15: 0 | Q15: 0 | R15: 0 | S15: 0 | T15: 0 | U15: 0 | V15: 0 | W15: 0 | X15: 0 | Y15: 0 | Z15: 0 | AA15: 0 | AB15: 0 | AC15: 0 | AD15: 0 | AE15: 0
A16: 9 | B16: Уйгурский район | C16: 0 | D16: 0 | E16: 0 | F16: 0 | G16: 0 | H16: 0 | I16: 0 | J16: 0 | K16: 0 | L16: 0 | M16: 0 | N16: 0 | O16: 0 | P16: 0 | Q16: 0 | R16: 0 | S16: 0 | T16: 0 | U16: 0 | V16: 0 | W16: 0 | X16: 0 | Y16: 0 | Z16: 0 | AA16: 0 | AB16: 0 | AC16: 0 | AD16: 0 | AE16: 0
A17: 10 | B17: город Конаев | C17: 0 | D17: 0 | E17: 0 | F17: 0 | G17: 0 | H17: 0 | I17: 0 | J17: 0 | K17: 0 | L17: 0 | M17: 0 | N17: 0 | O17: 0 | P17: 0 | Q17: 0 | R17: 0 | S17: 0 | T17: 0 | U17: 0 | V17: 0 | W17: 0 | X17: 0 | Y17: 0 | Z17: 0 | AA17: 0 | AB17: 0 | AC17: 0 | AD17: 0 | AE17: 0
A18: 11 | B18: город Алатау | C18: 0 | D18: 0 | E18: 0 | F18: 0 | G18: 0 | H18: 0 | I18: 0 | J18: 0 | K18: 0 | L18: 0 | M18: 0 | N18: 0 | O18: 0 | P18: 0 | Q18: 0 | R18: 0 | S18: 0 | T18: 0 | U18: 0 | V18: 0 | W18: 0 | X18: 0 | Y18: 0 | Z18: 0 | AA18: 0 | AB18: 0 | AC18: 0 | AD18: 0 | AE18: 0
A19: 12 | B19: Алматинская | C19: =SUM(C8:C18) -> 0 | D19: =SUM(D8:D18) -> 0 | E19: =SUM(E8:E18) -> 0 | F19: =SUM(F8:F18) -> 0 | G19: 0 | H19: =SUM(H8:H18) -> 0 | I19: 0 | J19: =SUM(J8:J18) -> 0 | K19: =SUM(K8:K18) -> 0 | L19: =SUM(L8:L18) -> 0 | M19: =SUM(M8:M18) -> 0 | N19: =SUM(N8:N18) -> 0 | O19: =SUM(O8:O18) -> 0 | P19: =SUM(P8:P18) -> 0 | Q19: =SUM(Q8:Q18) -> 0 | ... AE19: =SUM(AE8:AE18) -> 0

Sheet детские санаторно-оздоровительн
AA1: Приложение 1 к приказу Председателя Комитета санитарно-эпидемиологического контроля Министерства здравоохранения Республики Казахстан от «___» ______ 2026 года № ___
A2: Отчет о проверках, проводимые на соответствие квалификационным или разрешительным требованиям по выданным разрешениям, требованиям по направленным уведомлениям в соответствии с Законом Республики Казахстан «О разрешениях и уведомлениях»
A5: № | B5: Наименование | C5: Запланированные проверки согласно графику в Еgov, всего | D5: Запланированные проверки согласно графику с недостоверными данными | E5: Запланированные проверки согласно графику с достоверными данными | F5: Проведено проверок | G5: Выполнение % | H5: Выявлено объектов с нарушениями | I5: Удельный вес объектов с нарушениями % | J5: Количество выданных предписаний | K5: Количество направленных материалов в суд | L5: Кол-во административных взысканий | R5: Меры оперативного реагирования | W5: Отказано в регистрации | Z5: Не проверены, сняты с проверки по причине:
L6: Всего | M6: должн. лиц | N6: юр.лиц | O6: ип | P6: физ.лиц | Q6: Сумма административного штрафа | R6: всего | S6: приостановление деятельности по производству, реализации продукции (товара), оказанию услуг, выполнению работ субъекта (объекта) контроля и надзора или отдельных ее видов (процессов, действий) | T6: запрещение деятельности по производству продукции (товара), оказанию услуг, выполнению работ субъекта (объекта) контроля и надзора или отдельных ее видов (процессов, действий) | U6: изъятие и отзыв с реализации продукции (товара), не соответствующей (не соответствующего) требованиям технических регламентов и (или) единым санитарно-эпидемиологическим и гигиеническим требованиям Евразийского экономического союза | V6: временное отстранение лиц от работы | W6: Нарушение правил уведомления | X6: нарушения сроков проведения проверок | Y6: Другие (указать в примечании) | Z6: Смена категории субъекта предпринимательства | AA6: Закрытие объекта | AB6: Смена фактического адреса | AC6: Другие (указать в примечании) | AD6: не завершенные проверки (переходящие) | AE6: запланированные на следующий месяц
A7: 1 | B7: 2 | C7: 3 | D7: 4 | E7: 5 | F7: 6 | G7: 7 | H7: 8 | I7: 9 | J7: 10 | K7: 11 | L7: 12 | M7: 13 | N7: 14 | O7: 15 | P7: 16 | Q7: 17 | R7: 18 | S7: 19 | T7: 20 | U7: 21 | V7: 22 | W7: 23 | X7: 24 | Y7: 25 | Z7: 26 | AA7: 27 | AB7: 28 | AC7: 29 | AD7: 30 | AE7: 31
A8: 1 | B8: Балхашский район | C8: 0
A9: 2 | B9: Енбекшиказахский район | C9: 0
A10: 3 | B10: Жамбылский район | C10: 0
A11: 4 | B11: Илийский район | C11: 0
A12: 5 | B12: Кегенский район | C12: 0
A13: 6 | B13: Карасайский район | C13: 0
A14: 7 | B14: Райымбекский район | C14: 0
A15: 8 | B15: Талгарский район | C15: 0
A16: 9 | B16: Уйгурский район | C16: 0
A17: 10 | B17: город Конаев | C17: 0
A18: 11 | B18: город Алатау | C18: 0
A19: 12 | B19: Итого | C19: 0

Sheet общепит и торговли
AA1: Приложение 1 к приказу Председателя Комитета санитарно-эпидемиологического контроля Министер-ства здравоохранения Республики Казахстан от «___» ______ 2026 года № ___
A2: Отчет о проверках, проводимые на соответствие квалификационным или разрешительным требованиям по выданным разрешениям, требованиям по направленным уведомлениям в соответствии с Законом Республики Казахстан «О разрешениях и уведомлениях»
A5: № | B5: Наименование | C5: Запланированные проверки согласно графику в Еgov, всего | D5: Запланированные проверки согласно графику с недостоверными данными | E5: Запланированные проверки согласно графику с достоверными данными | F5: Проведено проверок | G5: Выполнение % | H5: Выявлено объектов с нарушениями | I5: Удельный вес объектов с нарушениями % | J5: Количество выданных предписаний | K5: Количество направленных материалов в суд | L5: Кол-во административных взысканий | R5: Меры оперативного реагирования | W5: Отказано в регистрации | Z5: Не проверены, сняты с проверки по причине:
L6: Всего | M6: должн. лиц | N6: юр.лиц | O6: ип | P6: физ.лиц | Q6: Сумма административного штрафа | R6: всего | S6: приостановление деятельности по производству, реализации продукции (товара), оказанию услуг, выполнению работ субъекта (объекта) контроля и надзора или отдельных ее видов (процессов, действий) | T6: запрещение деятельности по производству продукции (товара), оказанию услуг, выполнению работ субъекта (объекта) контроля и надзора или отдельных ее видов (процессов, действий) | U6: изъятие и отзыв с реализации продукции (товара), не соответствующей (не соответствующего) требованиям технических регламентов и (или) единым санитарно-эпидемиологическим и гигиеническим требованиям Евразийского экономического союза | V6: временное отстранение лиц от работы | W6: Нарушение правил уведомления | X6: нарушения сроков проведения проверок | Y6: Другие (указать в примечании) | Z6: Смена категории субъекта предпринимательства | AA6: Закрытие объекта | AB6: Смена фактического адреса | AC6: Другие (указать в примечании) | AD6: не завершенные проверки (переходящие) | AE6: запланированные на следующий месяц
A7: 1 | B7: 2 | C7: 3 | D7: 4 | E7: 5 | F7: 6 | G7: 7 | H7: 8 | I7: 9 | J7: 10 | K7: 11 | L7: 12 | M7: 13 | N7: 14 | O7: 15 | P7: 16 | Q7: 17 | R7: 18 | S7: 19 | T7: 20 | U7: 21 | V7: 22 | W7: 23 | X7: 24 | Y7: 25 | Z7: 26 | AA7: 27 | AB7: 28 | AC7: 29 | AD7: 30 | AE7: 31
A8: 1 | B8: Балхашский район | C8: 0
A9: 2 | B9: Енбекшиказахский район | C9: 12 | E9: 12 | AE9: 12
A10: 3 | B10: Жамбылский район | C10: 22 | E10: 22 | F10: 3 | G10: 13.6 | H10: 3 | I10: 100 | J10: 3 | K10: 0 | L10: 3 | M10: 0 | N10: 0 | O10: 2 | P10: 1 | Q10: 735250 | R10: 0 | S10: 0 | T10: 0 | U10: 0 | V10: 0 | W10: 0 | X10: 0 | Y10: 0 | Z10: 0 | AA10: 0 | AB10: 0 | AC10: 0 | AD10: 0 | AE10: 19
A11: 4 | B11: Илийский район | C11: 0 | AF11: 0 | AG11: 0 | AH11: 0
A12: 5 | B12: Кегенский район | C12: 0
A13: 6 | B13: Карасайский район | C13: 6 | E13: 6 | AE13: 6
A14: 7 | B14: Райымбекский район | C14: 0
A15: 8 | B15: Талгарский район | C15: 0 | AF15: 0
A16: 9 | B16: Уйгурский район | C16: 2 | E16: 2 | F16: 2 | G16: 100 | H16: 2 | I16: 100 | J16: 2 | K16: 0 | L16: 0 | M16: 0 | N16: 0 | O16: 0 | P16: 0 | Q16: 0 | R16: 0 | S16: 0 | T16: 0 | U16: 0 | V16: 0 | W16: 0 | X16: 0 | Y16: 0 | Z16: 0 | AA16: 0 | AB16: 0 | AC16: 0 | AD16: 0 | AE16: 0
A17: 10 | B17: город Конаев | C17: 0
A18: 11 | B18: город Алатау | C18: 0
A19: 12 | B19: Итого | C19: =SUM(C8:C18) -> 42 | D19: =SUM(D8:D18) -> 0 | E19: =SUM(E8:E18) -> 42 | F19: =SUM(F8:F18) -> 5 | G19: 11.9 | H19: =SUM(H8:H18) -> 5 | I19: =SUM(I8:I18) -> 200 | J19: =SUM(J8:J18) -> 5 | K19: =SUM(K8:K18) -> 0 | L19: =SUM(L8:L18) -> 3 | M19: =SUM(M8:M18) -> 0 | N19: =SUM(N8:N18) -> 0 | O19: =SUM(O8:O18) -> 2 | ... AE19: =SUM(AE8:AE18) -> 37

Sheet ком. объекты
AA1: Приложение 1 к приказу Председателя Комитета санитарно-эпидемиологического контроля Министерства здравоохранения Республики Казахстан от «___» ______ 2026 года № ___
A2: Отчет о проверках, проводимые на соответствие квалификационным или разрешительным требованиям по выданным разрешениям, требованиям по направленным уведомлениям в соответствии с Законом Республики Казахстан «О разрешениях и уведомлениях»
A5: № | B5: Наименование | C5: Запланированные проверки согласно графику в Еgov, всего | D5: Запланированные проверки согласно графику с недостоверными данными | E5: Запланированные проверки согласно графику с достоверными данными | F5: Проведено проверок | G5: Выполнение % | H5: Выявлено объектов с нарушениями | I5: Удельный вес объектов с нарушениями % | J5: Количество выданных предписаний | K5: Количество направленных материалов в суд | L5: Кол-во административных взысканий | R5: Меры оперативного реагирования | W5: Отказано в регистрации | Z5: Не проверены, сняты с проверки по причине:
L6: Всего | M6: должн. лиц | N6: юр.лиц | O6: ип | P6: физ.лиц | Q6: Сумма административного штрафа | R6: всего | S6: приостановление деятельности по производству, реализации продукции (товара), оказанию услуг, выполнению работ субъекта (объекта) контроля и надзора или отдельных ее видов (процессов, действий) | T6: запрещение деятельности по производству продукции (товара), оказанию услуг, выполнению работ субъекта (объекта) контроля и надзора или отдельных ее видов (процессов, действий) | U6: изъятие и отзыв с реализации продукции (товара), не соответствующей (не соответствующего) требованиям технических регламентов и (или) единым санитарно-эпидемиологическим и гигиеническим требованиям Евразийского экономического союза | V6: временное отстранение лиц от работы | W6: Нарушение правил уведомления | X6: нарушения сроков проведения проверок | Y6: Другие (указать в примечании) | Z6: Смена категории субъекта предпринимательства | AA6: Закрытие объекта | AB6: Смена фактического адреса | AC6: Другие (указать в примечании) | AD6: не завершенные проверки (переходящие) | AE6: запланированные на следующий месяц
A7: 1 | B7: 2 | C7: 3 | D7: 4 | E7: 5 | F7: 6 | G7: 7 | H7: 8 | I7: 9 | J7: 10 | K7: 11 | L7: 12 | M7: 13 | N7: 14 | O7: 15 | P7: 16 | Q7: 17 | R7: 18 | S7: 19 | T7: 20 | U7: 21 | V7: 22 | W7: 23 | X7: 24 | Y7: 25 | Z7: 26 | AA7: 27 | AB7: 28 | AC7: 29 | AD7: 30 | AE7: 31
A8: 1 | B8: Балхашский район | C8: 0
A9: 2 | B9: Енбекшиказахский район | C9: 0
A10: 3 | B10: Жамбылский район | C10: 2 | D10: 0 | E10: 2 | F10: 1 | G10: 50 | H10: 1 | I10: 100 | J10: 1 | K10: 0 | L10: 1 | M10: 0 | N10: 0 | O10: 0 | P10: 1 | Q10: 43250 | R10: 0 | S10: 0 | T10: 0 | U10: 0 | V10: 0 | W10: 0 | X10: 0 | Y10: 0 | Z10: 0 | AA10: 0 | AB10: 0 | AC10: 0 | AD10: 0 | AE10: 1
A11: 4 | B11: Илийский район | C11: 0
A12: 5 | B12: Кегенский район | C12: 0
A13: 6 | B13: Карасайский район | C13: 1 | E13: 1 | AE13: 1
A14: 7 | B14: Райымбекский район | C14: 0 | AF14: 0
A15: 8 | B15: Талгарский район | C15: 0 | AF15: 0
A16: 9 | B16: Уйгурский район | C16: 11 | E16: 11 | AE16: 11
A17: 10 | B17: город Конаев | C17: 0
A18: 11 | B18: город Алатау | C18: 0
A19: 12 | B19: Итого | C19: =SUM(C8:C18) -> 14 | D19: =SUM(D8:D18) -> 0 | E19: =SUM(E8:E18) -> 14 | F19: =SUM(F8:F18) -> 1 | G19: 7 | H19: =SUM(H8:H18) -> 1 | I19: =SUM(I8:I18) -> 100 | J19: =SUM(J8:J18) -> 1 | K19: =SUM(K8:K18) -> 0 | L19: =SUM(L8:L18) -> 1 | M19: =SUM(M8:M18) -> 0 | N19: =SUM(N8:N18) -> 0 | O19: =SUM(O8:O18) -> 0 | ... AE19: =SUM(AE8:AE18) -> 13

Sheet пром.объекты, РОО
AA1: Приложение 1 к приказу Председателя Комитета санитарно-эпидемиологического контроля Министерства здравоохранения Республики Казахстан от «___» ______ 2026 года № ___
A2: Отчет о проверках, проводимые на соответствие квалификационным или разрешительным требованиям по выданным разрешениям, требованиям по направленным уведомлениям в соответствии с Законом Республики Казахстан «О разрешениях и уведомлениях»
A5: № | B5: Наименование | C5: Запланированные проверки согласно графику в Еgov, всего | D5: Запланированные проверки согласно графику с недостоверными данными | E5: Запланированные проверки согласно графику с достоверными данными | F5: Проведено проверок | G5: Выполнение % | H5: Выявлено объектов с нарушениями | I5: Удельный вес объектов с нарушениями % | J5: Количество выданных предписаний | K5: Количество направленных материалов в суд | L5: Кол-во административных взысканий | R5: Меры оперативного реагирования | W5: Отказано в регистрации | Z5: Не проверены, сняты с проверки по причине:
L6: Всего | M6: должн. лиц | N6: юр.лиц | O6: ип | P6: физ.лиц | Q6: Сумма административного штрафа | R6: всего | S6: приостановление деятельности по производству, реализации продукции (товара), оказанию услуг, выполнению работ субъекта (объекта) контроля и надзора или отдельных ее видов (процессов, действий) | T6: запрещение деятельности по производству продукции (товара), оказанию услуг, выполнению работ субъекта (объекта) контроля и надзора или отдельных ее видов (процессов, действий) | U6: изъятие и отзыв с реализации продукции (товара), не соответствующей (не соответствующего) требованиям технических регламентов и (или) единым санитарно-эпидемиологическим и гигиеническим требованиям Евразийского экономического союза | V6: временное отстранение лиц от работы | W6: Нарушение правил уведомления | X6: нарушения сроков проведения проверок | Y6: Другие (указать в примечании) | Z6: Смена категории субъекта предпринимательства | AA6: Закрытие объекта | AB6: Смена фактического адреса | AC6: Другие (указать в примечании) | AD6: не завершенные проверки (переходящие) | AE6: запланированные на следующий месяц
A7: 1 | B7: 2 | C7: 3 | D7: 4 | E7: 5 | F7: 6 | G7: 7 | H7: 8 | I7: 9 | J7: 10 | K7: 11 | L7: 12 | M7: 13 | N7: 14 | O7: 15 | P7: 16 | Q7: 17 | R7: 18 | S7: 19 | T7: 20 | U7: 21 | V7: 22 | W7: 23 | X7: 24 | Y7: 25 | Z7: 26 | AA7: 27 | AB7: 28 | AC7: 29 | AD7: 30 | AE7: 31
A8: 1 | B8: Балхашский район | C8: 0
A9: 2 | B9: Енбекшиказахский район | C9: 2 | E9: 2 | AE9: 2
A10: 3 | B10: Жамбылский район | C10: 6 | E10: 6 | AE10: 6
A11: 4 | B11: Илийский район | C11: 0
A12: 5 | B12: Кегенский район | C12: 0
A13: 6 | B13: Карасайский район | C13: 0
A14: 7 | B14: Райымбекский район | C14: 0
A15: 8 | B15: Талгарский район | C15: 0
A16: 9 | B16: Уйгурский район | C16: 0
A17: 10 | B17: город Конаев | C17: 0
A18: 11 | B18: город Алатау | C18: 0
A19: 12 | B19: Итого | C19: =SUM(C8:C18) -> 8 | D19: =SUM(D8:D18) -> 0 | E19: =SUM(E8:E18) -> 8 | F19: =SUM(F8:F18) -> 0 | G19: =SUM(G8:G18) -> 0 | H19: =SUM(H8:H18) -> 0 | I19: =SUM(I8:I18) -> 0 | J19: =SUM(J8:J18) -> 0 | ... AE19: =SUM(AE8:AE18) -> 8

Sheet объекты здравоохранения
AA1: Приложение 1 к приказу Председателя Комитета санитарно-эпидемиологического контроля Министерства здравоохранения Республики Казахстан от «___» ______ 2026 года № ___
A2: Отчет о проверках, проводимые на соответствие квалификационным или разрешительным требованиям по выданным разрешениям, требованиям по направленным уведомлениям в соответствии с Законом Республики Казахстан «О разрешениях и уведомлениях»
A5: № | B5: Наименование | C5: Запланированные проверки согласно графику в Еgov, всего | D5: Запланированные проверки согласно графику с недостоверными данными | E5: Запланированные проверки согласно графику с достоверными данными | F5: Проведено проверок | G5: Выполнение % | H5: Выявлено объектов с нарушениями | I5: Удельный вес объектов с нарушениями % | J5: Количество выданных предписаний | K5: Количество направленных материалов в суд | L5: Кол-во административных взысканий | R5: Меры оперативного реагирования | W5: Отказано в регистрации | Z5: Не проверены, сняты с проверки по причине:
L6: Всего | M6: должн. лиц | N6: юр.лиц | O6: ип | P6: физ.лиц | Q6: Сумма административного штрафа | R6: всего | S6: приостановление деятельности по производству, реализации продукции (товара), оказанию услуг, выполнению работ субъекта (объекта) контроля и надзора или отдельных ее видов (процессов, действий) | T6: запрещение деятельности по производству продукции (товара), оказанию услуг, выполнению работ субъекта (объекта) контроля и надзора или отдельных ее видов (процессов, действий) | U6: изъятие и отзыв с реализации продукции (товара), не соответствующей (не соответствующего) требованиям технических регламентов и (или) единым санитарно-эпидемиологическим и гигиеническим требованиям Евразийского экономического союза | V6: временное отстранение лиц от работы | W6: Нарушение правил уведомления | X6: нарушения сроков проведения проверок | Y6: Другие (указать в примечании) | Z6: Смена категории субъекта предпринимательства | AA6: Закрытие объекта | AB6: Смена фактического адреса | AC6: Другие (указать в примечании) | AD6: не завершенные проверки (переходящие) | AE6: запланированные на следующий месяц
A7: 1 | B7: 2 | C7: 3 | D7: 4 | E7: 5 | F7: 6 | G7: 7 | H7: 8 | I7: 9 | J7: 10 | K7: 11 | L7: 12 | M7: 13 | N7: 14 | O7: 15 | P7: 16 | Q7: 17 | R7: 18 | S7: 19 | T7: 20 | U7: 21 | V7: 22 | W7: 23 | X7: 24 | Y7: 25 | Z7: 26 | AA7: 27 | AB7: 28 | AC7: 29 | AD7: 30 | AE7: 31
A8: 1 | B8: Балхашский район | C8: 0
A9: 2 | B9: Енбекшиказахский район | C9: 5 | E9: 5 | AE9: 5
A10: 3 | B10: Жамбылский район | C10: 6 | E10: 6 | AE10: 6
A11: 4 | B11: Илийский район | C11: 0
A12: 5 | B12: Кегенский район | C12: 0
A13: 6 | B13: Карасайский район | C13: 0
A14: 7 | B14: Райымбекский район | C14: 0
A15: 8 | B15: Талгарский район | C15: 0
A16: 9 | B16: Уйгурский район | C16: 5 | D16: 0 | E16: 5 | F16: 5 | G16: 100 | H16: 5 | I16: 100 | J16: 5 | K16: 0 | L16: 0 | M16: 0 | N16: 0 | O16: 0 | P16: 0 | Q16: 0 | R16: 0 | S16: 0 | T16: 0 | U16: 0 | V16: 0 | W16: 0 | X16: 0 | Y16: 0 | Z16: 0 | AA16: 0 | AB16: 0 | AC16: 0 | AD16: 0 | AE16: 0
A17: 10 | B17: город Конаев | C17: 0
A18: 11 | B18: город Алатау | C18: 0
B19: Итого | C19: =SUM(C8:C18) -> 16 | D19: =SUM(D8:D18) -> 0 | E19: =SUM(E8:E18) -> 16 | F19: =SUM(F8:F18) -> 5 | G19: 31 | H19: =SUM(H8:H18) -> 5 | I19: =SUM(I8:I18) -> 100 | J19: =SUM(J8:J18) -> 5 | K19: =SUM(K8:K18) -> 0 | L19: =SUM(L8:L18) -> 0 | M19: =SUM(M8:M18) -> 0 | N19: =SUM(N8:N18) -> 0 | O19: =SUM(O8:O18) -> 0 | ... AE19: =SUM(AE8:AE18) -> 11

Sheet другие 
AA1: Приложение 1 к приказу Председателя Комитета санитарно-эпидемиологического контроля Министерства здравоохранения Республики Казахстан от «___» ______ 2026 года № ___
A2: Отчет о проверках, проводимые на соответствие квалификационным или разрешительным требованиям по выданным разрешениям, требованиям по направленным уведомлениям в соответствии с Законом Республики Казахстан «О разрешениях и уведомлениях»
A5: № | B5: Наименование | C5: Запланированные проверки согласно графику в Еgov, всего | D5: Запланированные проверки согласно графику с недостоверными данными | E5: Запланированные проверки согласно графику с достоверными данными | F5: Проведено проверок | G5: Выполнение % | H5: Выявлено объектов с нарушениями | I5: Удельный вес объектов с нарушениями % | J5: Количество выданных предписаний | K5: Количество направленных материалов в суд | L5: Кол-во административных взысканий | R5: Меры оперативного реагирования | W5: Отказано в регистрации | Z5: Не проверены, сняты с проверки по причине:
L6: Всего | M6: должн. лиц | N6: юр.лиц | O6: ип | P6: физ.лиц | Q6: Сумма административного штрафа | R6: всего | S6: приостановление деятельности по производству, реализации продукции (товара), оказанию услуг, выполнению работ субъекта (объекта) контроля и надзора или отдельных ее видов (процессов, действий) | T6: запрещение деятельности по производству продукции (товара), оказанию услуг, выполнению работ субъекта (объекта) контроля и надзора или отдельных ее видов (процессов, действий) | U6: изъятие и отзыв с реализации продукции (товара), не соответствующей (не соответствующего) требованиям технических регламентов и (или) единым санитарно-эпидемиологическим и гигиеническим требованиям Евразийского экономического союза | V6: временное отстранение лиц от работы | W6: Нарушение правил уведомления | X6: нарушения сроков проведения проверок | Y6: Другие (указать в примечании) | Z6: Смена категории субъекта предпринимательства | AA6: Закрытие объекта | AB6: Смена фактического адреса | AC6: Другие (указать в примечании) | AD6: не завершенные проверки (переходящие) | AE6: запланированные на следующий месяц
A7: 1 | B7: 2 | C7: 3 | D7: 4 | E7: 5 | F7: 6 | G7: 7 | H7: 8 | I7: 9 | J7: 10 | K7: 11 | L7: 12 | M7: 13 | N7: 14 | O7: 15 | P7: 16 | Q7: 17 | R7: 18 | S7: 19 | T7: 20 | U7: 21 | V7: 22 | W7: 23 | X7: 24 | Y7: 25 | Z7: 26 | AA7: 27 | AB7: 28 | AC7: 29 | AD7: 30 | AE7: 31
A8: 1 | B8: Балхашский район | C8: 0
A9: 2 | B9: Енбекшиказахский район | C9: 0 | AF9: 0 | AG9: 0 | AH9: 0
A10: 3 | B10: Жамбылский район | C10: 0
A11: 4 | B11: Илийский район | C11: 0
A12: 5 | B12: Кегенский район | C12: 0
A13: 6 | B13: Карасайский район | C13: 0
A14: 7 | B14: Райымбекский район | C14: 0
A15: 8 | B15: Талгарский район | C15: 0
A16: 9 | B16: Уйгурский район | C16: 0
A17: 10 | B17: город Конаев | C17: 0
A18: 11 | B18: город Алатау | C18: 0
B19: Итого

Sheet Лист2
