Workbook

Sheet короткая таблица
A1: Исполнение бюджета области на 1 августа 2026 года
M2: млн.тенге
A3: Наименование | B3: Уточненный план на 01.08.2026 | C3: в том числе | E3: Исполнение | F3: в том числе | H3: % исполнения | I3: в том числе | K3: Недоосвоено | L3: в том числе
C4: ЦТ из РБ | D4: МБ | F4: ЦТ из РБ | G4: МБ | I4: ЦТ из РБ | J4: МБ | L4: ЦТ из РБ | M4: МБ
A5: Айыртауский | B5: 3614.7382 | C5: 0 | D5: 3614.7382 | E5: 3610.4241 | F5: 0 | G5: 3610.4241 | H5: =E5/B5*100 -> 99.880652 | I5: 0 | J5: =G5/D5*100 -> 99.880652 | K5: =E5-B5 -> -4.3141147 | L5: =F5-C5 -> 0 | M5: =G5-D5 -> -4.3141147
A6: Акжарский | B6: 2061.9239 | C6: 0 | D6: 2061.9239 | E6: 2061.054 | F6: 0 | G6: 2061.054 | H6: =E6/B6*100 -> 99.957811 | I6: 0 | J6: =G6/D6*100 -> 99.957811 | K6: =E6-B6 -> -0.86990151 | L6: =F6-C6 -> 0 | M6: =G6-D6 -> -0.86990151
A7: Аккайынский | B7: 2181.1295 | C7: 0 | D7: 2181.1295 | E7: 2137.1951 | F7: 0 | G7: 2137.1951 | H7: =E7/B7*100 -> 97.985703 | I7: 0 | J7: =G7/D7*100 -> 97.985703 | K7: =E7-B7 -> -43.934435 | L7: =F7-C7 -> 0 | M7: =G7-D7 -> -43.934435
A8: Есильский | B8: 3303.5846 | C8: 0 | D8: 3303.5846 | E8: 3302.1294 | F8: 0 | G8: 3302.1294 | H8: =E8/B8*100 -> 99.95595 | I8: 0 | J8: =G8/D8*100 -> 99.95595 | K8: =E8-B8 -> -1.4552434 | L8: =F8-C8 -> 0 | M8: =G8-D8 -> -1.4552434
A9: Жамбылский | B9: 2184.3439 | C9: 0 | D9: 2184.3439 | E9: 2183.5782 | F9: 0 | G9: 2183.5782 | H9: =E9/B9*100 -> 99.964944 | I9: 0 | J9: =G9/D9*100 -> 99.964944 | K9: =E9-B9 -> -0.7657496 | L9: =F9-C9 -> 0 | M9: =G9-D9 -> -0.7657496
A10: М. Жумабаева | B10: 3086.9657 | C10: 0 | D10: 3086.9657 | E10: 3083.4201 | F10: 0 | G10: 3083.4201 | H10: =E10/B10*100 -> 99.885142 | I10: 0 | J10: =G10/D10*100 -> 99.885142 | K10: =E10-B10 -> -3.5456299 | L10: =F10-C10 -> 0 | M10: =G10-D10 -> -3.5456299
A11: Кызылжарский | B11: 5331.4865 | C11: 0 | D11: 5331.4865 | E11: 5289.5612 | F11: 0 | G11: 5289.5612 | H11: =E11/B11*100 -> 99.213628 | I11: 0 | J11: =G11/D11*100 -> 99.213628 | K11: =E11-B11 -> -41.92532 | L11: =F11-C11 -> 0 | M11: =G11-D11 -> -41.92532
A12: Мамлютский | B12: 2222.3901 | C12: 0 | D12: 2222.3901 | E12: 2198.7088 | F12: 0 | G12: 2198.7088 | H12: =E12/B12*100 -> 98.934421 | I12: 0 | J12: =G12/D12*100 -> 98.934421 | K12: =E12-B12 -> -23.681319 | L12: =F12-C12 -> 0 | M12: =G12-D12 -> -23.681319
A13: Г. Мусрепова | B13: 5450.2098 | C13: 0 | D13: 5450.2098 | E13: 5445.2296 | F13: 0 | G13: 5445.2296 | H13: =E13/B13*100 -> 99.908624 | I13: 0 | J13: =G13/D13*100 -> 99.908624 | K13: =E13-B13 -> -4.9801812 | L13: =F13-C13 -> 0 | M13: =G13-D13 -> -4.9801812
A14: Тайыншинский | B14: 3814.3992 | C14: 0 | D14: 3814.3992 | E14: 3680.749 | F14: 0 | G14: 3680.749 | H14: =E14/B14*100 -> 96.496166 | I14: 0 | J14: =G14/D14*100 -> 96.496166 | K14: =E14-B14 -> -133.6502 | L14: =F14-C14 -> 0 | M14: =G14-D14 -> -133.6502
A15: Тимирязевский | B15: 1665.3756 | C15: 0 | D15: 1665.3756 | E15: 1664.657 | F15: 0 | G15: 1664.657 | H15: =E15/B15*100 -> 99.956848 | I15: 0 | J15: =G15/D15*100 -> 99.956848 | K15: =E15-B15 -> -0.71864248 | L15: =F15-C15 -> 0 | M15: =G15-D15 -> -0.71864248
A16: Уалихановский | B16: 2450.7949 | C16: 0 | D16: 2450.7949 | E16: 2439.8029 | F16: 0 | G16: 2439.8029 | H16: =E16/B16*100 -> 99.551491 | I16: 0 | J16: =G16/D16*100 -> 99.551491 | K16: =E16-B16 -> -10.992028 | L16: =F16-C16 -> 0 | M16: =G16-D16 -> -10.992028
... A18: Всего по районам | B18: 39431.863 | C18: 0 | D18: 39431.863 | E18: 39160.057 | F18: 0 | G18: 39160.057 | H18: =E18/B18*100 -> 99.310694 | I18: 0 | J18: =G18/D18*100 -> 99.310694 | K18: =E18-B18 -> -271.80602 | L18: =F18-C18 -> 0 | M18: =G18-D18 -> -271.80602
A19: г.Петропавловск | B19: 35637.179 | C19: 2960.8 | D19: 32676.379 | E19: 33752.917 | F19: 2636.8 | G19: 31116.117 | H19: =E19/B19*100 -> 94.712652 | I19: =F19/C19*100 -> 89.057012 | J19: =G19/D19*100 -> 95.225108 | K19: =E19-B19 -> -1884.2616 | L19: =F19-C19 -> -324 | M19: =G19-D19 -> -1560.2616
A20: Областной | B20: 268584.6 | C20: 14857.92 | D20: 253726.68 | E20: 268165.79 | F20: 14630.392 | G20: 253535.4 | H20: =E20/B20*100 -> 99.844067 | I20: =F20/C20*100 -> 98.468641 | J20: =G20/D20*100 -> 99.92461 | K20: =E20-B20 -> -418.81264 | L20: =F20-C20 -> -227.5281 | M20: =G20-D20 -> -191.28454
A21: Всего | B21: 306491.6 | C21: 16974.72 | D21: 289516.88 | E21: 304882.51 | F21: 16857.656 | G21: 288024.85 | H21: =E21/B21*100 -> 99.474997 | I21: =F21/C21*100 -> 99.31036 | J21: =G21/D21*100 -> 99.48465 | K21: =K18+K19+K20 -> -2574.8803 | L21: =L18+L19+L20 -> -551.5281 | M21: =M18+M19+M20 -> -2023.3522

Sheet короткая таблица каз
A1: 2026 жылғы 1 тамыздағы облыс бюджетінің атқарылуы
M2: млн.теңге
A3: Атауы | B3: 2026ж.01.08 нақтыланған жоспар | C3: соның ішінде | E3: Атқару | F3: соның ішінде | H3: Атқару % | I3: соның ішінде | K3: Игерілмегені | L3: соның ішінде
C4: РБ НТ | D4: ЖБ | F4: РБ НТ | G4: ЖБ | I4: РБ НТ | J4: ЖБ | L4: РБ НТ | M4: ЖБ
A5: Айыртау | B5: ='короткая таблица'!B5 -> 3614.7382 | C5: ='короткая таблица'!C5 -> 0 | D5: ='короткая таблица'!D5 -> 3614.7382 | E5: ='короткая таблица'!E5 -> 3610.4241 | F5: ='короткая таблица'!F5 -> 0 | G5: ='короткая таблица'!G5 -> 3610.4241 | H5: ='короткая таблица'!H5 -> 99.880652 | I5: ='короткая таблица'!I5 -> 0 | ... M5: ='короткая таблица'!M5 -> -4.3141147
A6: Ақжар | B6: ='короткая таблица'!B6 -> 2061.9239 | C6: ='короткая таблица'!C6 -> 0 | D6: ='короткая таблица'!D6 -> 2061.9239 | E6: ='короткая таблица'!E6 -> 2061.054 | F6: ='короткая таблица'!F6 -> 0 | G6: ='короткая таблица'!G6 -> 2061.054 | H6: ='короткая таблица'!H6 -> 99.957811 | I6: ='короткая таблица'!I6 -> 0 | ... M6: ='короткая таблица'!M6 -> -0.86990151
A7: Аққайың | B7: ='короткая таблица'!B7 -> 2181.1295 | C7: ='короткая таблица'!C7 -> 0 | D7: ='короткая таблица'!D7 -> 2181.1295 | E7: ='короткая таблица'!E7 -> 2137.1951 | F7: ='короткая таблица'!F7 -> 0 | G7: ='короткая таблица'!G7 -> 2137.1951 | H7: ='короткая таблица'!H7 -> 97.985703 | I7: ='короткая таблица'!I7 -> 0 | ... M7: ='короткая таблица'!M7 -> -43.934435
A8: Есіл | B8: ='короткая таблица'!B8 -> 3303.5846 | C8: ='короткая таблица'!C8 -> 0 | D8: ='короткая таблица'!D8 -> 3303.5846 | E8: ='короткая таблица'!E8 -> 3302.1294 | F8: ='короткая таблица'!F8 -> 0 | G8: ='короткая таблица'!G8 -> 3302.1294 | H8: ='короткая таблица'!H8 -> 99.95595 | I8: ='короткая таблица'!I8 -> 0 | ... M8: ='короткая таблица'!M8 -> -1.4552434
A9: Жамбыл | B9: ='короткая таблица'!B9 -> 2184.3439 | C9: ='короткая таблица'!C9 -> 0 | D9: ='короткая таблица'!D9 -> 2184.3439 | E9: ='короткая таблица'!E9 -> 2183.5782 | F9: ='короткая таблица'!F9 -> 0 | G9: ='короткая таблица'!G9 -> 2183.5782 | H9: ='короткая таблица'!H9 -> 99.964944 | I9: ='короткая таблица'!I9 -> 0 | ... M9: ='короткая таблица'!M9 -> -0.7657496
A10: М.Жұмабаев | B10: ='короткая таблица'!B10 -> 3086.9657 | C10: ='короткая таблица'!C10 -> 0 | D10: ='короткая таблица'!D10 -> 3086.9657 | E10: ='короткая таблица'!E10 -> 3083.4201 | F10: ='короткая таблица'!F10 -> 0 | G10: ='короткая таблица'!G10 -> 3083.4201 | H10: ='короткая таблица'!H10 -> 99.885142 | I10: ='короткая таблица'!I10 -> 0 | ... M10: ='короткая таблица'!M10 -> -3.5456299
A11: Қызылжар | B11: ='короткая таблица'!B11 -> 5331.4865 | C11: ='короткая таблица'!C11 -> 0 | D11: ='короткая таблица'!D11 -> 5331.4865 | E11: ='короткая таблица'!E11 -> 5289.5612 | F11: ='короткая таблица'!F11 -> 0 | G11: ='короткая таблица'!G11 -> 5289.5612 | H11: ='короткая таблица'!H11 -> 99.213628 | I11: ='короткая таблица'!I11 -> 0 | ... M11: ='короткая таблица'!M11 -> -41.92532
A12: Мамлют | B12: ='короткая таблица'!B12 -> 2222.3901 | C12: ='короткая таблица'!C12 -> 0 | D12: ='короткая таблица'!D12 -> 2222.3901 | E12: ='короткая таблица'!E12 -> 2198.7088 | F12: ='короткая таблица'!F12 -> 0 | G12: ='короткая таблица'!G12 -> 2198.7088 | H12: ='короткая таблица'!H12 -> 98.934421 | I12: ='короткая таблица'!I12 -> 0 | ... M12: ='короткая таблица'!M12 -> -23.681319
A13: Ғ. Мүсірепов | B13: ='короткая таблица'!B13 -> 5450.2098 | C13: ='короткая таблица'!C13 -> 0 | D13: ='короткая таблица'!D13 -> 5450.2098 | E13: ='короткая таблица'!E13 -> 5445.2296 | F13: ='короткая таблица'!F13 -> 0 | G13: ='короткая таблица'!G13 -> 5445.2296 | H13: ='короткая таблица'!H13 -> 99.908624 | I13: ='короткая таблица'!I13 -> 0 | ... M13: ='короткая таблица'!M13 -> -4.9801812
A14: Тайынша | B14: ='короткая таблица'!B14 -> 3814.3992 | C14: ='короткая таблица'!C14 -> 0 | D14: ='короткая таблица'!D14 -> 3814.3992 | E14: ='короткая таблица'!E14 -> 3680.749 | F14: ='короткая таблица'!F14 -> 0 | G14: ='короткая таблица'!G14 -> 3680.749 | H14: ='короткая таблица'!H14 -> 96.496166 | I14: ='короткая таблица'!I14 -> 0 | ... M14: ='короткая таблица'!M14 -> -133.6502
A15: Тимирязев | B15: ='короткая таблица'!B15 -> 1665.3756 | C15: ='короткая таблица'!C15 -> 0 | D15: ='короткая таблица'!D15 -> 1665.3756 | E15: ='короткая таблица'!E15 -> 1664.657 | F15: ='короткая таблица'!F15 -> 0 | G15: ='короткая таблица'!G15 -> 1664.657 | H15: ='короткая таблица'!H15 -> 99.956848 | I15: ='короткая таблица'!I15 -> 0 | ... M15: ='короткая таблица'!M15 -> -0.71864248
A16: Уәлиханов | B16: ='короткая таблица'!B16 -> 2450.7949 | C16: ='короткая таблица'!C16 -> 0 | D16: ='короткая таблица'!D16 -> 2450.7949 | E16: ='короткая таблица'!E16 -> 2439.8029 | F16: ='короткая таблица'!F16 -> 0 | G16: ='короткая таблица'!G16 -> 2439.8029 | H16: ='короткая таблица'!H16 -> 99.551491 | I16: ='короткая таблица'!I16 -> 0 | ... M16: ='короткая таблица'!M16 -> -10.992028
... A21: БАРЛЫҒЫ | B21: ='короткая таблица'!B21 -> 306491.6 | C21: ='короткая таблица'!C21 -> 16974.72 | D21: ='короткая таблица'!D21 -> 289516.88 | E21: ='короткая таблица'!E21 -> 304882.51 | F21: ='короткая таблица'!F21 -> 16857.656 | G21: ='короткая таблица'!G21 -> 288024.85 | H21: ='короткая таблица'!H21 -> 99.474997 | I21: ='короткая таблица'!I21 -> 99.31036 | ... M21: ='короткая таблица'!M21 -> -2023.3522
