Workbook
Name Print_Area: 'прил4-МБ 1 кв 2026 год свод'!$A$3:$AG$427
Name Print_Area: 'прил4-МБ 1 свод заверш'!$A$3:$AG$50
Name Print_Area: 'прил4-МБ свод планир'!$A$3:$AG$41
Name Print_Area: 'прил4-МБ свод реал'!$A$3:$AG$394
Name Print_Titles: 'прил4-МБ 1 кв 2026 год свод'!$6:$10
Name Print_Titles: 'прил4-МБ 1 свод заверш'!$6:$10
Name Print_Titles: 'прил4-МБ свод планир'!$6:$10
Name Print_Titles: 'прил4-МБ свод реал'!$6:$10

Sheet прил4-МБ 1 кв 2026 год свод
AG3: Приложение 37
A4: Отчет по мониторингу реализации бюджетных инвестиционных проектов за 1 квартал 2026 года
AG5: (тыс. тенге)
A6: № | B6: Наименование объекта | C6: Код программы (подпрограммы) | D6: Период реализации | E6: Общая стоимость по ГЭ на ПСД | F6: Договорная стоимость проекта | G6: Всего планируемый объем финансирования БИП, тысяч тенге | I6: Объем выполненных работ в натуральном выражении согласно ТЭО/ПСД (мощность проекта) | M6: Объем выполненных работ в тыс. тенге | AG6: Причины уклонения , принятые (принимаемые) меры и причины незавершения
C7: Администратор бюджетной программы | G7: в том числе, за счет | I7: Факт до отчетного года | J7: План на отчетный период | K7: Факт на отчетный период | L7: Невыполненные мероприятия за отчетный период | M7: Всего финансирование БИП с начала реализации | O7: План за отчетный период | S7: Факт за отчетный период | T7: в том числе | W7: Отклонение | AA7: Общее отклонение РБ+МБ | AC7: Количество проектов
G8: РБ | H8: МБ | M8: Факт | O8: Общий план | P8: МБ (без займов) | Q8: Софинансирование республиканских проектов из МБ | R8: РБ | T8: МБ (без займов) | U8: Софинансирование республиканских проектов из МБ | V8: РБ | W8: РБ тыс. тенге | X8: % | Y8: МБ тыс. тенге | Z8: % | AA8: тыс. Тенге | AB8: % | AC8: Всего реализуется | AD8: Планируются к завершению | AE8: Фактически завершено | AF8: Причины незавершения
M9: РБ | N9: МБ
A10: 1 | B10: =A10+1 -> 2 | C10: =B10+1 -> 3 | D10: 4 | E10: 5 | F10: =E10+1 -> 6 | G10: 7 | H10: =G10+1 -> 8 | I10: =H10+1 -> 9 | J10: =I10+1 -> 10 | K10: =J10+1 -> 11 | L10: =K10+1 -> 12 | M10: =L10+1 -> 13 | N10: =M10+1 -> 14 | O10: =N10+1 -> 15 | ... AG10: =AF10+1 -> 33
A11: ВСЕГО | E11: =E12+E87+E134+E184+E194+E263+E290+E300+E307+E332+E355+E395+E408 -> 1.8495997e+09 | F11: =F12+F87+F134+F184+F194+F263+F290+F300+F307+F332+F355+F395+F408 -> 1.713151e+09 | G11: =G12+G87+G134+G184+G194+G263+G290+G300+G307+G332+G355+G395+G408 -> 60879909 | H11: =H12+H87+H134+H184+H194+H263+H290+H300+H307+H332+H355+H395+H408 -> 4.5666676e+08 | I11: =I12+I87+I134+I184+I194+I263+I290+I300+I307+I332+I355+I395+I408 -> 1.8389248e+08 | K11: =K12+K87+K134+K184+K194+K263+K290+K300+K307+K332+K355+K395+K408 -> 0 | L11: =L12+L87+L134+L184+L194+L263+L290+L300+L307+L332+L355+L395+L408 -> 2646002.2 | M11: =M12+M87+M134+M184+M194+M263+M290+M300+M307+M332+M355+M395+M408 -> 42503726 | N11: =N12+N87+N134+N184+N194+N263+N290+N300+N307+N332+N355+N395+N408 -> 44305890 | O11: =O12+O87+O134+O184+O194+O263+O290+O300+O307+O332+O355+O395+O408 -> 2.0940673e+08 | P11: =P12+P87+P134+P184+P194+P263+P290+P300+P307+P332+P355+P395+P408 -> 1.9837259e+08 | Q11: =Q12+Q87+Q134+Q184+Q194+Q263+Q290+Q300+Q307+Q332+Q355+Q395+Q408 -> 227474 | R11: =R12+R87+R134+R184+R194+R263+R290+R300+R307+R332+R355+R395+R408 -> 10806665 | ... V11: =V12+V87+V134+V184+V194+V263+V290+V300+V307+V332+V355+V395+V408 -> 8406665 | W11: =R11-V11 -> 2400000 | X11: =W11/R11 -> 0.22208517 | Y11: =P11+Q11-T11-U11 -> 1.0441009e+08 | Z11: =Y11/(P11+Q11) -> 0.52573039 | AA11: =Y11+W11 -> 1.0681009e+08 | AB11: =AA11/O11 -> 0.51006045 | AC11: =AC12+AC87+AC134+AC184+AC194+AC263+AC290+AC300+AC307+AC332+AC355+AC395+AC408 -> 321 | AD11: =AD12+AD87+AD134+AD184+AD194+AD263+AD290+AD300+AD307+AD332+AD355+AD395+AD408 -> 12 | AE11: =AE12+AE87+AE134+AE184+AE194+AE263+AE290+AE300+AE307+AE332+AE355+AE395+AE408 -> 19 | AF11: =AF12+AF87+AF134+AF184+AF194+AF263+AF290+AF300+AF307+AF332+AF355+AF395+AF408 -> 0
A12: 1. Образование | E12: =E13+F45+E80 -> 1.6623933e+08 | F12: =F13+F45+F80 -> 1.6101396e+08 | G12: =G13+G45+G80 -> 0 | H12: =H13+H45+H80 -> 62750307 | I12: =I13+I45+I80 -> 0 | J12: =J13+J45+J80 -> 0 | L12: =L13+L45+L80 -> 0 | M12: =M13+M45+M80 -> 0 | N12: =N13+N45+N80 -> 0 | O12: =O13+O45+O80 -> 19933337 | P12: =P13+P45+P80 -> 19933337 | Q12: =Q13+Q45+Q80 -> 0 | R12: =R13+R45+R80 -> 0 | S12: =S13+S45+S80 -> 15989254 | ... V12: =V13+V45+V80 -> 0 | W12: 0 | Y12: =P12+Q12-T12-U12 -> 3944083.2 | Z12: =Y12/(P12+Q12) -> 0.19786366 | AA12: =Y12+W12 -> 3944083.2 | AB12: =AA12/O12 -> 0.19786366 | AC12: =AC13+AC45+AC80 -> 67 | AD12: =AD13+AD45+AD80 -> 1 | AE12: =AE13+AE45+AE80 -> 3 | AF12: =AF13+AF45+AF80 -> 0
A13: 1.1. | B13: Строительство и реконструкция объектов | E13: =SUM(E14:E44) -> 1.4383392e+08 | F13: =SUM(F14:F44) -> 1.3435008e+08 | G13: =SUM(G14:G34) -> 0 | H13: =SUM(H14:H44) -> 49714807 | I13: =SUM(I14:I34) -> 0 | J13: =SUM(J14:J34) -> 0 | L13: =SUM(L14:L34) -> 0 | M13: =SUM(M14:M34) -> 0 | N13: =SUM(N14:N34) -> 0 | O13: =SUM(O14:O44) -> 15625236 | P13: =SUM(P14:P44) -> 15625236 | Q13: =SUM(Q14:Q44) -> 0 | R13: =SUM(R14:R44) -> 0 | S13: =SUM(S14:S44) -> 11731153 | T13: =SUM(T14:T44) -> 11731153 | U13: =SUM(U14:U44) -> 0 | V13: =SUM(V14:V44) -> 0 | W13: =R13-V13 -> 0 | Y13: =P13+Q13-T13-U13 -> 3894083.2 | Z13: =Y13/(P13+Q13) -> 0.24921755 | AA13: =Y13+W13 -> 3894083.2 | AB13: =AA13/O13 -> 0.24921755 | AC13: =SUM(AC14:AC44) -> 29 | AD13: =SUM(AD14:AD44) -> 1 | AE13: =SUM(AE14:AE44) -> 1 | AF13: =SUM(AF14:AF34) -> 0
A14: 1 | B14: Реконструкция здания детского сада №37, по адресу: мкр. «Нуркент», Алатауского района города Алматы | C14: 04 1 373 037 015 | D14: 2025-2026 | E14: 2383710 | F14: 2143822.2 | H14: 2015000 | J14: 320 мест, общая площадь здания - 5830,0 м2 | K14: 300 мест, общая площадь здания - 5000,0 м2 | O14: =SUM(P14:R14) -> 110975.7 | P14: 110975.7 | S14: =SUM(T14:V14) -> 0 | T14: 0 | W14: =R14-V14 -> 0 | Y14: =P14+Q14-T14-U14 -> 110975.7 | Z14: =Y14/(P14+Q14) -> 1 | AA14: =Y14+W14 -> 110975.7 | AB14: =AA14/O14 -> 1 | AC14: 1 | AD14: 0 | AE14: 0 | AF14: 0 | AG14: Не было освоения в 1 квартале 2026 году.
A15: 2 | B15: Реконструкция здания ясли-сада №10 по адресу: ул. Шевченко, дом 186 А, Алмалинский район, г. Алматы | C15: 04 1 373 037 015 | D15: 2025-2026 | E15: 2109388 | F15: 2022686.1 | H15: 650000 | J15: Общая площадь здания - 2347,92 м2 | K15: Общая площадь здания - 2000 м3 | O15: =SUM(P15:R15) -> 927020.24 | P15: 927020.24 | S15: =SUM(T15:V15) -> 840468.5 | T15: 840468.5 | W15: =R15-V15 -> 0 | Y15: =P15+Q15-T15-U15 -> 86551.742 | Z15: =Y15/(P15+Q15) -> 0.093365536 | AA15: =Y15+W15 -> 86551.742 | AB15: =AA15/O15 -> 0.093365536 | AC15: 1 | AD15: 0 | AE15: 0 | AF15: 0
A16: 3 | B16: Строительство детского сада по ул. Тлендиева, 49, Алмалинский район (со сносом здания) | C16: 04 1 373 037 015 | D16: 2025-2026 | E16: 3100763 | F16: 2942352.3 | H16: 100000 | J16: 240 мест, общая площадь здания - 5503,40 м2 | K16: 241 мест, общая площадь здания - 5000 м2 | O16: =SUM(P16:R16) -> 735000 | P16: 735000 | S16: =SUM(T16:V16) -> 591000 | T16: 591000 | W16: =R16-V16 -> 0 | Y16: =P16+Q16-T16-U16 -> 144000 | Z16: =Y16/(P16+Q16) -> 0.19591837 | AA16: =Y16+W16 -> 144000 | AB16: =AA16/O16 -> 0.19591837 | AC16: 1 | AD16: 0 | AE16: 0 | AF16: 0
A17: 4 | B17: Строительство детского сада на 240 мест, по адресу: южнее пробиваемого пр. Абая, западнее р. «Карагайлы», Наурызбайского района города Алматы | C17: 04 1 373 037 015 | D17: 2025-2026 | E17: 2756897 | F17: 2645341.1 | H17: 1327000 | J17: 240 мест, общая площадь здания - 3049,11 м2 | K17: 200 мест, общая площадь здания - 3000 м2 | O17: =SUM(P17:R17) -> 867000 | P17: 867000 | S17: =SUM(T17:V17) -> 804125.5 | T17: 804125.5 | W17: =R17-V17 -> 0 | Y17: =P17+Q17-T17-U17 -> 62874.5 | Z17: =Y17/(P17+Q17) -> 0.072519608 | AA17: =Y17+W17 -> 62874.5 | AB17: =AA17/O17 -> 0.072519608 | AC17: 1 | AD17: 0 | AE17: 0 | AF17: 0
A18: 5 | B18: Строительство детского сада на 320 мест в микрорайоне «Курамыс» Наурызбайского района города Алматы» (без наружных инженерных сетей) | C18: 04 1 373 037 015 | D18: 2023-2026 | E18: 2737433 | F18: 2461861 | H18: 1133361 | J18: 320 мест, площадь застройки- 2502,21 м2 | K18: 300 мест, площадь застройки- 2000 м2 | O18: =SUM(P18:R18) -> 1133361 | P18: 1133361 | S18: =SUM(T18:V18) -> 985733.02 | T18: 985733.02 | W18: =R18-V18 -> 0 | Y18: =P18+Q18-T18-U18 -> 147627.98 | Z18: =Y18/(P18+Q18) -> 0.13025681 | AA18: =Y18+W18 -> 147627.98 | AB18: =AA18/O18 -> 0.13025681 | AC18: 1 | AD18: 0 | AE18: 0 | AF18: 0
A19: 6 | B19: Строительство детского сада на 260 мест, по адресу: мкр. «Жас-Канат», Турксибский район, города Алматы | C19: 04 1 373 037 015 | D19: 2025-2026 | E19: 1564360 | F19: 1448356.1 | H19: 150032 | J19: 260 мест, общая площадь здания - 3402,20 м2 | K19: 200 мест, общая площадь здания - 3000 м2 | O19: =SUM(P19:R19) -> 0 | P19: 0 | S19: =SUM(T19:V19) -> 0 | T19: 0 | W19: =R19-V19 -> 0 | Y19: =P19+Q19-T19-U19 -> 0 | AA19: =Y19+W19 -> 0 | AD19: 0 | AE19: 1 | AF19: 0 | AG19: Акт приемки объекта в эксплуатацию б/н от 05.02.2026 г.
A20: 7 | B20: Строительство школы на 550 ученических мест, по адресу: мкр. «Зердели», Алатауский район | C20: 04 2 373 028 015 | D20: 2025-2026 | E20: 3820325 | F20: 2398922.2 | H20: 2398922.2 | J20: Площадь застройки - 3280,04 м2 | K20: Площадь застройки - 3280,04 м2 | O20: =SUM(P20:R20) -> 124057.86 | P20: 124057.86 | S20: =SUM(T20:V20) -> 124057.86 | T20: 124057.86 | W20: =R20-V20 -> 0 | Y20: =P20+Q20-T20-U20 -> 0 | Z20: =Y20/(P20+Q20) -> 0 | AA20: =Y20+W20 -> 0 | AB20: =AA20/O20 -> 0 | AC20: 1 | AD20: 0 | AE20: 0 | AF20: 0 | AG20: Уменьшение общей суммы договора
A21: 8 | B21: Реконструкция с пристройкой к зданию школы №160, по адресу: ул. Заводская 96, мкр. «Карасу», Алатауский район, город Алматы | C21: 04 2 373 028 015 | D21: 2025-2026 | E21: 6715009 | F21: 6535067.5 | H21: 4015000 | J21: Площадь застройки - 4188,01 м2, на 575 мест | K21: Площадь застройки - 4000 м2, на 500 мест | O21: =SUM(P21:R21) -> 2445052.4 | P21: 2445052.4 | S21: =SUM(T21:V21) -> 733515.72 | T21: 733515.72 | W21: =R21-V21 -> 0 | Y21: =P21+Q21-T21-U21 -> 1711536.7 | Z21: =Y21/(P21+Q21) -> 0.7 | AA21: =Y21+W21 -> 1711536.7 | AB21: =AA21/O21 -> 0.7 | AC21: 1 | AD21: 0 | AE21: 0 | AF21: 0
A22: 9 | B22: Строительство пристройки на 300 мест к зданию школы №16 ул. А. Шарипова, Алмалинского района | C22: 04 2 373 028 015 | D22: 2025-2026 | E22: 2356129.3 | F22: 2291862.5 | H22: 1100000 | J22: 300 мест, общая площадь здания - 2040,59 м2 | K22: 201 мест, общая площадь здания - 2000 м2 | O22: =SUM(P22:R22) -> 341934.02 | P22: 341934.02 | S22: =SUM(T22:V22) -> 341934.02 | T22: 341934.02 | W22: =R22-V22 -> 0 | Y22: =P22+Q22-T22-U22 -> 0 | Z22: =Y22/(P22+Q22) -> 0 | AA22: =Y22+W22 -> 0 | AB22: =AA22/O22 -> 0 | AC22: 1 | AD22: 0 | AE22: 0 | AF22: 0
A23: 10 | B23: Реконструкция с пристройкой к зданию КГУ «Общеобразовательная школа №58», по адресу: ул. Тургут Озала, Алмалинский район, города Алматы | C23: 04 2 373 028 015 | D23: 2024-2026 | E23: 4960691 | F23: 4729032.7 | H23: 2529399.7 | J23: Площадь застройки - 5492,88 м2 | K23: Площадь застройки - 5000 м3 | O23: =SUM(P23:R23) -> 0 | P23: 0 | S23: =SUM(T23:V23) -> 0 | T23: 0 | W23: =R23-V23 -> 0 | Y23: =P23+Q23-T23-U23 -> 0 | AA23: =Y23+W23 -> 0 | AC23: 1 | AD23: 0 | AE23: 0 | AF23: 0 | AG23: Расторгли договор с подрядчиком
A24: 11 | B24: Реконструкция здания КГУ «Общеобразовательная школа №124», расположенного по адресу в Алмалинском районе, г. Алматы | C24: 04 2 373 028 015 | D24: 2025-2026 | E24: 2811257 | F24: 2732467.7 | H24: 493500 | J24: 576 мест, общая площадь здания - 6701,28м2 | K24: 577 мест, общая площадь здания - 6000м2 | O24: =SUM(P24:R24) -> 650000 | P24: 650000 | S24: =SUM(T24:V24) -> 396630.41 | T24: 396630.41 | W24: =R24-V24 -> 0 | Y24: =P24+Q24-T24-U24 -> 253369.59 | Z24: =Y24/(P24+Q24) -> 0.38979936 | AA24: =Y24+W24 -> 253369.59 | AB24: =AA24/O24 -> 0.38979936 | AC24: 1 | AD24: 0 | AE24: 0 | AF24: 0
A25: 12 | B25: Реконструкция здания школы - гимназии №60 в мкр. «Орбита-1», 41, Бостандыкского района (Литеры А, А1), города Алматы | C25: 04 2 373 028 015 | D25: 2025-2026 | E25: 6237578 | F25: 6046646.1 | H25: 3872000 | J25: Площадь застройки - 4551.63 м2, на 550 мест | K25: Площадь застройки - 4000 м2, на 500 мест | O25: =SUM(P25:R25) -> 633041.39 | P25: 633041.39 | S25: =SUM(T25:V25) -> 633041.39 | T25: 633041.39 | W25: =R25-V25 -> 0 | Y25: =P25+Q25-T25-U25 -> 0 | Z25: =Y25/(P25+Q25) -> 0 | AA25: =Y25+W25 -> 0 | AB25: =AA25/O25 -> 0 | AC25: 1 | AD25: 0 | AE25: 0 | AF25: 0
A26: 13 | B26: Реконструкция с пристройкой (со сносом существующих зданий) к зданию школы №43, по адресу: Жетысуский район, ул. Шилова | C26: 04 2 373 028 015 | D26: 2025-2026 | E26: 2521526 | F26: 2431261.3 | H26: 250000 | J26: Площадь застройки - 2496,26 м3 | K26: Площадь застройки - 2000 м4 | O26: =SUM(P26:R26) -> 638447.06 | P26: 638447.06 | S26: =SUM(T26:V26) -> 638447.06 | T26: 638447.06 | W26: =R26-V26 -> 0 | Y26: =P26+Q26-T26-U26 -> 0 | Z26: =Y26/(P26+Q26) -> 0 | AA26: =Y26+W26 -> 0 | AB26: =AA26/O26 -> 0 | AC26: 1 | AD26: 0 | AE26: 0 | AF26: 0
A27: 14 | B27: Строительство пристройки к зданию КГУ «Общеобразовательная школа № 112», по адресу: ул. Ратушного, д.131, Жетысуский район, города Алматы | C27: 04 2 373 028 015 | D27: 2025-2026 | E27: 2334400 | F27: 1902604.1 | H27: 1589882.8 | J27: Площадь застройки - 1779 м2 | K27: Площадь застройки - 1000 м3 | O27: =SUM(P27:R27) -> 308437 | P27: 308437 | S27: =SUM(T27:V27) -> 308437 | T27: 308437 | W27: =R27-V27 -> 0 | Y27: =P27+Q27-T27-U27 -> 0 | Z27: =Y27/(P27+Q27) -> 0 | AA27: =Y27+W27 -> 0 | AB27: =AA27/O27 -> 0 | AC27: 1 | AD27: 0 | AE27: 0 | AF27: 0
A28: 15 | B28: Реконструкция здания школы - гимназии №30 имени Д. Снегина, по адресу: пр. Достык, 226а, Медеуский район, города Алматы | C28: 04 2 373 028 015 | D28: 2025-2026 | E28: 6220881 | F28: 6115197.1 | H28: 1424500 | J28: Площадь застройки - 4777,34 м2, на 576 мест | K28: Площадь застройки - 4000 м2, на 500 мест | O28: =SUM(P28:R28) -> 638905.12 | P28: 638905.12 | S28: =SUM(T28:V28) -> 638905.12 | T28: 638905.12 | W28: =R28-V28 -> 0 | Y28: =P28+Q28-T28-U28 -> 0 | Z28: =Y28/(P28+Q28) -> 0 | AA28: =Y28+W28 -> 0 | AB28: =AA28/O28 -> 0 | AC28: 1 | AD28: 0 | AE28: 0 | AF28: 0
A29: 16 | B29: Реконструкция здания КГУ «Школа-гимназия №56 имени К.Сатпаева» расположенного по адресу Медеуском районе, г.Алматы | C29: 04 2 373 028 015 | D29: 2025-2026 | E29: 2652521 | F29: 2563316.4 | H29: 1050000 | J29: 572 места, общая площадь здания - 6134,24 м2 | K29: 500 места, общая площадь здания - 6000 м2 | O29: =SUM(P29:R29) -> 437509.84 | P29: 437509.84 | S29: =SUM(T29:V29) -> 437509.84 | T29: 437509.84 | W29: =R29-V29 -> 0 | Y29: =P29+Q29-T29-U29 -> 0 | Z29: =Y29/(P29+Q29) -> 0 | AA29: =Y29+W29 -> 0 | AB29: =AA29/O29 -> 0 | AC29: 1 | AD29: 0 | AE29: 0 | AF29: 0
A30: 17 | B30: Строительство отдельно стоящего здания на 300 мест для КГУ «Школа-лицей № 131 им. Б. Момышұлы» по адресу: город Алматы, Медеуский район, мкр. «Самал 2», д. 22 | C30: 04 2 373 028 015 | D30: 2025-2026 | E30: 2976050 | F30: 2832629.3 | H30: 585000 | J30: Площадь застройки - 1920,40 м2 | K30: Площадь застройки - 1000 м3 | O30: =SUM(P30:R30) -> 1320000 | P30: 1320000 | S30: =SUM(T30:V30) -> 0 | T30: 0 | W30: =R30-V30 -> 0 | Y30: =P30+Q30-T30-U30 -> 1320000 | Z30: =Y30/(P30+Q30) -> 1 | AA30: =Y30+W30 -> 1320000 | AB30: =AA30/O30 -> 1 | AC30: 1 | AD30: 0 | AE30: 0 | AF30: 0 | AG30: Не было освоения в 1 квартале 2026 году.
A31: 18 | B31: Строительство школы с общежитием (со сносом существующих зданий), по адресу: ул. Енбек, мкр. «Шугыла», Наурызбайский район, города Алматы | C31: 04 2 373 028 015 | D31: 2024-2026 | E31: 8236674 | F31: 7763890.1 | H31: 7517549.2 | J31: Площадь застройки - 4721 м2 | K31: Площадь застройки - 4721 м2 | O31: =SUM(P31:R31) -> 401341.91 | P31: 401341.91 | S31: =SUM(T31:V31) -> 401341.91 | T31: 401341.91 | W31: =R31-V31 -> 0 | Y31: =P31+Q31-T31-U31 -> 0 | Z31: =Y31/(P31+Q31) -> 0 | AA31: =Y31+W31 -> 0 | AB31: =AA31/O31 -> 0 | AD31: 1 | AE31: 0 | AF31: 0 | AG31: Подписывается акт приемки объекта в эксплуатацию
A32: 19 | B32: Строительство инновационного технического колледжа и общежития, мкр. «Алгабас», улица 7, Алатауский район | C32: 04 2 373 069 015 | D32: 2023-2026 | E32: 9177975 | F32: 8538185.9 | H32: 6811185.7 | J32: Площадь застройки - 6922,75 м2 | K32: Площадь застройки - 6000 м2 | O32: 0 | P32: 0 | Q32: 0 | R32: 0 | S32: 0 | T32: 0 | U32: 0 | V32: 0 | W32: =R32-V32 -> 0 | Y32: =P32+Q32-T32-U32 -> 0 | AA32: =Y32+W32 -> 0 | AC32: 1 | AD32: 0 | AE32: 0 | AF32: 0
A33: 20 | B33: Строительство центра развития и творчества в мкр. «Саялы», Алатауского района | C33: 04 2 373 069 015 | D33: 2025-2027 | E33: 12224030 | F33: 11869365 | H33: 9203474.3 | J33: Площадь застройки - 4990,12 м2 на 503 мест | K33: Площадь застройки - 4000 м2 на 500 мест | O33: =SUM(P33:R33) -> 507146.45 | P33: 507146.45 | S33: =SUM(T33:V33) -> 507146.45 | T33: 507146.45 | W33: =R33-V33 -> 0 | Y33: =P33+Q33-T33-U33 -> 0 | Z33: =Y33/(P33+Q33) -> 0 | AA33: =Y33+W33 -> 0 | AB33: =AA33/O33 -> 0 | AC33: 1 | AD33: 0 | AE33: 0 | AF33: 0
A34: 21 | B34: Строительство центра развития и творчества в микрорайоне «Жас канат», Турксибский район города Алматы | C34: 04 2 373 069 015 | D34: 2025-2027 | E34: 13940176 | F34: 14036930 | H34: 1499000 | J34: 508 посещений, общая площадь здания - 14011,72 м2 | K34: 500 посещений, общая площадь здания - 10000 м2 | O34: =SUM(P34:R34) -> 1227147 | P34: 1227147 | S34: =SUM(T34:V34) -> 1170000 | T34: 1170000 | W34: =R34-V34 -> 0 | Y34: =P34+Q34-T34-U34 -> 57147 | Z34: =Y34/(P34+Q34) -> 0.046568993 | AA34: =Y34+W34 -> 57147 | AB34: =AA34/O34 -> 0.046568993 | AC34: 1 | AD34: 0 | AE34: 0 | AF34: 0
A35: 22 | B35: Реконструкция здания школы предпринимателей, по адресу: проспект Достык 226, Медеуский район, города Алматы | C35: 04 4 373 028 015 | D35: 2026-2027 | E35: 1420553.3 | F35: 1375968 | J35: Общая площадь здания - 2704,2 м2, общий строительный объем - 11582 м3. | O35: =SUM(P35:R35) -> 0 | P35: 0 | S35: =SUM(T35:V35) -> 0 | T35: 0 | W35: =R35-V35 -> 0 | Y35: =P35+Q35-T35-U35 -> 0 | AA35: =Y35+W35 -> 0 | AC35: 1 | AG35: Здание не передано для реконструкции
A36: 23 | B36: Строительство пристройки на 450 мест к зданию школы гимназии в мкр. «Нуркент» Алатауского района г. Алматы (201 школа) | C36: 04 4 373 028 015 | D36: 2026 | E36: 2590393 | F36: 2369852.6 | J36: Общая площадь здания - 6275,71 м2, общий строительный объем - 22639,60 м3. | O36: =SUM(P36:R36) -> 0 | P36: 0 | S36: =SUM(T36:V36) -> 0 | T36: 0 | W36: =R36-V36 -> 0 | Y36: =P36+Q36-T36-U36 -> 0 | AA36: =Y36+W36 -> 0 | AC36: 1 | AG36: Не было освоения в 1 квартале 2026 году. Разрешение на строительство получено в апреле 2026 года, период реализации 7 месяцев
A37: 24 | B37: Строительство отдельно стоящего здания на 400 мест на территории школы-гимназии №1 в микрорайоне «10», Ауэзовского района | C37: 04 4 373 028 015 | D37: 2025-2026 | E37: 2332591.7 | F37: 2219260.6 | J37: Общая площадь здания - 4605,66 м2, общий строительный объем - 19659,62 м3. | K37: Общая площадь здания - 4605,66 м2, общий строительный объем - 19659,62 м3. | O37: =SUM(P37:R37) -> 603000 | P37: 603000 | S37: =SUM(T37:V37) -> 603000 | T37: 603000 | W37: =R37-V37 -> 0 | Y37: =P37+Q37-T37-U37 -> 0 | Z37: =Y37/(P37+Q37) -> 0 | AA37: =Y37+W37 -> 0 | AB37: =AA37/O37 -> 0 | AC37: 1
A38: 25 | B38: Строительство школы на 1200 мест (со сносом существующего здания школы-гимназии №13), по адресу: «11» мкр., Ауэзовский район, города Алматы | C38: 04 4 373 028 015 | D38: 2026-2027 | E38: 9582931 | F38: 9267229.7 | J38: Общая площадь здания - 12752,23 м2, общий строительный объем - 70259,64 м3. | K38: Общая площадь здания - 12752,23 м2, общий строительный объем - 70259,64 м3. | O38: =SUM(P38:R38) -> 0 | S38: =SUM(T38:V38) -> 0 | U38: 0 | W38: =R38-V38 -> 0 | Y38: =P38+Q38-T38-U38 -> 0 | AA38: =Y38+W38 -> 0 | AC38: 1 | AG38: Договор подписан в марте 2026 года
A39: 26 | B39: Строительство пристройки общежития со столовой к зданию КГУ «Специальная школа-интернат №4 для слепых и слабовидящих детей» по адресу: г. Алматы, ул. Ладыгина, 33, Ауэзовского района | C39: 04 4 373 028 015 | D39: 2026-2027 | E39: 3663151 | F39: 3112845.3 | J39: Общая площадь здания - 5975,9 м2, общий строительный объем - 30993,3 м3. | K39: Общая площадь здания - 5975,9 м2, общий строительный объем - 30993,3 м3. | O39: =SUM(P39:R39) -> 442500 | P39: 442500 | S39: =SUM(T39:V39) -> 442500 | T39: 442500 | W39: =R39-V39 -> 0 | Y39: =P39+Q39-T39-U39 -> 0 | Z39: =Y39/(P39+Q39) -> 0 | AA39: =Y39+W39 -> 0 | AB39: =AA39/O39 -> 0 | AC39: 1
A40: 27 | B40: Строительство школы творчества на 900 мест и корпуса интерната с реконструкцией существующих зданий, и сооружений, по адресу: мкр. «Дарын-1», Бостандыкский район, города Алматы». (2 очередь, реконструкция зданий и благоустройство) | C40: 04 4 373 028 015 | D40: 2026-2027 | E40: 3181731 | F40: 3019434.2 | J40: Общая площадь участка - 16,7661 га, площадь покрытий - 20 908,95 м2 | K40: Общая площадь участка - 16,7661 га, площадь покрытий - 20 908,95 м2 | O40: =SUM(P40:R40) -> 383848.5 | P40: 383848.5 | S40: =SUM(T40:V40) -> 383848.5 | T40: 383848.5 | W40: =R40-V40 -> 0 | Y40: =P40+Q40-T40-U40 -> 0 | Z40: =Y40/(P40+Q40) -> 0 | AA40: =Y40+W40 -> 0 | AB40: =AA40/O40 -> 0 | AC40: 1
A41: 28 | B41: Строительство общежития на 350 мест по адресу: ул. Аскарова 47, мкр. «Дарын-1», Бостандыкский район, города Алматы». (3 очередь) | C41: 04 4 373 028 015 | D41: 2026-2027 | E41: 4083905 | F41: 2093113.5 | J41: Общая площадь - 6599,44 м2, строительный объем - 32696,27 м3 | K41: Общая площадь - 6599,44 м2, строительный объем - 32696,27 м3 | O41: =SUM(P41:R41) -> 601754.59 | P41: 601754.59 | S41: =SUM(T41:V41) -> 601754.59 | T41: 601754.59 | W41: =R41-V41 -> 0 | Y41: =P41+Q41-T41-U41 -> 0 | Z41: =Y41/(P41+Q41) -> 0 | AA41: =Y41+W41 -> 0 | AB41: =AA41/O41 -> 0 | AC41: 1
A42: 29 | B42: Реконструкция с пристройкой (со сносом существующих зданий) к зданию школы-гимназии № 78, по адресу: г. Алматы, Турксибский район, мкр. «Алтай-2» | C42: 04 4 373 028 015 | D42: 2026-2027 | E42: 9651907 | F42: 9183054.8 | J42: Общая площадь - 11962,51 м2, строительный объем - 44114,43 м3 | O42: =SUM(P42:R42) -> 0 | P42: 0 | S42: =SUM(T42:V42) -> 0 | T42: 0 | W42: =R42-V42 -> 0 | Y42: =P42+Q42-T42-U42 -> 0 | AA42: =Y42+W42 -> 0 | AC42: 1 | AG42: Договор подписан 27 марта 2026 года
...

Sheet Лист1
B1: стоимость ГЭ | C1: стоимость договора | D1: план | E1: факт | F1: отклонение | G1: кол-во
A2: реал | B2: ='прил4-МБ свод реал'!E11+'прил4-МБ свод планир'!E11+'прил4-МБ 1 свод заверш'!E11 -> 1.8495997e+09 | C2: ='прил4-МБ свод реал'!F11+'прил4-МБ свод планир'!F11+'прил4-МБ 1 свод заверш'!F11 -> 1.713151e+09 | D2: ='прил4-МБ свод реал'!O11+'прил4-МБ свод планир'!O11+'прил4-МБ 1 свод заверш'!O11 -> 2.0940673e+08 | E2: ='прил4-МБ свод реал'!S11+'прил4-МБ свод планир'!S11+'прил4-МБ 1 свод заверш'!S11 -> 1.0259664e+08 | F2: ='прил4-МБ свод реал'!AA11+'прил4-МБ свод планир'!AA11+'прил4-МБ 1 свод заверш'!AA11 -> 1.0681009e+08 | G2: ='прил4-МБ свод реал'!AC11+'прил4-МБ свод планир'!AD11+'прил4-МБ 1 свод заверш'!AE11 -> 352
A3: план
A4: завер
A6: 1. Образование | B6: ='прил4-МБ свод реал'!E12+'прил4-МБ свод планир'!E12+'прил4-МБ 1 свод заверш'!E12 -> 1.6623933e+08 | C6: ='прил4-МБ свод реал'!F12+'прил4-МБ свод планир'!F12+'прил4-МБ 1 свод заверш'!F12 -> 1.6101396e+08 | G6: 1.5626576e+08 | H6: 8236674 | I6: 1736903.6 | J6: =SUM(G6:I6) -> 1.6623933e+08
A7: 2. Здравоохранение | B7: ='прил4-МБ свод реал'!E83+'прил4-МБ свод планир'!E15+'прил4-МБ 1 свод заверш'!E18 -> 1.1088823e+08 | C7: ='прил4-МБ 1 кв 2026 год свод'!E87-Лист1!B7 -> 0 | D7: 1.1088823e+08 | E7: 3064419.2 | F7: 112998.1 | G7: 1.106675e+08 | H7: 107729 | I7: 112998.1 | J7: =SUM(G7:I7) -> 1.1088823e+08
A8: 3. Водообеспечение | B8: ='прил4-МБ свод реал'!E125+'прил4-МБ свод планир'!E19 -> 1.6288733e+08 | G8: 1.5127608e+08 | H8: 11611249 | J8: =SUM(G8:I8) -> 1.6288733e+08
A9: 4. Жилье | B9: ='прил4-МБ свод реал'!E171 -> 32177880 | G9: 32177880 | J9: =SUM(G9:I9) -> 32177880
A10: 5. Дороги | B10: ='прил4-МБ свод реал'!E181+'прил4-МБ 1 свод заверш'!E25 -> 3.5370613e+08 | G10: 2.872555e+08 | I10: 30676.2 | J10: =SUM(G10:I10) -> 2.8728618e+08
A11: 6. Коммунальное хозяйство | B11: ='прил4-МБ свод реал'!E248+'прил4-МБ свод планир'!E27+'прил4-МБ 1 свод заверш'!E30 -> 1.9854662e+08 | G11: 1.9101551e+08 | H11: 7293229.8 | I11: 237884.63 | J11: =SUM(G11:I11) -> 1.9854662e+08
A12: 7. Соц. обеспечение | B12: ='прил4-МБ свод реал'!E268 -> 32557272 | G12: 32557272 | J12: =SUM(G12:I12) -> 32557272
A13: 8. Газификация | B13: ='прил4-МБ свод реал'!E278 -> 2425349.9 | G13: 2425349.9 | J13: =SUM(G13:I13) -> 2425349.9
A14: 9. Культура и спорт | B14: ='прил4-МБ свод реал'!E285 -> 1.8605016e+08 | G14: 1.8605016e+08 | J14: =SUM(G14:I14) -> 1.8605016e+08
A15: 10. Природоохранные мероприятия | B15: ='прил4-МБ свод реал'!E310+'прил4-МБ 1 свод заверш'!E36 -> 22083106 | G15: 21818492 | I15: 264613.87 | J15: =SUM(G15:I15) -> 22083106
A16: 11. Теплоэнергетическая система | B16: ='прил4-МБ свод реал'!E328 -> 37894629 | G16: 37894629 | J16: =SUM(G16:I16) -> 37894629 | L16: ='прил4-МБ свод планир'!E35+'прил4-МБ свод реал'!E370 -> 46956835
A17: 12. Госорганы | B17: ='прил4-МБ свод реал'!E368+'прил4-МБ свод планир'!E33 -> 47138411 | G17: 45830859 | H17: 1307552 | J17: =SUM(G17:I17) -> 47138411 | L17: 45830859
A18: 13. Прочие | B18: ='прил4-МБ свод реал'!E380+'прил4-МБ свод планир'!E37+'прил4-МБ 1 свод заверш'!E44 -> 4.9700529e+08 | G18: 4.9277342e+08 | H18: 0 | I18: 4231870 | J18: =SUM(G18:I18) -> 4.9700529e+08 | L18: 1307552
B20: ='прил4-МБ свод реал'!E12+'прил4-МБ свод реал'!E83+'прил4-МБ свод реал'!E125+'прил4-МБ свод реал'!E171+'прил4-МБ свод реал'!E181+'прил4-МБ свод реал'!E248+'прил4-МБ свод реал'!E268+'прил4-МБ свод реал'!E278+'прил4-МБ свод реал'!E285+'прил4-МБ свод реал'!E310+'прил4-МБ свод реал'!E328+'прил4-МБ свод реал'!E368+'прил4-МБ свод реал'!E380 -> 1.8144284e+09
B21: ='прил4-МБ свод планир'!E12+'прил4-МБ свод планир'!E15+'прил4-МБ свод планир'!E19+'прил4-МБ свод планир'!E27+'прил4-МБ свод планир'!E33+'прил4-МБ свод планир'!E37 -> 28556434
B22: ='прил4-МБ 1 свод заверш'!E12+'прил4-МБ 1 свод заверш'!E18+'прил4-МБ 1 свод заверш'!E25+'прил4-МБ 1 свод заверш'!E30+'прил4-МБ 1 свод заверш'!E36+'прил4-МБ 1 свод заверш'!E44 -> 6614946.4
B27: 1.7480084e+09 | G27: 11611249
B28: 28556434 | G28: 7293229.8
B29: 6614946.4 | G29: 1307552
E36: =E40/D40 -> 0.48565769
E37: =E39/D39 -> 0.48993955 | F37: =D39-E39 -> 1.0681009e+08 | G37: =F37/D39 -> 0.51006045
B38: ГЭ | C38: стоимость договора | D38: план | E38: факт | F38: отклонение | G38: кол-во
A39: свод | B39: 1.8495997e+09 | C39: 1.713151e+09 | D39: 2.0940673e+08 | E39: 1.0259664e+08 | F39: 1.0441009e+08 | G39: 352
A40: реал | B40: 1.8144284e+09 | C40: 1.6779809e+09 | D40: 1.9996602e+08 | E40: 97115038 | F40: 1.0045099e+08 | G40: 321
A41: план | B41: 28556434 | C41: 28416028 | D41: 5189645.6 | E41: 1585868.2 | F41: 3603777.5 | G41: 12 | H41: =E41/D41 -> 0.30558313
A42: завер | B42: 6614946.4 | C42: 6754114.5 | D42: 4251063.5 | E42: 3895735 | F42: 355328.45 | G42: 19 | H42: =E42/D42 -> 0.91641422
A43: 1. Образование | G43: =D42-E42 -> 355328.45
A44: 2. Здравоохранение | B44: =B42+B41 -> 35171380 | D44: =D42+D41 -> 9440709.1 | E44: =E42+E41 -> 5481603.2 | F44: =D44-E44 -> 3959105.9
A45: 3. Водообеспечение
A46: 4. Жилье | E46: =E44/D44 -> 0.58063469 | F46: =F44/D44 -> 0.41936531
A47: 5. Дороги
A48: 6. Коммунальное хозяйство
A49: 7. Соц. обеспечение
A50: 8. Газификация
A51: 9. Культура и спорт
A52: 10. Природоохранные мероприятия
...

Sheet прил4-МБ свод реал
AG3: Приложение 37
A4: Отчет по мониторингу реализации бюджетных инвестиционных проектов за 1 квартал 2026 года
AG5: (тыс. тенге)
A6: № | B6: Наименование объекта | C6: Код программы (подпрограммы) | D6: Период реализации | E6: Общая стоимость по ГЭ на ПСД | F6: Договорная стоимость проекта | G6: Всего планируемый объем финансирования БИП, тысяч тенге | I6: Объем выполненных работ в натуральном выражении согласно ТЭО/ПСД (мощность проекта) | M6: Объем выполненных работ в тыс. тенге | AG6: Причины уклонения , принятые (принимаемые) меры и причины незавершения
C7: Администратор бюджетной программы | G7: в том числе, за счет | I7: Факт до отчетного года | J7: План на отчетный период | K7: Факт на отчетный период | L7: Невыполненные мероприятия за отчетный период | M7: Всего финансирование БИП с начала реализации | O7: План за отчетный период | S7: Факт за отчетный период | T7: в том числе | W7: Отклонение | AA7: Общее отклонение РБ+МБ | AC7: Количество проектов
G8: РБ | H8: МБ | M8: Факт | O8: Общий план | P8: МБ (без займов) | Q8: Софинансирование республиканских проектов из МБ | R8: РБ | T8: МБ (без займов) | U8: Софинансирование республиканских проектов из МБ | V8: РБ | W8: РБ тыс. тенге | X8: % | Y8: МБ тыс. тенге | Z8: % | AA8: тыс. Тенге | AB8: % | AC8: Всего реализуется | AD8: Планируются к завершению | AE8: Фактически завершено | AF8: Причины незавершения
M9: РБ | N9: МБ
A10: 1 | B10: =A10+1 -> 2 | C10: =B10+1 -> 3 | D10: 4 | E10: 5 | F10: =E10+1 -> 6 | G10: 7 | H10: =G10+1 -> 8 | I10: =H10+1 -> 9 | J10: =I10+1 -> 10 | K10: =J10+1 -> 11 | L10: =K10+1 -> 12 | M10: =L10+1 -> 13 | N10: =M10+1 -> 14 | O10: =N10+1 -> 15 | ... AG10: =AF10+1 -> 33
A11: ВСЕГО | E11: =E12+E83+E125+E171+E181+E248+E268+E278+E285+E310+E328+E368+E380 -> 1.8144284e+09 | F11: =F12+F83+F125+F171+F181+F248+F268+F278+F285+F310+F328+F368+F380 -> 1.6779809e+09 | G11: =G12+G83+G125+G171+G181+G248+G268+G278+G285+G310+G328+G368+G380 -> 60879909 | H11: =H12+H83+H125+H171+H181+H248+H268+H278+H285+H310+H328+H368+H380 -> 4.397864e+08 | I11: =I12+I83+I125+I171+I181+I248+I268+I278+I285+I310+I328+I368+I380 -> 1.8027615e+08 | K11: =K12+K83+K125+K171+K181+K248+K268+K278+K285+K310+K328+K368+K380 -> 0 | L11: =L12+L83+L125+L171+L181+L248+L268+L278+L285+L310+L328+L368+L380 -> 2645987.2 | M11: =M12+M83+M125+M171+M181+M248+M268+M278+M285+M310+M328+M368+M380 -> 42503726 | N11: =N12+N83+N125+N171+N181+N248+N268+N278+N285+N310+N328+N368+N380 -> 40082695 | O11: =O12+O83+O125+O171+O181+O248+O268+O278+O285+O310+O328+O368+O380 -> 1.9996602e+08 | P11: =P12+P83+P125+P171+P181+P248+P268+P278+P285+P310+P328+P368+P380 -> 1.8893188e+08 | Q11: =Q12+Q83+Q125+Q171+Q181+Q248+Q268+Q278+Q285+Q310+Q328+Q368+Q380 -> 227474 | R11: =R12+R83+R125+R171+R181+R248+R268+R278+R285+R310+R328+R368+R380 -> 10806665 | ... V11: =V12+V83+V125+V171+V181+V248+V268+V278+V285+V310+V328+V368+V380 -> 8406665 | W11: =R11-V11 -> 2400000 | X11: =W11/R11 -> 0.22208517 | Y11: =P11+Q11-T11-U11 -> 1.0045099e+08 | Z11: =Y11/(P11+Q11) -> 0.53103894 | AA11: =Y11+W11 -> 1.0285099e+08 | AB11: =AA11/O11 -> 0.51434231 | AC11: =AC12+AC83+AC125+AC171+AC181+AC248+AC268+AC278+AC285+AC310+AC328+AC368+AC380 -> 321 | AD11: =AD12+AD83+AD125+AD171+AD181+AD248+AD268+AD278+AD285+AD310+AD328+AD368+AD380 -> 0 | AE11: =AE12+AE83+AE125+AE171+AE181+AE248+AE268+AE278+AE285+AE310+AE328+AE368+AE380 -> 0 | AF11: =AF12+AF83+AF125+AF171+AF181+AF248+AF268+AF278+AF285+AF310+AF328+AF368+AF380 -> 0
A12: 1. Образование | E12: =E13+F43+E76 -> 1.5626576e+08 | F12: =F13+F43+F76 -> 1.5162917e+08 | G12: =G13+G43+G76 -> 0 | H12: =H13+H43+H76 -> 55011586 | I12: =I13+I43+I76 -> 0 | J12: =J13+J43+J76 -> 0 | L12: =L13+L43+L76 -> 0 | M12: =M13+M43+M76 -> 0 | N12: =N13+N43+N76 -> 0 | O12: =O13+O43+O76 -> 19531996 | P12: =P13+P43+P76 -> 19531996 | Q12: =Q13+Q43+Q76 -> 0 | R12: =R13+R43+R76 -> 0 | S12: =S13+S43+S76 -> 15587912 | ... V12: =V13+V43+V76 -> 0 | W12: 0 | Y12: =P12+Q12-T12-U12 -> 3944083.2 | Z12: =Y12/(P12+Q12) -> 0.20192935 | AA12: =Y12+W12 -> 3944083.2 | AB12: =AA12/O12 -> 0.20192935 | AC12: =AC13+AC43+AC76 -> 67 | AD12: =AD13+AD43+AD76 -> 0 | AE12: =AE13+AE43+AE76 -> 0 | AF12: =AF13+AF43+AF76 -> 0
A13: 1.1. | B13: Строительство и реконструкция объектов | E13: =SUM(E14:E42) -> 1.3403289e+08 | F13: =SUM(F14:F42) -> 1.2513783e+08 | G13: =SUM(G14:G32) -> 0 | H13: =SUM(H14:H42) -> 42047226 | I13: =SUM(I14:I32) -> 0 | J13: =SUM(J14:J32) -> 0 | L13: =SUM(L14:L32) -> 0 | M13: =SUM(M14:M32) -> 0 | N13: =SUM(N14:N32) -> 0 | O13: =SUM(O14:O42) -> 15223895 | P13: =SUM(P14:P42) -> 15223895 | Q13: =SUM(Q14:Q42) -> 0 | R13: =SUM(R14:R42) -> 0 | S13: =SUM(S14:S42) -> 11329811 | T13: =SUM(T14:T42) -> 11329811 | U13: =SUM(U14:U42) -> 0 | V13: =SUM(V14:V42) -> 0 | W13: =R13-V13 -> 0 | Y13: =P13+Q13-T13-U13 -> 3894083.2 | Z13: =Y13/(P13+Q13) -> 0.25578758 | AA13: =Y13+W13 -> 3894083.2 | AB13: =AA13/O13 -> 0.25578758 | AC13: =SUM(AC14:AC42) -> 29 | AD13: =SUM(AD14:AD42) -> 0 | AE13: =SUM(AE14:AE42) -> 0 | AF13: =SUM(AF14:AF32) -> 0
A14: 1 | B14: Реконструкция здания детского сада №37, по адресу: мкр. «Нуркент», Алатауского района города Алматы | C14: 04 1 373 037 015 | D14: 2025-2026 | E14: 2383710 | F14: 2143822.2 | H14: 2015000 | J14: 320 мест, общая площадь здания - 5830,0 м2 | K14: 300 мест, общая площадь здания - 5000,0 м2 | O14: =SUM(P14:R14) -> 110975.7 | P14: 110975.7 | S14: =SUM(T14:V14) -> 0 | T14: 0 | W14: =R14-V14 -> 0 | Y14: =P14+Q14-T14-U14 -> 110975.7 | Z14: =Y14/(P14+Q14) -> 1 | AA14: =Y14+W14 -> 110975.7 | AB14: =AA14/O14 -> 1 | AC14: 1 | AD14: 0 | AE14: 0 | AF14: 0 | AG14: Не было освоения в 1 квартале 2026 году.
A15: 2 | B15: Реконструкция здания ясли-сада №10 по адресу: ул. Шевченко, дом 186 А, Алмалинский район, г. Алматы | C15: 04 1 373 037 015 | D15: 2025-2026 | E15: 2109388 | F15: 2022686.1 | H15: 650000 | J15: Общая площадь здания - 2347,92 м2 | K15: Общая площадь здания - 2000 м3 | O15: =SUM(P15:R15) -> 927020.24 | P15: 927020.24 | S15: =SUM(T15:V15) -> 840468.5 | T15: 840468.5 | W15: =R15-V15 -> 0 | Y15: =P15+Q15-T15-U15 -> 86551.742 | Z15: =Y15/(P15+Q15) -> 0.093365536 | AA15: =Y15+W15 -> 86551.742 | AB15: =AA15/O15 -> 0.093365536 | AC15: 1 | AD15: 0 | AE15: 0 | AF15: 0
A16: 3 | B16: Строительство детского сада по ул. Тлендиева, 49, Алмалинский район (со сносом здания) | C16: 04 1 373 037 015 | D16: 2025-2026 | E16: 3100763 | F16: 2942352.3 | H16: 100000 | J16: 240 мест, общая площадь здания - 5503,40 м2 | K16: 241 мест, общая площадь здания - 5000 м2 | O16: =SUM(P16:R16) -> 735000 | P16: 735000 | S16: =SUM(T16:V16) -> 591000 | T16: 591000 | W16: =R16-V16 -> 0 | Y16: =P16+Q16-T16-U16 -> 144000 | Z16: =Y16/(P16+Q16) -> 0.19591837 | AA16: =Y16+W16 -> 144000 | AB16: =AA16/O16 -> 0.19591837 | AC16: 1 | AD16: 0 | AE16: 0 | AF16: 0
A17: 4 | B17: Строительство детского сада на 240 мест, по адресу: южнее пробиваемого пр. Абая, западнее р. «Карагайлы», Наурызбайского района города Алматы | C17: 04 1 373 037 015 | D17: 2025-2026 | E17: 2756897 | F17: 2645341.1 | H17: 1327000 | J17: 240 мест, общая площадь здания - 3049,11 м2 | K17: 200 мест, общая площадь здания - 3000 м2 | O17: =SUM(P17:R17) -> 867000 | P17: 867000 | S17: =SUM(T17:V17) -> 804125.5 | T17: 804125.5 | W17: =R17-V17 -> 0 | Y17: =P17+Q17-T17-U17 -> 62874.5 | Z17: =Y17/(P17+Q17) -> 0.072519608 | AA17: =Y17+W17 -> 62874.5 | AB17: =AA17/O17 -> 0.072519608 | AC17: 1 | AD17: 0 | AE17: 0 | AF17: 0
A18: 5 | B18: Строительство детского сада на 320 мест в микрорайоне «Курамыс» Наурызбайского района города Алматы» (без наружных инженерных сетей) | C18: 04 1 373 037 015 | D18: 2023-2026 | E18: 2737433 | F18: 2461861 | H18: 1133361 | J18: 320 мест, площадь застройки- 2502,21 м2 | K18: 300 мест, площадь застройки- 2000 м2 | O18: =SUM(P18:R18) -> 1133361 | P18: 1133361 | S18: =SUM(T18:V18) -> 985733.02 | T18: 985733.02 | W18: =R18-V18 -> 0 | Y18: =P18+Q18-T18-U18 -> 147627.98 | Z18: =Y18/(P18+Q18) -> 0.13025681 | AA18: =Y18+W18 -> 147627.98 | AB18: =AA18/O18 -> 0.13025681 | AC18: 1 | AD18: 0 | AE18: 0 | AF18: 0
A19: 7 | B19: Строительство школы на 550 ученических мест, по адресу: мкр. «Зердели», Алатауский район | C19: 04 2 373 028 015 | D19: 2025-2026 | E19: 3820325 | F19: 2398922.2 | H19: 2398922.2 | J19: Площадь застройки - 3280,04 м2 | K19: Площадь застройки - 3280,04 м2 | O19: =SUM(P19:R19) -> 124057.86 | P19: 124057.86 | S19: =SUM(T19:V19) -> 124057.86 | T19: 124057.86 | W19: =R19-V19 -> 0 | Y19: =P19+Q19-T19-U19 -> 0 | Z19: =Y19/(P19+Q19) -> 0 | AA19: =Y19+W19 -> 0 | AB19: =AA19/O19 -> 0 | AC19: 1 | AD19: 0 | AE19: 0 | AF19: 0 | AG19: Уменьшение общей суммы договора
A20: 8 | B20: Реконструкция с пристройкой к зданию школы №160, по адресу: ул. Заводская 96, мкр. «Карасу», Алатауский район, город Алматы | C20: 04 2 373 028 015 | D20: 2025-2026 | E20: 6715009 | F20: 6535067.5 | H20: 4015000 | J20: Площадь застройки - 4188,01 м2, на 575 мест | K20: Площадь застройки - 4000 м2, на 500 мест | O20: =SUM(P20:R20) -> 2445052.4 | P20: 2445052.4 | S20: =SUM(T20:V20) -> 733515.72 | T20: 733515.72 | W20: =R20-V20 -> 0 | Y20: =P20+Q20-T20-U20 -> 1711536.7 | Z20: =Y20/(P20+Q20) -> 0.7 | AA20: =Y20+W20 -> 1711536.7 | AB20: =AA20/O20 -> 0.7 | AC20: 1 | AD20: 0 | AE20: 0 | AF20: 0
A21: 9 | B21: Строительство пристройки на 300 мест к зданию школы №16 ул. А. Шарипова, Алмалинского района | C21: 04 2 373 028 015 | D21: 2025-2026 | E21: 2356129.3 | F21: 2291862.5 | H21: 1100000 | J21: 300 мест, общая площадь здания - 2040,59 м2 | K21: 201 мест, общая площадь здания - 2000 м2 | O21: =SUM(P21:R21) -> 341934.02 | P21: 341934.02 | S21: =SUM(T21:V21) -> 341934.02 | T21: 341934.02 | W21: =R21-V21 -> 0 | Y21: =P21+Q21-T21-U21 -> 0 | Z21: =Y21/(P21+Q21) -> 0 | AA21: =Y21+W21 -> 0 | AB21: =AA21/O21 -> 0 | AC21: 1 | AD21: 0 | AE21: 0 | AF21: 0
A22: 10 | B22: Реконструкция с пристройкой к зданию КГУ «Общеобразовательная школа №58», по адресу: ул. Тургут Озала, Алмалинский район, города Алматы | C22: 04 2 373 028 015 | D22: 2024-2026 | E22: 4960691 | F22: 4729032.7 | H22: 2529399.7 | J22: Площадь застройки - 5492,88 м2 | K22: Площадь застройки - 5000 м3 | O22: =SUM(P22:R22) -> 0 | P22: 0 | S22: =SUM(T22:V22) -> 0 | T22: 0 | W22: =R22-V22 -> 0 | Y22: =P22+Q22-T22-U22 -> 0 | AA22: =Y22+W22 -> 0 | AC22: 1 | AD22: 0 | AE22: 0 | AF22: 0 | AG22: Расторгли договор с подрядчиком
A23: 11 | B23: Реконструкция здания КГУ «Общеобразовательная школа №124», расположенного по адресу в Алмалинском районе, г. Алматы | C23: 04 2 373 028 015 | D23: 2025-2026 | E23: 2811257 | F23: 2732467.7 | H23: 493500 | J23: 576 мест, общая площадь здания - 6701,28м2 | K23: 577 мест, общая площадь здания - 6000м2 | O23: =SUM(P23:R23) -> 650000 | P23: 650000 | S23: =SUM(T23:V23) -> 396630.41 | T23: 396630.41 | W23: =R23-V23 -> 0 | Y23: =P23+Q23-T23-U23 -> 253369.59 | Z23: =Y23/(P23+Q23) -> 0.38979936 | AA23: =Y23+W23 -> 253369.59 | AB23: =AA23/O23 -> 0.38979936 | AC23: 1 | AD23: 0 | AE23: 0 | AF23: 0
A24: 12 | B24: Реконструкция здания школы - гимназии №60 в мкр. «Орбита-1», 41, Бостандыкского района (Литеры А, А1), города Алматы | C24: 04 2 373 028 015 | D24: 2025-2026 | E24: 6237578 | F24: 6046646.1 | H24: 3872000 | J24: Площадь застройки - 4551.63 м2, на 550 мест | K24: Площадь застройки - 4000 м2, на 500 мест | O24: =SUM(P24:R24) -> 633041.39 | P24: 633041.39 | S24: =SUM(T24:V24) -> 633041.39 | T24: 633041.39 | W24: =R24-V24 -> 0 | Y24: =P24+Q24-T24-U24 -> 0 | Z24: =Y24/(P24+Q24) -> 0 | AA24: =Y24+W24 -> 0 | AB24: =AA24/O24 -> 0 | AC24: 1 | AD24: 0 | AE24: 0 | AF24: 0
A25: 13 | B25: Реконструкция с пристройкой (со сносом существующих зданий) к зданию школы №43, по адресу: Жетысуский район, ул. Шилова | C25: 04 2 373 028 015 | D25: 2025-2026 | E25: 2521526 | F25: 2431261.3 | H25: 250000 | J25: Площадь застройки - 2496,26 м3 | K25: Площадь застройки - 2000 м4 | O25: =SUM(P25:R25) -> 638447.06 | P25: 638447.06 | S25: =SUM(T25:V25) -> 638447.06 | T25: 638447.06 | W25: =R25-V25 -> 0 | Y25: =P25+Q25-T25-U25 -> 0 | Z25: =Y25/(P25+Q25) -> 0 | AA25: =Y25+W25 -> 0 | AB25: =AA25/O25 -> 0 | AC25: 1 | AD25: 0 | AE25: 0 | AF25: 0
A26: 14 | B26: Строительство пристройки к зданию КГУ «Общеобразовательная школа № 112», по адресу: ул. Ратушного, д.131, Жетысуский район, города Алматы | C26: 04 2 373 028 015 | D26: 2025-2026 | E26: 2334400 | F26: 1902604.1 | H26: 1589882.8 | J26: Площадь застройки - 1779 м2 | K26: Площадь застройки - 1000 м3 | O26: =SUM(P26:R26) -> 308437 | P26: 308437 | S26: =SUM(T26:V26) -> 308437 | T26: 308437 | W26: =R26-V26 -> 0 | Y26: =P26+Q26-T26-U26 -> 0 | Z26: =Y26/(P26+Q26) -> 0 | AA26: =Y26+W26 -> 0 | AB26: =AA26/O26 -> 0 | AC26: 1 | AD26: 0 | AE26: 0 | AF26: 0
A27: 15 | B27: Реконструкция здания школы - гимназии №30 имени Д. Снегина, по адресу: пр. Достык, 226а, Медеуский район, города Алматы | C27: 04 2 373 028 015 | D27: 2025-2026 | E27: 6220881 | F27: 6115197.1 | H27: 1424500 | J27: Площадь застройки - 4777,34 м2, на 576 мест | K27: Площадь застройки - 4000 м2, на 500 мест | O27: =SUM(P27:R27) -> 638905.12 | P27: 638905.12 | S27: =SUM(T27:V27) -> 638905.12 | T27: 638905.12 | W27: =R27-V27 -> 0 | Y27: =P27+Q27-T27-U27 -> 0 | Z27: =Y27/(P27+Q27) -> 0 | AA27: =Y27+W27 -> 0 | AB27: =AA27/O27 -> 0 | AC27: 1 | AD27: 0 | AE27: 0 | AF27: 0
A28: 16 | B28: Реконструкция здания КГУ «Школа-гимназия №56 имени К.Сатпаева» расположенного по адресу Медеуском районе, г.Алматы | C28: 04 2 373 028 015 | D28: 2025-2026 | E28: 2652521 | F28: 2563316.4 | H28: 1050000 | J28: 572 места, общая площадь здания - 6134,24 м2 | K28: 500 места, общая площадь здания - 6000 м2 | O28: =SUM(P28:R28) -> 437509.84 | P28: 437509.84 | S28: =SUM(T28:V28) -> 437509.84 | T28: 437509.84 | W28: =R28-V28 -> 0 | Y28: =P28+Q28-T28-U28 -> 0 | Z28: =Y28/(P28+Q28) -> 0 | AA28: =Y28+W28 -> 0 | AB28: =AA28/O28 -> 0 | AC28: 1 | AD28: 0 | AE28: 0 | AF28: 0
A29: 17 | B29: Строительство отдельно стоящего здания на 300 мест для КГУ «Школа-лицей № 131 им. Б. Момышұлы» по адресу: город Алматы, Медеуский район, мкр. «Самал 2», д. 22 | C29: 04 2 373 028 015 | D29: 2025-2026 | E29: 2976050 | F29: 2832629.3 | H29: 585000 | J29: Площадь застройки - 1920,40 м2 | K29: Площадь застройки - 1000 м3 | O29: =SUM(P29:R29) -> 1320000 | P29: 1320000 | S29: =SUM(T29:V29) -> 0 | T29: 0 | W29: =R29-V29 -> 0 | Y29: =P29+Q29-T29-U29 -> 1320000 | Z29: =Y29/(P29+Q29) -> 1 | AA29: =Y29+W29 -> 1320000 | AB29: =AA29/O29 -> 1 | AC29: 1 | AD29: 0 | AE29: 0 | AF29: 0 | AG29: Не было освоения в 1 квартале 2026 году.
A30: 19 | B30: Строительство инновационного технического колледжа и общежития, мкр. «Алгабас», улица 7, Алатауский район | C30: 04 2 373 069 015 | D30: 2023-2026 | E30: 9177975 | F30: 8538185.9 | H30: 6811185.7 | J30: Площадь застройки - 6922,75 м2 | K30: Площадь застройки - 6000 м2 | O30: 0 | P30: 0 | Q30: 0 | R30: 0 | S30: 0 | T30: 0 | U30: 0 | V30: 0 | W30: =R30-V30 -> 0 | Y30: =P30+Q30-T30-U30 -> 0 | AA30: =Y30+W30 -> 0 | AC30: 1 | AD30: 0 | AE30: 0 | AF30: 0
A31: 20 | B31: Строительство центра развития и творчества в мкр. «Саялы», Алатауского района | C31: 04 2 373 069 015 | D31: 2025-2027 | E31: 12224030 | F31: 11869365 | H31: 9203474.3 | J31: Площадь застройки - 4990,12 м2 на 503 мест | K31: Площадь застройки - 4000 м2 на 500 мест | O31: =SUM(P31:R31) -> 507146.45 | P31: 507146.45 | S31: =SUM(T31:V31) -> 507146.45 | T31: 507146.45 | W31: =R31-V31 -> 0 | Y31: =P31+Q31-T31-U31 -> 0 | Z31: =Y31/(P31+Q31) -> 0 | AA31: =Y31+W31 -> 0 | AB31: =AA31/O31 -> 0 | AC31: 1 | AD31: 0 | AE31: 0 | AF31: 0
A32: 21 | B32: Строительство центра развития и творчества в микрорайоне «Жас канат», Турксибский район города Алматы | C32: 04 2 373 069 015 | D32: 2025-2027 | E32: 13940176 | F32: 14036930 | H32: 1499000 | J32: 508 посещений, общая площадь здания - 14011,72 м2 | K32: 500 посещений, общая площадь здания - 10000 м2 | O32: =SUM(P32:R32) -> 1227147 | P32: 1227147 | S32: =SUM(T32:V32) -> 1170000 | T32: 1170000 | W32: =R32-V32 -> 0 | Y32: =P32+Q32-T32-U32 -> 57147 | Z32: =Y32/(P32+Q32) -> 0.046568993 | AA32: =Y32+W32 -> 57147 | AB32: =AA32/O32 -> 0.046568993 | AC32: 1 | AD32: 0 | AE32: 0 | AF32: 0
A33: 22 | B33: Реконструкция здания школы предпринимателей, по адресу: проспект Достык 226, Медеуский район, города Алматы | C33: 04 4 373 028 015 | D33: 2026-2027 | E33: 1420553.3 | F33: 1375968 | J33: Общая площадь здания - 2704,2 м2, общий строительный объем - 11582 м3. | O33: =SUM(P33:R33) -> 0 | P33: 0 | S33: =SUM(T33:V33) -> 0 | T33: 0 | W33: =R33-V33 -> 0 | Y33: =P33+Q33-T33-U33 -> 0 | AA33: =Y33+W33 -> 0 | AC33: 1 | AG33: Здание не передано для реконструкции
A34: 23 | B34: Строительство пристройки на 450 мест к зданию школы гимназии в мкр. «Нуркент» Алатауского района г. Алматы (201 школа) | C34: 04 4 373 028 015 | D34: 2026 | E34: 2590393 | F34: 2369852.6 | J34: Общая площадь здания - 6275,71 м2, общий строительный объем - 22639,60 м3. | O34: =SUM(P34:R34) -> 0 | P34: 0 | S34: =SUM(T34:V34) -> 0 | T34: 0 | W34: =R34-V34 -> 0 | Y34: =P34+Q34-T34-U34 -> 0 | AA34: =Y34+W34 -> 0 | AC34: 1 | AG34: Не было освоения в 1 квартале 2026 году. Разрешение на строительство получено в апреле 2026 года, период реализации 7 месяцев
A35: 24 | B35: Строительство отдельно стоящего здания на 400 мест на территории школы-гимназии №1 в микрорайоне «10», Ауэзовского района | C35: 04 4 373 028 015 | D35: 2025-2026 | E35: 2332591.7 | F35: 2219260.6 | J35: Общая площадь здания - 4605,66 м2, общий строительный объем - 19659,62 м3. | K35: Общая площадь здания - 4605,66 м2, общий строительный объем - 19659,62 м3. | O35: =SUM(P35:R35) -> 603000 | P35: 603000 | S35: =SUM(T35:V35) -> 603000 | T35: 603000 | W35: =R35-V35 -> 0 | Y35: =P35+Q35-T35-U35 -> 0 | Z35: =Y35/(P35+Q35) -> 0 | AA35: =Y35+W35 -> 0 | AB35: =AA35/O35 -> 0 | AC35: 1
A36: 25 | B36: Строительство школы на 1200 мест (со сносом существующего здания школы-гимназии №13), по адресу: «11» мкр., Ауэзовский район, города Алматы | C36: 04 4 373 028 015 | D36: 2026-2027 | E36: 9582931 | F36: 9267229.7 | J36: Общая площадь здания - 12752,23 м2, общий строительный объем - 70259,64 м3. | K36: Общая площадь здания - 12752,23 м2, общий строительный объем - 70259,64 м3. | O36: =SUM(P36:R36) -> 0 | S36: =SUM(T36:V36) -> 0 | U36: 0 | W36: =R36-V36 -> 0 | Y36: =P36+Q36-T36-U36 -> 0 | AA36: =Y36+W36 -> 0 | AC36: 1 | AG36: Договор подписан в марте 2026 года
A37: 26 | B37: Строительство пристройки общежития со столовой к зданию КГУ «Специальная школа-интернат №4 для слепых и слабовидящих детей» по адресу: г. Алматы, ул. Ладыгина, 33, Ауэзовского района | C37: 04 4 373 028 015 | D37: 2026-2027 | E37: 3663151 | F37: 3112845.3 | J37: Общая площадь здания - 5975,9 м2, общий строительный объем - 30993,3 м3. | K37: Общая площадь здания - 5975,9 м2, общий строительный объем - 30993,3 м3. | O37: =SUM(P37:R37) -> 442500 | P37: 442500 | S37: =SUM(T37:V37) -> 442500 | T37: 442500 | W37: =R37-V37 -> 0 | Y37: =P37+Q37-T37-U37 -> 0 | Z37: =Y37/(P37+Q37) -> 0 | AA37: =Y37+W37 -> 0 | AB37: =AA37/O37 -> 0 | AC37: 1
A38: 27 | B38: Строительство школы творчества на 900 мест и корпуса интерната с реконструкцией существующих зданий, и сооружений, по адресу: мкр. «Дарын-1», Бостандыкский район, города Алматы». (2 очередь, реконструкция зданий и благоустройство) | C38: 04 4 373 028 015 | D38: 2026-2027 | E38: 3181731 | F38: 3019434.2 | J38: Общая площадь участка - 16,7661 га, площадь покрытий - 20 908,95 м2 | K38: Общая площадь участка - 16,7661 га, площадь покрытий - 20 908,95 м2 | O38: =SUM(P38:R38) -> 383848.5 | P38: 383848.5 | S38: =SUM(T38:V38) -> 383848.5 | T38: 383848.5 | W38: =R38-V38 -> 0 | Y38: =P38+Q38-T38-U38 -> 0 | Z38: =Y38/(P38+Q38) -> 0 | AA38: =Y38+W38 -> 0 | AB38: =AA38/O38 -> 0 | AC38: 1
A39: 28 | B39: Строительство общежития на 350 мест по адресу: ул. Аскарова 47, мкр. «Дарын-1», Бостандыкский район, города Алматы». (3 очередь) | C39: 04 4 373 028 015 | D39: 2026-2027 | E39: 4083905 | F39: 2093113.5 | J39: Общая площадь - 6599,44 м2, строительный объем - 32696,27 м3 | K39: Общая площадь - 6599,44 м2, строительный объем - 32696,27 м3 | O39: =SUM(P39:R39) -> 601754.59 | P39: 601754.59 | S39: =SUM(T39:V39) -> 601754.59 | T39: 601754.59 | W39: =R39-V39 -> 0 | Y39: =P39+Q39-T39-U39 -> 0 | Z39: =Y39/(P39+Q39) -> 0 | AA39: =Y39+W39 -> 0 | AB39: =AA39/O39 -> 0 | AC39: 1
A40: 29 | B40: Реконструкция с пристройкой (со сносом существующих зданий) к зданию школы-гимназии № 78, по адресу: г. Алматы, Турксибский район, мкр. «Алтай-2» | C40: 04 4 373 028 015 | D40: 2026-2027 | E40: 9651907 | F40: 9183054.8 | J40: Общая площадь - 11962,51 м2, строительный объем - 44114,43 м3 | O40: =SUM(P40:R40) -> 0 | P40: 0 | S40: =SUM(T40:V40) -> 0 | T40: 0 | W40: =R40-V40 -> 0 | Y40: =P40+Q40-T40-U40 -> 0 | AA40: =Y40+W40 -> 0 | AC40: 1 | AG40: Договор подписан 27 марта 2026 года
A41: 30 | B41: Строительство пристройки (со сносом существующего здания) к зданию общеобразовательной школы №170, по адресу Турксибский район, улица Магнитная, 31 | C41: 04 4 373 028 015 | D41: 2026-2027 | E41: 1063001.7 | F41: 1020561.8 | J41: Общая площадь - 1781,50 м2, строительный объем - 8485,0 м3 | K41: Общая площадь - 1781,50 м2, строительный объем - 8485,0 м3 | O41: =SUM(P41:R41) -> 147756.34 | P41: 147756.34 | S41: =SUM(T41:V41) -> 147756.34 | T41: 147756.34 | W41: =R41-V41 -> 0 | Y41: =P41+Q41-T41-U41 -> 0 | Z41: =Y41/(P41+Q41) -> 0 | AA41: =Y41+W41 -> 0 | AB41: =AA41/O41 -> 0 | AC41: 1
A42: 31 | B42: Строительство пристройки на 600 мест к зданию КГУ «Общеобразовательная школа №198» по адресу: мкр. «Жас-Канат», Турксибский район, г. Алматы | C42: 04 4 373 028 015 | D42: 2026-2027 | E42: 4425982 | F42: 4236961.5 | J42: Общая площадь - 6238,70 м2, строительный объем - 30592,60 м3 | O42: =SUM(P42:R42) -> 0 | S42: =SUM(T42:V42) -> 0 | W42: =R42-V42 -> 0 | Y42: =P42+Q42-T42-U42 -> 0 | AA42: =Y42+W42 -> 0 | AC42: 1 | AG42: Договор подписан во втором квартале 2026 года
...

Sheet прил4-МБ свод планир
AG3: Приложение 37
A4: Отчет по мониторингу реализации бюджетных инвестиционных проектов за 1 квартал 2026 года
AG5: (тыс. тенге)
A6: № | B6: Наименование объекта | C6: Код программы (подпрограммы) | D6: Период реализации | E6: Общая стоимость по ГЭ на ПСД | F6: Договорная стоимость проекта | G6: Всего планируемый объем финансирования БИП, тысяч тенге | I6: Объем выполненных работ в натуральном выражении согласно ТЭО/ПСД (мощность проекта) | M6: Объем выполненных работ в тыс. тенге | AG6: Причины уклонения , принятые (принимаемые) меры и причины незавершения
C7: Администратор бюджетной программы | G7: в том числе, за счет | I7: Факт до отчетного года | J7: План на отчетный период | K7: Факт на отчетный период | L7: Невыполненные мероприятия за отчетный период | M7: Всего финансирование БИП с начала реализации | O7: План за отчетный период | S7: Факт за отчетный период | T7: в том числе | W7: Отклонение | AA7: Общее отклонение РБ+МБ | AC7: Количество проектов
G8: РБ | H8: МБ | M8: Факт | O8: Общий план | P8: МБ (без займов) | Q8: Софинансирование республиканских проектов из МБ | R8: РБ | T8: МБ (без займов) | U8: Софинансирование республиканских проектов из МБ | V8: РБ | W8: РБ тыс. тенге | X8: % | Y8: МБ тыс. тенге | Z8: % | AA8: тыс. Тенге | AB8: % | AC8: Всего реализуется | AD8: Планируются к завершению | AE8: Фактически завершено | AF8: Причины незавершения
M9: РБ | N9: МБ
A10: 1 | B10: =A10+1 -> 2 | C10: =B10+1 -> 3 | D10: 4 | E10: 5 | F10: =E10+1 -> 6 | G10: 7 | H10: =G10+1 -> 8 | I10: =H10+1 -> 9 | J10: =I10+1 -> 10 | K10: =J10+1 -> 11 | L10: =K10+1 -> 12 | M10: =L10+1 -> 13 | N10: =M10+1 -> 14 | O10: =N10+1 -> 15 | ... AG10: =AF10+1 -> 33
A11: ВСЕГО | E11: =E12+E15+E19+E27+E33+E37 -> 28556434 | F11: =F12+F15+F19+F27+F33+F37 -> 28416028 | G11: =G12+G15+G19+G27+G33+G37 -> 0 | H11: =H12+H15+H19+H27+H33+H37 -> 11241609 | I11: =I12+I15+I19+I27+I33+I37 -> 3616330.7 | K11: =K12+K15+K19+K27+K33+K37 -> 0 | L11: =L12+L15+L19+L27+L33+L37 -> 15 | M11: =M12+M15+M19+M27+M33+M37 -> 0 | N11: =N12+N15+N19+N27+N33+N37 -> 4223194.9 | O11: =O12+O15+O19+O27+O33+O37 -> 5189645.6 | P11: =P12+P15+P19+P27+P33+P37 -> 5189645.6 | Q11: =Q12+Q15+Q19+Q27+Q33+Q37 -> 0 | R11: =R12+R15+R19+R27+R33+R37 -> 0 | ... V11: =V12+V15+V19+V27+V33+V37 -> 0 | W11: =R11-V11 -> 0 | Y11: =P11+Q11-T11-U11 -> 3603777.5 | Z11: =Y11/(P11+Q11) -> 0.69441687 | AA11: =Y11+W11 -> 3603777.5 | AB11: =AA11/O11 -> 0.69441687 | AC11: =AC12+AC15+AC19+AC27+AC33+AC37 -> 0 | AD11: =AD12+AD15+AD19+AD27+AD33+AD37 -> 12 | AE11: =AE12+AE15+AE19+AE27+AE33+AE37 -> 0
A12: 1. Образование | E12: =E13 -> 8236674 | F12: =F13 -> 7763890.1 | G12: =G13 -> 0 | H12: =H13 -> 7517549.2 | I12: =I13 -> 0 | J12: =J13 -> 0 | K12: =K13 -> 0 | L12: =L13 -> 0 | ... V12: =V13 -> 0 | W12: 0 | Y12: =P12+Q12-T12-U12 -> 0 | Z12: =Y12/(P12+Q12) -> 0 | AA12: =Y12+W12 -> 0 | AB12: =AA12/O12 -> 0 | AC12: =AC13 -> 0 | AD12: =AD13 -> 1 | AE12: =AE13 -> 0
A13: 1.1. | B13: Строительство и реконструкция объектов | E13: =SUM(E14:E14) -> 8236674 | F13: =SUM(F14:F14) -> 7763890.1 | G13: =SUM(G14:G14) -> 0 | H13: =SUM(H14:H14) -> 7517549.2 | I13: =SUM(I14:I14) -> 0 | J13: =SUM(J14:J14) -> 0 | K13: =SUM(K14:K14) -> 0 | L13: =SUM(L14:L14) -> 0 | ... V13: =SUM(V14:V14) -> 0 | W13: =R13-V13 -> 0 | Y13: =P13+Q13-T13-U13 -> 0 | Z13: =Y13/(P13+Q13) -> 0 | AA13: =Y13+W13 -> 0 | AB13: =AA13/O13 -> 0 | AC13: =SUM(AC14:AC14) -> 0 | AD13: =SUM(AD14:AD14) -> 1 | AE13: =SUM(AE14:AE14) -> 0 | AF13: =SUM(AF14:AF14) -> 0
A14: 18 | B14: Строительство школы с общежитием (со сносом существующих зданий), по адресу: ул. Енбек, мкр. «Шугыла», Наурызбайский район, города Алматы | C14: 04 2 373 028 015 | D14: 2024-2026 | E14: 8236674 | F14: 7763890.1 | H14: 7517549.2 | J14: Площадь застройки - 4721 м2 | K14: Площадь застройки - 4721 м2 | O14: =SUM(P14:R14) -> 401341.91 | P14: 401341.91 | S14: =SUM(T14:V14) -> 401341.91 | T14: 401341.91 | W14: =R14-V14 -> 0 | Y14: =P14+Q14-T14-U14 -> 0 | Z14: =Y14/(P14+Q14) -> 0 | AA14: =Y14+W14 -> 0 | AB14: =AA14/O14 -> 0 | AD14: 1 | AE14: 0 | AF14: 0 | AG14: Подписывается акт приемки объекта в эксплуатацию
A15: 2. Здравоохранение | E15: =F17 -> 107729 | F15: =F17 -> 107729 | G15: =G18 -> 0 | H15: =H18 -> 107729 | I15: =I18 -> 0 | J15: =J18 -> Заключение ГЭ - 1 ед. | K15: =K17 -> 0 | L15: =L17 -> 0 | M15: =M17 -> 0 | N15: =N17 -> 0 | O15: =O17 -> 107729.55 | P15: =P17 -> 107729.55 | Q15: =Q17 -> 0 | R15: =R17 -> 0 | ... V15: =V17 -> 0 | Y15: =P15+Q15-T15-U15 -> 0 | Z15: =Y15/(P15+Q15) -> 0 | AA15: =Y15+W15 -> 0 | AB15: =AA15/O15 -> 0 | AC15: =AC16 -> 0 | AD15: =AD17 -> 1 | AE15: =AE16 -> 0
B16: в т.ч. на село | O16: =SUM(P16:R16) -> 0 | S16: =SUM(T16:V16) -> 0 | W16: =R16-V16 -> 0 | Y16: =P16+Q16-T16-U16 -> 0
A17: 2.2. | B17: Разработка ПСД | E17: =SUM(E18:E18) -> 0 | F17: =SUM(F18:F18) -> 107729 | G17: =SUM(G18:G18) -> 0 | H17: =SUM(H18:H18) -> 107729 | I17: =SUM(I18:I18) -> 0 | J17: =SUM(J18:J18) -> 0 | K17: =SUM(K18:K18) -> 0 | L17: =SUM(L18:L18) -> 0 | ... V17: =SUM(V18:V18) -> 0 | Y17: =P17+Q17-T17-U17 -> 0 | Z17: =Y17/(P17+Q17) -> 0 | AA17: =Y17+W17 -> 0 | AB17: =AA17/O17 -> 0 | AC17: =SUM(AC18:AC18) -> 0 | AD17: =SUM(AD18:AD18) -> 1 | AE17: =SUM(AE18:AE18) -> 0 | AF17: =SUM(AF18:AF18) -> 0 | AG17: =SUM(AG18:AG18) -> 0
A18: 108 | B18: Разработка ПСД на капитальный ремонт "КГП на ПХВ Центр фтизиопульмонологии УОЗ г.Алматы ул .Дегдар 45" | C18: 04 1 373 037 015 | D18: 2025-2026 | F18: 107729 | H18: 107729 | J18: Заключение ГЭ - 1 ед. | O18: =SUM(P18:R18) -> 107729.55 | P18: 107729.55 | S18: =SUM(T18:V18) -> 107729.55 | T18: 107729.55 | Y18: =P18+Q18-T18-U18 -> 0 | Z18: =Y18/(P18+Q18) -> 0 | AA18: =Y18+W18 -> 0 | AB18: =AA18/O18 -> 0 | AD18: 1 | AG18: 17.07.2026 ожидается получения госэкспертизы
A19: 3. Водообеспечение | E19: =E21+F25 -> 11611249 | F19: =F21+F25 -> 12550232 | G19: =G21+G25 -> 0 | H19: =H21+H25 -> 3616330.7 | I19: =I21+I25 -> 3616330.7 | J19: =J21+J25 -> 0 | K19: =K21+K25 -> 0 | L19: =L21+L25 -> 0 | M19: =M21+M25 -> 0 | ... V19: =V21+V25 -> 0 | W19: =R19-V19 -> 0 | Y19: =P19+Q19-T19-U19 -> 1090934.5 | Z19: =Y19/(P19+Q19) -> 0.6493371 | AA19: =Y19+W19 -> 1090934.5 | AB19: =AA19/O19 -> 0.6493371 | AC19: =AC21+AC25 -> 0 | AD19: =AD21+AD25 -> 4 | AE19: =AE21+AE25 -> 0 | AF19: =AF21+AF25 -> 0 | AG19: =AG21+AG25 -> 0
B20: в т.ч. на село | O20: 0 | S20: 0 | W20: =R20-V20 -> 0 | Y20: =P20+Q20-T20-U20 -> 0
A21: 3.1. | B21: Строительство и реконструкция объектов | E21: =SUM(E22:E24) -> 11532616 | F21: =SUM(F22:F24) -> 12471599 | G21: =SUM(G22:G24) -> 0 | H21: =SUM(H22:H24) -> 3616330.7 | I21: =SUM(I22:I24) -> 3616330.7 | J21: =SUM(J22:J24) -> 0 | K21: =SUM(K22:K24) -> 0 | L21: =SUM(L22:L24) -> 0 | ... V21: =SUM(V22:V24) -> 0 | Y21: =P21+Q21-T21-U21 -> 1077717.5 | Z21: =Y21/(P21+Q21) -> 0.67856761 | AA21: =Y21+W21 -> 1077717.5 | AB21: =AA21/O21 -> 0.67856761 | AC21: =SUM(AC22:AC24) -> 0 | AD21: =SUM(AD22:AD24) -> 3 | AE21: =SUM(AE22:AE24) -> 0 | AF21: =SUM(AF22:AF24) -> 0 | AG21: =SUM(AG22:AG24) -> 0
A22: 120 | B22: Строительство сетей канализации мкр. Достык (2 очередь), Ауэзовский район | C22: 07 2 123 042 015 | D22: 2023-2026 | E22: 1067803 | F22: 2500211.5 | H22: Изм.стоимости материалов 623 778,7 тыс.тг. Заключение № MNSHE-0226/24 от 30.11.2024 г. | J22: Общая протяженность – 12 км канализация – 4 км. | K22: Общая протяженность – 12 км канализация – 12 км. | O22: =SUM(P22:R22) -> 834311 | P22: 834311 | S22: =SUM(T22:V22) -> 139505 | T22: 139505 | W22: =R22-V22 -> 0 | Y22: =P22+Q22-T22-U22 -> 694806 | Z22: =Y22/(P22+Q22) -> 0.83279017 | AA22: =Y22+W22 -> 694806 | AB22: =AA22/O22 -> 0.83279017 | AD22: 1 | AF22: 0 | AG22: Работы уже завершаются. В настоящее время готовится Акт ввода объекта в эксплуатацию.
A23: 121 | B23: «Строительство распределительных сетей водопровода и канализации в квадрате ул. Саина, ул. Шаляпина, ул. Яссауи, ул. Жандосова Ауэзовского района города Алматы 2 очередь строительства | C23: 07 2 123 042 015 | D23: 2024-2026 | E23: 6055963 | F23: 5745283.8 | H23: Сумма удорожания составила 1 770 100 тыс.тг.- в связи с удорожанием стройматериалов, проект прошел корректировку в 2023 году. Номер госэкспертизы № 02-0156/23 от 01.11.2023г. (положительное). Срок завершения объекта 31.12.2025г. | J23: Общая протяженность – 25,58 км., из них: водопровод – 12,81 км., канализация – 12,77 км. | K23: Общая протяженность – 21,58 км., из них: водопровод – 10,81 км., канализация – 10,77 км. | O23: =SUM(P23:R23) -> 566934.5 | P23: 566934.5 | S23: =SUM(T23:V23) -> 184023 | T23: 184023 | W23: =R23-V23 -> 0 | Y23: =P23+Q23-T23-U23 -> 382911.5 | Z23: =Y23/(P23+Q23) -> 0.67540695 | AA23: =Y23+W23 -> 382911.5 | AB23: =AA23/O23 -> 0.67540695 | AD23: 1 | AE23: 0 | AF23: 0 | AG23: В 2023 году проект был направлен на корректировку проектно-сметной документации (ПСД) в соответствии с постановлением акима города Алматы. Работы по корректировке были завершены в 2025 году.
A24: 130 | B24: Строительство распределительных сетей водопровода и канализации в мкр. "Кайрат" Турксибского района, г. Алматы (2 очередь) | C24: 07 2 123 042 015 | D24: 2024-2026 | E24: 4408850 | F24: 4226103.8 | H24: 3616330.7 | I24: 3616330.7 | J24: Общая протяженность – 37,2 км., из них: водопровод – 17,3км., канализация – 19,9км. | K24: Общая протяженность – 37,2 км., из них: водопровод – 17,3км., канализация – 19,9км. | N24: 3616330.7 | O24: =SUM(P24:R24) -> 186978.7 | P24: 186978.7 | S24: =SUM(T24:V24) -> 186978.7 | T24: 186978.7 | W24: =R24-V24 -> 0 | Y24: =P24+Q24-T24-U24 -> 0 | Z24: =Y24/(P24+Q24) -> 0 | AA24: =Y24+W24 -> 0 | AB24: =AA24/O24 -> 0 | AD24: 1 | AE24: 0 | AF24: 0 | AG24: Ведутся мероприятие по подготовке акта приемки объекта в эксплуатацию. Платеж был произведен в мае-июне 2026 года.
A25: 3.2. | B25: Разработка ПСД | E25: =SUM(E26:E26) -> 0 | F25: =SUM(F26:F26) -> 78632.994 | G25: =SUM(G26:G26) -> 0 | H25: =SUM(H26:H26) -> 0 | I25: =SUM(I26:I26) -> 0 | J25: =SUM(J26:J26) -> 0 | K25: =SUM(K26:K26) -> 0 | L25: =SUM(L26:L26) -> 0 | ... V25: =SUM(V26:V26) -> 0 | Y25: =P25+Q25-T25-U25 -> 13217.001 | Z25: =Y25/(P25+Q25) -> 0.14389767 | AA25: =Y25+W25 -> 13217.001 | AB25: =AA25/O25 -> 0.14389767 | AC25: =SUM(AC26:AC26) -> 0 | AD25: =SUM(AD26:AD26) -> 1 | AE25: =SUM(AE26:AE26) -> 0 | AF25: =SUM(AF26:AF26) -> 0 | AG25: =SUM(AG26:AG26) -> 0
